{"text_format":"1","workbook":"xlsx","n_sheets":31,"sheets":["Datos Generales","Info General","datos","Formato 1","F01","Formato 2","F02","Formato 3","F03","Formato 4","F04","Formato 5","F05","Formato 6 a)","F06a","Formato 6 b)","F06b","Formato 6 c)","F06c","Formato 6 d)","F06d","Formato 7 a)","F07a","Formato 7 b)","F07b","Formato 7 c)","F07c","Formato 7 d)","F07d","Formato 8","F08"],"not_rendered":{"charts":0,"images":4,"macros":1,"external_links":0,"defined_names":199,"comments":0,"pivot_tables":0},"unopened":[],"bounds":{"document_bytes":16777216,"sheet_cells":100000,"rows_first":2000,"rows_last":500,"rows_between":2000,"halvings":0,"cell_chars":16384,"cell_head_chars":4096},"cells_cut":0,"cells_raw":0,"read":"whole","date_system":"1900"}

{"sheet":"Datos Generales","index":0,"n_rows":11,"n_cols":3,"rows_kept":11,"cut":false,"hidden":false,"merged":[[0,0,0,4]]}
["ESTADOS FINANCIEROS - DATOS GENERALES"]
[]
[null,"NOMBRE DEL ENTE PÚBLICO","INSTITUTO SALMANTINO PARA LAS PERSONAS CON DISCAPACIDAD"]
[]
[null,"ENTIDAD FEDERATIVA"]
[]
[null,"MUNICIPIO"]
[]
[null,"AÑO DEL INFORME"]
[]
[null,"PERIODO DE INFORME"]

{"sheet":"Info General","index":1,"n_rows":33,"n_cols":9,"rows_kept":33,"cut":false,"hidden":true,"merged":[]}
[]
[]
[null,"ESTADOS FINANCIEROS - DATOS GENERALES"]
[]
[]
[null,"NOMBRE DEL ENTE PÚBLICO",{"$f":"IF(TRIM(ENTE)=\"\", IF(MUNICIPIO=\"No Aplica\",IF(ENTIDAD_FEDERATIVA=\"Ciudad de México\",ENTIDAD_FEDERATIVA,CONCATENATE(\"Gobierno del Estado de \",ENTIDAD_FEDERATIVA)),CONCATENATE(TRIM(ENTE),IF(ENTIDAD_FEDERATIVA=\"Ciudad de México\",\"Delegación \",\"Municipio de \"),MUNICIPIO, \", \",IF(ENTIDAD_FEDERATIVA=\"Ciudad de México\",ENTIDAD_FEDERATIVA,CONCATENATE(\"Gobierno del Estado de \",ENTIDAD_FEDERATIVA)))),CONCATENATE(TRIM(ENTE),\", \",IF(ENTIDAD_FEDERATIVA=\"Ciudad de México\",ENTIDAD_FEDERATIVA,CONCATENATE(\"Gobierno del Estado de \",ENTIDAD_FEDERATIVA))))","v":"INSTITUTO SALMANTINO PARA LAS PERSONAS CON DISCAPACIDAD, Gobierno del Estado de Guanajuato"}]
[null,null,{"$f":"CONCATENATE(ENTE_PUBLICO,\" (a)\")","v":"INSTITUTO SALMANTINO PARA LAS PERSONAS CON DISCAPACIDAD, Gobierno del Estado de Guanajuato (a)"}]
[null,"ENTIDAD FEDERATIVA","Guanajuato"]
[]
[null,"MUNICIPIO","Salamanca"]
[null,null,{"$f":"IF(MUNICIPIO=\"No Aplica\", IF(ENTIDAD_FEDERATIVA=\"Ciudad de México\",ENTIDAD_FEDERATIVA,CONCATENATE(\"Gobierno del Estado de \",ENTIDAD_FEDERATIVA)),CONCATENATE(IF(ENTIDAD_FEDERATIVA=\"Ciudad de México\",\"Delegación \",\"Municipio de \"), MUNICIPIO, IF(ENTIDAD_FEDERATIVA=\"Ciudad de México\",CONCATENATE(\", \",ENTIDAD_FEDERATIVA),CONCATENATE(\", Gobierno del Estado de \",ENTIDAD_FEDERATIVA))))","v":"Municipio de Salamanca, Gobierno del Estado de Guanajuato"}]
[null,"AÑO DEL INFORME",2020]
[]
[null,"PERIODO DE INFORME","Al 31 de diciembre de 2019 y al 31 de diciembre de 2020 (b)"]
[null,null,4]
[null,null,"Del 1 de enero al 31 de diciembre de 2020 (b)"]
[]
[null,null,null,{"$f":"IF(PERIODO=1,CONCATENATE(\"Monto pagado de la inversión al 30 de marzo de \",ANIO_INFORME,\" (k)\"),IF(PERIODO=2,CONCATENATE(\"Monto pagado de la inversión al 30 de junio de \",ANIO_INFORME,\" (k)\"),IF(PERIODO=3,CONCATENATE(\"Monto pagado de la inversión al 30 de septiembre de \",ANIO_INFORME,\" (k)\"),IF(PERIODO=4,CONCATENATE(\"Monto pagado de la inversión al 31 de diciembre de \",ANIO_INFORME,\" (k)\")))))","v":"Monto pagado de la inversión al 31 de diciembre de 2020 (k)"},{"$f":"IF(PERIODO=1,CONCATENATE(\"Monto pagado de la inversión actualizado al 30 de marzo de \",ANIO_INFORME,\" (l)\"),IF(PERIODO=2,CONCATENATE(\"Monto pagado de la inversión actualizado al 30 de junio de \",ANIO_INFORME,\" (l)\"),IF(PERIODO=3,CONCATENATE(\"Monto pagado de la inversión actualizado al 30 de septiembre de \",ANIO_INFORME,\" (l)\"),IF(PERIODO=4,CONCATENATE(\"Monto pagado de la inversión actualizado al 31 de diciembre de \",ANIO_INFORME,\" (l)\")))))","v":"Monto pagado de la inversión actualizado al 31 de diciembre de 2020 (l)"},{"$f":"IF(PERIODO=1,CONCATENATE(\"Saldo pendiente por pagar de la inversión al 30 de marzo de \",ANIO_INFORME,\" (m = g – l)\"),IF(PERIODO=2,CONCATENATE(\"Saldo pendiente por pagar de la inversión al 30 de junio de \",ANIO_INFORME,\" (m = g – l)\"),IF(PERIODO=3,CONCATENATE(\"Saldo pendiente por pagar de la inversión al 30 de septiembre de \",ANIO_INFORME,\" (m = g – l)\"),IF(PERIODO=4,CONCATENATE(\"Saldo pendiente por pagar de la inversión al 31 de diciembre de \",ANIO_INFORME,\" (m = g – l)\")))))","v":"Saldo pendiente por pagar de la inversión al 31 de diciembre de 2020 (m = g – l)"}]
[]
[null,null,null,{"$f":"CONCATENATE(ANIO_INFORME, \" (d)\")","v":"2020 (d)"},{"$f":"CONCATENATE(\"31 de diciembre de \",ANIO_INFORME-1, \" (e)\")","v":"31 de diciembre de 2019 (e)"},{"$f":"CONCATENATE(\"Saldo al 31 de diciembre de \",ANIO_INFORME-1, \" (d)\")","v":"Saldo al 31 de diciembre de 2019 (d)"}]
[]
[]
[null,null,null,{"$f":"ANIO_INFORME + 1","v":2021},{"$f":"CONCATENATE(ANIO_INFORME + 2, \" (d)\")","v":"2022 (d)"},{"$f":"CONCATENATE(ANIO_INFORME + 3, \" (d)\")","v":"2023 (d)"},{"$f":"CONCATENATE(ANIO_INFORME + 4, \" (d)\")","v":"2024 (d)"},{"$f":"CONCATENATE(ANIO_INFORME + 5, \" (d)\")","v":"2025 (d)"},{"$f":"CONCATENATE(ANIO_INFORME + 6, \" (d)\")","v":"2026 (d)"}]
[]
[null,null,null,{"$f":"CONCATENATE(ANIO_INFORME - 5, \" \",CHAR(185),\" (c)\")","v":"2015 ¹ (c)"},{"$f":"CONCATENATE(ANIO_INFORME - 4, \" \",CHAR(185),\" (c)\")","v":"2016 ¹ (c)"},{"$f":"CONCATENATE(ANIO_INFORME - 3, \" \",CHAR(185),\" (c)\")","v":"2017 ¹ (c)"},{"$f":"CONCATENATE(ANIO_INFORME - 2, \" \",CHAR(185),\" (c)\")","v":"2018 ¹ (c)"},{"$f":"CONCATENATE(ANIO_INFORME - 1, \" \",CHAR(185),\" (c)\")","v":"2019 ¹ (c)"},{"$f":"ANIO_INFORME","v":2020}]
[]
[]
[]
[null,null,null,"MIN_VALUE","MAX_VALUE"]
[null,null,null,-1.7976931348623099E+100,1.7976931348623099E+100]
[]
[null,null,null,"MIN_FECHA","MAX_FECHA"]
[null,null,null,"2000-01-01","2050-12-31"]

{"sheet":"datos","index":2,"n_rows":572,"n_cols":67,"rows_kept":572,"cut":false,"hidden":true,"merged":[]}
[null,"ENTIDAD FEDERATIVA",null,null,"Aguascalientes",null,"Baja California",null,"Baja California Sur",null,"Campeche",null,"Coahuila de Zaragoza",null,"Colima",null,"Chiapas",null,"Chihuahua",null,"Ciudad de México",null,"Durango",null,"Guanajuato",null,"Guerrero",null,"Hidalgo",null,"Jalisco",null,"México",null,"Michoacán de Ocampo",null,"Morelos",null,"Nayarit",null,"Nuevo León",null,"Oaxaca",null,"Puebla",null,"Querétaro",null,"Quintana Roo",null,"San Luis Potosí",null,"Sinaloa",null,"Sonora",null,"Tabasco",null,"Tamaulipas",null,"Tlaxcala",null,"Veracruz de Ignacio de la Llave",null,"Yucatán",null,"Zacatecas"]
[1,"Aguascalientes",null,0,"No Aplica",0,"No Aplica",0,"No Aplica",0,"No Aplica",0,"No Aplica",0,"No Aplica",0,"No Aplica",0,"No Aplica",0,"No Aplica",0,"No Aplica",0,"No Aplica",0,"No Aplica",0,"No Aplica",0,"No Aplica",0,"No Aplica",0,"No Aplica",0,"No Aplica",0,"No Aplica",0,"No Aplica",0,"No Aplica",0,"No Aplica",0,"No Aplica",0,"No Aplica",0,"No Aplica",0,"No Aplica",0,"No Aplica",0,"No Aplica",0,"No Aplica",0,"No Aplica",0,"No Aplica",0,"No Aplica",0,"No Aplica"]
[2,"Baja California",null,1,"Aguascalientes",2,"Ensenada",3,"Comondú",4,"Calakmul",5,"Abasolo",6,"Armería",7,"Acacoyagua",8,"Ahumada",9,"Álvaro Obregón",10,"Canatlán",11,"Abasolo",12,"Acapulco de Juárez",13,"Acatlán",14,"Acatic",15,"Acambay ",16,"Acuitzio",17,"Amacuzac",18,"Acaponeta",19,"Abasolo",20,"Abejones",21,"Acajete",22,"Amealco de Bonfil",23,"Bacalar",24,"Ahualulco",25,"Ahome",26,"Aconchi",27,"Balancán",28,"Abasolo",29,"Acuamanala de Miguel Hidalgo",30,"Acajete",31,"Abalá",32,"Apozol"]
[3,"Baja California Sur",null,1,"Asientos",2,"Mexicali",3,"La Paz",4,"Calkiní",5,"Acuña",6,"Colima",7,"Acala",8,"Aldama",9,"Azcapotzalco",10,"Canelas",11,"Acámbaro",12,"Acatepec",13,"Acaxochitlán",14,"Acatlán de Juárez",15,"Acolman",16,"Aguililla",17,"Atlatlahucan",18,"Ahuacatlán",19,"Agualeguas",20,"Acatlán de Pérez Figueroa",21,"Acateno",22,"Arroyo Seco",23,"Benito Juárez",24,"Alaquines",25,"Angostura",26,"Agua Prieta",27,"Cárdenas",28,"Aldama",29,"Amaxac de Guerrero",30,"Acatlán",31,"Acanceh",32,"Apulco"]
[4,"Campeche",null,1,"Calvillo",2,"Playas de Rosarito",3,"Loreto",4,"Campeche",5,"Allende",6,"Comala",7,"Acapetahua",8,"Allende",9,"Benito Juárez",10,"Coneto de Comonfort",11,"Apaseo el Alto",12,"Ahuacuotzingo",13,"Actopan",14,"Ahualulco de Mercado",15,"Aculco",16,"Álvaro Obregón",17,"Axochiapan",18,"Amatlán de Cañas",19,"Allende",20,"Ánimas Trujano",21,"Acatlán",22,"Cadereyta de Montes",23,"Cozumel",24,"Aquismón",25,"Badiraguato",26,"Alamos",27,"Centla",28,"Altamira",29,"Apetatitlán de Antonio Carvajal",30,"Acayucan",31,"Akil",32,"Atolinga"]
[5,"Coahuila de Zaragoza",null,1,"Cosío",2,"Tecate",3,"Los Cabos",4,"Candelaria",5,"Arteaga",6,"Coquimatlán",7,"Aldama",8,"Aquiles Serdán",9,"Coyoacán",10,"Cuencamé",11,"Apaseo el Grande",12,"Ajuchitlán del Progreso",13,"Agua Blanca de Iturbide",14,"Amacueca",15,"Almoloya de Alquisiras",16,"Angamacutiro",17,"Ayala",18,"Bahía de Banderas",19,"Anáhuac",20,"Asunción Cacalotepec",21,"Acatzingo",22,"Colón",23,"Felipe Carrillo Puerto",24,"Armadillo de los Infante",25,"Choix",26,"Altar",27,"Centro",28,"Antiguo Morelos",29,"Apizaco",30,"Actopan",31,"Baca",32,"Benito Juárez"]
[6,"Colima",null,1,"El Llano",2,"Tijuana",3,"Mulegé",4,"Carmen",5,"Candela",6,"Cuauhtémoc",7,"Altamirano",8,"Ascensión",9,"Cuajimalpa de Morelos",10,"Durango",11,"Atarjea",12,"Alcozauca de Guerrero",13,"Ajacuba",14,"Amatitán",15,"Almoloya de Juárez",16,"Angangueo",17,"Coatlán del Río",18,"Compostela",19,"Apodaca",20,"Asunción Cuyotepeji",21,"Acteopan",22,"Corregidora",23,"Isla Mujeres",24,"Axtla de Terrazas",25,"Concordia",26,"Arivechi",27,"Comalcalco",28,"Burgos",29,"Atlangatepec",30,"Acula",31,"Bokobá",32,"Calera"]
[7,"Chiapas",null,1,"Jesús María",null,null,null,null,4,"Champotón",5,"Castaños",6,"Ixtlahuacán",7,"Amatán",8,"Bachíniva",9,"Cuauhtémoc",10,"El Oro",11,"Celaya",12,"Alpoyeca",13,"Alfajayucan",14,"Ameca",15,"Almoloya del Río",16,"Apatzingán",17,"Cuautla",18,"Del Nayar",19,"Aramberri",20,"Asunción Ixtaltepec",21,"Ahuacatlán",22,"El Marqués",23,"José María Morelos",24,"Cárdenas",25,"Cosalá",26,"Arizpe",27,"Cunduacán",28,"Bustamante",29,"Atltzayanca",30,"Acultzingo",31,"Buctzotz",32,"Cañitas de Felipe Pescador"]
[8,"Chihuahua",null,1,"Pabellón de Arteaga",null,null,null,null,4,"Escárcega",5,"Cuatro Ciénegas",6,"Manzanillo",7,"Amatenango de la Frontera",8,"Balleza",9,"Gustavo A. Madero",10,"General Simón Bolívar",11,"Comonfort",12,"Apaxtla",13,"Almoloya",14,"Arandas",15,"Amanalco",16,"Aporo",17,"Cuernavaca",18,"Huajicori",19,"Bustamante",20,"Asunción Nochixtlán",21,"Ahuatlán",22,"Ezequiel Montes",23,"Lázaro Cárdenas",24,"Catorce",25,"Culiacán",26,"Atil",27,"Emiliano Zapata",28,"Camargo",29,"Benito Juárez",30,"Agua Dulce",31,"Cacalchén",32,"Chalchihuites"]
[9,"Ciudad de México",null,1,"Rincón de Romos",null,null,null,null,4,"Hecelchakán",5,"Escobedo",6,"Minatitlán",7,"Amatenango del Valle",8,"Batopilas",9,"Iztacalco",10,"Gómez Palacio",11,"Coroneo",12,"Arcelia",13,"Apan",14,"Atemajac de Brizuela",15,"Amatepec",16,"Aquila",17,"Emiliano Zapata",18,"Ixtlán del Río",19,"Cadereyta Jiménez",20,"Asunción Ocotlán",21,"Ahuazotepec",22,"Huimilpan",23,"Othón P. Blanco",24,"Cedral",25,"El Fuerte",26,"Bacadéhuachi",27,"Huimanguillo",28,"Casas",29,"Calpulalpan",30,"Álamo Temapache",31,"Calotmul",32,"Concepción del Oro"]
[10,"Durango",null,1,"San Francisco de los Romo",null,null,null,null,4,"Hopelchén",5,"Francisco I. Madero",6,"Tecomán",7,"Angel Albino Corzo",8,"Bocoyna",9,"Iztapalapa",10,"Guadalupe Victoria",11,"Cortazar",12,"Atenango del Río",13,"Atitalaquia",14,"Atengo",15,"Amecameca",16,"Ario",17,"Huitzilac",18,"Jala",19,"Carmen",20,"Asunción Tlacolulita",21,"Ahuehuetitla",22,"Jalpan de Serra",23,"Solidaridad",24,"Cerritos",25,"Elota",26,"Bacanora",27,"Jalapa",28,"Ciudad Madero",29,"Chiautempan",30,"Alpatláhuac",31,"Cansahcab",32,"Cuauhtémoc"]
[11,"Guanajuato",null,1,"San José de Gracia",null,null,null,null,4,"Palizada",5,"Frontera",6,"Villa de Álvarez",7,"Arriaga",8,"Buenaventura",9,"La Magdalena Contreras",10,"Guanaceví",11,"Cuerámaro",12,"Atlamajalcingo del Monte",13,"Atlapexco",14,"Atenguillo",15,"Apaxco",16,"Arteaga",17,"Jantetelco",18,"La Yesca",19,"Cerralvo",20,"Ayoquezco de Aldama",21,"Ajalpan",22,"Landa de Matamoros",23,"Tulum",24,"Cerro de San Pedro",25,"Escuinapa",26,"Bacerac",27,"Jalpa de Méndez",28,"Cruillas",29,"Contla de Juan Cuamatzi",30,"Alto Lucero de Gutiérrez Barrios",31,"Cantamayec",32,"El Plateado de Joaquín Amaro"]
[12,"Guerrero",null,1,"Tepezalá",null,null,null,null,4,"Tenabo",5,"General Cepeda",null,null,7,"Bejucal de Ocampo",8,"Camargo",9,"Miguel Hidalgo",10,"Hidalgo",11,"Doctor Mora",12,"Atlixtac",13,"Atotonilco de Tula",14,"Atotonilco el Alto",15,"Atenco",16,"Briseñas",17,"Jiutepec",18,"Rosamorada",19,"China",20,"Ayotzintepec",21,"Albino Zertuche",22,"Pedro Escobedo",null,null,24,"Charcas",25,"Guamuchil",26,"Bacoachi",27,"Jonuta",28,"El Mante",29,"Cuapiaxtla",30,"Altotonga",31,"Celestún",32,"El Salvador"]
[13,"Hidalgo",null,null,null,null,null,null,null,null,null,5,"Guerrero",null,null,7,"Belizario Domínguez",8,"Carichí",9,"Milpa Alta",10,"Indé",11,"Dolores Hidalgo Cuna de la Independencia Nacional",12,"Atoyac de Álvarez",13,"Atotonilco el Grande",14,"Atoyac",15,"Atizapán",16,"Buenavista",17,"Jojutla",18,"Ruíz",19,"Ciénega de Flores",20,"Calihualá",21,"Aljojuca",22,"Peñamiller",null,null,24,"Ciudad del Maíz",25,"Guasave",26,"Bácum",27,"Macuspana",28,"Gómez Farías",29,"Cuaxomulco",30,"Alvarado",31,"Cenotillo",32,"Fresnillo"]
[14,"Jalisco",null,null,null,null,null,null,null,null,null,5,"Hidalgo",null,null,7,"Bella Vista",8,"Casas Grandes",9,"Tláhuac",10,"Lerdo",11,"Guanajuato",12,"Ayutla de los Libres",13,"Calnali",14,"Autlán de Navarro",15,"Atizapán de Zaragoza",16,"Carácuaro",17,"Jonacatepec",18,"San Blas",19,"Dr. Arroyo",20,"Candelaria Loxicha",21,"Altepexi",22,"Pinal de Amoles",null,null,24,"Ciudad Fernández",25,"Mazatlán",26,"Banámichi",27,"Nacajuca",28,"González",29,"El Carmen Tequexquitla",30,"Amatitlán",31,"Chacsinkín",32,"Genaro Codina"]
[15,"México",null,null,null,null,null,null,null,null,null,5,"Jiménez",null,null,7,"Benemérito de las Américas",8,"Chihuahua",9,"Tlalpan",10,"Mapimí",11,"Huanímaro",12,"Azoyú",13,"Cardonal",14,"Ayotlán",15,"Atlacomulco",16,"Charapan",17,"Mazatepec",18,"San Pedro Lagunillas",19,"Dr. Coss",20,"Capulálpam de Méndez",21,"Amixtlán",22,"Querétaro",null,null,24,"Ciudad Valles",25,"Mocorito",26,"Baviácora",27,"Paraíso",28,"Güémez",29,"Emiliano Zapata",30,"Amatlán de los Reyes",31,"Chankom",32,"General Enrique Estrada"]
[16,"Michoacán de Ocampo",null,null,null,null,null,null,null,null,null,5,"Juárez",null,null,7,"Berriozábal",8,"Chínipas",9,"Venustiano Carranza",10,"Mezquital",11,"Irapuato",12,"Benito Juárez",13,"Chapantongo",14,"Ayutla",15,"Atlautla",16,"Charo",17,"Miacatlán",18,"Santa María del Oro",19,"Dr. González",20,"Chahuites",21,"Amozoc",22,"San Joaquín",null,null,24,"Coxcatlán",25,"Navolato",26,"Bavispe",27,"Tacotalpa",28,"Guerrero",29,"Españita",30,"Angel R. Cabada",31,"Chapab",32,"General Francisco R. Murguía"]
[17,"Morelos",null,null,null,null,null,null,null,null,null,5,"Lamadrid",null,null,7,"Bochil",8,"Coronado",9,"Xochimilco",10,"Nazas",11,"Jaral del Progreso",12,"Buenavista de Cuéllar",13,"Chapulhuacán",14,"Bolaños",15,"Axapusco",16,"Chavinda",17,"Ocuituco",18,"Santiago Ixcuintla",19,"Galeana",20,"Chalcatongo de Hidalgo",21,"Aquixtla",22,"San Juan del Río",null,null,24,"Ebano",25,"Rosario",26,"Benito Juárez",27,"Teapa",28,"Gustavo Díaz Ordaz",29,"Huamantla",30,"Apazapan",31,"Chemax",32,"General Pánfilo Natera"]
[18,"Nayarit",null,null,null,null,null,null,null,null,null,5,"Matamoros",null,null,7,"Cacahoatán",8,"Coyame del Sotol",null,null,10,"Nombre de Dios",11,"Jerécuaro",12,"Chilapa de Álvarez",13,"Chilcuautla",14,"Cabo Corrientes",15,"Ayapango",16,"Cherán",17,"Puente de Ixtla",18,"Tecuala",19,"García",20,"Chiquihuitlán de Benito Juárez",21,"Atempan",22,"Tequisquiapan",null,null,24,"El Naranjo",25,"Salvador Alvarado",26,"Benjamín Hill",27,"Tenosique",28,"Hidalgo",29,"Hueyotlipan",30,"Aquila",31,"Chichimilá",32,"Guadalupe"]
[19,"Nuevo León",null,null,null,null,null,null,null,null,null,5,"Monclova",null,null,7,"Catazajá",8,"Cuauhtémoc",null,null,10,"Nuevo Ideal",11,"León",12,"Chilpancingo de los Bravo",13,"Cuautepec de Hinojosa",14,"Cañadas de Obregón",15,"Calimaya",16,"Chilchota",17,"Temixco",18,"Tepic",19,"Gral. Bravo",20,"Ciénega de Zimatlán",21,"Atexcal",22,"Tolimán",null,null,24,"Guadalcázar",25,"San Ignacio",26,"Caborca",null,null,28,"Jaumave",29,"Ixtacuixtla de Mariano Matamoros",30,"Astacinga",31,"Chicxulub Pueblo",32,"Huanusco"]
[20,"Oaxaca",null,null,null,null,null,null,null,null,null,5,"Morelos",null,null,7,"Chalchihuitán",8,"Cusihuiriachi",null,null,10,"Ocampo",11,"Manuel Doblado",12,"Coahuayutla de José María Izazaga",13,"El Arenal",14,"Casimiro Castillo",15,"Capulhuac",16,"Chinicuila",17,"Temoac",18,"Tuxpan",19,"Gral. Escobedo",20,"Ciudad Ixtepec",21,"Atlequizayan",null,null,null,null,24,"Huehuetlán",25,"Sinaloa",26,"Cajeme",null,null,28,"Jiménez",29,"Ixtenco",30,"Atlahuilco",31,"Chikindzonot",32,"Jalpa"]
[21,"Puebla",null,null,null,null,null,null,null,null,null,5,"Múzquiz",null,null,7,"Chamula",8,"Delicias",null,null,10,"Otáez",11,"Moroleón",12,"Cochoapa el Grande",13,"Eloxochitlán",14,"Chapala",15,"Chalco",16,"Chucándiro",17,"Tepalcingo",18,"Xalisco",19,"Gral. Terán",20,"Coatecas Altas",21,"Atlixco",null,null,null,null,24,"Lagunillas",null,null,26,"Cananea",null,null,28,"Llera",29,"La Magdalena Tlaltelulco",30,"Atoyac",31,"Chocholá",32,"Jerez"]
[22,"Querétaro",null,null,null,null,null,null,null,null,null,5,"Nadadores",null,null,7,"Chanal",8,"Dr. Belisario Domínguez",null,null,10,"Pánuco de Coronado",11,"Ocampo",12,"Cocula",13,"Emiliano Zapata",14,"Chimaltitán",15,"Chapa de Mota",16,"Churintzio",17,"Tepoztlán",null,null,19,"Gral. Treviño",20,"Coicoyán de las Flores",21,"Atoyatempan",null,null,null,null,24,"Matehuala",null,null,26,"Carbó",null,null,28,"Mainero",29,"Lázaro Cárdenas",30,"Atzacan",31,"Chumayel",32,"Jiménez del Teul"]
[23,"Quintana Roo",null,null,null,null,null,null,null,null,null,5,"Nava",null,null,7,"Chapultenango",8,"El Tule",null,null,10,"Peñón Blanco",11,"Pénjamo",12,"Copala",13,"Epazoyucan",14,"Chiquilistlán",15,"Chapultepec",16,"Churumuco",17,"Tetecala",null,null,19,"Gral. Zaragoza",20,"Concepción Buenavista",21,"Atzala",null,null,null,null,24,"Matlapa",null,null,26,"Cucurpe",null,null,28,"Matamoros",29,"Mazatecochco de José María Morelos",30,"Atzalan",31,"Conkal",32,"Juan Aldama"]
[24,"San Luis Potosí",null,null,null,null,null,null,null,null,null,5,"Ocampo",null,null,7,"Chenalhó",8,"Galeana",null,null,10,"Poanas",11,"Pueblo Nuevo",12,"Copalillo",13,"Francisco I. Madero",14,"Cihuatlán",15,"Chiautla",16,"Coahuayana",17,"Tetela del Volcán",null,null,19,"Gral. Zuazua",20,"Concepción Pápalo",21,"Atzitzihuacán",null,null,null,null,24,"Mexquitic de Carmona",null,null,26,"Cumpas",null,null,28,"Méndez",29,"Muñoz de Domingo Arenas",30,"Ayahualulco",31,"Cousey",32,"Juchipila"]
[25,"Sinaloa",null,null,null,null,null,null,null,null,null,5,"Parras",null,null,7,"Chiapa de Corzo",8,"Gómez Farías",null,null,10,"Pueblo Nuevo",11,"Purísima del Rincón",12,"Copanatoyac",13,"Huasca de Ocampo",14,"Cocula",15,"Chicoloapan",16,"Coalcomán de Vázquez Pallares",17,"Tlalnepantla",null,null,19,"Guadalupe",20,"Constancia del Rosario",21,"Atzitzintla",null,null,null,null,24,"Moctezuma",null,null,26,"Divisaderos",null,null,28,"Mier",29,"Nanacamilpa de Mariano Arista",30,"Banderilla",31,"Cuncunul",32,"Loreto"]
[26,"Sonora",null,null,null,null,null,null,null,null,null,5,"Piedras Negras",null,null,7,"Chiapilla",8,"Gran Morelos",null,null,10,"Rodeo",11,"Romita",12,"Coyuca de Benítez",13,"Huautla",14,"Colotlán",15,"Chiconcuac",16,"Coeneo",17,"Tlaltizapán de Zapata",null,null,19,"Hidalgo",20,"Cosolapa",21,"Axutla",null,null,null,null,24,"Rayón",null,null,26,"Empalme",null,null,28,"Miguel Alemán",29,"Natívitas",30,"Benito Juárez",31,"Cuzamá",32,"Luis Moya"]
[27,"Tabasco",null,null,null,null,null,null,null,null,null,5,"Progreso",null,null,7,"Chicoasén",8,"Guachochi",null,null,10,"San Bernardo",11,"Salamanca",12,"Coyuca de Catalán",13,"Huazalingo",14,"Concepción de Buenos Aires",15,"Chimalhuacán",16,"Cojumatlán de Régules",17,"Tlaquiltenango",null,null,19,"Higueras",20,"Cosoltepec",21,"Ayotoxco de Guerrero",null,null,null,null,24,"Rioverde",null,null,26,"Etchojoa",null,null,28,"Miquihuana",29,"Panotla",30,"Boca del Río",31,"Dzán",32,"Mazapil"]
[28,"Tamaulipas",null,null,null,null,null,null,null,null,null,5,"Ramos Arizpe",null,null,7,"Chicomuselo",8,"Guadalupe",null,null,10,"San Dimas",11,"Salvatierra",12,"Cuajinicuilapa",13,"Huehuetla",14,"Cuautitlán de García Barragán",15,"Coacalco de Berriozábal",16,"Contepec",17,"Tlayacapan",null,null,19,"Hualahuises",20,"Cuilápam de Guerrero",21,"Calpan",null,null,null,null,24,"Salinas",null,null,26,"Fronteras",null,null,28,"Nuevo Laredo",29,"Papalotla de Xicohténcatl",30,"Calcahualco",31,"Dzemul",32,"Melchor Ocampo"]
[29,"Tlaxcala",null,null,null,null,null,null,null,null,null,5,"Sabinas",null,null,7,"Chilón",8,"Guadalupe y Calvo",null,null,10,"San Juan de Guadalupe",11,"San Diego de la Unión",12,"Cualác",13,"Huejutla de Reyes",14,"Cuautla",15,"Coatepec Harinas",16,"Copándaro",17,"Totolapan",null,null,19,"Iturbide",20,"Cuyamecalco Villa de Zaragoza",21,"Caltepec",null,null,null,null,24,"San Antonio",null,null,26,"General Plutarco Elías Calles",null,null,28,"Nuevo Morelos",29,"San Damián Texóloc",30,"Camarón de Tejeda",31,"Dzidzantún",32,"Mezquital del Oro"]
[30,"Veracruz de Ignacio de la Llave",null,null,null,null,null,null,null,null,null,5,"Sacramento",null,null,7,"Cintalapa",8,"Guazapares",null,null,10,"San Juan del Río",11,"San Felipe",12,"Cuautepec",13,"Huichapan",14,"Cuquío",15,"Cocotitlán",16,"Cotija",17,"Xochitepec",null,null,19,"Juárez",20,"El Barrio de la Soledad",21,"Camocuautla",null,null,null,null,24,"San Ciro de Acosta",null,null,26,"Granados",null,null,28,"Ocampo",29,"San Francisco Tetlanohcan",30,"Camerino Z. Mendoza",31,"Dzilam de Bravo",32,"Miguel Auza"]
[31,"Yucatán",null,null,null,null,null,null,null,null,null,5,"Saltillo",null,null,7,"Coapilla",8,"Guerrero",null,null,10,"San Luis del Cordero",11,"San Francisco del Rincón",12,"Cuetzala del Progreso",13,"Ixmiquilpan",14,"Degollado",15,"Coyotepec",16,"Cuitzeo",17,"Yautepec",null,null,19,"Lampazos de Naranjo",20,"El Espinal",21,"Cañada Morelos",null,null,null,null,24,"San Luis Potosí",null,null,26,"Guaymas",null,null,28,"Padilla",29,"San Jerónimo Zacualpan",30,"Carlos A. Carrillo",31,"Dzilam González",32,"Momax"]
[32,"Zacatecas",null,null,null,null,null,null,null,null,null,5,"San Buenaventura",null,null,7,"Comitán de Domínguez",8,"Hidalgo del Parral",null,null,10,"San Pedro del Gallo",11,"San José Iturbide",12,"Cutzamala de Pinzón",13,"Jacala de Ledezma",14,"Ejutla",15,"Cuautitlán",16,"Ecuandureo",17,"Yecapixtla",null,null,19,"Linares",20,"Eloxochitlán de Flores Magón",21,"Caxhuacan",null,null,null,null,24,"San Martín Chalchicuautla",null,null,26,"Hermosillo",null,null,28,"Palmillas",29,"San José Teacalco",30,"Carrillo Puerto",31,"Dzitás",32,"Monte Escobedo"]
[null,null,null,null,null,null,null,null,null,null,null,5,"San Juan de Sabinas",null,null,7,"Copainalá",8,"Huejotitán",null,null,10,"Santa Clara",11,"San Luis de la Paz",12,"Eduardo Neri",13,"Jaltocán",14,"El Arenal",15,"Cuautitlán Izcalli",16,"Epitacio Huerta",17,"Zacatepec",null,null,19,"Los Aldamas",20,"Fresnillo de Trujano",21,"Chalchicomula de Sesma",null,null,null,null,24,"San Nicolás Tolentino",null,null,26,"Huachinera",null,null,28,"Reynosa",29,"San Juan Huactzinco",30,"Castillo de Teayo",31,"Dzoncauich",32,"Morelos"]
[null,null,null,null,null,null,null,null,null,null,null,5,"San Pedro",null,null,7,"El Bosque",8,"Ignacio Zaragoza",null,null,10,"Santiago Papasquiaro",11,"San Miguel de Allende",12,"Florencio Villarreal",13,"Juárez Hidalgo",14,"El Grullo",15,"Donato Guerra",16,"Erongarícuaro",17,"Zacualpan",null,null,19,"Los Herreras",20,"Guadalupe de Ramírez",21,"Chapulco",null,null,null,null,24,"San Vicente Tancuayalab",null,null,26,"Huásabas",null,null,28,"Río Bravo",29,"San Lorenzo Axocomanitla",30,"Catemaco",31,"Espita",32,"Moyahua de Estrada"]
[null,null,null,null,null,null,null,null,null,null,null,5,"Sierra Mojada",null,null,7,"El Parral",8,"Janos",null,null,10,"Súchil",11,"Santa Catarina",12,"General Canuto A. Neri",13,"La Misión",14,"El Limón",15,"Ecatepec de Morelos",16,"Gabriel Zamora",null,null,null,null,19,"Los Ramones",20,"Guadalupe Etla",21,"Chiautla",null,null,null,null,24,"Santa Catarina",null,null,26,"Huatabampo",null,null,28,"San Carlos",29,"San Lucas Tecopilco",30,"Cazones de Herrera",31,"Halachó",32,"Nochistlán de Mejía"]
[null,null,null,null,null,null,null,null,null,null,null,5,"Torreón",null,null,7,"El Porvenir",8,"Jiménez",null,null,10,"Tamazula",11,"Santa Cruz de Juventino Rosas",12,"General Heliodoro Castillo",13,"Lolotla",14,"El Salto",15,"Ecatzingo",16,"Hidalgo",null,null,null,null,19,"Marín",20,"Guelatao de Juárez",21,"Chiautzingo",null,null,null,null,24,"Santa María del Río",null,null,26,"Huépac",null,null,28,"San Fernando",29,"San Pablo del Monte",30,"Cerro Azul",31,"Hocabá",32,"Noria de Ángeles"]
[null,null,null,null,null,null,null,null,null,null,null,5,"Viesca",null,null,7,"Emiliano Zapata",8,"Juárez",null,null,10,"Tepehuanes",11,"Santiago Maravatío",12,"Huamuxtitlán",13,"Metepec",14,"Encarnación de Díaz",15,"El Oro",16,"Huandacareo",null,null,null,null,19,"Melchor Ocampo",20,"Guevea de Humboldt",21,"Chichiquila",null,null,null,null,24,"Santo Domingo",null,null,26,"Imuris",null,null,28,"San Nicolás",29,"Sanctórum de Lázaro Cárdenas",30,"Chacaltianguis",31,"Hoctún",32,"Ojocaliente"]
[null,null,null,null,null,null,null,null,null,null,null,5,"Villa Unión",null,null,7,"Escuintla",8,"Julimes",null,null,10,"Tlahualilo",11,"Silao",12,"Huitzuco de los Figueroa",13,"Metztitlán",14,"Etzatlán",15,"Huehuetoca",16,"Huaniqueo",null,null,null,null,19,"Mier y Noriega",20,"Heroica Ciudad de Ejutla de Crespo",21,"Chiconcuautla",null,null,null,null,24,"Soledad de Graciano Sánchez",null,null,26,"La Colorada",null,null,28,"Soto la Marina",29,"Santa Ana Nopalucan",30,"Chalma",31,"Homún",32,"Pánuco"]
[null,null,null,null,null,null,null,null,null,null,null,5,"Zaragoza",null,null,7,"Francisco León",8,"La Cruz",null,null,10,"Topia",11,"Tarandacuao",12,"Iguala de la Independencia",13,"Mineral de la Reforma",14,"Gómez Farías",15,"Hueypoxtla",16,"Huetamo",null,null,null,null,19,"Mina",20,"Heroica Ciudad de Huajuapan de León",21,"Chietla",null,null,null,null,24,"Tamasopo",null,null,26,"Magdalena",null,null,28,"Tampico",29,"Santa Apolonia Teacalco",30,"Chiconamel",31,"Huhí",32,"Pinos"]
[null,null,null,null,null,null,null,null,null,null,null,null,null,null,null,7,"Frontera Comalapa",8,"López",null,null,10,"Vicente Guerrero",11,"Tarimoro",12,"Igualapa",13,"Mineral del Chico",14,"Guachinango",15,"Huixquilucan",16,"Huiramba",null,null,null,null,19,"Montemorelos",20,"Heroica Ciudad de Juchitán de Zaragoza",21,"Chigmecatitlán",null,null,null,null,24,"Tamazunchale",null,null,26,"Mazatán",null,null,28,"Tula",29,"Santa Catarina Ayometla",30,"Chiconquiaco",31,"Hunucmá",32,"Río Grande"]
[null,null,null,null,null,null,null,null,null,null,null,null,null,null,null,7,"Frontera Hidalgo",8,"Madera",null,null,null,null,11,"Tierra Blanca",12,"Iliatenco",13,"Mineral del Monte",14,"Guadalajara",15,"Isidro Fabela",16,"Indaparapeo",null,null,null,null,19,"Monterrey",20,"Heroica Ciudad de Tlaxiaco",21,"Chignahuapan",null,null,null,null,24,"Tampacán",null,null,26,"Moctezuma",null,null,28,"Valle Hermoso",29,"Santa Cruz Quilehtla",30,"Chicontepec",31,"Ixil",32,"Sain Alto"]
[null,null,null,null,null,null,null,null,null,null,null,null,null,null,null,7,"Huehuetán",8,"Maguarichi",null,null,null,null,11,"Uriangato",12,"Ixcateopan de Cuauhtémoc",13,"Mixquiahuala de Juárez",14,"Hostotipaquillo",15,"Ixtapaluca",16,"Irimbo",null,null,null,null,19,"Parás",20,"Heroica Villa Tezoatlán de Segura y Luna, Cuna de la Independencia de Oaxaca",21,"Chignautla",null,null,null,null,24,"Tampamolón Corona",null,null,26,"Naco",null,null,28,"Victoria",29,"Santa Cruz Tlaxcala",30,"Chinameca",31,"Izamal",32,"Santa María de la Paz"]
[null,"PERIODO",null,null,"AÑO",null,null,null,null,null,null,null,null,null,null,7,"Huitiupán",8,"Manuel Benavides",null,null,null,null,11,"Valle de Santiago",12,"José Joaquín de Herrera",13,"Molango de Escamilla",14,"Huejúcar",15,"Ixtapan de la Sal",16,"Ixtlán",null,null,null,null,19,"Pesquería",20,"Huautepec",21,"Chila",null,null,null,null,24,"Tamuín",null,null,26,"Nácori Chico",null,null,28,"Villagrán",29,"Santa Isabel Xiloxoxtla",30,"Chinampa de Gorostiza",31,"Kanasín",32,"Sombrerete"]
[null,"Primer trimestre",null,null,2017,null,null,null,null,null,null,null,null,null,null,7,"Huixtán",8,"Matachí",null,null,null,null,11,"Victoria",12,"Juan R. Escudero",13,"Nicolás Flores",14,"Huejuquilla el Alto",15,"Ixtapan del Oro",16,"Jacona",null,null,null,null,19,"Rayones",20,"Huautla de Jiménez",21,"Chila de la Sal",null,null,null,null,24,"Tancanhuitz",null,null,26,"Nacozari de García",null,null,28,"Xicoténcatl",29,"Tenancingo",30,"Chocamán",31,"Kantunil",32,"Susticacán"]
[null,"Segundo trimestre",null,null,2018,null,null,null,null,null,null,null,null,null,null,7,"Huixtla",8,"Matamoros",null,null,null,null,11,"Villagrán",12,"Juchitán",13,"Nopala de Villagrán",14,"Ixtlahuacán de los Membrillos",15,"Ixtlahuaca",16,"Jiménez",null,null,null,null,19,"Sabinas Hidalgo",20,"Ixpantepec Nieves",21,"Chilchotla",null,null,null,null,24,"Tanlajás",null,null,26,"Navojoa",null,null,null,null,29,"Teolocholco",30,"Chontla",31,"Kaua",32,"Tabasco"]
[null,"Tercer trimestre",null,null,2019,null,null,null,null,null,null,null,null,null,null,7,"Ixhuatán",8,"Meoqui",null,null,null,null,11,"Xichú",12,"La Unión de Isidoro Montes de Oca",13,"Omitlán de Juárez",14,"Ixtlahuacán del Río",15,"Jaltenco",16,"Jiquilpan",null,null,null,null,19,"Salinas Victoria",20,"Ixtlán de Juárez",21,"Chinantla",null,null,null,null,24,"Tanquián de Escobedo",null,null,26,"Nogales",null,null,null,null,29,"Tepetitla de Lardizábal",30,"Chumatlán",31,"Kinchil",32,"Tepechitlán"]
[null,"Cuarto trimestre",null,null,2020,null,null,null,null,null,null,null,null,null,null,7,"Ixtacomitán",8,"Morelos",null,null,null,null,11,"Yuriria",12,"Leonardo Bravo",13,"Pachuca de Soto",14,"Jalostotitlán",15,"Jilotepec",16,"José Sixto Verduzco",null,null,null,null,19,"San Nicolás de los Garza",20,"La Compañía",21,"Coatepec",null,null,null,null,24,"Tierra Nueva",null,null,26,"Onavas",null,null,null,null,29,"Tepeyanco",30,"Citlaltépetl",31,"Kopomá",32,"Tepetongo"]
[null,null,null,null,2021,null,null,null,null,null,null,null,null,null,null,7,"Ixtapa",8,"Moris",null,null,null,null,null,null,12,"Malinaltepec",13,"Pacula",14,"Jamay",15,"Jilotzingo",16,"Juárez",null,null,null,null,19,"San Pedro Garza García",20,"La Pe",21,"Coatzingo",null,null,null,null,24,"Vanegas",null,null,26,"Opodepe",null,null,null,null,29,"Terrenate",30,"Coacoatzintla",31,"Mama",32,"Teúl de González Ortega"]
[null,null,null,null,2022,null,null,null,null,null,null,null,null,null,null,7,"Ixtapangajoya",8,"Namiquipa",null,null,null,null,null,null,12,"Marquelia",13,"Pisaflores",14,"Jesús María",15,"Jiquipilco",16,"Jungapeo",null,null,null,null,19,"Santa Catarina",20,"La Reforma",21,"Cohetzala",null,null,null,null,24,"Venado",null,null,26,"Oquitoa",null,null,null,null,29,"Tetla de la Solidaridad",30,"Coahuitlán",31,"Maní",32,"Tlaltenango de Sánchez Román"]
[null,null,null,null,2023,null,null,null,null,null,null,null,null,null,null,7,"Jiquipilas",8,"Nonoava",null,null,null,null,null,null,12,"Mártir de Cuilapan",13,"Progreso de Obregón",14,"Jilotlán de los Dolores",15,"Jocotitlán",16,"La Huacana",null,null,null,null,19,"Santiago",20,"La Trinidad Vista Hermosa",21,"Cohuecan",null,null,null,null,24,"Villa de Arista",null,null,26,"Pitiquito",null,null,null,null,29,"Tetlatlahuca",30,"Coatepec",31,"Maxcanú",32,"Trancoso"]
[null,null,null,null,2024,null,null,null,null,null,null,null,null,null,null,7,"Jitotol",8,"Nuevo Casas Grandes",null,null,null,null,null,null,12,"Metlatónoc",13,"San Agustín Metzquititlán",14,"Jocotepec",15,"Joquicingo",16,"La Piedad",null,null,null,null,19,"Vallecillo",20,"Loma Bonita",21,"Coronango",null,null,null,null,24,"Villa de Arriaga",null,null,26,"Puerto Peñasco",null,null,null,null,29,"Tlaxcala",30,"Coatzacoalcos",31,"Mayapán",32,"Trinidad García de la Cadena"]
[null,null,null,null,2025,null,null,null,null,null,null,null,null,null,null,7,"Juárez",8,"Ocampo",null,null,null,null,null,null,12,"Mochitlán",13,"San Agustín Tlaxiaca",14,"Juanacatlán",15,"Juchitepec",16,"Lagunillas",null,null,null,null,19,"Villaldama",20,"Magdalena Apasco",21,"Coxcatlán",null,null,null,null,24,"Villa de Guadalupe",null,null,26,"Quiriego",null,null,null,null,29,"Tlaxco",30,"Coatzintla",31,"Mérida",32,"Valparaíso"]
[null,null,null,null,2026,null,null,null,null,null,null,null,null,null,null,7,"La Concordia",8,"Ojinaga",null,null,null,null,null,null,12,"Olinalá",13,"San Bartolo Tutotepec",14,"Juchitlán",15,"La Paz",16,"Lázaro Cárdenas",null,null,null,null,null,null,20,"Magdalena Jaltepec",21,"Coyomeapan",null,null,null,null,24,"Villa de la Paz",null,null,26,"Rayón",null,null,null,null,29,"Tocatlán",30,"Coetzala",31,"Mocochá",32,"Vetagrande"]
[null,null,null,null,2027,null,null,null,null,null,null,null,null,null,null,7,"La Grandeza",8,"Praxedis G. Guerrero",null,null,null,null,null,null,12,"Ometepec",13,"San Felipe Orizatlán",14,"La Barca",15,"Lerma",16,"Los Reyes",null,null,null,null,null,null,20,"Magdalena Mixtepec",21,"Coyotepec",null,null,null,null,24,"Villa de Ramos",null,null,26,"Rosario",null,null,null,null,29,"Totolac",30,"Colipa",31,"Motul",32,"Villa de Cos"]
[null,null,null,null,2028,null,null,null,null,null,null,null,null,null,null,7,"La Independencia",8,"Riva Palacio",null,null,null,null,null,null,12,"Pedro Ascencio Alquisiras",13,"San Salvador",14,"La Huerta",15,"Luvianos",16,"Madero",null,null,null,null,null,null,20,"Magdalena Ocotlán",21,"Cuapiaxtla de Madero",null,null,null,null,24,"Villa de Reyes",null,null,26,"Sahuaripa",null,null,null,null,29,"Tzompantepec",30,"Comapa",31,"Muna",32,"Villa García"]
[null,null,null,null,2029,null,null,null,null,null,null,null,null,null,null,7,"La Libertad",8,"Rosales",null,null,null,null,null,null,12,"Petatlán",13,"Santiago de Anaya",14,"La Manzanilla de la Paz",15,"Malinalco",16,"Maravatío",null,null,null,null,null,null,20,"Magdalena Peñasco",21,"Cuautempan",null,null,null,null,24,"Villa Hidalgo",null,null,26,"San Felipe de Jesús",null,null,null,null,29,"Xaloztoc",30,"Córdoba",31,"Muxupip",32,"Villa González Ortega"]
[null,null,null,null,2030,null,null,null,null,null,null,null,null,null,null,7,"La Trinitaria",8,"Rosario",null,null,null,null,null,null,12,"Pilcaya",13,"Santiago Tulantepec de Lugo Guerrero",14,"Lagos de Moreno",15,"Melchor Ocampo",16,"Marcos Castellanos",null,null,null,null,null,null,20,"Magdalena Teitipac",21,"Cuautinchán",null,null,null,null,24,"Villa Juárez",null,null,26,"San Ignacio Río Muerto",null,null,null,null,29,"Xaltocan",30,"Cosamaloapan de Carpio",31,"Opichén",32,"Villa Hidalgo"]
[null,null,null,null,2031,null,null,null,null,null,null,null,null,null,null,7,"Larráinzar",8,"San Francisco de Borja",null,null,null,null,null,null,12,"Pungarabato",13,"Singuilucan",14,"Magdalena",15,"Metepec",16,"Morelia",null,null,null,null,null,null,20,"Magdalena Tequisistlán",21,"Cuautlancingo",null,null,null,null,24,"Xilitla",null,null,26,"San Javier",null,null,null,null,29,"Xicohtzinco",30,"Cosautlán de Carvajal",31,"Oxkutzcab",32,"Villanueva"]
[null,null,null,null,2032,null,null,null,null,null,null,null,null,null,null,7,"Las Margaritas",8,"San Francisco de Conchos",null,null,null,null,null,null,12,"Quechultenango",13,"Tasquillo",14,"Mascota",15,"Mexicaltzingo",16,"Morelos",null,null,null,null,null,null,20,"Magdalena Tlacotepec",21,"Cuayuca de Andrade",null,null,null,null,24,"Zaragoza",null,null,26,"San Luis Río Colorado",null,null,null,null,29,"Yauhquemehcan",30,"Coscomatepec",31,"Panabá",32,"Zacatecas"]
[null,null,null,null,2033,null,null,null,null,null,null,null,null,null,null,7,"Las Rosas",8,"San Francisco del Oro",null,null,null,null,null,null,12,"San Luis Acatlán",13,"Tecozautla",14,"Mazamitla",15,"Morelos",16,"Múgica",null,null,null,null,null,null,20,"Magdalena Yodocono de Porfirio Díaz",21,"Cuetzalan del Progreso",null,null,null,null,null,null,null,null,26,"San Miguel de Horcasitas",null,null,null,null,29,"Zacatelco",30,"Cosoleacaque",31,"Peto"]
[null,null,null,null,2034,null,null,null,null,null,null,null,null,null,null,7,"Mapastepec",8,"Santa Bárbara",null,null,null,null,null,null,12,"San Marcos",13,"Tenango de Doria",14,"Mexticacán",15,"Naucalpan de Juárez",16,"Nahuatzen",null,null,null,null,null,null,20,"Magdalena Zahuatlán",21,"Cuyoaco",null,null,null,null,null,null,null,null,26,"San Pedro de la Cueva",null,null,null,null,29,"Ziltlaltépec de Trinidad Sánchez Santos",30,"Cotaxtla",31,"Progreso"]
[null,null,null,null,2035,null,null,null,null,null,null,null,null,null,null,7,"Maravilla Tenejapa",8,"Santa Isabel",null,null,null,null,null,null,12,"San Miguel Totolapan",13,"Tepeapulco",14,"Mezquitic",15,"Nextlalpan",16,"Nocupétaro",null,null,null,null,null,null,20,"Mariscala de Juárez",21,"Domingo Arenas",null,null,null,null,null,null,null,null,26,"Santa Ana",null,null,null,null,null,null,30,"Coxquihui",31,"Quintana Roo"]
[null,null,null,null,2036,null,null,null,null,null,null,null,null,null,null,7,"Marqués de Comillas",8,"Satevó",null,null,null,null,null,null,12,"Taxco de Alarcón",13,"Tepehuacán de Guerrero",14,"Mixtlán",15,"Nezahualcóyotl",16,"Nuevo Parangaricutiro",null,null,null,null,null,null,20,"Mártires de Tacubaya",21,"Eloxochitlán",null,null,null,null,null,null,null,null,26,"Santa Cruz",null,null,null,null,null,null,30,"Coyutla",31,"Río Lagartos"]
[null,null,null,null,2037,null,null,null,null,null,null,null,null,null,null,7,"Mazapa de Madero",8,"Saucillo",null,null,null,null,null,null,12,"Tecoanapa",13,"Tepeji del Río de Ocampo",14,"Ocotlán",15,"Nicolás Romero",16,"Nuevo Urecho",null,null,null,null,null,null,20,"Matías Romero Avendaño",21,"Epatlán",null,null,null,null,null,null,null,null,26,"Sáric",null,null,null,null,null,null,30,"Cuichapa",31,"Sacalum"]
[null,null,null,null,2038,null,null,null,null,null,null,null,null,null,null,7,"Mazatán",8,"Temósachic",null,null,null,null,null,null,12,"Técpan de Galeana",13,"Tepetitlán",14,"Ojuelos de Jalisco",15,"Nopaltepec",16,"Numarán",null,null,null,null,null,null,20,"Mazatlán Villa de Flores",21,"Esperanza",null,null,null,null,null,null,null,null,26,"Soyopa",null,null,null,null,null,null,30,"Cuitláhuac",31,"Samahil"]
[null,null,null,null,2039,null,null,null,null,null,null,null,null,null,null,7,"Metapa",8,"Urique",null,null,null,null,null,null,12,"Teloloapan",13,"Tetepango",14,"Pihuamo",15,"Ocoyoacac",16,"Ocampo",null,null,null,null,null,null,20,"Mesones Hidalgo",21,"Francisco Z. Mena",null,null,null,null,null,null,null,null,26,"Suaqui Grande",null,null,null,null,null,null,30,"El Higo",31,"San Felipe"]
[null,null,null,null,2040,null,null,null,null,null,null,null,null,null,null,7,"Mezcalapa",8,"Uruachi",null,null,null,null,null,null,12,"Tepecoacuilco de Trujano",13,"Tezontepec de Aldama",14,"Poncitlán",15,"Ocuilan",16,"Pajacuarán",null,null,null,null,null,null,20,"Miahuatlán de Porfirio Díaz",21,"General Felipe Ángeles",null,null,null,null,null,null,null,null,26,"Tepache",null,null,null,null,null,null,30,"Emiliano Zapata",31,"Sanahcat"]
[null,null,null,null,2041,null,null,null,null,null,null,null,null,null,null,7,"Mitontic",8,"Valle de Zaragoza",null,null,null,null,null,null,12,"Tetipac",13,"Tianguistengo",14,"Puerto Vallarta",15,"Otumba",16,"Panindícuaro",null,null,null,null,null,null,20,"Mixistlán de la Reforma",21,"Guadalupe",null,null,null,null,null,null,null,null,26,"Trincheras",null,null,null,null,null,null,30,"Espinal",31,"Santa Elena"]
[null,null,null,null,2042,null,null,null,null,null,null,null,null,null,null,7,"Montecristo de Guerrero",null,null,null,null,null,null,null,null,12,"Tixtla de Guerrero",13,"Tizayuca",14,"Quitupan",15,"Otzoloapan",16,"Paracho",null,null,null,null,null,null,20,"Monjas",21,"Guadalupe Victoria",null,null,null,null,null,null,null,null,26,"Tubutama",null,null,null,null,null,null,30,"Filomeno Mata",31,"Seyé"]
[null,null,null,null,2043,null,null,null,null,null,null,null,null,null,null,7,"Motozintla",null,null,null,null,null,null,null,null,12,"Tlacoachistlahuaca",13,"Tlahuelilpan",14,"San Cristóbal de la Barranca",15,"Otzolotepec",16,"Parácuaro",null,null,null,null,null,null,20,"Natividad",21,"Hermenegildo Galeana",null,null,null,null,null,null,null,null,26,"Ures",null,null,null,null,null,null,30,"Fortín",31,"Sinanché"]
[null,null,null,null,2044,null,null,null,null,null,null,null,null,null,null,7,"Nicolás Ruíz",null,null,null,null,null,null,null,null,12,"Tlacoapa",13,"Tlahuiltepa",14,"San Diego de Alejandría",15,"Ozumba",16,"Pátzcuaro",null,null,null,null,null,null,20,"Nazareno Etla",21,"Honey",null,null,null,null,null,null,null,null,26,"Villa Hidalgo",null,null,null,null,null,null,30,"Gutiérrez Zamora",31,"Sotuta"]
[null,null,null,null,2045,null,null,null,null,null,null,null,null,null,null,7,"Ocosingo",null,null,null,null,null,null,null,null,12,"Tlalchapa",13,"Tlanalapa",14,"San Gabriel",15,"Papalotla",16,"Penjamillo",null,null,null,null,null,null,20,"Nejapa de Madero",21,"Huaquechula",null,null,null,null,null,null,null,null,26,"Villa Pesqueira",null,null,null,null,null,null,30,"Hidalgotitlán",31,"Sucilá"]
[null,null,null,null,2046,null,null,null,null,null,null,null,null,null,null,7,"Ocotepec",null,null,null,null,null,null,null,null,12,"Tlalixtaquilla de Maldonado",13,"Tlanchinol",14,"San Ignacio Cerro Gordo",15,"Polotitlán",16,"Peribán",null,null,null,null,null,null,20,"Nuevo Zoquiápam",21,"Huatlatlauca",null,null,null,null,null,null,null,null,26,"Yécora",null,null,null,null,null,null,30,"Huatusco",31,"Sudzal"]
[null,null,null,null,2047,null,null,null,null,null,null,null,null,null,null,7,"Ocozocoautla de Espinosa",null,null,null,null,null,null,null,null,12,"Tlapa de Comonfort",13,"Tlaxcoapan",14,"San Juan de los Lagos",15,"Rayón",16,"Purépero",null,null,null,null,null,null,20,"Oaxaca de Juárez",21,"Huauchinango",null,null,null,null,null,null,null,null,null,null,null,null,null,null,null,null,30,"Huayacocotla",31,"Suma"]
[null,null,null,null,2048,null,null,null,null,null,null,null,null,null,null,7,"Ostuacán",null,null,null,null,null,null,null,null,12,"Tlapehuala",13,"Tolcayuca",14,"San Juanito de Escobedo",15,"San Antonio la Isla",16,"Puruándiro",null,null,null,null,null,null,20,"Ocotlán de Morelos",21,"Huehuetla",null,null,null,null,null,null,null,null,null,null,null,null,null,null,null,null,30,"Hueyapan de Ocampo",31,"Tahdziú"]
[null,null,null,null,2049,null,null,null,null,null,null,null,null,null,null,7,"Osumacinta",null,null,null,null,null,null,null,null,12,"Xalpatláhuac",13,"Tula de Allende",14,"San Julián",15,"San Felipe del Progreso",16,"Queréndaro",null,null,null,null,null,null,20,"Pinotepa de Don Luis",21,"Huehuetlán el Chico",null,null,null,null,null,null,null,null,null,null,null,null,null,null,null,null,30,"Huiloapan de Cuauhtémoc",31,"Tahmek"]
[null,null,null,null,2050,null,null,null,null,null,null,null,null,null,null,7,"Oxchuc",null,null,null,null,null,null,null,null,12,"Xochihuehuetlán",13,"Tulancingo de Bravo",14,"San Marcos",15,"San José del Rincón",16,"Quiroga",null,null,null,null,null,null,20,"Pluma Hidalgo",21,"Huehuetlán el Grande",null,null,null,null,null,null,null,null,null,null,null,null,null,null,null,null,30,"Ignacio de la Llave",31,"Teabo"]
[null,null,null,null,null,null,null,null,null,null,null,null,null,null,null,7,"Palenque",null,null,null,null,null,null,null,null,12,"Xochistlahuaca",13,"Villa de Tezontepec",14,"San Martín de Bolaños",15,"San Martín de las Pirámides",16,"Sahuayo",null,null,null,null,null,null,20,"Putla Villa de Guerrero",21,"Huejotzingo",null,null,null,null,null,null,null,null,null,null,null,null,null,null,null,null,30,"Ilamatlán",31,"Tecoh"]
[null,null,null,null,null,null,null,null,null,null,null,null,null,null,null,7,"Pantelhó",null,null,null,null,null,null,null,null,12,"Zapotitlán Tablas",13,"Xochiatipan",14,"San Martín Hidalgo",15,"San Mateo Atenco",16,"Salvador Escalante",null,null,null,null,null,null,20,"Reforma de Pineda",21,"Hueyapan",null,null,null,null,null,null,null,null,null,null,null,null,null,null,null,null,30,"Isla",31,"Tekal de Venegas"]
[null,null,null,null,null,null,null,null,null,null,null,null,null,null,null,7,"Pantepec",null,null,null,null,null,null,null,null,12,"Zihuatanejo de Azueta",13,"Xochicoatlán",14,"San Miguel el Alto",15,"San Simón de Guerrero",16,"San Lucas",null,null,null,null,null,null,20,"Reyes Etla",21,"Hueytamalco",null,null,null,null,null,null,null,null,null,null,null,null,null,null,null,null,30,"Ixcatepec",31,"Tekantó"]
[null,null,null,null,null,null,null,null,null,null,null,null,null,null,null,7,"Pichucalco",null,null,null,null,null,null,null,null,12,"Zirándaro",13,"Yahualica",14,"San Pedro Tlaquepaque",15,"Santo Tomás",16,"Santa Ana Maya",null,null,null,null,null,null,20,"Rojas de Cuauhtémoc",21,"Hueytlalpan",null,null,null,null,null,null,null,null,null,null,null,null,null,null,null,null,30,"Ixhuacán de los Reyes",31,"Tekax"]
[null,null,null,null,null,null,null,null,null,null,null,null,null,null,null,7,"Pijijiapan",null,null,null,null,null,null,null,null,12,"Zitlala",13,"Zacualtipán de Ángeles",14,"San Sebastián del Oeste",15,"Soyaniquilpan de Juárez",16,"Senguio",null,null,null,null,null,null,20,"Salina Cruz",21,"Huitzilan de Serdán",null,null,null,null,null,null,null,null,null,null,null,null,null,null,null,null,30,"Ixhuatlán de Madero",31,"Tekit"]
[null,null,null,null,null,null,null,null,null,null,null,null,null,null,null,7,"Pueblo Nuevo Solistahuacán",null,null,null,null,null,null,null,null,null,null,13,"Zapotlán de Juárez",14,"Santa María de los Ángeles",15,"Sultepec",16,"Susupuato",null,null,null,null,null,null,20,"San Agustín Amatengo",21,"Huitziltepec",null,null,null,null,null,null,null,null,null,null,null,null,null,null,null,null,30,"Ixhuatlán del Café",31,"Tekom"]
[null,null,null,null,null,null,null,null,null,null,null,null,null,null,null,7,"Rayón",null,null,null,null,null,null,null,null,null,null,13,"Zempoala",14,"Santa María del Oro",15,"Tecámac",16,"Tacámbaro",null,null,null,null,null,null,20,"San Agustín Atenango",21,"Ixcamilpa de Guerrero",null,null,null,null,null,null,null,null,null,null,null,null,null,null,null,null,30,"Ixhuatlán del Sureste",31,"Telchac Pueblo"]
[null,null,null,null,null,null,null,null,null,null,null,null,null,null,null,7,"Reforma",null,null,null,null,null,null,null,null,null,null,13,"Zimapán",14,"Sayula",15,"Tejupilco",16,"Tancítaro",null,null,null,null,null,null,20,"San Agustín Chayuco",21,"Ixcaquixtla",null,null,null,null,null,null,null,null,null,null,null,null,null,null,null,null,30,"Ixhuatlancillo",31,"Telchac Puerto"]
[null,null,null,null,null,null,null,null,null,null,null,null,null,null,null,7,"Sabanilla",null,null,null,null,null,null,null,null,null,null,null,null,14,"Tala",15,"Temamatla",16,"Tangamandapio",null,null,null,null,null,null,20,"San Agustín de las Juntas",21,"Ixtacamaxtitlán",null,null,null,null,null,null,null,null,null,null,null,null,null,null,null,null,30,"Ixmatlahuacan",31,"Temax"]
[null,null,null,null,null,null,null,null,null,null,null,null,null,null,null,7,"Salto de Agua",null,null,null,null,null,null,null,null,null,null,null,null,14,"Talpa de Allende",15,"Temascalapa",16,"Tangancícuaro",null,null,null,null,null,null,20,"San Agustín Etla",21,"Ixtepec",null,null,null,null,null,null,null,null,null,null,null,null,null,null,null,null,30,"Ixtaczoquitlán",31,"Temozón"]
[null,null,null,null,null,null,null,null,null,null,null,null,null,null,null,7,"San Andrés Duraznal",null,null,null,null,null,null,null,null,null,null,null,null,14,"Tamazula de Gordiano",15,"Temascalcingo",16,"Tanhuato",null,null,null,null,null,null,20,"San Agustín Loxicha",21,"Izúcar de Matamoros",null,null,null,null,null,null,null,null,null,null,null,null,null,null,null,null,30,"Jalacingo",31,"Tepakán"]
[null,null,null,null,null,null,null,null,null,null,null,null,null,null,null,7,"San Cristóbal de las Casas",null,null,null,null,null,null,null,null,null,null,null,null,14,"Tapalpa",15,"Temascaltepec",16,"Taretan",null,null,null,null,null,null,20,"San Agustín Tlacotepec",21,"Jalpan",null,null,null,null,null,null,null,null,null,null,null,null,null,null,null,null,30,"Jalcomulco",31,"Tetiz"]
[null,null,null,null,null,null,null,null,null,null,null,null,null,null,null,7,"San Fernando",null,null,null,null,null,null,null,null,null,null,null,null,14,"Tecalitlán",15,"Temoaya",16,"Tarímbaro",null,null,null,null,null,null,20,"San Agustín Yatareni",21,"Jolalpan",null,null,null,null,null,null,null,null,null,null,null,null,null,null,null,null,30,"Jáltipan",31,"Teya"]
[null,null,null,null,null,null,null,null,null,null,null,null,null,null,null,7,"San Juan Cancuc",null,null,null,null,null,null,null,null,null,null,null,null,14,"Techaluta de Montenegro",15,"Tenancingo",16,"Tepalcatepec",null,null,null,null,null,null,20,"San Andrés Cabecera Nueva",21,"Jonotla",null,null,null,null,null,null,null,null,null,null,null,null,null,null,null,null,30,"Jamapa",31,"Ticul"]
[null,null,null,null,null,null,null,null,null,null,null,null,null,null,null,7,"San Lucas",null,null,null,null,null,null,null,null,null,null,null,null,14,"Tecolotlán",15,"Tenango del Aire",16,"Tingambato",null,null,null,null,null,null,20,"San Andrés Dinicuiti",21,"Jopala",null,null,null,null,null,null,null,null,null,null,null,null,null,null,null,null,30,"Jesús Carranza",31,"Timucuy"]
[null,null,null,null,null,null,null,null,null,null,null,null,null,null,null,7,"Santiago el Pinar",null,null,null,null,null,null,null,null,null,null,null,null,14,"Tenamaxtlán",15,"Tenango del Valle",16,"Tingüindín",null,null,null,null,null,null,20,"San Andrés Huaxpaltepec",21,"Juan C. Bonilla",null,null,null,null,null,null,null,null,null,null,null,null,null,null,null,null,30,"Jilotepec",31,"Tinum"]
[null,null,null,null,null,null,null,null,null,null,null,null,null,null,null,7,"Siltepec",null,null,null,null,null,null,null,null,null,null,null,null,14,"Teocaltiche",15,"Teoloyucan",16,"Tiquicheo de Nicolás Romero",null,null,null,null,null,null,20,"San Andrés Huayápam",21,"Juan Galindo",null,null,null,null,null,null,null,null,null,null,null,null,null,null,null,null,30,"José Azueta",31,"Tixcacalcupul"]
[null,null,null,null,null,null,null,null,null,null,null,null,null,null,null,7,"Simojovel",null,null,null,null,null,null,null,null,null,null,null,null,14,"Teocuitatlán de Corona",15,"Teotihuacán",16,"Tlalpujahua",null,null,null,null,null,null,20,"San Andrés Ixtlahuaca",21,"Juan N. Méndez",null,null,null,null,null,null,null,null,null,null,null,null,null,null,null,null,30,"Juan Rodríguez Clara",31,"Tixkokob"]
[null,null,null,null,null,null,null,null,null,null,null,null,null,null,null,7,"Sitalá",null,null,null,null,null,null,null,null,null,null,null,null,14,"Tepatitlán de Morelos",15,"Tepetlaoxtoc",16,"Tlazazalca",null,null,null,null,null,null,20,"San Andrés Lagunas",21,"La Magdalena Tlatlauquitepec",null,null,null,null,null,null,null,null,null,null,null,null,null,null,null,null,30,"Juchique de Ferrer",31,"Tixmehuac"]
[null,null,null,null,null,null,null,null,null,null,null,null,null,null,null,7,"Socoltenango",null,null,null,null,null,null,null,null,null,null,null,null,14,"Tequila",15,"Tepetlixpa",16,"Tocumbo",null,null,null,null,null,null,20,"San Andrés Nuxiño",21,"Lafragua",null,null,null,null,null,null,null,null,null,null,null,null,null,null,null,null,30,"La Antigua",31,"Tixpéhual"]
[null,null,null,null,null,null,null,null,null,null,null,null,null,null,null,7,"Solosuchiapa",null,null,null,null,null,null,null,null,null,null,null,null,14,"Teuchitlán",15,"Tepotzotlán",16,"Tumbiscatío",null,null,null,null,null,null,20,"San Andrés Paxtlán",21,"Libres",null,null,null,null,null,null,null,null,null,null,null,null,null,null,null,null,30,"La Perla",31,"Tizimín"]
[null,null,null,null,null,null,null,null,null,null,null,null,null,null,null,7,"Soyaló",null,null,null,null,null,null,null,null,null,null,null,null,14,"Tizapán el Alto",15,"Tequixquiac",16,"Turicato",null,null,null,null,null,null,20,"San Andrés Sinaxtla",21,"Los Reyes de Juárez",null,null,null,null,null,null,null,null,null,null,null,null,null,null,null,null,30,"Landero y Coss",31,"Tunkás"]
[null,null,null,null,null,null,null,null,null,null,null,null,null,null,null,7,"Suchiapa",null,null,null,null,null,null,null,null,null,null,null,null,14,"Tlajomulco de Zúñiga",15,"Texcaltitlán",16,"Tuxpan",null,null,null,null,null,null,20,"San Andrés Solaga",21,"Mazapiltepec de Juárez",null,null,null,null,null,null,null,null,null,null,null,null,null,null,null,null,30,"Las Choapas",31,"Tzucacab"]
[null,null,null,null,null,null,null,null,null,null,null,null,null,null,null,7,"Suchiate",null,null,null,null,null,null,null,null,null,null,null,null,14,"Tolimán",15,"Texcalyacac",16,"Tuzantla",null,null,null,null,null,null,20,"San Andrés Teotilálpam",21,"Mixtla",null,null,null,null,null,null,null,null,null,null,null,null,null,null,null,null,30,"Las Minas",31,"Uayma"]
[null,null,null,null,null,null,null,null,null,null,null,null,null,null,null,7,"Sunuapa",null,null,null,null,null,null,null,null,null,null,null,null,14,"Tomatlán",15,"Texcoco",16,"Tzintzuntzan",null,null,null,null,null,null,20,"San Andrés Tepetlapa",21,"Molcaxac",null,null,null,null,null,null,null,null,null,null,null,null,null,null,null,null,30,"Las Vigas de Ramírez",31,"Ucú"]
[null,null,null,null,null,null,null,null,null,null,null,null,null,null,null,7,"Tapachula",null,null,null,null,null,null,null,null,null,null,null,null,14,"Tonalá",15,"Tezoyuca",16,"Tzitzio",null,null,null,null,null,null,20,"San Andrés Yaá",21,"Naupan",null,null,null,null,null,null,null,null,null,null,null,null,null,null,null,null,30,"Lerdo de Tejada",31,"Umán"]
[null,null,null,null,null,null,null,null,null,null,null,null,null,null,null,7,"Tapalapa",null,null,null,null,null,null,null,null,null,null,null,null,14,"Tonaya",15,"Tianguistenco",16,"Uruapan",null,null,null,null,null,null,20,"San Andrés Zabache",21,"Nauzontla",null,null,null,null,null,null,null,null,null,null,null,null,null,null,null,null,30,"Los Reyes",31,"Valladolid"]
[null,null,null,null,null,null,null,null,null,null,null,null,null,null,null,7,"Tapilula",null,null,null,null,null,null,null,null,null,null,null,null,14,"Tonila",15,"Timilpan",16,"Venustiano Carranza",null,null,null,null,null,null,20,"San Andrés Zautla",21,"Nealtican",null,null,null,null,null,null,null,null,null,null,null,null,null,null,null,null,30,"Magdalena",31,"Xocchel"]
[null,null,null,null,null,null,null,null,null,null,null,null,null,null,null,7,"Tecpatán",null,null,null,null,null,null,null,null,null,null,null,null,14,"Totatiche",15,"Tlalmanalco",16,"Villamar",null,null,null,null,null,null,20,"San Antonino Castillo Velasco",21,"Nicolás Bravo",null,null,null,null,null,null,null,null,null,null,null,null,null,null,null,null,30,"Maltrata",31,"Yaxcabá"]
[null,null,null,null,null,null,null,null,null,null,null,null,null,null,null,7,"Tenejapa",null,null,null,null,null,null,null,null,null,null,null,null,14,"Tototlán",15,"Tlalnepantla de Baz",16,"Vista Hermosa",null,null,null,null,null,null,20,"San Antonino el Alto",21,"Nopalucan",null,null,null,null,null,null,null,null,null,null,null,null,null,null,null,null,30,"Manlio Fabio Altamirano",31,"Yaxkukul"]
[null,null,null,null,null,null,null,null,null,null,null,null,null,null,null,7,"Teopisca",null,null,null,null,null,null,null,null,null,null,null,null,14,"Tuxcacuesco",15,"Tlatlaya",16,"Yurécuaro",null,null,null,null,null,null,20,"San Antonino Monte Verde",21,"Ocotepec",null,null,null,null,null,null,null,null,null,null,null,null,null,null,null,null,30,"Mariano Escobedo",31,"Yobaín"]
[null,null,null,null,null,null,null,null,null,null,null,null,null,null,null,7,"Tila",null,null,null,null,null,null,null,null,null,null,null,null,14,"Tuxcueca",15,"Toluca",16,"Zacapu",null,null,null,null,null,null,20,"San Antonio Acutla",21,"Ocoyucan",null,null,null,null,null,null,null,null,null,null,null,null,null,null,null,null,30,"Martínez de la Torre"]
[null,null,null,null,null,null,null,null,null,null,null,null,null,null,null,7,"Tonalá",null,null,null,null,null,null,null,null,null,null,null,null,14,"Tuxpan",15,"Tonanitla",16,"Zamora",null,null,null,null,null,null,20,"San Antonio de la Cal",21,"Olintla",null,null,null,null,null,null,null,null,null,null,null,null,null,null,null,null,30,"Mecatlán"]
[null,null,null,null,null,null,null,null,null,null,null,null,null,null,null,7,"Totolapa",null,null,null,null,null,null,null,null,null,null,null,null,14,"Unión de San Antonio",15,"Tonatico",16,"Zináparo",null,null,null,null,null,null,20,"San Antonio Huitepec",21,"Oriental",null,null,null,null,null,null,null,null,null,null,null,null,null,null,null,null,30,"Mecayapan"]
[null,null,null,null,null,null,null,null,null,null,null,null,null,null,null,7,"Tumbalá",null,null,null,null,null,null,null,null,null,null,null,null,14,"Unión de Tula",15,"Tultepec",16,"Zinapécuaro",null,null,null,null,null,null,20,"San Antonio Nanahuatípam",21,"Pahuatlán",null,null,null,null,null,null,null,null,null,null,null,null,null,null,null,null,30,"Medellín"]
[null,null,null,null,null,null,null,null,null,null,null,null,null,null,null,7,"Tuxtla Chico",null,null,null,null,null,null,null,null,null,null,null,null,14,"Valle de Guadalupe",15,"Tultitlán",16,"Ziracuaretiro",null,null,null,null,null,null,20,"San Antonio Sinicahua",21,"Palmar de Bravo",null,null,null,null,null,null,null,null,null,null,null,null,null,null,null,null,30,"Miahuatlán"]
[null,null,null,null,null,null,null,null,null,null,null,null,null,null,null,7,"Tuxtla Gutiérrez",null,null,null,null,null,null,null,null,null,null,null,null,14,"Valle de Juárez",15,"Valle de Bravo",16,"Zitácuaro",null,null,null,null,null,null,20,"San Antonio Tepetlapa",21,"Pantepec",null,null,null,null,null,null,null,null,null,null,null,null,null,null,null,null,30,"Minatitlán"]
[null,null,null,null,null,null,null,null,null,null,null,null,null,null,null,7,"Tuzantán",null,null,null,null,null,null,null,null,null,null,null,null,14,"Villa Corona",15,"Valle de Chalco Solidaridad",null,null,null,null,null,null,null,null,20,"San Baltazar Chichicápam",21,"Petlalcingo",null,null,null,null,null,null,null,null,null,null,null,null,null,null,null,null,30,"Misantla"]
[null,null,null,null,null,null,null,null,null,null,null,null,null,null,null,7,"Tzimol",null,null,null,null,null,null,null,null,null,null,null,null,14,"Villa Guerrero",15,"Villa de Allende",null,null,null,null,null,null,null,null,20,"San Baltazar Loxicha",21,"Piaxtla",null,null,null,null,null,null,null,null,null,null,null,null,null,null,null,null,30,"Mixtla de Altamirano"]
[null,null,null,null,null,null,null,null,null,null,null,null,null,null,null,7,"Unión Juárez",null,null,null,null,null,null,null,null,null,null,null,null,14,"Villa Hidalgo",15,"Villa del Carbón",null,null,null,null,null,null,null,null,20,"San Baltazar Yatzachi el Bajo",21,"Puebla",null,null,null,null,null,null,null,null,null,null,null,null,null,null,null,null,30,"Moloacán"]
[null,null,null,null,null,null,null,null,null,null,null,null,null,null,null,7,"Venustiano Carranza",null,null,null,null,null,null,null,null,null,null,null,null,14,"Villa Purificación",15,"Villa Guerrero",null,null,null,null,null,null,null,null,20,"San Bartolo Coyotepec",21,"Quecholac",null,null,null,null,null,null,null,null,null,null,null,null,null,null,null,null,30,"Nanchital de Lázaro Cárdenas del Río"]
[null,null,null,null,null,null,null,null,null,null,null,null,null,null,null,7,"Villa Comaltitlán",null,null,null,null,null,null,null,null,null,null,null,null,14,"Yahualica de González Gallo",15,"Villa Victoria",null,null,null,null,null,null,null,null,20,"San Bartolo Soyaltepec",21,"Quimixtlán",null,null,null,null,null,null,null,null,null,null,null,null,null,null,null,null,30,"Naolinco"]
[null,null,null,null,null,null,null,null,null,null,null,null,null,null,null,7,"Villa Corzo",null,null,null,null,null,null,null,null,null,null,null,null,14,"Zacoalco de Torres",15,"Xalatlaco",null,null,null,null,null,null,null,null,20,"San Bartolo Yautepec",21,"Rafael Lara Grajales",null,null,null,null,null,null,null,null,null,null,null,null,null,null,null,null,30,"Naranjal"]
[null,null,null,null,null,null,null,null,null,null,null,null,null,null,null,7,"Villaflores",null,null,null,null,null,null,null,null,null,null,null,null,14,"Zapopan",15,"Xonacatlán",null,null,null,null,null,null,null,null,20,"San Bartolomé Ayautla",21,"San Andrés Cholula",null,null,null,null,null,null,null,null,null,null,null,null,null,null,null,null,30,"Naranjos Amatlán"]
[null,null,null,null,null,null,null,null,null,null,null,null,null,null,null,7,"Yajalón",null,null,null,null,null,null,null,null,null,null,null,null,14,"Zapotiltic",15,"Zacazonapan",null,null,null,null,null,null,null,null,20,"San Bartolomé Loxicha",21,"San Antonio Cañada",null,null,null,null,null,null,null,null,null,null,null,null,null,null,null,null,30,"Nautla"]
[null,null,null,null,null,null,null,null,null,null,null,null,null,null,null,7,"Zinacantán",null,null,null,null,null,null,null,null,null,null,null,null,14,"Zapotitlán de Vadillo",15,"Zacualpan",null,null,null,null,null,null,null,null,20,"San Bartolomé Quialana",21,"San Diego la Mesa Tochimiltzingo",null,null,null,null,null,null,null,null,null,null,null,null,null,null,null,null,30,"Nogales"]
[null,null,null,null,null,null,null,null,null,null,null,null,null,null,null,null,null,null,null,null,null,null,null,null,null,null,null,null,null,14,"Zapotlán del Rey",15,"Zinacantepec",null,null,null,null,null,null,null,null,20,"San Bartolomé Yucuañe",21,"San Felipe Teotlalcingo",null,null,null,null,null,null,null,null,null,null,null,null,null,null,null,null,30,"Oluta"]
[null,null,null,null,null,null,null,null,null,null,null,null,null,null,null,null,null,null,null,null,null,null,null,null,null,null,null,null,null,14,"Zapotlán el Grande",15,"Zumpahuacán",null,null,null,null,null,null,null,null,20,"San Bartolomé Zoogocho",21,"San Felipe Tepatlán",null,null,null,null,null,null,null,null,null,null,null,null,null,null,null,null,30,"Omealca"]
[null,null,null,null,null,null,null,null,null,null,null,null,null,null,null,null,null,null,null,null,null,null,null,null,null,null,null,null,null,14,"Zapotlanejo",15,"Zumpango",null,null,null,null,null,null,null,null,20,"San Bernardo Mixtepec",21,"San Gabriel Chilac",null,null,null,null,null,null,null,null,null,null,null,null,null,null,null,null,30,"Orizaba"]
[null,null,null,null,null,null,null,null,null,null,null,null,null,null,null,null,null,null,null,null,null,null,null,null,null,null,null,null,null,null,null,null,null,null,null,null,null,null,null,null,null,20,"San Blas Atempa",21,"San Gregorio Atzompa",null,null,null,null,null,null,null,null,null,null,null,null,null,null,null,null,30,"Otatitlán"]
[null,null,null,null,null,null,null,null,null,null,null,null,null,null,null,null,null,null,null,null,null,null,null,null,null,null,null,null,null,null,null,null,null,null,null,null,null,null,null,null,null,20,"San Carlos Yautepec",21,"San Jerónimo Tecuanipan",null,null,null,null,null,null,null,null,null,null,null,null,null,null,null,null,30,"Oteapan"]
[null,null,null,null,null,null,null,null,null,null,null,null,null,null,null,null,null,null,null,null,null,null,null,null,null,null,null,null,null,null,null,null,null,null,null,null,null,null,null,null,null,20,"San Cristóbal Amatlán",21,"San Jerónimo Xayacatlán",null,null,null,null,null,null,null,null,null,null,null,null,null,null,null,null,30,"Ozuluama de Mascareñas"]
[null,null,null,null,null,null,null,null,null,null,null,null,null,null,null,null,null,null,null,null,null,null,null,null,null,null,null,null,null,null,null,null,null,null,null,null,null,null,null,null,null,20,"San Cristóbal Amoltepec",21,"San José Chiapa",null,null,null,null,null,null,null,null,null,null,null,null,null,null,null,null,30,"Pajapan"]
[null,null,null,null,null,null,null,null,null,null,null,null,null,null,null,null,null,null,null,null,null,null,null,null,null,null,null,null,null,null,null,null,null,null,null,null,null,null,null,null,null,20,"San Cristóbal Lachirioag",21,"San José Miahuatlán",null,null,null,null,null,null,null,null,null,null,null,null,null,null,null,null,30,"Pánuco"]
[null,null,null,null,null,null,null,null,null,null,null,null,null,null,null,null,null,null,null,null,null,null,null,null,null,null,null,null,null,null,null,null,null,null,null,null,null,null,null,null,null,20,"San Cristóbal Suchixtlahuaca",21,"San Juan Atenco",null,null,null,null,null,null,null,null,null,null,null,null,null,null,null,null,30,"Papantla"]
[null,null,null,null,null,null,null,null,null,null,null,null,null,null,null,null,null,null,null,null,null,null,null,null,null,null,null,null,null,null,null,null,null,null,null,null,null,null,null,null,null,20,"San Dionisio del Mar",21,"San Juan Atzompa",null,null,null,null,null,null,null,null,null,null,null,null,null,null,null,null,30,"Paso de Ovejas"]
[null,null,null,null,null,null,null,null,null,null,null,null,null,null,null,null,null,null,null,null,null,null,null,null,null,null,null,null,null,null,null,null,null,null,null,null,null,null,null,null,null,20,"San Dionisio Ocotepec",21,"San Martín Texmelucan",null,null,null,null,null,null,null,null,null,null,null,null,null,null,null,null,30,"Paso del Macho"]
[null,null,null,null,null,null,null,null,null,null,null,null,null,null,null,null,null,null,null,null,null,null,null,null,null,null,null,null,null,null,null,null,null,null,null,null,null,null,null,null,null,20,"San Dionisio Ocotlán",21,"San Martín Totoltepec",null,null,null,null,null,null,null,null,null,null,null,null,null,null,null,null,30,"Perote"]
[null,null,null,null,null,null,null,null,null,null,null,null,null,null,null,null,null,null,null,null,null,null,null,null,null,null,null,null,null,null,null,null,null,null,null,null,null,null,null,null,null,20,"San Esteban Atatlahuca",21,"San Matías Tlalancaleca",null,null,null,null,null,null,null,null,null,null,null,null,null,null,null,null,30,"Platón Sánchez"]
[null,null,null,null,null,null,null,null,null,null,null,null,null,null,null,null,null,null,null,null,null,null,null,null,null,null,null,null,null,null,null,null,null,null,null,null,null,null,null,null,null,20,"San Felipe Jalapa de Díaz",21,"San Miguel Ixitlán",null,null,null,null,null,null,null,null,null,null,null,null,null,null,null,null,30,"Playa Vicente"]
[null,null,null,null,null,null,null,null,null,null,null,null,null,null,null,null,null,null,null,null,null,null,null,null,null,null,null,null,null,null,null,null,null,null,null,null,null,null,null,null,null,20,"San Felipe Tejalápam",21,"San Miguel Xoxtla",null,null,null,null,null,null,null,null,null,null,null,null,null,null,null,null,30,"Poza Rica de Hidalgo"]
[null,null,null,null,null,null,null,null,null,null,null,null,null,null,null,null,null,null,null,null,null,null,null,null,null,null,null,null,null,null,null,null,null,null,null,null,null,null,null,null,null,20,"San Felipe Usila",21,"San Nicolás Buenos Aires",null,null,null,null,null,null,null,null,null,null,null,null,null,null,null,null,30,"Pueblo Viejo"]
[null,null,null,null,null,null,null,null,null,null,null,null,null,null,null,null,null,null,null,null,null,null,null,null,null,null,null,null,null,null,null,null,null,null,null,null,null,null,null,null,null,20,"San Francisco Cahuacuá",21,"San Nicolás de los Ranchos",null,null,null,null,null,null,null,null,null,null,null,null,null,null,null,null,30,"Puente Nacional"]
[null,null,null,null,null,null,null,null,null,null,null,null,null,null,null,null,null,null,null,null,null,null,null,null,null,null,null,null,null,null,null,null,null,null,null,null,null,null,null,null,null,20,"San Francisco Cajonos",21,"San Pablo Anicano",null,null,null,null,null,null,null,null,null,null,null,null,null,null,null,null,30,"Rafael Delgado"]
[null,null,null,null,null,null,null,null,null,null,null,null,null,null,null,null,null,null,null,null,null,null,null,null,null,null,null,null,null,null,null,null,null,null,null,null,null,null,null,null,null,20,"San Francisco Chapulapa",21,"San Pedro Cholula",null,null,null,null,null,null,null,null,null,null,null,null,null,null,null,null,30,"Rafael Lucio"]
[null,null,null,null,null,null,null,null,null,null,null,null,null,null,null,null,null,null,null,null,null,null,null,null,null,null,null,null,null,null,null,null,null,null,null,null,null,null,null,null,null,20,"San Francisco Chindúa",21,"San Pedro Yeloixtlahuaca",null,null,null,null,null,null,null,null,null,null,null,null,null,null,null,null,30,"Río Blanco"]
[null,null,null,null,null,null,null,null,null,null,null,null,null,null,null,null,null,null,null,null,null,null,null,null,null,null,null,null,null,null,null,null,null,null,null,null,null,null,null,null,null,20,"San Francisco del Mar",21,"San Salvador el Seco",null,null,null,null,null,null,null,null,null,null,null,null,null,null,null,null,30,"Saltabarranca"]
[null,null,null,null,null,null,null,null,null,null,null,null,null,null,null,null,null,null,null,null,null,null,null,null,null,null,null,null,null,null,null,null,null,null,null,null,null,null,null,null,null,20,"San Francisco Huehuetlán",21,"San Salvador el Verde",null,null,null,null,null,null,null,null,null,null,null,null,null,null,null,null,30,"San Andrés Tenejapan"]
[null,null,null,null,null,null,null,null,null,null,null,null,null,null,null,null,null,null,null,null,null,null,null,null,null,null,null,null,null,null,null,null,null,null,null,null,null,null,null,null,null,20,"San Francisco Ixhuatán",21,"San Salvador Huixcolotla",null,null,null,null,null,null,null,null,null,null,null,null,null,null,null,null,30,"San Andrés Tuxtla"]
[null,null,null,null,null,null,null,null,null,null,null,null,null,null,null,null,null,null,null,null,null,null,null,null,null,null,null,null,null,null,null,null,null,null,null,null,null,null,null,null,null,20,"San Francisco Jaltepetongo",21,"San Sebastián Tlacotepec",null,null,null,null,null,null,null,null,null,null,null,null,null,null,null,null,30,"San Juan Evangelista"]
[null,null,null,null,null,null,null,null,null,null,null,null,null,null,null,null,null,null,null,null,null,null,null,null,null,null,null,null,null,null,null,null,null,null,null,null,null,null,null,null,null,20,"San Francisco Lachigoló",21,"Santa Catarina Tlaltempan",null,null,null,null,null,null,null,null,null,null,null,null,null,null,null,null,30,"San Rafael"]
[null,null,null,null,null,null,null,null,null,null,null,null,null,null,null,null,null,null,null,null,null,null,null,null,null,null,null,null,null,null,null,null,null,null,null,null,null,null,null,null,null,20,"San Francisco Logueche",21,"Santa Inés Ahuatempan",null,null,null,null,null,null,null,null,null,null,null,null,null,null,null,null,30,"Santiago Sochiapan"]
[null,null,null,null,null,null,null,null,null,null,null,null,null,null,null,null,null,null,null,null,null,null,null,null,null,null,null,null,null,null,null,null,null,null,null,null,null,null,null,null,null,20,"San Francisco Nuxaño",21,"Santa Isabel Cholula",null,null,null,null,null,null,null,null,null,null,null,null,null,null,null,null,30,"Santiago Tuxtla"]
[null,null,null,null,null,null,null,null,null,null,null,null,null,null,null,null,null,null,null,null,null,null,null,null,null,null,null,null,null,null,null,null,null,null,null,null,null,null,null,null,null,20,"San Francisco Ozolotepec",21,"Santiago Miahuatlán",null,null,null,null,null,null,null,null,null,null,null,null,null,null,null,null,30,"Sayula de Alemán"]
[null,null,null,null,null,null,null,null,null,null,null,null,null,null,null,null,null,null,null,null,null,null,null,null,null,null,null,null,null,null,null,null,null,null,null,null,null,null,null,null,null,20,"San Francisco Sola",21,"Santo Tomás Hueyotlipan",null,null,null,null,null,null,null,null,null,null,null,null,null,null,null,null,30,"Sochiapa"]
[null,null,null,null,null,null,null,null,null,null,null,null,null,null,null,null,null,null,null,null,null,null,null,null,null,null,null,null,null,null,null,null,null,null,null,null,null,null,null,null,null,20,"San Francisco Telixtlahuaca",21,"Soltepec",null,null,null,null,null,null,null,null,null,null,null,null,null,null,null,null,30,"Soconusco"]
[null,null,null,null,null,null,null,null,null,null,null,null,null,null,null,null,null,null,null,null,null,null,null,null,null,null,null,null,null,null,null,null,null,null,null,null,null,null,null,null,null,20,"San Francisco Teopan",21,"Tecali de Herrera",null,null,null,null,null,null,null,null,null,null,null,null,null,null,null,null,30,"Soledad Atzompa"]
[null,null,null,null,null,null,null,null,null,null,null,null,null,null,null,null,null,null,null,null,null,null,null,null,null,null,null,null,null,null,null,null,null,null,null,null,null,null,null,null,null,20,"San Francisco Tlapancingo",21,"Tecamachalco",null,null,null,null,null,null,null,null,null,null,null,null,null,null,null,null,30,"Soledad de Doblado"]
[null,null,null,null,null,null,null,null,null,null,null,null,null,null,null,null,null,null,null,null,null,null,null,null,null,null,null,null,null,null,null,null,null,null,null,null,null,null,null,null,null,20,"San Gabriel Mixtepec",21,"Tecomatlán",null,null,null,null,null,null,null,null,null,null,null,null,null,null,null,null,30,"Soteapan"]
[null,null,null,null,null,null,null,null,null,null,null,null,null,null,null,null,null,null,null,null,null,null,null,null,null,null,null,null,null,null,null,null,null,null,null,null,null,null,null,null,null,20,"San Ildefonso Amatlán",21,"Tehuacán",null,null,null,null,null,null,null,null,null,null,null,null,null,null,null,null,30,"Tamalín"]
[null,null,null,null,null,null,null,null,null,null,null,null,null,null,null,null,null,null,null,null,null,null,null,null,null,null,null,null,null,null,null,null,null,null,null,null,null,null,null,null,null,20,"San Ildefonso Sola",21,"Tehuitzingo",null,null,null,null,null,null,null,null,null,null,null,null,null,null,null,null,30,"Tamiahua"]
[null,null,null,null,null,null,null,null,null,null,null,null,null,null,null,null,null,null,null,null,null,null,null,null,null,null,null,null,null,null,null,null,null,null,null,null,null,null,null,null,null,20,"San Ildefonso Villa Alta",21,"Tenampulco",null,null,null,null,null,null,null,null,null,null,null,null,null,null,null,null,30,"Tampico Alto"]
[null,null,null,null,null,null,null,null,null,null,null,null,null,null,null,null,null,null,null,null,null,null,null,null,null,null,null,null,null,null,null,null,null,null,null,null,null,null,null,null,null,20,"San Jacinto Amilpas",21,"Teopantlán",null,null,null,null,null,null,null,null,null,null,null,null,null,null,null,null,30,"Tancoco"]
[null,null,null,null,null,null,null,null,null,null,null,null,null,null,null,null,null,null,null,null,null,null,null,null,null,null,null,null,null,null,null,null,null,null,null,null,null,null,null,null,null,20,"San Jacinto Tlacotepec",21,"Teotlalco",null,null,null,null,null,null,null,null,null,null,null,null,null,null,null,null,30,"Tantima"]
[null,null,null,null,null,null,null,null,null,null,null,null,null,null,null,null,null,null,null,null,null,null,null,null,null,null,null,null,null,null,null,null,null,null,null,null,null,null,null,null,null,20,"San Jerónimo Coatlán",21,"Tepanco de López",null,null,null,null,null,null,null,null,null,null,null,null,null,null,null,null,30,"Tantoyuca"]
[null,null,null,null,null,null,null,null,null,null,null,null,null,null,null,null,null,null,null,null,null,null,null,null,null,null,null,null,null,null,null,null,null,null,null,null,null,null,null,null,null,20,"San Jerónimo Silacayoapilla",21,"Tepango de Rodríguez",null,null,null,null,null,null,null,null,null,null,null,null,null,null,null,null,30,"Tatahuicapan de Juárez"]
[null,null,null,null,null,null,null,null,null,null,null,null,null,null,null,null,null,null,null,null,null,null,null,null,null,null,null,null,null,null,null,null,null,null,null,null,null,null,null,null,null,20,"San Jerónimo Sosola",21,"Tepatlaxco de Hidalgo",null,null,null,null,null,null,null,null,null,null,null,null,null,null,null,null,30,"Tatatila"]
[null,null,null,null,null,null,null,null,null,null,null,null,null,null,null,null,null,null,null,null,null,null,null,null,null,null,null,null,null,null,null,null,null,null,null,null,null,null,null,null,null,20,"San Jerónimo Taviche",21,"Tepeaca",null,null,null,null,null,null,null,null,null,null,null,null,null,null,null,null,30,"Tecolutla"]
[null,null,null,null,null,null,null,null,null,null,null,null,null,null,null,null,null,null,null,null,null,null,null,null,null,null,null,null,null,null,null,null,null,null,null,null,null,null,null,null,null,20,"San Jerónimo Tecóatl",21,"Tepemaxalco",null,null,null,null,null,null,null,null,null,null,null,null,null,null,null,null,30,"Tehuipango"]
[null,null,null,null,null,null,null,null,null,null,null,null,null,null,null,null,null,null,null,null,null,null,null,null,null,null,null,null,null,null,null,null,null,null,null,null,null,null,null,null,null,20,"San Jerónimo Tlacochahuaya",21,"Tepeojuma",null,null,null,null,null,null,null,null,null,null,null,null,null,null,null,null,30,"Tempoal"]
[null,null,null,null,null,null,null,null,null,null,null,null,null,null,null,null,null,null,null,null,null,null,null,null,null,null,null,null,null,null,null,null,null,null,null,null,null,null,null,null,null,20,"San Jorge Nuchita",21,"Tepetzintla",null,null,null,null,null,null,null,null,null,null,null,null,null,null,null,null,30,"Tenampa"]
[null,null,null,null,null,null,null,null,null,null,null,null,null,null,null,null,null,null,null,null,null,null,null,null,null,null,null,null,null,null,null,null,null,null,null,null,null,null,null,null,null,20,"San José Ayuquila",21,"Tepexco",null,null,null,null,null,null,null,null,null,null,null,null,null,null,null,null,30,"Tenochtitlán"]
[null,null,null,null,null,null,null,null,null,null,null,null,null,null,null,null,null,null,null,null,null,null,null,null,null,null,null,null,null,null,null,null,null,null,null,null,null,null,null,null,null,20,"San José Chiltepec",21,"Tepexi de Rodríguez",null,null,null,null,null,null,null,null,null,null,null,null,null,null,null,null,30,"Teocelo"]
[null,null,null,null,null,null,null,null,null,null,null,null,null,null,null,null,null,null,null,null,null,null,null,null,null,null,null,null,null,null,null,null,null,null,null,null,null,null,null,null,null,20,"San José del Peñasco",21,"Tepeyahualco",null,null,null,null,null,null,null,null,null,null,null,null,null,null,null,null,30,"Tepatlaxco"]
[null,null,null,null,null,null,null,null,null,null,null,null,null,null,null,null,null,null,null,null,null,null,null,null,null,null,null,null,null,null,null,null,null,null,null,null,null,null,null,null,null,20,"San José del Progreso",21,"Tepeyahualco de Cuauhtémoc",null,null,null,null,null,null,null,null,null,null,null,null,null,null,null,null,30,"Tepetlán"]
[null,null,null,null,null,null,null,null,null,null,null,null,null,null,null,null,null,null,null,null,null,null,null,null,null,null,null,null,null,null,null,null,null,null,null,null,null,null,null,null,null,20,"San José Estancia Grande",21,"Tetela de Ocampo",null,null,null,null,null,null,null,null,null,null,null,null,null,null,null,null,30,"Tepetzintla"]
[null,null,null,null,null,null,null,null,null,null,null,null,null,null,null,null,null,null,null,null,null,null,null,null,null,null,null,null,null,null,null,null,null,null,null,null,null,null,null,null,null,20,"San José Independencia",21,"Teteles de Avila Castillo",null,null,null,null,null,null,null,null,null,null,null,null,null,null,null,null,30,"Tequila"]
[null,null,null,null,null,null,null,null,null,null,null,null,null,null,null,null,null,null,null,null,null,null,null,null,null,null,null,null,null,null,null,null,null,null,null,null,null,null,null,null,null,20,"San José Lachiguiri",21,"Teziutlán",null,null,null,null,null,null,null,null,null,null,null,null,null,null,null,null,30,"Texcatepec"]
[null,null,null,null,null,null,null,null,null,null,null,null,null,null,null,null,null,null,null,null,null,null,null,null,null,null,null,null,null,null,null,null,null,null,null,null,null,null,null,null,null,20,"San José Tenango",21,"Tianguismanalco",null,null,null,null,null,null,null,null,null,null,null,null,null,null,null,null,30,"Texhuacán"]
[null,null,null,null,null,null,null,null,null,null,null,null,null,null,null,null,null,null,null,null,null,null,null,null,null,null,null,null,null,null,null,null,null,null,null,null,null,null,null,null,null,20,"San Juan Achiutla",21,"Tilapa",null,null,null,null,null,null,null,null,null,null,null,null,null,null,null,null,30,"Texistepec"]
[null,null,null,null,null,null,null,null,null,null,null,null,null,null,null,null,null,null,null,null,null,null,null,null,null,null,null,null,null,null,null,null,null,null,null,null,null,null,null,null,null,20,"San Juan Atepec",21,"Tlachichuca",null,null,null,null,null,null,null,null,null,null,null,null,null,null,null,null,30,"Tezonapa"]
[null,null,null,null,null,null,null,null,null,null,null,null,null,null,null,null,null,null,null,null,null,null,null,null,null,null,null,null,null,null,null,null,null,null,null,null,null,null,null,null,null,20,"San Juan Bautista Atatlahuca",21,"Tlacotepec de Benito Juárez",null,null,null,null,null,null,null,null,null,null,null,null,null,null,null,null,30,"Tierra Blanca"]
[null,null,null,null,null,null,null,null,null,null,null,null,null,null,null,null,null,null,null,null,null,null,null,null,null,null,null,null,null,null,null,null,null,null,null,null,null,null,null,null,null,20,"San Juan Bautista Coixtlahuaca",21,"Tlacuilotepec",null,null,null,null,null,null,null,null,null,null,null,null,null,null,null,null,30,"Tihuatlán"]
[null,null,null,null,null,null,null,null,null,null,null,null,null,null,null,null,null,null,null,null,null,null,null,null,null,null,null,null,null,null,null,null,null,null,null,null,null,null,null,null,null,20,"San Juan Bautista Cuicatlán",21,"Tlahuapan",null,null,null,null,null,null,null,null,null,null,null,null,null,null,null,null,30,"Tlachichilco"]
[null,null,null,null,null,null,null,null,null,null,null,null,null,null,null,null,null,null,null,null,null,null,null,null,null,null,null,null,null,null,null,null,null,null,null,null,null,null,null,null,null,20,"San Juan Bautista Guelache",21,"Tlaltenango",null,null,null,null,null,null,null,null,null,null,null,null,null,null,null,null,30,"Tlacojalpan"]
[null,null,null,null,null,null,null,null,null,null,null,null,null,null,null,null,null,null,null,null,null,null,null,null,null,null,null,null,null,null,null,null,null,null,null,null,null,null,null,null,null,20,"San Juan Bautista Jayacatlán",21,"Tlanepantla",null,null,null,null,null,null,null,null,null,null,null,null,null,null,null,null,30,"Tlacolulan"]
[null,null,null,null,null,null,null,null,null,null,null,null,null,null,null,null,null,null,null,null,null,null,null,null,null,null,null,null,null,null,null,null,null,null,null,null,null,null,null,null,null,20,"San Juan Bautista Lo de Soto",21,"Tlaola",null,null,null,null,null,null,null,null,null,null,null,null,null,null,null,null,30,"Tlacotalpan"]
[null,null,null,null,null,null,null,null,null,null,null,null,null,null,null,null,null,null,null,null,null,null,null,null,null,null,null,null,null,null,null,null,null,null,null,null,null,null,null,null,null,20,"San Juan Bautista Suchitepec",21,"Tlapacoya",null,null,null,null,null,null,null,null,null,null,null,null,null,null,null,null,30,"Tlacotepec de Mejía"]
[null,null,null,null,null,null,null,null,null,null,null,null,null,null,null,null,null,null,null,null,null,null,null,null,null,null,null,null,null,null,null,null,null,null,null,null,null,null,null,null,null,20,"San Juan Bautista Tlachichilco",21,"Tlapanalá",null,null,null,null,null,null,null,null,null,null,null,null,null,null,null,null,30,"Tlalixcoyan"]
[null,null,null,null,null,null,null,null,null,null,null,null,null,null,null,null,null,null,null,null,null,null,null,null,null,null,null,null,null,null,null,null,null,null,null,null,null,null,null,null,null,20,"San Juan Bautista Tlacoatzintepec",21,"Tlatlauquitepec",null,null,null,null,null,null,null,null,null,null,null,null,null,null,null,null,30,"Tlalnelhuayocan"]
[null,null,null,null,null,null,null,null,null,null,null,null,null,null,null,null,null,null,null,null,null,null,null,null,null,null,null,null,null,null,null,null,null,null,null,null,null,null,null,null,null,20,"San Juan Bautista Tuxtepec",21,"Tlaxco",null,null,null,null,null,null,null,null,null,null,null,null,null,null,null,null,30,"Tlaltetela"]
[null,null,null,null,null,null,null,null,null,null,null,null,null,null,null,null,null,null,null,null,null,null,null,null,null,null,null,null,null,null,null,null,null,null,null,null,null,null,null,null,null,20,"San Juan Bautista Valle Nacional",21,"Tochimilco",null,null,null,null,null,null,null,null,null,null,null,null,null,null,null,null,30,"Tlapacoyan"]
[null,null,null,null,null,null,null,null,null,null,null,null,null,null,null,null,null,null,null,null,null,null,null,null,null,null,null,null,null,null,null,null,null,null,null,null,null,null,null,null,null,20,"San Juan Cacahuatepec",21,"Tochtepec",null,null,null,null,null,null,null,null,null,null,null,null,null,null,null,null,30,"Tlaquilpa"]
[null,null,null,null,null,null,null,null,null,null,null,null,null,null,null,null,null,null,null,null,null,null,null,null,null,null,null,null,null,null,null,null,null,null,null,null,null,null,null,null,null,20,"San Juan Chicomezúchil",21,"Totoltepec de Guerrero",null,null,null,null,null,null,null,null,null,null,null,null,null,null,null,null,30,"Tlilapan"]
[null,null,null,null,null,null,null,null,null,null,null,null,null,null,null,null,null,null,null,null,null,null,null,null,null,null,null,null,null,null,null,null,null,null,null,null,null,null,null,null,null,20,"San Juan Chilateca",21,"Tulcingo",null,null,null,null,null,null,null,null,null,null,null,null,null,null,null,null,30,"Tomatlán"]
[null,null,null,null,null,null,null,null,null,null,null,null,null,null,null,null,null,null,null,null,null,null,null,null,null,null,null,null,null,null,null,null,null,null,null,null,null,null,null,null,null,20,"San Juan Cieneguilla",21,"Tuzamapan de Galeana",null,null,null,null,null,null,null,null,null,null,null,null,null,null,null,null,30,"Tonayán"]
[null,null,null,null,null,null,null,null,null,null,null,null,null,null,null,null,null,null,null,null,null,null,null,null,null,null,null,null,null,null,null,null,null,null,null,null,null,null,null,null,null,20,"San Juan Coatzóspam",21,"Tzicatlacoyan",null,null,null,null,null,null,null,null,null,null,null,null,null,null,null,null,30,"Totutla"]
[null,null,null,null,null,null,null,null,null,null,null,null,null,null,null,null,null,null,null,null,null,null,null,null,null,null,null,null,null,null,null,null,null,null,null,null,null,null,null,null,null,20,"San Juan Colorado",21,"Venustiano Carranza",null,null,null,null,null,null,null,null,null,null,null,null,null,null,null,null,30,"Tres Valles"]
[null,null,null,null,null,null,null,null,null,null,null,null,null,null,null,null,null,null,null,null,null,null,null,null,null,null,null,null,null,null,null,null,null,null,null,null,null,null,null,null,null,20,"San Juan Comaltepec",21,"Vicente Guerrero",null,null,null,null,null,null,null,null,null,null,null,null,null,null,null,null,30,"Tuxpan"]
[null,null,null,null,null,null,null,null,null,null,null,null,null,null,null,null,null,null,null,null,null,null,null,null,null,null,null,null,null,null,null,null,null,null,null,null,null,null,null,null,null,20,"San Juan Cotzocón",21,"Xayacatlán de Bravo",null,null,null,null,null,null,null,null,null,null,null,null,null,null,null,null,30,"Tuxtilla"]
[null,null,null,null,null,null,null,null,null,null,null,null,null,null,null,null,null,null,null,null,null,null,null,null,null,null,null,null,null,null,null,null,null,null,null,null,null,null,null,null,null,20,"San Juan de los Cués",21,"Xicotepec",null,null,null,null,null,null,null,null,null,null,null,null,null,null,null,null,30,"Ursulo Galván"]
[null,null,null,null,null,null,null,null,null,null,null,null,null,null,null,null,null,null,null,null,null,null,null,null,null,null,null,null,null,null,null,null,null,null,null,null,null,null,null,null,null,20,"San Juan del Estado",21,"Xicotlán",null,null,null,null,null,null,null,null,null,null,null,null,null,null,null,null,30,"Uxpanapa"]
[null,null,null,null,null,null,null,null,null,null,null,null,null,null,null,null,null,null,null,null,null,null,null,null,null,null,null,null,null,null,null,null,null,null,null,null,null,null,null,null,null,20,"San Juan del Río",21,"Xiutetelco",null,null,null,null,null,null,null,null,null,null,null,null,null,null,null,null,30,"Vega de Alatorre"]
[null,null,null,null,null,null,null,null,null,null,null,null,null,null,null,null,null,null,null,null,null,null,null,null,null,null,null,null,null,null,null,null,null,null,null,null,null,null,null,null,null,20,"San Juan Diuxi",21,"Xochiapulco",null,null,null,null,null,null,null,null,null,null,null,null,null,null,null,null,30,"Veracruz"]
[null,null,null,null,null,null,null,null,null,null,null,null,null,null,null,null,null,null,null,null,null,null,null,null,null,null,null,null,null,null,null,null,null,null,null,null,null,null,null,null,null,20,"San Juan Evangelista Analco",21,"Xochiltepec",null,null,null,null,null,null,null,null,null,null,null,null,null,null,null,null,30,"Villa Aldama"]
[null,null,null,null,null,null,null,null,null,null,null,null,null,null,null,null,null,null,null,null,null,null,null,null,null,null,null,null,null,null,null,null,null,null,null,null,null,null,null,null,null,20,"San Juan Guelavía",21,"Xochitlán de Vicente Suárez",null,null,null,null,null,null,null,null,null,null,null,null,null,null,null,null,30,"Xalapa"]
[null,null,null,null,null,null,null,null,null,null,null,null,null,null,null,null,null,null,null,null,null,null,null,null,null,null,null,null,null,null,null,null,null,null,null,null,null,null,null,null,null,20,"San Juan Guichicovi",21,"Xochitlán Todos Santos",null,null,null,null,null,null,null,null,null,null,null,null,null,null,null,null,30,"Xico"]
[null,null,null,null,null,null,null,null,null,null,null,null,null,null,null,null,null,null,null,null,null,null,null,null,null,null,null,null,null,null,null,null,null,null,null,null,null,null,null,null,null,20,"San Juan Ihualtepec",21,"Yaonáhuac",null,null,null,null,null,null,null,null,null,null,null,null,null,null,null,null,30,"Xoxocotla"]
[null,null,null,null,null,null,null,null,null,null,null,null,null,null,null,null,null,null,null,null,null,null,null,null,null,null,null,null,null,null,null,null,null,null,null,null,null,null,null,null,null,20,"San Juan Juquila Mixes",21,"Yehualtepec",null,null,null,null,null,null,null,null,null,null,null,null,null,null,null,null,30,"Yanga"]
[null,null,null,null,null,null,null,null,null,null,null,null,null,null,null,null,null,null,null,null,null,null,null,null,null,null,null,null,null,null,null,null,null,null,null,null,null,null,null,null,null,20,"San Juan Juquila Vijanos",21,"Zacapala",null,null,null,null,null,null,null,null,null,null,null,null,null,null,null,null,30,"Yecuatla"]
[null,null,null,null,null,null,null,null,null,null,null,null,null,null,null,null,null,null,null,null,null,null,null,null,null,null,null,null,null,null,null,null,null,null,null,null,null,null,null,null,null,20,"San Juan Lachao",21,"Zacapoaxtla",null,null,null,null,null,null,null,null,null,null,null,null,null,null,null,null,30,"Zacualpan"]
[null,null,null,null,null,null,null,null,null,null,null,null,null,null,null,null,null,null,null,null,null,null,null,null,null,null,null,null,null,null,null,null,null,null,null,null,null,null,null,null,null,20,"San Juan Lachigalla",21,"Zacatlán",null,null,null,null,null,null,null,null,null,null,null,null,null,null,null,null,30,"Zaragoza"]
[null,null,null,null,null,null,null,null,null,null,null,null,null,null,null,null,null,null,null,null,null,null,null,null,null,null,null,null,null,null,null,null,null,null,null,null,null,null,null,null,null,20,"San Juan Lajarcia",21,"Zapotitlán",null,null,null,null,null,null,null,null,null,null,null,null,null,null,null,null,30,"Zentla"]
[null,null,null,null,null,null,null,null,null,null,null,null,null,null,null,null,null,null,null,null,null,null,null,null,null,null,null,null,null,null,null,null,null,null,null,null,null,null,null,null,null,20,"San Juan Lalana",21,"Zapotitlán de Méndez",null,null,null,null,null,null,null,null,null,null,null,null,null,null,null,null,30,"Zongolica"]
[null,null,null,null,null,null,null,null,null,null,null,null,null,null,null,null,null,null,null,null,null,null,null,null,null,null,null,null,null,null,null,null,null,null,null,null,null,null,null,null,null,20,"San Juan Mazatlán",21,"Zaragoza",null,null,null,null,null,null,null,null,null,null,null,null,null,null,null,null,30,"Zontecomatlán de López y Fuentes"]
[null,null,null,null,null,null,null,null,null,null,null,null,null,null,null,null,null,null,null,null,null,null,null,null,null,null,null,null,null,null,null,null,null,null,null,null,null,null,null,null,null,20,"San Juan Mixtepec -Dto. 08 -",21,"Zautla",null,null,null,null,null,null,null,null,null,null,null,null,null,null,null,null,30,"Zozocolco de Hidalgo"]
[null,null,null,null,null,null,null,null,null,null,null,null,null,null,null,null,null,null,null,null,null,null,null,null,null,null,null,null,null,null,null,null,null,null,null,null,null,null,null,null,null,20,"San Juan Mixtepec -Dto. 26 -",21,"Zihuateutla"]
[null,null,null,null,null,null,null,null,null,null,null,null,null,null,null,null,null,null,null,null,null,null,null,null,null,null,null,null,null,null,null,null,null,null,null,null,null,null,null,null,null,20,"San Juan Ñumí",21,"Zinacatepec"]
[null,null,null,null,null,null,null,null,null,null,null,null,null,null,null,null,null,null,null,null,null,null,null,null,null,null,null,null,null,null,null,null,null,null,null,null,null,null,null,null,null,20,"San Juan Ozolotepec",21,"Zongozotla"]
[null,null,null,null,null,null,null,null,null,null,null,null,null,null,null,null,null,null,null,null,null,null,null,null,null,null,null,null,null,null,null,null,null,null,null,null,null,null,null,null,null,20,"San Juan Petlapa",21,"Zoquiapan"]
[null,null,null,null,null,null,null,null,null,null,null,null,null,null,null,null,null,null,null,null,null,null,null,null,null,null,null,null,null,null,null,null,null,null,null,null,null,null,null,null,null,20,"San Juan Quiahije",21,"Zoquitlán"]
[null,null,null,null,null,null,null,null,null,null,null,null,null,null,null,null,null,null,null,null,null,null,null,null,null,null,null,null,null,null,null,null,null,null,null,null,null,null,null,null,null,20,"San Juan Quiotepec"]
[null,null,null,null,null,null,null,null,null,null,null,null,null,null,null,null,null,null,null,null,null,null,null,null,null,null,null,null,null,null,null,null,null,null,null,null,null,null,null,null,null,20,"San Juan Sayultepec"]
[null,null,null,null,null,null,null,null,null,null,null,null,null,null,null,null,null,null,null,null,null,null,null,null,null,null,null,null,null,null,null,null,null,null,null,null,null,null,null,null,null,20,"San Juan Tabaá"]
[null,null,null,null,null,null,null,null,null,null,null,null,null,null,null,null,null,null,null,null,null,null,null,null,null,null,null,null,null,null,null,null,null,null,null,null,null,null,null,null,null,20,"San Juan Tamazola"]
[null,null,null,null,null,null,null,null,null,null,null,null,null,null,null,null,null,null,null,null,null,null,null,null,null,null,null,null,null,null,null,null,null,null,null,null,null,null,null,null,null,20,"San Juan Teita"]
[null,null,null,null,null,null,null,null,null,null,null,null,null,null,null,null,null,null,null,null,null,null,null,null,null,null,null,null,null,null,null,null,null,null,null,null,null,null,null,null,null,20,"San Juan Teitipac"]
[null,null,null,null,null,null,null,null,null,null,null,null,null,null,null,null,null,null,null,null,null,null,null,null,null,null,null,null,null,null,null,null,null,null,null,null,null,null,null,null,null,20,"San Juan Tepeuxila"]
[null,null,null,null,null,null,null,null,null,null,null,null,null,null,null,null,null,null,null,null,null,null,null,null,null,null,null,null,null,null,null,null,null,null,null,null,null,null,null,null,null,20,"San Juan Teposcolula"]
[null,null,null,null,null,null,null,null,null,null,null,null,null,null,null,null,null,null,null,null,null,null,null,null,null,null,null,null,null,null,null,null,null,null,null,null,null,null,null,null,null,20,"San Juan Yaeé"]
[null,null,null,null,null,null,null,null,null,null,null,null,null,null,null,null,null,null,null,null,null,null,null,null,null,null,null,null,null,null,null,null,null,null,null,null,null,null,null,null,null,20,"San Juan Yatzona"]
[null,null,null,null,null,null,null,null,null,null,null,null,null,null,null,null,null,null,null,null,null,null,null,null,null,null,null,null,null,null,null,null,null,null,null,null,null,null,null,null,null,20,"San Juan Yucuita"]
[null,null,null,null,null,null,null,null,null,null,null,null,null,null,null,null,null,null,null,null,null,null,null,null,null,null,null,null,null,null,null,null,null,null,null,null,null,null,null,null,null,20,"San Lorenzo"]
[null,null,null,null,null,null,null,null,null,null,null,null,null,null,null,null,null,null,null,null,null,null,null,null,null,null,null,null,null,null,null,null,null,null,null,null,null,null,null,null,null,20,"San Lorenzo Albarradas"]
[null,null,null,null,null,null,null,null,null,null,null,null,null,null,null,null,null,null,null,null,null,null,null,null,null,null,null,null,null,null,null,null,null,null,null,null,null,null,null,null,null,20,"San Lorenzo Cacaotepec"]
[null,null,null,null,null,null,null,null,null,null,null,null,null,null,null,null,null,null,null,null,null,null,null,null,null,null,null,null,null,null,null,null,null,null,null,null,null,null,null,null,null,20,"San Lorenzo Cuaunecuiltitla"]
[null,null,null,null,null,null,null,null,null,null,null,null,null,null,null,null,null,null,null,null,null,null,null,null,null,null,null,null,null,null,null,null,null,null,null,null,null,null,null,null,null,20,"San Lorenzo Texmelúcan"]
[null,null,null,null,null,null,null,null,null,null,null,null,null,null,null,null,null,null,null,null,null,null,null,null,null,null,null,null,null,null,null,null,null,null,null,null,null,null,null,null,null,20,"San Lorenzo Victoria"]
[null,null,null,null,null,null,null,null,null,null,null,null,null,null,null,null,null,null,null,null,null,null,null,null,null,null,null,null,null,null,null,null,null,null,null,null,null,null,null,null,null,20,"San Lucas Camotlán"]
[null,null,null,null,null,null,null,null,null,null,null,null,null,null,null,null,null,null,null,null,null,null,null,null,null,null,null,null,null,null,null,null,null,null,null,null,null,null,null,null,null,20,"San Lucas Ojitlán"]
[null,null,null,null,null,null,null,null,null,null,null,null,null,null,null,null,null,null,null,null,null,null,null,null,null,null,null,null,null,null,null,null,null,null,null,null,null,null,null,null,null,20,"San Lucas Quiaviní"]
[null,null,null,null,null,null,null,null,null,null,null,null,null,null,null,null,null,null,null,null,null,null,null,null,null,null,null,null,null,null,null,null,null,null,null,null,null,null,null,null,null,20,"San Lucas Zoquiápam"]
[null,null,null,null,null,null,null,null,null,null,null,null,null,null,null,null,null,null,null,null,null,null,null,null,null,null,null,null,null,null,null,null,null,null,null,null,null,null,null,null,null,20,"San Luis Amatlán"]
[null,null,null,null,null,null,null,null,null,null,null,null,null,null,null,null,null,null,null,null,null,null,null,null,null,null,null,null,null,null,null,null,null,null,null,null,null,null,null,null,null,20,"San Marcial Ozolotepec"]
[null,null,null,null,null,null,null,null,null,null,null,null,null,null,null,null,null,null,null,null,null,null,null,null,null,null,null,null,null,null,null,null,null,null,null,null,null,null,null,null,null,20,"San Marcos Arteaga"]
[null,null,null,null,null,null,null,null,null,null,null,null,null,null,null,null,null,null,null,null,null,null,null,null,null,null,null,null,null,null,null,null,null,null,null,null,null,null,null,null,null,20,"San Martín de los Cansecos"]
[null,null,null,null,null,null,null,null,null,null,null,null,null,null,null,null,null,null,null,null,null,null,null,null,null,null,null,null,null,null,null,null,null,null,null,null,null,null,null,null,null,20,"San Martín Huamelúlpam"]
[null,null,null,null,null,null,null,null,null,null,null,null,null,null,null,null,null,null,null,null,null,null,null,null,null,null,null,null,null,null,null,null,null,null,null,null,null,null,null,null,null,20,"San Martín Itunyoso"]
[null,null,null,null,null,null,null,null,null,null,null,null,null,null,null,null,null,null,null,null,null,null,null,null,null,null,null,null,null,null,null,null,null,null,null,null,null,null,null,null,null,20,"San Martín Lachilá"]
[null,null,null,null,null,null,null,null,null,null,null,null,null,null,null,null,null,null,null,null,null,null,null,null,null,null,null,null,null,null,null,null,null,null,null,null,null,null,null,null,null,20,"San Martín Peras"]
[null,null,null,null,null,null,null,null,null,null,null,null,null,null,null,null,null,null,null,null,null,null,null,null,null,null,null,null,null,null,null,null,null,null,null,null,null,null,null,null,null,20,"San Martín Tilcajete"]
[null,null,null,null,null,null,null,null,null,null,null,null,null,null,null,null,null,null,null,null,null,null,null,null,null,null,null,null,null,null,null,null,null,null,null,null,null,null,null,null,null,20,"San Martín Toxpalan"]
[null,null,null,null,null,null,null,null,null,null,null,null,null,null,null,null,null,null,null,null,null,null,null,null,null,null,null,null,null,null,null,null,null,null,null,null,null,null,null,null,null,20,"San Martín Zacatepec"]
[null,null,null,null,null,null,null,null,null,null,null,null,null,null,null,null,null,null,null,null,null,null,null,null,null,null,null,null,null,null,null,null,null,null,null,null,null,null,null,null,null,20,"San Mateo Cajonos"]
[null,null,null,null,null,null,null,null,null,null,null,null,null,null,null,null,null,null,null,null,null,null,null,null,null,null,null,null,null,null,null,null,null,null,null,null,null,null,null,null,null,20,"San Mateo del Mar"]
[null,null,null,null,null,null,null,null,null,null,null,null,null,null,null,null,null,null,null,null,null,null,null,null,null,null,null,null,null,null,null,null,null,null,null,null,null,null,null,null,null,20,"San Mateo Etlatongo"]
[null,null,null,null,null,null,null,null,null,null,null,null,null,null,null,null,null,null,null,null,null,null,null,null,null,null,null,null,null,null,null,null,null,null,null,null,null,null,null,null,null,20,"San Mateo Nejápam"]
[null,null,null,null,null,null,null,null,null,null,null,null,null,null,null,null,null,null,null,null,null,null,null,null,null,null,null,null,null,null,null,null,null,null,null,null,null,null,null,null,null,20,"San Mateo Peñasco"]
[null,null,null,null,null,null,null,null,null,null,null,null,null,null,null,null,null,null,null,null,null,null,null,null,null,null,null,null,null,null,null,null,null,null,null,null,null,null,null,null,null,20,"San Mateo Piñas"]
[null,null,null,null,null,null,null,null,null,null,null,null,null,null,null,null,null,null,null,null,null,null,null,null,null,null,null,null,null,null,null,null,null,null,null,null,null,null,null,null,null,20,"San Mateo Río Hondo"]
[null,null,null,null,null,null,null,null,null,null,null,null,null,null,null,null,null,null,null,null,null,null,null,null,null,null,null,null,null,null,null,null,null,null,null,null,null,null,null,null,null,20,"San Mateo Sindihui"]
[null,null,null,null,null,null,null,null,null,null,null,null,null,null,null,null,null,null,null,null,null,null,null,null,null,null,null,null,null,null,null,null,null,null,null,null,null,null,null,null,null,20,"San Mateo Tlapiltepec"]
[null,null,null,null,null,null,null,null,null,null,null,null,null,null,null,null,null,null,null,null,null,null,null,null,null,null,null,null,null,null,null,null,null,null,null,null,null,null,null,null,null,20,"San Mateo Yoloxochitlán"]
[null,null,null,null,null,null,null,null,null,null,null,null,null,null,null,null,null,null,null,null,null,null,null,null,null,null,null,null,null,null,null,null,null,null,null,null,null,null,null,null,null,20,"San Mateo Yucutindó"]
[null,null,null,null,null,null,null,null,null,null,null,null,null,null,null,null,null,null,null,null,null,null,null,null,null,null,null,null,null,null,null,null,null,null,null,null,null,null,null,null,null,20,"San Melchor Betaza"]
[null,null,null,null,null,null,null,null,null,null,null,null,null,null,null,null,null,null,null,null,null,null,null,null,null,null,null,null,null,null,null,null,null,null,null,null,null,null,null,null,null,20,"San Miguel Achiutla"]
[null,null,null,null,null,null,null,null,null,null,null,null,null,null,null,null,null,null,null,null,null,null,null,null,null,null,null,null,null,null,null,null,null,null,null,null,null,null,null,null,null,20,"San Miguel Ahuehuetitlán"]
[null,null,null,null,null,null,null,null,null,null,null,null,null,null,null,null,null,null,null,null,null,null,null,null,null,null,null,null,null,null,null,null,null,null,null,null,null,null,null,null,null,20,"San Miguel Aloápam"]
[null,null,null,null,null,null,null,null,null,null,null,null,null,null,null,null,null,null,null,null,null,null,null,null,null,null,null,null,null,null,null,null,null,null,null,null,null,null,null,null,null,20,"San Miguel Amatitlán"]
[null,null,null,null,null,null,null,null,null,null,null,null,null,null,null,null,null,null,null,null,null,null,null,null,null,null,null,null,null,null,null,null,null,null,null,null,null,null,null,null,null,20,"San Miguel Amatlán"]
[null,null,null,null,null,null,null,null,null,null,null,null,null,null,null,null,null,null,null,null,null,null,null,null,null,null,null,null,null,null,null,null,null,null,null,null,null,null,null,null,null,20,"San Miguel Chicahua"]
[null,null,null,null,null,null,null,null,null,null,null,null,null,null,null,null,null,null,null,null,null,null,null,null,null,null,null,null,null,null,null,null,null,null,null,null,null,null,null,null,null,20,"San Miguel Chimalapa"]
[null,null,null,null,null,null,null,null,null,null,null,null,null,null,null,null,null,null,null,null,null,null,null,null,null,null,null,null,null,null,null,null,null,null,null,null,null,null,null,null,null,20,"San Miguel Coatlán"]
[null,null,null,null,null,null,null,null,null,null,null,null,null,null,null,null,null,null,null,null,null,null,null,null,null,null,null,null,null,null,null,null,null,null,null,null,null,null,null,null,null,20,"San Miguel del Puerto"]
[null,null,null,null,null,null,null,null,null,null,null,null,null,null,null,null,null,null,null,null,null,null,null,null,null,null,null,null,null,null,null,null,null,null,null,null,null,null,null,null,null,20,"San Miguel del Río"]
[null,null,null,null,null,null,null,null,null,null,null,null,null,null,null,null,null,null,null,null,null,null,null,null,null,null,null,null,null,null,null,null,null,null,null,null,null,null,null,null,null,20,"San Miguel Ejutla"]
[null,null,null,null,null,null,null,null,null,null,null,null,null,null,null,null,null,null,null,null,null,null,null,null,null,null,null,null,null,null,null,null,null,null,null,null,null,null,null,null,null,20,"San Miguel el Grande"]
[null,null,null,null,null,null,null,null,null,null,null,null,null,null,null,null,null,null,null,null,null,null,null,null,null,null,null,null,null,null,null,null,null,null,null,null,null,null,null,null,null,20,"San Miguel Huautla"]
[null,null,null,null,null,null,null,null,null,null,null,null,null,null,null,null,null,null,null,null,null,null,null,null,null,null,null,null,null,null,null,null,null,null,null,null,null,null,null,null,null,20,"San Miguel Mixtepec"]
[null,null,null,null,null,null,null,null,null,null,null,null,null,null,null,null,null,null,null,null,null,null,null,null,null,null,null,null,null,null,null,null,null,null,null,null,null,null,null,null,null,20,"San Miguel Panixtlahuaca"]
[null,null,null,null,null,null,null,null,null,null,null,null,null,null,null,null,null,null,null,null,null,null,null,null,null,null,null,null,null,null,null,null,null,null,null,null,null,null,null,null,null,20,"San Miguel Peras"]
[null,null,null,null,null,null,null,null,null,null,null,null,null,null,null,null,null,null,null,null,null,null,null,null,null,null,null,null,null,null,null,null,null,null,null,null,null,null,null,null,null,20,"San Miguel Piedras"]
[null,null,null,null,null,null,null,null,null,null,null,null,null,null,null,null,null,null,null,null,null,null,null,null,null,null,null,null,null,null,null,null,null,null,null,null,null,null,null,null,null,20,"San Miguel Quetzaltepec"]
[null,null,null,null,null,null,null,null,null,null,null,null,null,null,null,null,null,null,null,null,null,null,null,null,null,null,null,null,null,null,null,null,null,null,null,null,null,null,null,null,null,20,"San Miguel Santa Flor"]
[null,null,null,null,null,null,null,null,null,null,null,null,null,null,null,null,null,null,null,null,null,null,null,null,null,null,null,null,null,null,null,null,null,null,null,null,null,null,null,null,null,20,"San Miguel Soyaltepec"]
[null,null,null,null,null,null,null,null,null,null,null,null,null,null,null,null,null,null,null,null,null,null,null,null,null,null,null,null,null,null,null,null,null,null,null,null,null,null,null,null,null,20,"San Miguel Suchixtepec"]
[null,null,null,null,null,null,null,null,null,null,null,null,null,null,null,null,null,null,null,null,null,null,null,null,null,null,null,null,null,null,null,null,null,null,null,null,null,null,null,null,null,20,"San Miguel Tecomatlán"]
[null,null,null,null,null,null,null,null,null,null,null,null,null,null,null,null,null,null,null,null,null,null,null,null,null,null,null,null,null,null,null,null,null,null,null,null,null,null,null,null,null,20,"San Miguel Tenango"]
[null,null,null,null,null,null,null,null,null,null,null,null,null,null,null,null,null,null,null,null,null,null,null,null,null,null,null,null,null,null,null,null,null,null,null,null,null,null,null,null,null,20,"San Miguel Tequixtepec"]
[null,null,null,null,null,null,null,null,null,null,null,null,null,null,null,null,null,null,null,null,null,null,null,null,null,null,null,null,null,null,null,null,null,null,null,null,null,null,null,null,null,20,"San Miguel Tilquiápam"]
[null,null,null,null,null,null,null,null,null,null,null,null,null,null,null,null,null,null,null,null,null,null,null,null,null,null,null,null,null,null,null,null,null,null,null,null,null,null,null,null,null,20,"San Miguel Tlacamama"]
[null,null,null,null,null,null,null,null,null,null,null,null,null,null,null,null,null,null,null,null,null,null,null,null,null,null,null,null,null,null,null,null,null,null,null,null,null,null,null,null,null,20,"San Miguel Tlacotepec"]
[null,null,null,null,null,null,null,null,null,null,null,null,null,null,null,null,null,null,null,null,null,null,null,null,null,null,null,null,null,null,null,null,null,null,null,null,null,null,null,null,null,20,"San Miguel Tulancingo"]
[null,null,null,null,null,null,null,null,null,null,null,null,null,null,null,null,null,null,null,null,null,null,null,null,null,null,null,null,null,null,null,null,null,null,null,null,null,null,null,null,null,20,"San Miguel Yotao"]
[null,null,null,null,null,null,null,null,null,null,null,null,null,null,null,null,null,null,null,null,null,null,null,null,null,null,null,null,null,null,null,null,null,null,null,null,null,null,null,null,null,20,"San Nicolás"]
[null,null,null,null,null,null,null,null,null,null,null,null,null,null,null,null,null,null,null,null,null,null,null,null,null,null,null,null,null,null,null,null,null,null,null,null,null,null,null,null,null,20,"San Nicolás Hidalgo"]
[null,null,null,null,null,null,null,null,null,null,null,null,null,null,null,null,null,null,null,null,null,null,null,null,null,null,null,null,null,null,null,null,null,null,null,null,null,null,null,null,null,20,"San Pablo Coatlán"]
[null,null,null,null,null,null,null,null,null,null,null,null,null,null,null,null,null,null,null,null,null,null,null,null,null,null,null,null,null,null,null,null,null,null,null,null,null,null,null,null,null,20,"San Pablo Cuatro Venados"]
[null,null,null,null,null,null,null,null,null,null,null,null,null,null,null,null,null,null,null,null,null,null,null,null,null,null,null,null,null,null,null,null,null,null,null,null,null,null,null,null,null,20,"San Pablo Etla"]
[null,null,null,null,null,null,null,null,null,null,null,null,null,null,null,null,null,null,null,null,null,null,null,null,null,null,null,null,null,null,null,null,null,null,null,null,null,null,null,null,null,20,"San Pablo Huitzo"]
[null,null,null,null,null,null,null,null,null,null,null,null,null,null,null,null,null,null,null,null,null,null,null,null,null,null,null,null,null,null,null,null,null,null,null,null,null,null,null,null,null,20,"San Pablo Huixtepec"]
[null,null,null,null,null,null,null,null,null,null,null,null,null,null,null,null,null,null,null,null,null,null,null,null,null,null,null,null,null,null,null,null,null,null,null,null,null,null,null,null,null,20,"San Pablo Macuiltianguis"]
[null,null,null,null,null,null,null,null,null,null,null,null,null,null,null,null,null,null,null,null,null,null,null,null,null,null,null,null,null,null,null,null,null,null,null,null,null,null,null,null,null,20,"San Pablo Tijaltepec"]
[null,null,null,null,null,null,null,null,null,null,null,null,null,null,null,null,null,null,null,null,null,null,null,null,null,null,null,null,null,null,null,null,null,null,null,null,null,null,null,null,null,20,"San Pablo Villa de Mitla"]
[null,null,null,null,null,null,null,null,null,null,null,null,null,null,null,null,null,null,null,null,null,null,null,null,null,null,null,null,null,null,null,null,null,null,null,null,null,null,null,null,null,20,"San Pablo Yaganiza"]
[null,null,null,null,null,null,null,null,null,null,null,null,null,null,null,null,null,null,null,null,null,null,null,null,null,null,null,null,null,null,null,null,null,null,null,null,null,null,null,null,null,20,"San Pedro Amuzgos"]
[null,null,null,null,null,null,null,null,null,null,null,null,null,null,null,null,null,null,null,null,null,null,null,null,null,null,null,null,null,null,null,null,null,null,null,null,null,null,null,null,null,20,"San Pedro Apóstol"]
[null,null,null,null,null,null,null,null,null,null,null,null,null,null,null,null,null,null,null,null,null,null,null,null,null,null,null,null,null,null,null,null,null,null,null,null,null,null,null,null,null,20,"San Pedro Atoyac"]
[null,null,null,null,null,null,null,null,null,null,null,null,null,null,null,null,null,null,null,null,null,null,null,null,null,null,null,null,null,null,null,null,null,null,null,null,null,null,null,null,null,20,"San Pedro Cajonos"]
[null,null,null,null,null,null,null,null,null,null,null,null,null,null,null,null,null,null,null,null,null,null,null,null,null,null,null,null,null,null,null,null,null,null,null,null,null,null,null,null,null,20,"San Pedro Comitancillo"]
[null,null,null,null,null,null,null,null,null,null,null,null,null,null,null,null,null,null,null,null,null,null,null,null,null,null,null,null,null,null,null,null,null,null,null,null,null,null,null,null,null,20,"San Pedro Coxcaltepec Cántaros"]
[null,null,null,null,null,null,null,null,null,null,null,null,null,null,null,null,null,null,null,null,null,null,null,null,null,null,null,null,null,null,null,null,null,null,null,null,null,null,null,null,null,20,"San Pedro el Alto"]
[null,null,null,null,null,null,null,null,null,null,null,null,null,null,null,null,null,null,null,null,null,null,null,null,null,null,null,null,null,null,null,null,null,null,null,null,null,null,null,null,null,20,"San Pedro Huamelula"]
[null,null,null,null,null,null,null,null,null,null,null,null,null,null,null,null,null,null,null,null,null,null,null,null,null,null,null,null,null,null,null,null,null,null,null,null,null,null,null,null,null,20,"San Pedro Huilotepec"]
[null,null,null,null,null,null,null,null,null,null,null,null,null,null,null,null,null,null,null,null,null,null,null,null,null,null,null,null,null,null,null,null,null,null,null,null,null,null,null,null,null,20,"San Pedro Ixcatlán"]
[null,null,null,null,null,null,null,null,null,null,null,null,null,null,null,null,null,null,null,null,null,null,null,null,null,null,null,null,null,null,null,null,null,null,null,null,null,null,null,null,null,20,"San Pedro Ixtlahuaca"]
[null,null,null,null,null,null,null,null,null,null,null,null,null,null,null,null,null,null,null,null,null,null,null,null,null,null,null,null,null,null,null,null,null,null,null,null,null,null,null,null,null,20,"San Pedro Jaltepetongo"]
[null,null,null,null,null,null,null,null,null,null,null,null,null,null,null,null,null,null,null,null,null,null,null,null,null,null,null,null,null,null,null,null,null,null,null,null,null,null,null,null,null,20,"San Pedro Jicayán"]
[null,null,null,null,null,null,null,null,null,null,null,null,null,null,null,null,null,null,null,null,null,null,null,null,null,null,null,null,null,null,null,null,null,null,null,null,null,null,null,null,null,20,"San Pedro Jocotipac"]
[null,null,null,null,null,null,null,null,null,null,null,null,null,null,null,null,null,null,null,null,null,null,null,null,null,null,null,null,null,null,null,null,null,null,null,null,null,null,null,null,null,20,"San Pedro Juchatengo"]
[null,null,null,null,null,null,null,null,null,null,null,null,null,null,null,null,null,null,null,null,null,null,null,null,null,null,null,null,null,null,null,null,null,null,null,null,null,null,null,null,null,20,"San Pedro Mártir"]
[null,null,null,null,null,null,null,null,null,null,null,null,null,null,null,null,null,null,null,null,null,null,null,null,null,null,null,null,null,null,null,null,null,null,null,null,null,null,null,null,null,20,"San Pedro Mártir Quiechapa"]
[null,null,null,null,null,null,null,null,null,null,null,null,null,null,null,null,null,null,null,null,null,null,null,null,null,null,null,null,null,null,null,null,null,null,null,null,null,null,null,null,null,20,"San Pedro Mártir Yucuxaco"]
[null,null,null,null,null,null,null,null,null,null,null,null,null,null,null,null,null,null,null,null,null,null,null,null,null,null,null,null,null,null,null,null,null,null,null,null,null,null,null,null,null,20,"San Pedro Mixtepec -Dto. 22 -"]
[null,null,null,null,null,null,null,null,null,null,null,null,null,null,null,null,null,null,null,null,null,null,null,null,null,null,null,null,null,null,null,null,null,null,null,null,null,null,null,null,null,20,"San Pedro Mixtepec -Dto. 26 -"]
[null,null,null,null,null,null,null,null,null,null,null,null,null,null,null,null,null,null,null,null,null,null,null,null,null,null,null,null,null,null,null,null,null,null,null,null,null,null,null,null,null,20,"San Pedro Molinos"]
[null,null,null,null,null,null,null,null,null,null,null,null,null,null,null,null,null,null,null,null,null,null,null,null,null,null,null,null,null,null,null,null,null,null,null,null,null,null,null,null,null,20,"San Pedro Nopala"]
[null,null,null,null,null,null,null,null,null,null,null,null,null,null,null,null,null,null,null,null,null,null,null,null,null,null,null,null,null,null,null,null,null,null,null,null,null,null,null,null,null,20,"San Pedro Ocopetatillo"]
[null,null,null,null,null,null,null,null,null,null,null,null,null,null,null,null,null,null,null,null,null,null,null,null,null,null,null,null,null,null,null,null,null,null,null,null,null,null,null,null,null,20,"San Pedro Ocotepec"]
[null,null,null,null,null,null,null,null,null,null,null,null,null,null,null,null,null,null,null,null,null,null,null,null,null,null,null,null,null,null,null,null,null,null,null,null,null,null,null,null,null,20,"San Pedro Pochutla"]
[null,null,null,null,null,null,null,null,null,null,null,null,null,null,null,null,null,null,null,null,null,null,null,null,null,null,null,null,null,null,null,null,null,null,null,null,null,null,null,null,null,20,"San Pedro Quiatoni"]
[null,null,null,null,null,null,null,null,null,null,null,null,null,null,null,null,null,null,null,null,null,null,null,null,null,null,null,null,null,null,null,null,null,null,null,null,null,null,null,null,null,20,"San Pedro Sochiápam"]
[null,null,null,null,null,null,null,null,null,null,null,null,null,null,null,null,null,null,null,null,null,null,null,null,null,null,null,null,null,null,null,null,null,null,null,null,null,null,null,null,null,20,"San Pedro Tapanatepec"]
[null,null,null,null,null,null,null,null,null,null,null,null,null,null,null,null,null,null,null,null,null,null,null,null,null,null,null,null,null,null,null,null,null,null,null,null,null,null,null,null,null,20,"San Pedro Taviche"]
[null,null,null,null,null,null,null,null,null,null,null,null,null,null,null,null,null,null,null,null,null,null,null,null,null,null,null,null,null,null,null,null,null,null,null,null,null,null,null,null,null,20,"San Pedro Teozacoalco"]
[null,null,null,null,null,null,null,null,null,null,null,null,null,null,null,null,null,null,null,null,null,null,null,null,null,null,null,null,null,null,null,null,null,null,null,null,null,null,null,null,null,20,"San Pedro Teutila"]
[null,null,null,null,null,null,null,null,null,null,null,null,null,null,null,null,null,null,null,null,null,null,null,null,null,null,null,null,null,null,null,null,null,null,null,null,null,null,null,null,null,20,"San Pedro Tidaá"]
[null,null,null,null,null,null,null,null,null,null,null,null,null,null,null,null,null,null,null,null,null,null,null,null,null,null,null,null,null,null,null,null,null,null,null,null,null,null,null,null,null,20,"San Pedro Topiltepec"]
[null,null,null,null,null,null,null,null,null,null,null,null,null,null,null,null,null,null,null,null,null,null,null,null,null,null,null,null,null,null,null,null,null,null,null,null,null,null,null,null,null,20,"San Pedro Totolápam"]
[null,null,null,null,null,null,null,null,null,null,null,null,null,null,null,null,null,null,null,null,null,null,null,null,null,null,null,null,null,null,null,null,null,null,null,null,null,null,null,null,null,20,"San Pedro y San Pablo Ayutla"]
[null,null,null,null,null,null,null,null,null,null,null,null,null,null,null,null,null,null,null,null,null,null,null,null,null,null,null,null,null,null,null,null,null,null,null,null,null,null,null,null,null,20,"San Pedro y San Pablo Teposcolula"]
[null,null,null,null,null,null,null,null,null,null,null,null,null,null,null,null,null,null,null,null,null,null,null,null,null,null,null,null,null,null,null,null,null,null,null,null,null,null,null,null,null,20,"San Pedro y San Pablo Tequixtepec"]
[null,null,null,null,null,null,null,null,null,null,null,null,null,null,null,null,null,null,null,null,null,null,null,null,null,null,null,null,null,null,null,null,null,null,null,null,null,null,null,null,null,20,"San Pedro Yaneri"]
[null,null,null,null,null,null,null,null,null,null,null,null,null,null,null,null,null,null,null,null,null,null,null,null,null,null,null,null,null,null,null,null,null,null,null,null,null,null,null,null,null,20,"San Pedro Yólox"]
[null,null,null,null,null,null,null,null,null,null,null,null,null,null,null,null,null,null,null,null,null,null,null,null,null,null,null,null,null,null,null,null,null,null,null,null,null,null,null,null,null,20,"San Pedro Yucunama"]
[null,null,null,null,null,null,null,null,null,null,null,null,null,null,null,null,null,null,null,null,null,null,null,null,null,null,null,null,null,null,null,null,null,null,null,null,null,null,null,null,null,20,"San Raymundo Jalpan"]
[null,null,null,null,null,null,null,null,null,null,null,null,null,null,null,null,null,null,null,null,null,null,null,null,null,null,null,null,null,null,null,null,null,null,null,null,null,null,null,null,null,20,"San Sebastián Abasolo"]
[null,null,null,null,null,null,null,null,null,null,null,null,null,null,null,null,null,null,null,null,null,null,null,null,null,null,null,null,null,null,null,null,null,null,null,null,null,null,null,null,null,20,"San Sebastián Coatlán"]
[null,null,null,null,null,null,null,null,null,null,null,null,null,null,null,null,null,null,null,null,null,null,null,null,null,null,null,null,null,null,null,null,null,null,null,null,null,null,null,null,null,20,"San Sebastián Ixcapa"]
[null,null,null,null,null,null,null,null,null,null,null,null,null,null,null,null,null,null,null,null,null,null,null,null,null,null,null,null,null,null,null,null,null,null,null,null,null,null,null,null,null,20,"San Sebastián Nicananduta"]
[null,null,null,null,null,null,null,null,null,null,null,null,null,null,null,null,null,null,null,null,null,null,null,null,null,null,null,null,null,null,null,null,null,null,null,null,null,null,null,null,null,20,"San Sebastián Río Hondo"]
[null,null,null,null,null,null,null,null,null,null,null,null,null,null,null,null,null,null,null,null,null,null,null,null,null,null,null,null,null,null,null,null,null,null,null,null,null,null,null,null,null,20,"San Sebastián Tecomaxtlahuaca"]
[null,null,null,null,null,null,null,null,null,null,null,null,null,null,null,null,null,null,null,null,null,null,null,null,null,null,null,null,null,null,null,null,null,null,null,null,null,null,null,null,null,20,"San Sebastián Teitipac"]
[null,null,null,null,null,null,null,null,null,null,null,null,null,null,null,null,null,null,null,null,null,null,null,null,null,null,null,null,null,null,null,null,null,null,null,null,null,null,null,null,null,20,"San Sebastián Tutla"]
[null,null,null,null,null,null,null,null,null,null,null,null,null,null,null,null,null,null,null,null,null,null,null,null,null,null,null,null,null,null,null,null,null,null,null,null,null,null,null,null,null,20,"San Simón Almolongas"]
[null,null,null,null,null,null,null,null,null,null,null,null,null,null,null,null,null,null,null,null,null,null,null,null,null,null,null,null,null,null,null,null,null,null,null,null,null,null,null,null,null,20,"San Simón Zahuatlán"]
[null,null,null,null,null,null,null,null,null,null,null,null,null,null,null,null,null,null,null,null,null,null,null,null,null,null,null,null,null,null,null,null,null,null,null,null,null,null,null,null,null,20,"San Vicente Coatlán"]
[null,null,null,null,null,null,null,null,null,null,null,null,null,null,null,null,null,null,null,null,null,null,null,null,null,null,null,null,null,null,null,null,null,null,null,null,null,null,null,null,null,20,"San Vicente Lachixío"]
[null,null,null,null,null,null,null,null,null,null,null,null,null,null,null,null,null,null,null,null,null,null,null,null,null,null,null,null,null,null,null,null,null,null,null,null,null,null,null,null,null,20,"San Vicente Nuñú"]
[null,null,null,null,null,null,null,null,null,null,null,null,null,null,null,null,null,null,null,null,null,null,null,null,null,null,null,null,null,null,null,null,null,null,null,null,null,null,null,null,null,20,"Santa Ana"]
[null,null,null,null,null,null,null,null,null,null,null,null,null,null,null,null,null,null,null,null,null,null,null,null,null,null,null,null,null,null,null,null,null,null,null,null,null,null,null,null,null,20,"Santa Ana Ateixtlahuaca"]
[null,null,null,null,null,null,null,null,null,null,null,null,null,null,null,null,null,null,null,null,null,null,null,null,null,null,null,null,null,null,null,null,null,null,null,null,null,null,null,null,null,20,"Santa Ana Cuauhtémoc"]
[null,null,null,null,null,null,null,null,null,null,null,null,null,null,null,null,null,null,null,null,null,null,null,null,null,null,null,null,null,null,null,null,null,null,null,null,null,null,null,null,null,20,"Santa Ana del Valle"]
[null,null,null,null,null,null,null,null,null,null,null,null,null,null,null,null,null,null,null,null,null,null,null,null,null,null,null,null,null,null,null,null,null,null,null,null,null,null,null,null,null,20,"Santa Ana Tavela"]
[null,null,null,null,null,null,null,null,null,null,null,null,null,null,null,null,null,null,null,null,null,null,null,null,null,null,null,null,null,null,null,null,null,null,null,null,null,null,null,null,null,20,"Santa Ana Tlapacoyan"]
[null,null,null,null,null,null,null,null,null,null,null,null,null,null,null,null,null,null,null,null,null,null,null,null,null,null,null,null,null,null,null,null,null,null,null,null,null,null,null,null,null,20,"Santa Ana Yareni"]
[null,null,null,null,null,null,null,null,null,null,null,null,null,null,null,null,null,null,null,null,null,null,null,null,null,null,null,null,null,null,null,null,null,null,null,null,null,null,null,null,null,20,"Santa Ana Zegache"]
[null,null,null,null,null,null,null,null,null,null,null,null,null,null,null,null,null,null,null,null,null,null,null,null,null,null,null,null,null,null,null,null,null,null,null,null,null,null,null,null,null,20,"Santa Catalina Quierí"]
[null,null,null,null,null,null,null,null,null,null,null,null,null,null,null,null,null,null,null,null,null,null,null,null,null,null,null,null,null,null,null,null,null,null,null,null,null,null,null,null,null,20,"Santa Catarina Cuixtla"]
[null,null,null,null,null,null,null,null,null,null,null,null,null,null,null,null,null,null,null,null,null,null,null,null,null,null,null,null,null,null,null,null,null,null,null,null,null,null,null,null,null,20,"Santa Catarina Ixtepeji"]
[null,null,null,null,null,null,null,null,null,null,null,null,null,null,null,null,null,null,null,null,null,null,null,null,null,null,null,null,null,null,null,null,null,null,null,null,null,null,null,null,null,20,"Santa Catarina Juquila"]
[null,null,null,null,null,null,null,null,null,null,null,null,null,null,null,null,null,null,null,null,null,null,null,null,null,null,null,null,null,null,null,null,null,null,null,null,null,null,null,null,null,20,"Santa Catarina Lachatao"]
[null,null,null,null,null,null,null,null,null,null,null,null,null,null,null,null,null,null,null,null,null,null,null,null,null,null,null,null,null,null,null,null,null,null,null,null,null,null,null,null,null,20,"Santa Catarina Loxicha"]
[null,null,null,null,null,null,null,null,null,null,null,null,null,null,null,null,null,null,null,null,null,null,null,null,null,null,null,null,null,null,null,null,null,null,null,null,null,null,null,null,null,20,"Santa Catarina Mechoacán"]
[null,null,null,null,null,null,null,null,null,null,null,null,null,null,null,null,null,null,null,null,null,null,null,null,null,null,null,null,null,null,null,null,null,null,null,null,null,null,null,null,null,20,"Santa Catarina Minas"]
[null,null,null,null,null,null,null,null,null,null,null,null,null,null,null,null,null,null,null,null,null,null,null,null,null,null,null,null,null,null,null,null,null,null,null,null,null,null,null,null,null,20,"Santa Catarina Quiané"]
[null,null,null,null,null,null,null,null,null,null,null,null,null,null,null,null,null,null,null,null,null,null,null,null,null,null,null,null,null,null,null,null,null,null,null,null,null,null,null,null,null,20,"Santa Catarina Quioquitani"]
[null,null,null,null,null,null,null,null,null,null,null,null,null,null,null,null,null,null,null,null,null,null,null,null,null,null,null,null,null,null,null,null,null,null,null,null,null,null,null,null,null,20,"Santa Catarina Tayata"]
[null,null,null,null,null,null,null,null,null,null,null,null,null,null,null,null,null,null,null,null,null,null,null,null,null,null,null,null,null,null,null,null,null,null,null,null,null,null,null,null,null,20,"Santa Catarina Ticuá"]
[null,null,null,null,null,null,null,null,null,null,null,null,null,null,null,null,null,null,null,null,null,null,null,null,null,null,null,null,null,null,null,null,null,null,null,null,null,null,null,null,null,20,"Santa Catarina Yosonotú"]
[null,null,null,null,null,null,null,null,null,null,null,null,null,null,null,null,null,null,null,null,null,null,null,null,null,null,null,null,null,null,null,null,null,null,null,null,null,null,null,null,null,20,"Santa Catarina Zapoquila"]
[null,null,null,null,null,null,null,null,null,null,null,null,null,null,null,null,null,null,null,null,null,null,null,null,null,null,null,null,null,null,null,null,null,null,null,null,null,null,null,null,null,20,"Santa Cruz Acatepec"]
[null,null,null,null,null,null,null,null,null,null,null,null,null,null,null,null,null,null,null,null,null,null,null,null,null,null,null,null,null,null,null,null,null,null,null,null,null,null,null,null,null,20,"Santa Cruz Amilpas"]
[null,null,null,null,null,null,null,null,null,null,null,null,null,null,null,null,null,null,null,null,null,null,null,null,null,null,null,null,null,null,null,null,null,null,null,null,null,null,null,null,null,20,"Santa Cruz de Bravo"]
[null,null,null,null,null,null,null,null,null,null,null,null,null,null,null,null,null,null,null,null,null,null,null,null,null,null,null,null,null,null,null,null,null,null,null,null,null,null,null,null,null,20,"Santa Cruz Itundujia"]
[null,null,null,null,null,null,null,null,null,null,null,null,null,null,null,null,null,null,null,null,null,null,null,null,null,null,null,null,null,null,null,null,null,null,null,null,null,null,null,null,null,20,"Santa Cruz Mixtepec"]
[null,null,null,null,null,null,null,null,null,null,null,null,null,null,null,null,null,null,null,null,null,null,null,null,null,null,null,null,null,null,null,null,null,null,null,null,null,null,null,null,null,20,"Santa Cruz Nundaco"]
[null,null,null,null,null,null,null,null,null,null,null,null,null,null,null,null,null,null,null,null,null,null,null,null,null,null,null,null,null,null,null,null,null,null,null,null,null,null,null,null,null,20,"Santa Cruz Papalutla"]
[null,null,null,null,null,null,null,null,null,null,null,null,null,null,null,null,null,null,null,null,null,null,null,null,null,null,null,null,null,null,null,null,null,null,null,null,null,null,null,null,null,20,"Santa Cruz Tacache de Mina"]
[null,null,null,null,null,null,null,null,null,null,null,null,null,null,null,null,null,null,null,null,null,null,null,null,null,null,null,null,null,null,null,null,null,null,null,null,null,null,null,null,null,20,"Santa Cruz Tacahua"]
[null,null,null,null,null,null,null,null,null,null,null,null,null,null,null,null,null,null,null,null,null,null,null,null,null,null,null,null,null,null,null,null,null,null,null,null,null,null,null,null,null,20,"Santa Cruz Tayata"]
[null,null,null,null,null,null,null,null,null,null,null,null,null,null,null,null,null,null,null,null,null,null,null,null,null,null,null,null,null,null,null,null,null,null,null,null,null,null,null,null,null,20,"Santa Cruz Xitla"]
[null,null,null,null,null,null,null,null,null,null,null,null,null,null,null,null,null,null,null,null,null,null,null,null,null,null,null,null,null,null,null,null,null,null,null,null,null,null,null,null,null,20,"Santa Cruz Xoxocotlán"]
[null,null,null,null,null,null,null,null,null,null,null,null,null,null,null,null,null,null,null,null,null,null,null,null,null,null,null,null,null,null,null,null,null,null,null,null,null,null,null,null,null,20,"Santa Cruz Zenzontepec"]
[null,null,null,null,null,null,null,null,null,null,null,null,null,null,null,null,null,null,null,null,null,null,null,null,null,null,null,null,null,null,null,null,null,null,null,null,null,null,null,null,null,20,"Santa Gertrudis"]
[null,null,null,null,null,null,null,null,null,null,null,null,null,null,null,null,null,null,null,null,null,null,null,null,null,null,null,null,null,null,null,null,null,null,null,null,null,null,null,null,null,20,"Santa Inés de Zaragoza"]
[null,null,null,null,null,null,null,null,null,null,null,null,null,null,null,null,null,null,null,null,null,null,null,null,null,null,null,null,null,null,null,null,null,null,null,null,null,null,null,null,null,20,"Santa Inés del Monte"]
[null,null,null,null,null,null,null,null,null,null,null,null,null,null,null,null,null,null,null,null,null,null,null,null,null,null,null,null,null,null,null,null,null,null,null,null,null,null,null,null,null,20,"Santa Inés Yatzeche"]
[null,null,null,null,null,null,null,null,null,null,null,null,null,null,null,null,null,null,null,null,null,null,null,null,null,null,null,null,null,null,null,null,null,null,null,null,null,null,null,null,null,20,"Santa Lucía del Camino"]
[null,null,null,null,null,null,null,null,null,null,null,null,null,null,null,null,null,null,null,null,null,null,null,null,null,null,null,null,null,null,null,null,null,null,null,null,null,null,null,null,null,20,"Santa Lucía Miahuatlán"]
[null,null,null,null,null,null,null,null,null,null,null,null,null,null,null,null,null,null,null,null,null,null,null,null,null,null,null,null,null,null,null,null,null,null,null,null,null,null,null,null,null,20,"Santa Lucía Monteverde"]
[null,null,null,null,null,null,null,null,null,null,null,null,null,null,null,null,null,null,null,null,null,null,null,null,null,null,null,null,null,null,null,null,null,null,null,null,null,null,null,null,null,20,"Santa Lucía Ocotlán"]
[null,null,null,null,null,null,null,null,null,null,null,null,null,null,null,null,null,null,null,null,null,null,null,null,null,null,null,null,null,null,null,null,null,null,null,null,null,null,null,null,null,20,"Santa Magdalena Jicotlán"]
[null,null,null,null,null,null,null,null,null,null,null,null,null,null,null,null,null,null,null,null,null,null,null,null,null,null,null,null,null,null,null,null,null,null,null,null,null,null,null,null,null,20,"Santa María Alotepec"]
[null,null,null,null,null,null,null,null,null,null,null,null,null,null,null,null,null,null,null,null,null,null,null,null,null,null,null,null,null,null,null,null,null,null,null,null,null,null,null,null,null,20,"Santa María Apazco"]
[null,null,null,null,null,null,null,null,null,null,null,null,null,null,null,null,null,null,null,null,null,null,null,null,null,null,null,null,null,null,null,null,null,null,null,null,null,null,null,null,null,20,"Santa María Atzompa"]
[null,null,null,null,null,null,null,null,null,null,null,null,null,null,null,null,null,null,null,null,null,null,null,null,null,null,null,null,null,null,null,null,null,null,null,null,null,null,null,null,null,20,"Santa María Camotlán"]
[null,null,null,null,null,null,null,null,null,null,null,null,null,null,null,null,null,null,null,null,null,null,null,null,null,null,null,null,null,null,null,null,null,null,null,null,null,null,null,null,null,20,"Santa María Chachoápam"]
[null,null,null,null,null,null,null,null,null,null,null,null,null,null,null,null,null,null,null,null,null,null,null,null,null,null,null,null,null,null,null,null,null,null,null,null,null,null,null,null,null,20,"Santa María Chilchotla"]
[null,null,null,null,null,null,null,null,null,null,null,null,null,null,null,null,null,null,null,null,null,null,null,null,null,null,null,null,null,null,null,null,null,null,null,null,null,null,null,null,null,20,"Santa María Chimalapa"]
[null,null,null,null,null,null,null,null,null,null,null,null,null,null,null,null,null,null,null,null,null,null,null,null,null,null,null,null,null,null,null,null,null,null,null,null,null,null,null,null,null,20,"Santa María Colotepec"]
[null,null,null,null,null,null,null,null,null,null,null,null,null,null,null,null,null,null,null,null,null,null,null,null,null,null,null,null,null,null,null,null,null,null,null,null,null,null,null,null,null,20,"Santa María Cortijo"]
[null,null,null,null,null,null,null,null,null,null,null,null,null,null,null,null,null,null,null,null,null,null,null,null,null,null,null,null,null,null,null,null,null,null,null,null,null,null,null,null,null,20,"Santa María Coyotepec"]
[null,null,null,null,null,null,null,null,null,null,null,null,null,null,null,null,null,null,null,null,null,null,null,null,null,null,null,null,null,null,null,null,null,null,null,null,null,null,null,null,null,20,"Santa María del Rosario"]
[null,null,null,null,null,null,null,null,null,null,null,null,null,null,null,null,null,null,null,null,null,null,null,null,null,null,null,null,null,null,null,null,null,null,null,null,null,null,null,null,null,20,"Santa María del Tule"]
[null,null,null,null,null,null,null,null,null,null,null,null,null,null,null,null,null,null,null,null,null,null,null,null,null,null,null,null,null,null,null,null,null,null,null,null,null,null,null,null,null,20,"Santa María Ecatepec"]
[null,null,null,null,null,null,null,null,null,null,null,null,null,null,null,null,null,null,null,null,null,null,null,null,null,null,null,null,null,null,null,null,null,null,null,null,null,null,null,null,null,20,"Santa María Guelacé"]
[null,null,null,null,null,null,null,null,null,null,null,null,null,null,null,null,null,null,null,null,null,null,null,null,null,null,null,null,null,null,null,null,null,null,null,null,null,null,null,null,null,20,"Santa María Guienagati"]
[null,null,null,null,null,null,null,null,null,null,null,null,null,null,null,null,null,null,null,null,null,null,null,null,null,null,null,null,null,null,null,null,null,null,null,null,null,null,null,null,null,20,"Santa María Huatulco"]
[null,null,null,null,null,null,null,null,null,null,null,null,null,null,null,null,null,null,null,null,null,null,null,null,null,null,null,null,null,null,null,null,null,null,null,null,null,null,null,null,null,20,"Santa María Huazolotitlán"]
[null,null,null,null,null,null,null,null,null,null,null,null,null,null,null,null,null,null,null,null,null,null,null,null,null,null,null,null,null,null,null,null,null,null,null,null,null,null,null,null,null,20,"Santa María Ipalapa"]
[null,null,null,null,null,null,null,null,null,null,null,null,null,null,null,null,null,null,null,null,null,null,null,null,null,null,null,null,null,null,null,null,null,null,null,null,null,null,null,null,null,20,"Santa María Ixcatlán"]
[null,null,null,null,null,null,null,null,null,null,null,null,null,null,null,null,null,null,null,null,null,null,null,null,null,null,null,null,null,null,null,null,null,null,null,null,null,null,null,null,null,20,"Santa María Jacatepec"]
[null,null,null,null,null,null,null,null,null,null,null,null,null,null,null,null,null,null,null,null,null,null,null,null,null,null,null,null,null,null,null,null,null,null,null,null,null,null,null,null,null,20,"Santa María Jalapa del Marqués"]
[null,null,null,null,null,null,null,null,null,null,null,null,null,null,null,null,null,null,null,null,null,null,null,null,null,null,null,null,null,null,null,null,null,null,null,null,null,null,null,null,null,20,"Santa María Jaltianguis"]
[null,null,null,null,null,null,null,null,null,null,null,null,null,null,null,null,null,null,null,null,null,null,null,null,null,null,null,null,null,null,null,null,null,null,null,null,null,null,null,null,null,20,"Santa María la Asunción"]
[null,null,null,null,null,null,null,null,null,null,null,null,null,null,null,null,null,null,null,null,null,null,null,null,null,null,null,null,null,null,null,null,null,null,null,null,null,null,null,null,null,20,"Santa María Lachixío"]
[null,null,null,null,null,null,null,null,null,null,null,null,null,null,null,null,null,null,null,null,null,null,null,null,null,null,null,null,null,null,null,null,null,null,null,null,null,null,null,null,null,20,"Santa María Mixtequilla"]
[null,null,null,null,null,null,null,null,null,null,null,null,null,null,null,null,null,null,null,null,null,null,null,null,null,null,null,null,null,null,null,null,null,null,null,null,null,null,null,null,null,20,"Santa María Nativitas"]
[null,null,null,null,null,null,null,null,null,null,null,null,null,null,null,null,null,null,null,null,null,null,null,null,null,null,null,null,null,null,null,null,null,null,null,null,null,null,null,null,null,20,"Santa María Nduayaco"]
[null,null,null,null,null,null,null,null,null,null,null,null,null,null,null,null,null,null,null,null,null,null,null,null,null,null,null,null,null,null,null,null,null,null,null,null,null,null,null,null,null,20,"Santa María Ozolotepec"]
[null,null,null,null,null,null,null,null,null,null,null,null,null,null,null,null,null,null,null,null,null,null,null,null,null,null,null,null,null,null,null,null,null,null,null,null,null,null,null,null,null,20,"Santa María Pápalo"]
[null,null,null,null,null,null,null,null,null,null,null,null,null,null,null,null,null,null,null,null,null,null,null,null,null,null,null,null,null,null,null,null,null,null,null,null,null,null,null,null,null,20,"Santa María Peñoles"]
[null,null,null,null,null,null,null,null,null,null,null,null,null,null,null,null,null,null,null,null,null,null,null,null,null,null,null,null,null,null,null,null,null,null,null,null,null,null,null,null,null,20,"Santa María Petapa"]
[null,null,null,null,null,null,null,null,null,null,null,null,null,null,null,null,null,null,null,null,null,null,null,null,null,null,null,null,null,null,null,null,null,null,null,null,null,null,null,null,null,20,"Santa María Quiegolani"]
[null,null,null,null,null,null,null,null,null,null,null,null,null,null,null,null,null,null,null,null,null,null,null,null,null,null,null,null,null,null,null,null,null,null,null,null,null,null,null,null,null,20,"Santa María Sola"]
[null,null,null,null,null,null,null,null,null,null,null,null,null,null,null,null,null,null,null,null,null,null,null,null,null,null,null,null,null,null,null,null,null,null,null,null,null,null,null,null,null,20,"Santa María Tataltepec"]
[null,null,null,null,null,null,null,null,null,null,null,null,null,null,null,null,null,null,null,null,null,null,null,null,null,null,null,null,null,null,null,null,null,null,null,null,null,null,null,null,null,20,"Santa María Tecomavaca"]
[null,null,null,null,null,null,null,null,null,null,null,null,null,null,null,null,null,null,null,null,null,null,null,null,null,null,null,null,null,null,null,null,null,null,null,null,null,null,null,null,null,20,"Santa María Temaxcalapa"]
[null,null,null,null,null,null,null,null,null,null,null,null,null,null,null,null,null,null,null,null,null,null,null,null,null,null,null,null,null,null,null,null,null,null,null,null,null,null,null,null,null,20,"Santa María Temaxcaltepec"]
[null,null,null,null,null,null,null,null,null,null,null,null,null,null,null,null,null,null,null,null,null,null,null,null,null,null,null,null,null,null,null,null,null,null,null,null,null,null,null,null,null,20,"Santa María Teopoxco"]
[null,null,null,null,null,null,null,null,null,null,null,null,null,null,null,null,null,null,null,null,null,null,null,null,null,null,null,null,null,null,null,null,null,null,null,null,null,null,null,null,null,20,"Santa María Tepantlali"]
[null,null,null,null,null,null,null,null,null,null,null,null,null,null,null,null,null,null,null,null,null,null,null,null,null,null,null,null,null,null,null,null,null,null,null,null,null,null,null,null,null,20,"Santa María Texcatitlán"]
[null,null,null,null,null,null,null,null,null,null,null,null,null,null,null,null,null,null,null,null,null,null,null,null,null,null,null,null,null,null,null,null,null,null,null,null,null,null,null,null,null,20,"Santa María Tlahuitoltepec"]
[null,null,null,null,null,null,null,null,null,null,null,null,null,null,null,null,null,null,null,null,null,null,null,null,null,null,null,null,null,null,null,null,null,null,null,null,null,null,null,null,null,20,"Santa María Tlalixtac"]
[null,null,null,null,null,null,null,null,null,null,null,null,null,null,null,null,null,null,null,null,null,null,null,null,null,null,null,null,null,null,null,null,null,null,null,null,null,null,null,null,null,20,"Santa María Tonameca"]
[null,null,null,null,null,null,null,null,null,null,null,null,null,null,null,null,null,null,null,null,null,null,null,null,null,null,null,null,null,null,null,null,null,null,null,null,null,null,null,null,null,20,"Santa María Totolapilla"]
[null,null,null,null,null,null,null,null,null,null,null,null,null,null,null,null,null,null,null,null,null,null,null,null,null,null,null,null,null,null,null,null,null,null,null,null,null,null,null,null,null,20,"Santa María Xadani"]
[null,null,null,null,null,null,null,null,null,null,null,null,null,null,null,null,null,null,null,null,null,null,null,null,null,null,null,null,null,null,null,null,null,null,null,null,null,null,null,null,null,20,"Santa María Yalina"]
[null,null,null,null,null,null,null,null,null,null,null,null,null,null,null,null,null,null,null,null,null,null,null,null,null,null,null,null,null,null,null,null,null,null,null,null,null,null,null,null,null,20,"Santa María Yavesía"]
[null,null,null,null,null,null,null,null,null,null,null,null,null,null,null,null,null,null,null,null,null,null,null,null,null,null,null,null,null,null,null,null,null,null,null,null,null,null,null,null,null,20,"Santa María Yolotepec"]
[null,null,null,null,null,null,null,null,null,null,null,null,null,null,null,null,null,null,null,null,null,null,null,null,null,null,null,null,null,null,null,null,null,null,null,null,null,null,null,null,null,20,"Santa María Yosoyúa"]
[null,null,null,null,null,null,null,null,null,null,null,null,null,null,null,null,null,null,null,null,null,null,null,null,null,null,null,null,null,null,null,null,null,null,null,null,null,null,null,null,null,20,"Santa María Yucuhiti"]
[null,null,null,null,null,null,null,null,null,null,null,null,null,null,null,null,null,null,null,null,null,null,null,null,null,null,null,null,null,null,null,null,null,null,null,null,null,null,null,null,null,20,"Santa María Zacatepec"]
[null,null,null,null,null,null,null,null,null,null,null,null,null,null,null,null,null,null,null,null,null,null,null,null,null,null,null,null,null,null,null,null,null,null,null,null,null,null,null,null,null,20,"Santa María Zaniza"]
[null,null,null,null,null,null,null,null,null,null,null,null,null,null,null,null,null,null,null,null,null,null,null,null,null,null,null,null,null,null,null,null,null,null,null,null,null,null,null,null,null,20,"Santa María Zoquitlán"]
[null,null,null,null,null,null,null,null,null,null,null,null,null,null,null,null,null,null,null,null,null,null,null,null,null,null,null,null,null,null,null,null,null,null,null,null,null,null,null,null,null,20,"Santiago Amoltepec"]
[null,null,null,null,null,null,null,null,null,null,null,null,null,null,null,null,null,null,null,null,null,null,null,null,null,null,null,null,null,null,null,null,null,null,null,null,null,null,null,null,null,20,"Santiago Apoala"]
[null,null,null,null,null,null,null,null,null,null,null,null,null,null,null,null,null,null,null,null,null,null,null,null,null,null,null,null,null,null,null,null,null,null,null,null,null,null,null,null,null,20,"Santiago Apóstol"]
[null,null,null,null,null,null,null,null,null,null,null,null,null,null,null,null,null,null,null,null,null,null,null,null,null,null,null,null,null,null,null,null,null,null,null,null,null,null,null,null,null,20,"Santiago Astata"]
[null,null,null,null,null,null,null,null,null,null,null,null,null,null,null,null,null,null,null,null,null,null,null,null,null,null,null,null,null,null,null,null,null,null,null,null,null,null,null,null,null,20,"Santiago Atitlán"]
[null,null,null,null,null,null,null,null,null,null,null,null,null,null,null,null,null,null,null,null,null,null,null,null,null,null,null,null,null,null,null,null,null,null,null,null,null,null,null,null,null,20,"Santiago Ayuquililla"]
[null,null,null,null,null,null,null,null,null,null,null,null,null,null,null,null,null,null,null,null,null,null,null,null,null,null,null,null,null,null,null,null,null,null,null,null,null,null,null,null,null,20,"Santiago Cacaloxtepec"]
[null,null,null,null,null,null,null,null,null,null,null,null,null,null,null,null,null,null,null,null,null,null,null,null,null,null,null,null,null,null,null,null,null,null,null,null,null,null,null,null,null,20,"Santiago Camotlán"]
[null,null,null,null,null,null,null,null,null,null,null,null,null,null,null,null,null,null,null,null,null,null,null,null,null,null,null,null,null,null,null,null,null,null,null,null,null,null,null,null,null,20,"Santiago Chazumba"]
[null,null,null,null,null,null,null,null,null,null,null,null,null,null,null,null,null,null,null,null,null,null,null,null,null,null,null,null,null,null,null,null,null,null,null,null,null,null,null,null,null,20,"Santiago Choápam"]
[null,null,null,null,null,null,null,null,null,null,null,null,null,null,null,null,null,null,null,null,null,null,null,null,null,null,null,null,null,null,null,null,null,null,null,null,null,null,null,null,null,20,"Santiago Comaltepec"]
[null,null,null,null,null,null,null,null,null,null,null,null,null,null,null,null,null,null,null,null,null,null,null,null,null,null,null,null,null,null,null,null,null,null,null,null,null,null,null,null,null,20,"Santiago del Río"]
[null,null,null,null,null,null,null,null,null,null,null,null,null,null,null,null,null,null,null,null,null,null,null,null,null,null,null,null,null,null,null,null,null,null,null,null,null,null,null,null,null,20,"Santiago Huajolotitlán"]
[null,null,null,null,null,null,null,null,null,null,null,null,null,null,null,null,null,null,null,null,null,null,null,null,null,null,null,null,null,null,null,null,null,null,null,null,null,null,null,null,null,20,"Santiago Huauclilla"]
[null,null,null,null,null,null,null,null,null,null,null,null,null,null,null,null,null,null,null,null,null,null,null,null,null,null,null,null,null,null,null,null,null,null,null,null,null,null,null,null,null,20,"Santiago Ihuitlán Plumas"]
[null,null,null,null,null,null,null,null,null,null,null,null,null,null,null,null,null,null,null,null,null,null,null,null,null,null,null,null,null,null,null,null,null,null,null,null,null,null,null,null,null,20,"Santiago Ixcuintepec"]
[null,null,null,null,null,null,null,null,null,null,null,null,null,null,null,null,null,null,null,null,null,null,null,null,null,null,null,null,null,null,null,null,null,null,null,null,null,null,null,null,null,20,"Santiago Ixtayutla"]
[null,null,null,null,null,null,null,null,null,null,null,null,null,null,null,null,null,null,null,null,null,null,null,null,null,null,null,null,null,null,null,null,null,null,null,null,null,null,null,null,null,20,"Santiago Jamiltepec"]
[null,null,null,null,null,null,null,null,null,null,null,null,null,null,null,null,null,null,null,null,null,null,null,null,null,null,null,null,null,null,null,null,null,null,null,null,null,null,null,null,null,20,"Santiago Jocotepec"]
[null,null,null,null,null,null,null,null,null,null,null,null,null,null,null,null,null,null,null,null,null,null,null,null,null,null,null,null,null,null,null,null,null,null,null,null,null,null,null,null,null,20,"Santiago Juxtlahuaca"]
[null,null,null,null,null,null,null,null,null,null,null,null,null,null,null,null,null,null,null,null,null,null,null,null,null,null,null,null,null,null,null,null,null,null,null,null,null,null,null,null,null,20,"Santiago Lachiguiri"]
[null,null,null,null,null,null,null,null,null,null,null,null,null,null,null,null,null,null,null,null,null,null,null,null,null,null,null,null,null,null,null,null,null,null,null,null,null,null,null,null,null,20,"Santiago Lalopa"]
[null,null,null,null,null,null,null,null,null,null,null,null,null,null,null,null,null,null,null,null,null,null,null,null,null,null,null,null,null,null,null,null,null,null,null,null,null,null,null,null,null,20,"Santiago Laollaga"]
[null,null,null,null,null,null,null,null,null,null,null,null,null,null,null,null,null,null,null,null,null,null,null,null,null,null,null,null,null,null,null,null,null,null,null,null,null,null,null,null,null,20,"Santiago Laxopa"]
[null,null,null,null,null,null,null,null,null,null,null,null,null,null,null,null,null,null,null,null,null,null,null,null,null,null,null,null,null,null,null,null,null,null,null,null,null,null,null,null,null,20,"Santiago Llano Grande"]
[null,null,null,null,null,null,null,null,null,null,null,null,null,null,null,null,null,null,null,null,null,null,null,null,null,null,null,null,null,null,null,null,null,null,null,null,null,null,null,null,null,20,"Santiago Matatlán"]
[null,null,null,null,null,null,null,null,null,null,null,null,null,null,null,null,null,null,null,null,null,null,null,null,null,null,null,null,null,null,null,null,null,null,null,null,null,null,null,null,null,20,"Santiago Miltepec"]
[null,null,null,null,null,null,null,null,null,null,null,null,null,null,null,null,null,null,null,null,null,null,null,null,null,null,null,null,null,null,null,null,null,null,null,null,null,null,null,null,null,20,"Santiago Minas"]
[null,null,null,null,null,null,null,null,null,null,null,null,null,null,null,null,null,null,null,null,null,null,null,null,null,null,null,null,null,null,null,null,null,null,null,null,null,null,null,null,null,20,"Santiago Nacaltepec"]
[null,null,null,null,null,null,null,null,null,null,null,null,null,null,null,null,null,null,null,null,null,null,null,null,null,null,null,null,null,null,null,null,null,null,null,null,null,null,null,null,null,20,"Santiago Nejapilla"]
[null,null,null,null,null,null,null,null,null,null,null,null,null,null,null,null,null,null,null,null,null,null,null,null,null,null,null,null,null,null,null,null,null,null,null,null,null,null,null,null,null,20,"Santiago Niltepec"]
[null,null,null,null,null,null,null,null,null,null,null,null,null,null,null,null,null,null,null,null,null,null,null,null,null,null,null,null,null,null,null,null,null,null,null,null,null,null,null,null,null,20,"Santiago Nundiche"]
[null,null,null,null,null,null,null,null,null,null,null,null,null,null,null,null,null,null,null,null,null,null,null,null,null,null,null,null,null,null,null,null,null,null,null,null,null,null,null,null,null,20,"Santiago Nuyoó"]
[null,null,null,null,null,null,null,null,null,null,null,null,null,null,null,null,null,null,null,null,null,null,null,null,null,null,null,null,null,null,null,null,null,null,null,null,null,null,null,null,null,20,"Santiago Pinotepa Nacional"]
[null,null,null,null,null,null,null,null,null,null,null,null,null,null,null,null,null,null,null,null,null,null,null,null,null,null,null,null,null,null,null,null,null,null,null,null,null,null,null,null,null,20,"Santiago Suchilquitongo"]
[null,null,null,null,null,null,null,null,null,null,null,null,null,null,null,null,null,null,null,null,null,null,null,null,null,null,null,null,null,null,null,null,null,null,null,null,null,null,null,null,null,20,"Santiago Tamazola"]
[null,null,null,null,null,null,null,null,null,null,null,null,null,null,null,null,null,null,null,null,null,null,null,null,null,null,null,null,null,null,null,null,null,null,null,null,null,null,null,null,null,20,"Santiago Tapextla"]
[null,null,null,null,null,null,null,null,null,null,null,null,null,null,null,null,null,null,null,null,null,null,null,null,null,null,null,null,null,null,null,null,null,null,null,null,null,null,null,null,null,20,"Santiago Tenango"]
[null,null,null,null,null,null,null,null,null,null,null,null,null,null,null,null,null,null,null,null,null,null,null,null,null,null,null,null,null,null,null,null,null,null,null,null,null,null,null,null,null,20,"Santiago Tepetlapa"]
[null,null,null,null,null,null,null,null,null,null,null,null,null,null,null,null,null,null,null,null,null,null,null,null,null,null,null,null,null,null,null,null,null,null,null,null,null,null,null,null,null,20,"Santiago Tetepec"]
[null,null,null,null,null,null,null,null,null,null,null,null,null,null,null,null,null,null,null,null,null,null,null,null,null,null,null,null,null,null,null,null,null,null,null,null,null,null,null,null,null,20,"Santiago Texcalcingo"]
[null,null,null,null,null,null,null,null,null,null,null,null,null,null,null,null,null,null,null,null,null,null,null,null,null,null,null,null,null,null,null,null,null,null,null,null,null,null,null,null,null,20,"Santiago Textitlán"]
[null,null,null,null,null,null,null,null,null,null,null,null,null,null,null,null,null,null,null,null,null,null,null,null,null,null,null,null,null,null,null,null,null,null,null,null,null,null,null,null,null,20,"Santiago Tilantongo"]
[null,null,null,null,null,null,null,null,null,null,null,null,null,null,null,null,null,null,null,null,null,null,null,null,null,null,null,null,null,null,null,null,null,null,null,null,null,null,null,null,null,20,"Santiago Tillo"]
[null,null,null,null,null,null,null,null,null,null,null,null,null,null,null,null,null,null,null,null,null,null,null,null,null,null,null,null,null,null,null,null,null,null,null,null,null,null,null,null,null,20,"Santiago Tlazoyaltepec"]
[null,null,null,null,null,null,null,null,null,null,null,null,null,null,null,null,null,null,null,null,null,null,null,null,null,null,null,null,null,null,null,null,null,null,null,null,null,null,null,null,null,20,"Santiago Xanica"]
[null,null,null,null,null,null,null,null,null,null,null,null,null,null,null,null,null,null,null,null,null,null,null,null,null,null,null,null,null,null,null,null,null,null,null,null,null,null,null,null,null,20,"Santiago Xiacuí"]
[null,null,null,null,null,null,null,null,null,null,null,null,null,null,null,null,null,null,null,null,null,null,null,null,null,null,null,null,null,null,null,null,null,null,null,null,null,null,null,null,null,20,"Santiago Yaitepec"]
[null,null,null,null,null,null,null,null,null,null,null,null,null,null,null,null,null,null,null,null,null,null,null,null,null,null,null,null,null,null,null,null,null,null,null,null,null,null,null,null,null,20,"Santiago Yaveo"]
[null,null,null,null,null,null,null,null,null,null,null,null,null,null,null,null,null,null,null,null,null,null,null,null,null,null,null,null,null,null,null,null,null,null,null,null,null,null,null,null,null,20,"Santiago Yolomécatl"]
[null,null,null,null,null,null,null,null,null,null,null,null,null,null,null,null,null,null,null,null,null,null,null,null,null,null,null,null,null,null,null,null,null,null,null,null,null,null,null,null,null,20,"Santiago Yosondúa"]
[null,null,null,null,null,null,null,null,null,null,null,null,null,null,null,null,null,null,null,null,null,null,null,null,null,null,null,null,null,null,null,null,null,null,null,null,null,null,null,null,null,20,"Santiago Yucuyachi"]
[null,null,null,null,null,null,null,null,null,null,null,null,null,null,null,null,null,null,null,null,null,null,null,null,null,null,null,null,null,null,null,null,null,null,null,null,null,null,null,null,null,20,"Santiago Zacatepec"]
[null,null,null,null,null,null,null,null,null,null,null,null,null,null,null,null,null,null,null,null,null,null,null,null,null,null,null,null,null,null,null,null,null,null,null,null,null,null,null,null,null,20,"Santiago Zoochila"]
[null,null,null,null,null,null,null,null,null,null,null,null,null,null,null,null,null,null,null,null,null,null,null,null,null,null,null,null,null,null,null,null,null,null,null,null,null,null,null,null,null,20,"Santo Domingo Albarradas"]
[null,null,null,null,null,null,null,null,null,null,null,null,null,null,null,null,null,null,null,null,null,null,null,null,null,null,null,null,null,null,null,null,null,null,null,null,null,null,null,null,null,20,"Santo Domingo Armenta"]
[null,null,null,null,null,null,null,null,null,null,null,null,null,null,null,null,null,null,null,null,null,null,null,null,null,null,null,null,null,null,null,null,null,null,null,null,null,null,null,null,null,20,"Santo Domingo Chihuitán"]
[null,null,null,null,null,null,null,null,null,null,null,null,null,null,null,null,null,null,null,null,null,null,null,null,null,null,null,null,null,null,null,null,null,null,null,null,null,null,null,null,null,20,"Santo Domingo de Morelos"]
[null,null,null,null,null,null,null,null,null,null,null,null,null,null,null,null,null,null,null,null,null,null,null,null,null,null,null,null,null,null,null,null,null,null,null,null,null,null,null,null,null,20,"Santo Domingo Ingenio"]
[null,null,null,null,null,null,null,null,null,null,null,null,null,null,null,null,null,null,null,null,null,null,null,null,null,null,null,null,null,null,null,null,null,null,null,null,null,null,null,null,null,20,"Santo Domingo Ixcatlán"]
[null,null,null,null,null,null,null,null,null,null,null,null,null,null,null,null,null,null,null,null,null,null,null,null,null,null,null,null,null,null,null,null,null,null,null,null,null,null,null,null,null,20,"Santo Domingo Nuxaá"]
[null,null,null,null,null,null,null,null,null,null,null,null,null,null,null,null,null,null,null,null,null,null,null,null,null,null,null,null,null,null,null,null,null,null,null,null,null,null,null,null,null,20,"Santo Domingo Ozolotepec"]
[null,null,null,null,null,null,null,null,null,null,null,null,null,null,null,null,null,null,null,null,null,null,null,null,null,null,null,null,null,null,null,null,null,null,null,null,null,null,null,null,null,20,"Santo Domingo Petapa"]
[null,null,null,null,null,null,null,null,null,null,null,null,null,null,null,null,null,null,null,null,null,null,null,null,null,null,null,null,null,null,null,null,null,null,null,null,null,null,null,null,null,20,"Santo Domingo Roayaga"]
[null,null,null,null,null,null,null,null,null,null,null,null,null,null,null,null,null,null,null,null,null,null,null,null,null,null,null,null,null,null,null,null,null,null,null,null,null,null,null,null,null,20,"Santo Domingo Tehuantepec"]
[null,null,null,null,null,null,null,null,null,null,null,null,null,null,null,null,null,null,null,null,null,null,null,null,null,null,null,null,null,null,null,null,null,null,null,null,null,null,null,null,null,20,"Santo Domingo Teojomulco"]
[null,null,null,null,null,null,null,null,null,null,null,null,null,null,null,null,null,null,null,null,null,null,null,null,null,null,null,null,null,null,null,null,null,null,null,null,null,null,null,null,null,20,"Santo Domingo Tepuxtepec"]
[null,null,null,null,null,null,null,null,null,null,null,null,null,null,null,null,null,null,null,null,null,null,null,null,null,null,null,null,null,null,null,null,null,null,null,null,null,null,null,null,null,20,"Santo Domingo Tlatayápam"]
[null,null,null,null,null,null,null,null,null,null,null,null,null,null,null,null,null,null,null,null,null,null,null,null,null,null,null,null,null,null,null,null,null,null,null,null,null,null,null,null,null,20,"Santo Domingo Tomaltepec"]
[null,null,null,null,null,null,null,null,null,null,null,null,null,null,null,null,null,null,null,null,null,null,null,null,null,null,null,null,null,null,null,null,null,null,null,null,null,null,null,null,null,20,"Santo Domingo Tonalá"]
[null,null,null,null,null,null,null,null,null,null,null,null,null,null,null,null,null,null,null,null,null,null,null,null,null,null,null,null,null,null,null,null,null,null,null,null,null,null,null,null,null,20,"Santo Domingo Tonaltepec"]
[null,null,null,null,null,null,null,null,null,null,null,null,null,null,null,null,null,null,null,null,null,null,null,null,null,null,null,null,null,null,null,null,null,null,null,null,null,null,null,null,null,20,"Santo Domingo Xagacía"]
[null,null,null,null,null,null,null,null,null,null,null,null,null,null,null,null,null,null,null,null,null,null,null,null,null,null,null,null,null,null,null,null,null,null,null,null,null,null,null,null,null,20,"Santo Domingo Yanhuitlán"]
[null,null,null,null,null,null,null,null,null,null,null,null,null,null,null,null,null,null,null,null,null,null,null,null,null,null,null,null,null,null,null,null,null,null,null,null,null,null,null,null,null,20,"Santo Domingo Yodohino"]
[null,null,null,null,null,null,null,null,null,null,null,null,null,null,null,null,null,null,null,null,null,null,null,null,null,null,null,null,null,null,null,null,null,null,null,null,null,null,null,null,null,20,"Santo Domingo Zanatepec"]
[null,null,null,null,null,null,null,null,null,null,null,null,null,null,null,null,null,null,null,null,null,null,null,null,null,null,null,null,null,null,null,null,null,null,null,null,null,null,null,null,null,20,"Santo Tomás Jalieza"]
[null,null,null,null,null,null,null,null,null,null,null,null,null,null,null,null,null,null,null,null,null,null,null,null,null,null,null,null,null,null,null,null,null,null,null,null,null,null,null,null,null,20,"Santo Tomás Mazaltepec"]
[null,null,null,null,null,null,null,null,null,null,null,null,null,null,null,null,null,null,null,null,null,null,null,null,null,null,null,null,null,null,null,null,null,null,null,null,null,null,null,null,null,20,"Santo Tomás Ocotepec"]
[null,null,null,null,null,null,null,null,null,null,null,null,null,null,null,null,null,null,null,null,null,null,null,null,null,null,null,null,null,null,null,null,null,null,null,null,null,null,null,null,null,20,"Santo Tomás Tamazulapan"]
[null,null,null,null,null,null,null,null,null,null,null,null,null,null,null,null,null,null,null,null,null,null,null,null,null,null,null,null,null,null,null,null,null,null,null,null,null,null,null,null,null,20,"Santos Reyes Nopala"]
[null,null,null,null,null,null,null,null,null,null,null,null,null,null,null,null,null,null,null,null,null,null,null,null,null,null,null,null,null,null,null,null,null,null,null,null,null,null,null,null,null,20,"Santos Reyes Pápalo"]
[null,null,null,null,null,null,null,null,null,null,null,null,null,null,null,null,null,null,null,null,null,null,null,null,null,null,null,null,null,null,null,null,null,null,null,null,null,null,null,null,null,20,"Santos Reyes Tepejillo"]
[null,null,null,null,null,null,null,null,null,null,null,null,null,null,null,null,null,null,null,null,null,null,null,null,null,null,null,null,null,null,null,null,null,null,null,null,null,null,null,null,null,20,"Santos Reyes Yucuná"]
[null,null,null,null,null,null,null,null,null,null,null,null,null,null,null,null,null,null,null,null,null,null,null,null,null,null,null,null,null,null,null,null,null,null,null,null,null,null,null,null,null,20,"Silacayoápam"]
[null,null,null,null,null,null,null,null,null,null,null,null,null,null,null,null,null,null,null,null,null,null,null,null,null,null,null,null,null,null,null,null,null,null,null,null,null,null,null,null,null,20,"Sitio de Xitlapehua"]
[null,null,null,null,null,null,null,null,null,null,null,null,null,null,null,null,null,null,null,null,null,null,null,null,null,null,null,null,null,null,null,null,null,null,null,null,null,null,null,null,null,20,"Soledad Etla"]
[null,null,null,null,null,null,null,null,null,null,null,null,null,null,null,null,null,null,null,null,null,null,null,null,null,null,null,null,null,null,null,null,null,null,null,null,null,null,null,null,null,20,"Tamazulápam del Espíritu Santo"]
[null,null,null,null,null,null,null,null,null,null,null,null,null,null,null,null,null,null,null,null,null,null,null,null,null,null,null,null,null,null,null,null,null,null,null,null,null,null,null,null,null,20,"Tanetze de Zaragoza"]
[null,null,null,null,null,null,null,null,null,null,null,null,null,null,null,null,null,null,null,null,null,null,null,null,null,null,null,null,null,null,null,null,null,null,null,null,null,null,null,null,null,20,"Taniche"]
[null,null,null,null,null,null,null,null,null,null,null,null,null,null,null,null,null,null,null,null,null,null,null,null,null,null,null,null,null,null,null,null,null,null,null,null,null,null,null,null,null,20,"Tataltepec de Valdés"]
[null,null,null,null,null,null,null,null,null,null,null,null,null,null,null,null,null,null,null,null,null,null,null,null,null,null,null,null,null,null,null,null,null,null,null,null,null,null,null,null,null,20,"Teococuilco de Marcos Pérez"]
[null,null,null,null,null,null,null,null,null,null,null,null,null,null,null,null,null,null,null,null,null,null,null,null,null,null,null,null,null,null,null,null,null,null,null,null,null,null,null,null,null,20,"Teotitlán de Flores Magón"]
[null,null,null,null,null,null,null,null,null,null,null,null,null,null,null,null,null,null,null,null,null,null,null,null,null,null,null,null,null,null,null,null,null,null,null,null,null,null,null,null,null,20,"Teotitlán del Valle"]
[null,null,null,null,null,null,null,null,null,null,null,null,null,null,null,null,null,null,null,null,null,null,null,null,null,null,null,null,null,null,null,null,null,null,null,null,null,null,null,null,null,20,"Teotongo"]
[null,null,null,null,null,null,null,null,null,null,null,null,null,null,null,null,null,null,null,null,null,null,null,null,null,null,null,null,null,null,null,null,null,null,null,null,null,null,null,null,null,20,"Tepelmeme Villa de Morelos"]
[null,null,null,null,null,null,null,null,null,null,null,null,null,null,null,null,null,null,null,null,null,null,null,null,null,null,null,null,null,null,null,null,null,null,null,null,null,null,null,null,null,20,"Tlacolula de Matamoros"]
[null,null,null,null,null,null,null,null,null,null,null,null,null,null,null,null,null,null,null,null,null,null,null,null,null,null,null,null,null,null,null,null,null,null,null,null,null,null,null,null,null,20,"Tlacotepec Plumas"]
[null,null,null,null,null,null,null,null,null,null,null,null,null,null,null,null,null,null,null,null,null,null,null,null,null,null,null,null,null,null,null,null,null,null,null,null,null,null,null,null,null,20,"Tlalixtac de Cabrera"]
[null,null,null,null,null,null,null,null,null,null,null,null,null,null,null,null,null,null,null,null,null,null,null,null,null,null,null,null,null,null,null,null,null,null,null,null,null,null,null,null,null,20,"Totontepec Villa de Morelos"]
[null,null,null,null,null,null,null,null,null,null,null,null,null,null,null,null,null,null,null,null,null,null,null,null,null,null,null,null,null,null,null,null,null,null,null,null,null,null,null,null,null,20,"Trinidad Zaachila"]
[null,null,null,null,null,null,null,null,null,null,null,null,null,null,null,null,null,null,null,null,null,null,null,null,null,null,null,null,null,null,null,null,null,null,null,null,null,null,null,null,null,20,"Unión Hidalgo"]
[null,null,null,null,null,null,null,null,null,null,null,null,null,null,null,null,null,null,null,null,null,null,null,null,null,null,null,null,null,null,null,null,null,null,null,null,null,null,null,null,null,20,"Valerio Trujano"]
[null,null,null,null,null,null,null,null,null,null,null,null,null,null,null,null,null,null,null,null,null,null,null,null,null,null,null,null,null,null,null,null,null,null,null,null,null,null,null,null,null,20,"Villa de Chilapa de Díaz"]
[null,null,null,null,null,null,null,null,null,null,null,null,null,null,null,null,null,null,null,null,null,null,null,null,null,null,null,null,null,null,null,null,null,null,null,null,null,null,null,null,null,20,"Villa de Etla"]
[null,null,null,null,null,null,null,null,null,null,null,null,null,null,null,null,null,null,null,null,null,null,null,null,null,null,null,null,null,null,null,null,null,null,null,null,null,null,null,null,null,20,"Villa de Tamazulápam del Progreso"]
[null,null,null,null,null,null,null,null,null,null,null,null,null,null,null,null,null,null,null,null,null,null,null,null,null,null,null,null,null,null,null,null,null,null,null,null,null,null,null,null,null,20,"Villa de Tututepec de Melchor Ocampo"]
[null,null,null,null,null,null,null,null,null,null,null,null,null,null,null,null,null,null,null,null,null,null,null,null,null,null,null,null,null,null,null,null,null,null,null,null,null,null,null,null,null,20,"Villa de Zaachila"]
[null,null,null,null,null,null,null,null,null,null,null,null,null,null,null,null,null,null,null,null,null,null,null,null,null,null,null,null,null,null,null,null,null,null,null,null,null,null,null,null,null,20,"Villa Díaz Ordaz"]
[null,null,null,null,null,null,null,null,null,null,null,null,null,null,null,null,null,null,null,null,null,null,null,null,null,null,null,null,null,null,null,null,null,null,null,null,null,null,null,null,null,20,"Villa Hidalgo"]
[null,null,null,null,null,null,null,null,null,null,null,null,null,null,null,null,null,null,null,null,null,null,null,null,null,null,null,null,null,null,null,null,null,null,null,null,null,null,null,null,null,20,"Villa Sola de Vega"]
[null,null,null,null,null,null,null,null,null,null,null,null,null,null,null,null,null,null,null,null,null,null,null,null,null,null,null,null,null,null,null,null,null,null,null,null,null,null,null,null,null,20,"Villa Talea de Castro"]
[null,null,null,null,null,null,null,null,null,null,null,null,null,null,null,null,null,null,null,null,null,null,null,null,null,null,null,null,null,null,null,null,null,null,null,null,null,null,null,null,null,20,"Villa Tejúpam de la Unión"]
[null,null,null,null,null,null,null,null,null,null,null,null,null,null,null,null,null,null,null,null,null,null,null,null,null,null,null,null,null,null,null,null,null,null,null,null,null,null,null,null,null,20,"Yaxe"]
[null,null,null,null,null,null,null,null,null,null,null,null,null,null,null,null,null,null,null,null,null,null,null,null,null,null,null,null,null,null,null,null,null,null,null,null,null,null,null,null,null,20,"Yogana"]
[null,null,null,null,null,null,null,null,null,null,null,null,null,null,null,null,null,null,null,null,null,null,null,null,null,null,null,null,null,null,null,null,null,null,null,null,null,null,null,null,null,20,"Yutanduchi de Guerrero"]
[null,null,null,null,null,null,null,null,null,null,null,null,null,null,null,null,null,null,null,null,null,null,null,null,null,null,null,null,null,null,null,null,null,null,null,null,null,null,null,null,null,20,"Zapotitlán Lagunas"]
[null,null,null,null,null,null,null,null,null,null,null,null,null,null,null,null,null,null,null,null,null,null,null,null,null,null,null,null,null,null,null,null,null,null,null,null,null,null,null,null,null,20,"Zapotitlán Palmas"]
[null,null,null,null,null,null,null,null,null,null,null,null,null,null,null,null,null,null,null,null,null,null,null,null,null,null,null,null,null,null,null,null,null,null,null,null,null,null,null,null,null,20,"Zimatlán de Álvarez"]

{"sheet":"Formato 1","index":3,"n_rows":81,"n_cols":6,"rows_kept":81,"cut":false,"hidden":false,"merged":[[1,0,1,5],[2,0,2,5],[3,0,3,5],[4,0,4,5],[0,0,0,5]]}
["Formato 1 Estado de Situación Financiera Detallado - LDF"]
[{"$f":"ENTE_PUBLICO_A","v":"INSTITUTO SALMANTINO PARA LAS PERSONAS CON DISCAPACIDAD, Gobierno del Estado de Guanajuato (a)"}]
["Estado de Situación Financiera Detallado - LDF"]
[{"$f":"PERIODO_INFORME","v":"Al 31 de diciembre de 2019 y al 31 de diciembre de 2020 (b)"}]
["(PESOS)"]
["   Concepto (c)",{"$f":"ANIO","v":"2020 (d)"},{"$f":"ULTIMO","v":"31 de diciembre de 2019 (e)"},"Concepto (c)",{"$f":"ANIO","v":"2020 (d)"},{"$f":"ULTIMO","v":"31 de diciembre de 2019 (e)"}]
["ACTIVO",null,null,"PASIVO"]
["Activo Circulante",null,null,"Pasivo Circulante"]
["a. Efectivo y Equivalentes (a=a1+a2+a3+a4+a5+a6+a7)",595439.98,{"$f":"SUM(C10:C16)","v":506485.61},"a. Cuentas por Pagar a Corto Plazo (a=a1+a2+a3+a4+a5+a6+a7+a8+a9)",102791.22,{"$f":"SUM(F10:F18)","v":68139.990000000005}]
["a1) Efectivo",4964,46616,"a1) Servicios Personales por Pagar a Corto Plazo",0,0]
["a2) Bancos/Tesorería",null,null,"a2) Proveedores por Pagar a Corto Plazo",13769,2]
["a3) Bancos/Dependencias y Otros",590475.98,459869.61,"a3) Contratistas por Obras Públicas por Pagar a Corto Plazo"]
["a4) Inversiones Temporales (Hasta 3 meses)",null,null,"a4) Participaciones y Aportaciones por Pagar a Corto Plazo"]
["a5) Fondos con Afectación Específica",null,null,"a5) Transferencias Otorgadas por Pagar a Corto Plazo"]
["a6) Depósitos de Fondos de Terceros en Garantía y/o Administración",null,null,"a6) Intereses, Comisiones y Otros Gastos de la Deuda Pública por Pagar a Corto Plazo"]
["a7) Otros Efectivos y Equivalentes",null,null,"a7) Retenciones y Contribuciones por Pagar a Corto Plazo",89022.22,68137.990000000005]
["b. Derechos a Recibir Efectivo o Equivalentes (b=b1+b2+b3+b4+b5+b6+b7)",12160.45,{"$f":"SUM(C18:C24)","v":7375.36},"a8) Devoluciones de la Ley de Ingresos por Pagar a Corto Plazo"]
["b1) Inversiones Financieras de Corto Plazo",null,null,"a9) Otras Cuentas por Pagar a Corto Plazo",0,0]
["b2) Cuentas por Cobrar a Corto Plazo",2758.8,2695.8,"b. Documentos por Pagar a Corto Plazo (b=b1+b2+b3)",{"$f":"SUM(E20:E22)","v":0},{"$f":"SUM(F20:F22)","v":0}]
["b3) Deudores Diversos por Cobrar a Corto Plazo",8848.19,1362.99,"b1) Documentos Comerciales por Pagar a Corto Plazo"]
["b4) Ingresos por Recuperar a Corto Plazo",null,null,"b2) Documentos con Contratistas por Obras Públicas por Pagar a Corto Plazo"]
["b5) Deudores por Anticipos de la Tesorería a Corto Plazo",494.99,3000,"b3) Otros Documentos por Pagar a Corto Plazo"]
["b6) Préstamos Otorgados a Corto Plazo",null,null,"c. Porción a Corto Plazo de la Deuda Pública a Largo Plazo (c=c1+c2)",{"$f":"E24+E25","v":0},{"$f":"F24+F25","v":0}]
["b7) Otros Derechos a Recibir Efectivo o Equivalentes a Corto Plazo",58.47,316.57,"c1) Porción a Corto Plazo de la Deuda Pública"]
["c. Derechos a Recibir Bienes o Servicios (c=c1+c2+c3+c4+c5)",30,{"$f":"SUM(C26:C30)","v":19885},"c2) Porción a Corto Plazo de Arrendamiento Financiero"]
["c1) Anticipo a Proveedores por Adquisición de Bienes y Prestación de Servicios a Corto Plazo",null,null,"d. Títulos y Valores a Corto Plazo"]
["c2) Anticipo a Proveedores por Adquisición de Bienes Inmuebles y Muebles a Corto Plazo",30,19885,"e. Pasivos Diferidos a Corto Plazo (e=e1+e2+e3)",{"$f":"SUM(E28:E30)","v":0},{"$f":"SUM(F28:F30)","v":0}]
["c3) Anticipo a Proveedores por Adquisición de Bienes Intangibles a Corto Plazo",null,null,"e1) Ingresos Cobrados por Adelantado a Corto Plazo"]
["c4) Anticipo a Contratistas por Obras Públicas a Corto Plazo",null,null,"e2) Intereses Cobrados por Adelantado a Corto Plazo"]
["c5) Otros Derechos a Recibir Bienes o Servicios a Corto Plazo",null,null,"e3) Otros Pasivos Diferidos a Corto Plazo"]
["d. Inventarios (d=d1+d2+d3+d4+d5)",{"$f":"SUM(B32:B36)","v":0},{"$f":"SUM(C32:C36)","v":0},"f. Fondos y Bienes de Terceros en Garantía y/o Administración a Corto Plazo (f=f1+f2+f3+f4+f5+f6)",{"$f":"SUM(E32:E37)","v":0},{"$f":"SUM(F32:F37)","v":0}]
["d1) Inventario de Mercancías para Venta",null,null,"f1) Fondos en Garantía a Corto Plazo"]
["d2) Inventario de Mercancías Terminadas",null,null,"f2) Fondos en Administración a Corto Plazo"]
["d3) Inventario de Mercancías en Proceso de Elaboración",null,null,"f3) Fondos Contingentes a Corto Plazo"]
["d4) Inventario de Materias Primas, Materiales y Suministros para Producción",null,null,"f4) Fondos de Fideicomisos, Mandatos y Contratos Análogos a Corto Plazo"]
["d5) Bienes en Tránsito",null,null,"f5) Otros Fondos de Terceros en Garantía y/o Administración a Corto Plazo"]
["e. Almacenes",null,null,"f6) Valores y Bienes en Garantía a Corto Plazo"]
["f.  Estimación por Pérdida o Deterioro de Activos Circulantes (f=f1+f2)",{"$f":"SUM(B39:B40)","v":0},{"$f":"SUM(C39:C40)","v":0},"g. Provisiones a Corto Plazo (g=g1+g2+g3)",{"$f":"SUM(E39:E41)","v":0},{"$f":"SUM(F39:F41)","v":0}]
["f1) Estimaciones para Cuentas Incobrables por Derechos a Recibir Efectivo o Equivalentes",null,null,"g1) Provisión para Demandas y Juicios a Corto Plazo"]
["f2) Estimación por Deterioro de Inventarios",null,null,"g2) Provisión para Contingencias a Corto Plazo"]
["g. Otros Activos Circulantes (g=g1+g2+g3+g4)",{"$f":"SUM(B42:B45)","v":0},{"$f":"SUM(C42:C45)","v":0},"g3) Otras Provisiones a Corto Plazo"]
["g1) Valores en Garantía",null,null,"h. Otros Pasivos a Corto Plazo (h=h1+h2+h3)",{"$f":"SUM(E43:E45)","v":0},{"$f":"SUM(F43:F45)","v":0}]
["g2) Bienes en Garantía (excluye depósitos de fondos)",null,null,"h1) Ingresos por Clasificar"]
["g3) Bienes Derivados de Embargos, Decomisos, Aseguramientos y Dación en Pago",null,null,"h2) Recaudación por Participar"]
["g4) Adquisición con Fondos de Terceros",null,null,"h3) Otros Pasivos Circulantes"]
[]
["IA. Total de Activos Circulantes (IA = a + b + c + d + e + f + g)",{"$f":"B9+B17+B25+B31+B38+B41","v":607630.42999999993},{"$f":"C9+C17+C25+C31+C38+C41","v":533745.97},"IIA. Total de Pasivos Circulantes (IIA = a + b + c + d + e + f + g + h)",{"$f":"E9+E19+E23+E26+E27+E31+E38+E42","v":102791.22},{"$f":"F9+F19+F23+F26+F27+F31+F38+F42","v":68139.990000000005}]
[]
["Activo No Circulante",null,null,"Pasivo No Circulante"]
["a. Inversiones Financieras a Largo Plazo",0,0,"a. Cuentas por Pagar a Largo Plazo"]
["b. Derechos a Recibir Efectivo o Equivalentes a Largo Plazo ",0,0,"b. Documentos por Pagar a Largo Plazo"]
["c. Bienes Inmuebles, Infraestructura y Construcciones en Proceso ",0,0,"c. Deuda Pública a Largo Plazo"]
["d. Bienes Muebles ",332684.44,290315.82,"d. Pasivos Diferidos a Largo Plazo"]
["e. Activos Intangibles ",43000,43000,"e. Fondos y Bienes de Terceros en Garantía y/o en Administración a Largo Plazo"]
["f. Depreciación, Deterioro y Amortización Acumulada de Bienes ",-120430.69,-51729.89,"f. Provisiones a Largo Plazo"]
["g. Activos Diferidos",0,0]
["h. Estimación por Pérdida o Deterioro de Activos no Circulantes",0,0,"IIB. Total de Pasivos No Circulantes (IIB = a + b + c + d + e + f)",{"$f":"SUM(E50:E55)","v":0},{"$f":"SUM(F50:F55)","v":0}]
["i. Otros Activos no Circulantes",0,0]
[null,null,null,"II. Total del Pasivo (II = IIA + IIB)",{"$f":"E47+E57","v":102791.22},{"$f":"F47+F57","v":68139.990000000005}]
["IB. Total de Activos No Circulantes (IB = a + b + c + d + e + f + g + h + i)",{"$f":"SUM(B50:B58)","v":255253.75},{"$f":"SUM(C50:C58)","v":281585.93}]
[null,null,null,"HACIENDA PÚBLICA/PATRIMONIO"]
["I. Total del Activo (I = IA + IB)",{"$f":"SUM(B47+B60)","v":862884.17999999993},{"$f":"SUM(C47+C60)","v":815331.89999999991}]
[null,null,null,"IIIA. Hacienda Pública/Patrimonio Contribuido (IIIA = a + b + c)",{"$f":"SUM(E64:E66)","v":0},{"$f":"SUM(F64:F66)","v":0}]
[null,null,null,"a. Aportaciones"]
[null,null,null,"b. Donaciones de Capital"]
[null,null,null,"c. Actualización de la Hacienda Pública/Patrimonio"]
[]
[null,null,null,"IIIB. Hacienda Pública/Patrimonio Generado (IIIB = a + b + c + d + e)",760092.96,{"$f":"SUM(F69:F73)","v":747191.91}]
[null,null,null,"a. Resultados del Ejercicio (Ahorro/ Desahorro)",78199.77,552955.39]
[null,null,null,"b. Resultados de Ejercicios Anteriores",681893.19,194236.52]
[null,null,null,"c. Revalúos",0,0]
[null,null,null,"d. Reservas",0,0]
[null,null,null,"e. Rectificaciones de Resultados de Ejercicios Anteriores",0,0]
[]
[null,null,null,"IIIC. Exceso o Insuficiencia en la Actualización de la Hacienda Pública/Patrimonio (IIIC=a+b)",{"$f":"E76+E77","v":0},{"$f":"F76+F77","v":0}]
[null,null,null,"a. Resultado por Posición Monetaria"]
[null,null,null,"b. Resultado por Tenencia de Activos no Monetarios"]
[]
[null,null,null,"III. Total Hacienda Pública/Patrimonio (III = IIIA + IIIB + IIIC)",{"$f":"E63+E68+E75","v":760092.96},{"$f":"F63+F68+F75","v":747191.91}]
[]
[null,null,null,"IV. Total del Pasivo y Hacienda Pública/Patrimonio (IV = II + III)",{"$f":"E59+E79","v":862884.17999999993},{"$f":"F59+F79","v":815331.9}]

{"sheet":"F01","index":4,"n_rows":120,"n_cols":17,"rows_kept":120,"cut":false,"hidden":true,"merged":[]}
["CLAVE","N1","N2","N3","N4","N5","N6","N7","C  O  N  C  E  P  T  O  S",null,null,null,null,null,null,"EDO_ACT","EDO_ANT"]
[{"$f":"IF(LEN(CLEAN(B2))=0,\"0\",B2)&\",\"&IF(LEN(CLEAN(C2))=0,\"0\",C2)&\",\"&IF(LEN(CLEAN(D2))=0,\"0\",D2)&\",\"&IF(LEN(CLEAN(E2))=0,\"0\",E2)&\",\"&IF(LEN(CLEAN(F2))=0,\"0\",F2)&\",\"&IF(LEN(CLEAN(G2))=0,\"0\",G2)&\",\"&IF(LEN(CLEAN(H2))=0,\"0\",H2)","v":"1,1,0,0,0,0,0"},1,1,null,null,null,null,null,"ACTIVO",null,null,null,null,null,null," "," "]
[{"$f":"IF(LEN(CLEAN(B3))=0,\"0\",B3)&\",\"&IF(LEN(CLEAN(C3))=0,\"0\",C3)&\",\"&IF(LEN(CLEAN(D3))=0,\"0\",D3)&\",\"&IF(LEN(CLEAN(E3))=0,\"0\",E3)&\",\"&IF(LEN(CLEAN(F3))=0,\"0\",F3)&\",\"&IF(LEN(CLEAN(G3))=0,\"0\",G3)&\",\"&IF(LEN(CLEAN(H3))=0,\"0\",H3)","v":"1,1,1,0,0,0,0"},1,1,1,null,null,null,null,null,"Activo Circulante",null,null,null,null,null," "," "]
["1,1,1,1,0,0,0",1,1,1,1,null,null,null,null,null,"Efectivo y Equivalentes",null,null,null,null,{"$f":"'Formato 1'!B9","v":595439.98},{"$f":"'Formato 1'!C9","v":506485.61}]
["1,1,1,1,1,0,0",1,1,1,1,1,null,null,null,null,null,"Efectivo",null,null,null,{"$f":"'Formato 1'!B10","v":4964},{"$f":"'Formato 1'!C10","v":46616}]
["1,1,1,1,2,0,0",1,1,1,1,2,null,null,null,null,null,"Bancos/Tesorería",null,null,null,{"$f":"'Formato 1'!B11","v":0},{"$f":"'Formato 1'!C11","v":0}]
["1,1,1,1,3,0,0",1,1,1,1,3,null,null,null,null,null,"Bancos/Dependencias y Otros",null,null,null,{"$f":"'Formato 1'!B12","v":590475.98},{"$f":"'Formato 1'!C12","v":459869.61}]
["1,1,1,1,4,0,0",1,1,1,1,4,null,null,null,null,null,"Inversiones Temporales (Hasta 3 meses)",null,null,null,{"$f":"'Formato 1'!B13","v":0},{"$f":"'Formato 1'!C13","v":0}]
["1,1,1,1,5,0,0",1,1,1,1,5,null,null,null,null,null,"Fondos con Afectación Específica",null,null,null,{"$f":"'Formato 1'!B14","v":0},{"$f":"'Formato 1'!C14","v":0}]
["1,1,1,1,6,0,0",1,1,1,1,6,null,null,null,null,null,"Depósitos de Fondos de Terceros en Garantía y/o Administración",null,null,null,{"$f":"'Formato 1'!B15","v":0},{"$f":"'Formato 1'!C15","v":0}]
["1,1,1,1,7,0,0",1,1,1,1,7,null,null,null,null,null,"Otros Efectivos y Equivalentes",null,null,null,{"$f":"'Formato 1'!B16","v":0},{"$f":"'Formato 1'!C16","v":0}]
["1,1,1,2,0,0,0",1,1,1,2,null,null,null,null,null,"Derechos a Recibir Efectivo o Equivalentes",null,null,null,null,{"$f":"'Formato 1'!B17","v":12160.45},{"$f":"'Formato 1'!C17","v":7375.36}]
["1,1,1,2,1,0,0",1,1,1,2,1,null,null,null,null,null,"Inversiones Financieras de Corto Plazo",null,null,null,{"$f":"'Formato 1'!B18","v":0},{"$f":"'Formato 1'!C18","v":0}]
["1,1,1,2,2,0,0",1,1,1,2,2,null,null,null,null,null,"Cuentas por Cobrar a Corto Plazo",null,null,null,{"$f":"'Formato 1'!B19","v":2758.8},{"$f":"'Formato 1'!C19","v":2695.8}]
["1,1,1,2,3,0,0",1,1,1,2,3,null,null,null,null,null,"Deudores Diversos por Cobrar a Corto Plazo",null,null,null,{"$f":"'Formato 1'!B20","v":8848.19},{"$f":"'Formato 1'!C20","v":1362.99}]
["1,1,1,2,4,0,0",1,1,1,2,4,null,null,null,null,null,"Ingresos por Recuperar a Corto Plazo",null,null,null,{"$f":"'Formato 1'!B21","v":0},{"$f":"'Formato 1'!C21","v":0}]
["1,1,1,2,5,0,0",1,1,1,2,5,null,null,null,null,null,"Deudores por Anticipos de la Tesorería a Corto Plazo",null,null,null,{"$f":"'Formato 1'!B22","v":494.99},{"$f":"'Formato 1'!C22","v":3000}]
["1,1,1,2,6,0,0",1,1,1,2,6,null,null,null,null,null,"Préstamos Otorgados a Corto Plazo",null,null,null,{"$f":"'Formato 1'!B23","v":0},{"$f":"'Formato 1'!C23","v":0}]
["1,1,1,2,7,0,0",1,1,1,2,7,null,null,null,null,null,"Otros Derechos a Recibir Efectivo o Equivalentes a Corto Plazo",null,null,null,{"$f":"'Formato 1'!B24","v":58.47},{"$f":"'Formato 1'!C24","v":316.57}]
["1,1,1,3,0,0,0",1,1,1,3,null,null,null,null,null,"Derechos a Recibir Bienes o Servicios",null,null,null,null,{"$f":"'Formato 1'!B25","v":30},{"$f":"'Formato 1'!C25","v":19885}]
["1,1,1,3,1,0,0",1,1,1,3,1,null,null,null,null,null,"Anticipo a Proveedores por Adquisición de Bienes y Prestación de Servicios a Corto Plazo",null,null,null,{"$f":"'Formato 1'!B26","v":0},{"$f":"'Formato 1'!C26","v":0}]
["1,1,1,3,2,0,0",1,1,1,3,2,null,null,null,null,null,"Anticipo a Proveedores por Adquisición de Bienes Inmuebles y Muebles a Corto Plazo",null,null,null,{"$f":"'Formato 1'!B27","v":30},{"$f":"'Formato 1'!C27","v":19885}]
["1,1,1,3,3,0,0",1,1,1,3,3,null,null,null,null,null,"Anticipo a Proveedores por Adquisición de Bienes Intangibles a Corto Plazo",null,null,null,{"$f":"'Formato 1'!B28","v":0},{"$f":"'Formato 1'!C28","v":0}]
["1,1,1,3,4,0,0",1,1,1,3,4,null,null,null,null,null,"Anticipo a Contratistas por Obras Públicas a Corto Plazo",null,null,null,{"$f":"'Formato 1'!B29","v":0},{"$f":"'Formato 1'!C29","v":0}]
["1,1,1,3,5,0,0",1,1,1,3,5,null,null,null,null,null,"Otros Derechos a Recibir Bienes o Servicios a Corto Plazo",null,null,null,{"$f":"'Formato 1'!B30","v":0},{"$f":"'Formato 1'!C30","v":0}]
["1,1,1,4,0,0,0",1,1,1,4,null,null,null,null,null,"Inventarios",null,null,null,null,{"$f":"'Formato 1'!B31","v":0},{"$f":"'Formato 1'!C31","v":0}]
["1,1,1,4,1,0,0",1,1,1,4,1,null,null,null,null,null,"Inventario de Mercancías para Venta",null,null,null,{"$f":"'Formato 1'!B32","v":0},{"$f":"'Formato 1'!C32","v":0}]
["1,1,1,4,2,0,0",1,1,1,4,2,null,null,null,null,null,"Inventario de Mercancías Terminadas",null,null,null,{"$f":"'Formato 1'!B33","v":0},{"$f":"'Formato 1'!C33","v":0}]
["1,1,1,4,3,0,0",1,1,1,4,3,null,null,null,null,null,"Inventario de Mercancías en Proceso de Elaboración",null,null,null,{"$f":"'Formato 1'!B34","v":0},{"$f":"'Formato 1'!C34","v":0}]
["1,1,1,4,4,0,0",1,1,1,4,4,null,null,null,null,null,"Inventario de Materias Primas, Materiales y Suministros para Producción",null,null,null,{"$f":"'Formato 1'!B35","v":0},{"$f":"'Formato 1'!C35","v":0}]
["1,1,1,4,5,0,0",1,1,1,4,5,null,null,null,null,null,"Bienes en Tránsito",null,null,null,{"$f":"'Formato 1'!B36","v":0},{"$f":"'Formato 1'!C36","v":0}]
["1,1,1,5,0,0,0",1,1,1,5,null,null,null,null,null,"Almacenes",null,null,null,null,{"$f":"'Formato 1'!B37","v":0},{"$f":"'Formato 1'!C37","v":0}]
["1,1,1,5,1,0,0",1,1,1,5,1,null,null,null,null,null,"Almacenes",null,null,null,{"$f":"'Formato 1'!B37","v":0},{"$f":"'Formato 1'!C37","v":0}]
["1,1,1,6,0,0,0",1,1,1,6,null,null,null,null,null,"Estimación por Pérdida o Deterioro de Activos Circulantes",null,null,null,null,{"$f":"'Formato 1'!B38","v":0},{"$f":"'Formato 1'!C38","v":0}]
["1,1,1,6,1,0,0",1,1,1,6,1,null,null,null,null,null,"Estimaciones para Cuentas Incobrables por Derechos a Recibir Efectivo o Equivalentes",null,null,null,{"$f":"'Formato 1'!B39","v":0},{"$f":"'Formato 1'!C39","v":0}]
["1,1,1,6,2,0,0",1,1,1,6,2,null,null,null,null,null,"Estimación por Deterioro de Inventarios",null,null,null,{"$f":"'Formato 1'!B40","v":0},{"$f":"'Formato 1'!C40","v":0}]
["1,1,1,7,0,0,0",1,1,1,7,null,null,null,null,null,"Otros Activos Circulantes",null,null,null,null,{"$f":"'Formato 1'!B41","v":0},{"$f":"'Formato 1'!C41","v":0}]
["1,1,1,7,1,0,0",1,1,1,7,1,null,null,null,null,null,"Valores en Garantía",null,null,null,{"$f":"'Formato 1'!B42","v":0},{"$f":"'Formato 1'!C42","v":0}]
["1,1,1,7,2,0,0",1,1,1,7,2,null,null,null,null,null,"Bienes en Garantía (excluye depósitos de fondos)",null,null,null,{"$f":"'Formato 1'!B43","v":0},{"$f":"'Formato 1'!C43","v":0}]
["1,1,1,7,3,0,0",1,1,1,7,3,null,null,null,null,null,"Bienes Derivados de Embargos, Decomisos, Aseguramientos y Dación en Pago",null,null,null,{"$f":"'Formato 1'!B44","v":0},{"$f":"'Formato 1'!C44","v":0}]
["1,1,1,7,4,0,0",1,1,1,7,4,null,null,null,null,null,"Adquisición con Fondos de Terceros",null,null,null,{"$f":"'Formato 1'!B45","v":0},{"$f":"'Formato 1'!C45","v":0}]
["1,1,1,8,0,0,0",1,1,1,8,null,null,null,null,null,"Total de Activos Circulantes",null,null,null,null,{"$f":"'Formato 1'!B47","v":607630.42999999993},{"$f":"'Formato 1'!C47","v":533745.97}]
["1,1,2,0,0,0,0",1,1,2,null,null,null,null,null,"Activo No Circulante"]
["1,1,2,1,0,0,0",1,1,2,1,null,null,null,null,null,"Inversiones Financieras a Largo Plazo",null,null,null,null,{"$f":"'Formato 1'!B50","v":0},{"$f":"'Formato 1'!C50","v":0}]
["1,1,2,2,0,0,0",1,1,2,2,null,null,null,null,null,"Derechos a Recibir Efectivo o Equivalentes a Largo Plazo ",null,null,null,null,{"$f":"'Formato 1'!B51","v":0},{"$f":"'Formato 1'!C51","v":0}]
["1,1,2,3,0,0,0",1,1,2,3,null,null,null,null,null,"Bienes Inmuebles, Infraestructura y Construcciones en Proceso ",null,null,null,null,{"$f":"'Formato 1'!B52","v":0},{"$f":"'Formato 1'!C52","v":0}]
["1,1,2,4,0,0,0",1,1,2,4,null,null,null,null,null,"Bienes Muebles ",null,null,null,null,{"$f":"'Formato 1'!B53","v":332684.44},{"$f":"'Formato 1'!C53","v":290315.82}]
["1,1,2,5,0,0,0",1,1,2,5,null,null,null,null,null,"Activos Intangibles ",null,null,null,null,{"$f":"'Formato 1'!B54","v":43000},{"$f":"'Formato 1'!C54","v":43000}]
["1,1,2,6,0,0,0",1,1,2,6,null,null,null,null,null,"Depreciación, Deterioro y Amortización Acumulada de Bienes ",null,null,null,null,{"$f":"'Formato 1'!B55","v":-120430.69},{"$f":"'Formato 1'!C55","v":-51729.89}]
["1,1,2,7,0,0,0",1,1,2,7,null,null,null,null,null,"Activos Diferidos",null,null,null,null,{"$f":"'Formato 1'!B56","v":0},{"$f":"'Formato 1'!C56","v":0}]
["1,1,2,8,0,0,0",1,1,2,8,null,null,null,null,null,"Estimación por Pérdida o Deterioro de Activos no Circulantes",null,null,null,null,{"$f":"'Formato 1'!B57","v":0},{"$f":"'Formato 1'!C57","v":0}]
["1,1,2,9,0,0,0",1,1,2,9,null,null,null,null,null,"Otros Activos no Circulantes",null,null,null,null,{"$f":"'Formato 1'!B58","v":0},{"$f":"'Formato 1'!C58","v":0}]
["1,1,2,10,0,0,0",1,1,2,10,null,null,null,null,"Total de Activos No Circulantes",null,null,null,null,null,{"$f":"'Formato 1'!B60","v":255253.75},{"$f":"'Formato 1'!C60","v":281585.93}]
["1,1,3,0,0,0,0",1,1,3,null,null,null,null,null,"Total del Activo",null,null,null,null,null,{"$f":"'Formato 1'!B62","v":862884.17999999993},{"$f":"'Formato 1'!C62","v":815331.89999999991}]
["1,2,0,0,0,0,0",1,2,null,null,null,null,null,"PASIVO"]
["1,2,1,0,0,0,0",1,2,1,null,null,null,null,null,"Pasivo Circulante"]
["1,2,1,1,0,0,0",1,2,1,1,null,null,null,null,null,"Cuentas por Pagar a Corto Plazo",null,null,null,null,{"$f":"'Formato 1'!E9","v":102791.22},{"$f":"'Formato 1'!F9","v":68139.990000000005}]
["1,2,1,1,1,0,0",1,2,1,1,1,null,null,null,null,null,"Servicios Personales por Pagar a Corto Plazo",null,null,null,{"$f":"'Formato 1'!E10","v":0},{"$f":"'Formato 1'!F10","v":0}]
["1,2,1,1,2,0,0",1,2,1,1,2,null,null,null,null,null,"Proveedores por Pagar a Corto Plazo",null,null,null,{"$f":"'Formato 1'!E11","v":13769},{"$f":"'Formato 1'!F11","v":2}]
["1,2,1,1,3,0,0",1,2,1,1,3,null,null,null,null,null,"Contratistas por Obras Públicas por Pagar a Corto Plazo",null,null,null,{"$f":"'Formato 1'!E12","v":0},{"$f":"'Formato 1'!F12","v":0}]
["1,2,1,1,4,0,0",1,2,1,1,4,null,null,null,null,null,"Participaciones y Aportaciones por Pagar a Corto Plazo",null,null,null,{"$f":"'Formato 1'!E13","v":0},{"$f":"'Formato 1'!F13","v":0}]
["1,2,1,1,5,0,0",1,2,1,1,5,null,null,null,null,null,"Transferencias Otorgadas por Pagar a Corto Plazo",null,null,null,{"$f":"'Formato 1'!E14","v":0},{"$f":"'Formato 1'!F14","v":0}]
["1,2,1,1,6,0,0",1,2,1,1,6,null,null,null,null,null,"Intereses, Comisiones y Otros Gastos de la Deuda Pública por Pagar a Corto Plazo",null,null,null,{"$f":"'Formato 1'!E15","v":0},{"$f":"'Formato 1'!F15","v":0}]
["1,2,1,1,7,0,0",1,2,1,1,7,null,null,null,null,null,"Retenciones y Contribuciones por Pagar a Corto Plazo",null,null,null,{"$f":"'Formato 1'!E16","v":89022.22},{"$f":"'Formato 1'!F16","v":68137.990000000005}]
["1,2,1,1,8,0,0",1,2,1,1,8,null,null,null,null,null,"Devoluciones de la Ley de Ingresos por Pagar a Corto Plazo",null,null,null,{"$f":"'Formato 1'!E17","v":0},{"$f":"'Formato 1'!F17","v":0}]
["1,2,1,1,9,0,0",1,2,1,1,9,null,null,null,null,null,"Otras Cuentas por Pagar a Corto Plazo",null,null,null,{"$f":"'Formato 1'!E18","v":0},{"$f":"'Formato 1'!F18","v":0}]
[{"$f":"IF(LEN(CLEAN(B67))=0,\"0\",B67)&\",\"&IF(LEN(CLEAN(C67))=0,\"0\",C67)&\",\"&IF(LEN(CLEAN(D67))=0,\"0\",D67)&\",\"&IF(LEN(CLEAN(E67))=0,\"0\",E67)&\",\"&IF(LEN(CLEAN(F67))=0,\"0\",F67)&\",\"&IF(LEN(CLEAN(G67))=0,\"0\",G67)&\",\"&IF(LEN(CLEAN(H67))=0,\"0\",H67)","v":"1,2,1,2,0,0,0"},1,2,1,2,null,null,null,null,null,"Documentos por Pagar a Corto Plazo",null,null,null,null,{"$f":"'Formato 1'!E19","v":0},{"$f":"'Formato 1'!F19","v":0}]
["1,2,1,2,1,0,0",1,2,1,2,1,null,null,null,null,null,"Documentos Comerciales por Pagar a Corto Plazo",null,null,null,{"$f":"'Formato 1'!E20","v":0},{"$f":"'Formato 1'!F20","v":0}]
["1,2,1,2,2,0,0",1,2,1,2,2,null,null,null,null,null,"Documentos con Contratistas por Obras Públicas por Pagar a Corto Plazo",null,null,null,{"$f":"'Formato 1'!E21","v":0},{"$f":"'Formato 1'!F21","v":0}]
["1,2,1,2,3,0,0",1,2,1,2,3,null,null,null,null,null,"Otros Documentos por Pagar a Corto Plazo",null,null,null,{"$f":"'Formato 1'!E22","v":0},{"$f":"'Formato 1'!F22","v":0}]
["1,2,1,3,0,0,0",1,2,1,3,null,null,null,null,null,"Porción a Corto Plazo de la Deuda Pública a Largo Plazo",null,null,null,null,{"$f":"'Formato 1'!E23","v":0},{"$f":"'Formato 1'!F23","v":0}]
["1,2,1,3,1,0,0",1,2,1,3,1,null,null,null,null,null,"Porción a Corto Plazo de la Deuda Pública",null,null,null,{"$f":"'Formato 1'!E24","v":0},{"$f":"'Formato 1'!F24","v":0}]
["1,2,1,3,2,0,0",1,2,1,3,2,null,null,null,null,null,"Porción a Corto Plazo de Arrendamiento Financiero",null,null,null,{"$f":"'Formato 1'!E25","v":0},{"$f":"'Formato 1'!F25","v":0}]
["1,2,1,4,0,0,0",1,2,1,4,null,null,null,null,null,"Títulos y Valores a Corto Plazo",null,null,null,null,{"$f":"'Formato 1'!E26","v":0},{"$f":"'Formato 1'!F26","v":0}]
["1,2,1,4,1,0,0",1,2,1,4,1,null,null,null,null,null,"Títulos y Valores a Corto Plazo",null,null,null,{"$f":"'Formato 1'!E26","v":0},{"$f":"'Formato 1'!F26","v":0}]
["1,2,1,5,0,0,0",1,2,1,5,null,null,null,null,null,"Pasivos Diferidos a Corto Plazo",null,null,null,null,{"$f":"'Formato 1'!E27","v":0},{"$f":"'Formato 1'!F27","v":0}]
["1,2,1,5,1,0,0",1,2,1,5,1,null,null,null,null,null,"Ingresos Cobrados por Adelantado a Corto Plazo",null,null,null,{"$f":"'Formato 1'!E28","v":0},{"$f":"'Formato 1'!F28","v":0}]
["1,2,1,5,2,0,0",1,2,1,5,2,null,null,null,null,null,"Intereses Cobrados por Adelantado a Corto Plazo",null,null,null,{"$f":"'Formato 1'!E29","v":0},{"$f":"'Formato 1'!F29","v":0}]
["1,2,1,5,3,0,0",1,2,1,5,3,null,null,null,null,null,"Otros Pasivos Diferidos a Corto Plazo",null,null,null,{"$f":"'Formato 1'!E30","v":0},{"$f":"'Formato 1'!F30","v":0}]
["1,2,1,6,0,0,0",1,2,1,6,null,null,null,null,null,"Fondos y Bienes de Terceros en Garantía y/o Administración a Corto Plazo",null,null,null,null,{"$f":"'Formato 1'!E31","v":0},{"$f":"'Formato 1'!F31","v":0}]
["1,2,1,6,1,0,0",1,2,1,6,1,null,null,null,null,null,"Fondos en Garantía a Corto Plazo",null,null,null,{"$f":"'Formato 1'!E32","v":0},{"$f":"'Formato 1'!F32","v":0}]
["1,2,1,6,2,0,0",1,2,1,6,2,null,null,null,null,null,"Fondos en Administración a Corto Plazo",null,null,null,{"$f":"'Formato 1'!E33","v":0},{"$f":"'Formato 1'!F33","v":0}]
["1,2,1,6,3,0,0",1,2,1,6,3,null,null,null,null,null,"Fondos Contingentes a Corto Plazo",null,null,null,{"$f":"'Formato 1'!E34","v":0},{"$f":"'Formato 1'!F34","v":0}]
["1,2,1,6,4,0,0",1,2,1,6,4,null,null,null,null,null,"Fondos de Fideicomisos, Mandatos y Contratos Análogos a Corto Plazo",null,null,null,{"$f":"'Formato 1'!E35","v":0},{"$f":"'Formato 1'!F35","v":0}]
["1,2,1,6,5,0,0",1,2,1,6,5,null,null,null,null,null,"Otros Fondos de Terceros en Garantía y/o Administración a Corto Plazo",null,null,null,{"$f":"'Formato 1'!E36","v":0},{"$f":"'Formato 1'!F36","v":0}]
["1,2,1,6,6,0,0",1,2,1,6,6,null,null,null,null,null,"Valores y Bienes en Garantía a Corto Plazo",null,null,null,{"$f":"'Formato 1'!E37","v":0},{"$f":"'Formato 1'!F37","v":0}]
["1,2,1,7,0,0,0",1,2,1,7,null,null,null,null,null,"Provisiones a Corto Plazo",null,null,null,null,{"$f":"'Formato 1'!E38","v":0},{"$f":"'Formato 1'!F38","v":0}]
["1,2,1,7,1,0,0",1,2,1,7,1,null,null,null,null,null,"Provisión para Demandas y Juicios a Corto Plazo",null,null,null,{"$f":"'Formato 1'!E39","v":0},{"$f":"'Formato 1'!F39","v":0}]
["1,2,1,7,2,0,0",1,2,1,7,2,null,null,null,null,null,"Provisión para Contingencias a Corto Plazo",null,null,null,{"$f":"'Formato 1'!E40","v":0},{"$f":"'Formato 1'!F40","v":0}]
["1,2,1,7,3,0,0",1,2,1,7,3,null,null,null,null,null,"Otras Provisiones a Corto Plazo",null,null,null,{"$f":"'Formato 1'!E41","v":0},{"$f":"'Formato 1'!F41","v":0}]
["1,2,1,8,0,0,0",1,2,1,8,null,null,null,null,null,"Otros Pasivos a Corto Plazo",null,null,null,null,{"$f":"'Formato 1'!E42","v":0},{"$f":"'Formato 1'!F42","v":0}]
["1,2,1,8,1,0,0",1,2,1,8,1,null,null,null,null,null,"Ingresos por Clasificar",null,null,null,{"$f":"'Formato 1'!E43","v":0},{"$f":"'Formato 1'!F43","v":0}]
["1,2,1,8,2,0,0",1,2,1,8,2,null,null,null,null,null,"Recaudación por Participar",null,null,null,{"$f":"'Formato 1'!E44","v":0},{"$f":"'Formato 1'!F44","v":0}]
["1,2,1,8,3,0,0",1,2,1,8,3,null,null,null,null,null,"Otros Pasivos Circulantes",null,null,null,{"$f":"'Formato 1'!E45","v":0},{"$f":"'Formato 1'!F45","v":0}]
["1,2,1,9,0,0,0",1,2,1,9,null,null,null,null,null,"Total de Pasivos Circulantes",null,null,null,null,{"$f":"'Formato 1'!E47","v":102791.22},{"$f":"'Formato 1'!F47","v":68139.990000000005}]
["1,2,2,0,0,0,0",1,2,2,null,null,null,null,null,"Pasivo No Circulante"]
["1,2,2,1,1,0,0",1,2,2,1,1,null,null,null,null,"Cuentas por Pagar a Largo Plazo",null,null,null,null,{"$f":"'Formato 1'!E50","v":0},{"$f":"'Formato 1'!F50","v":0}]
["1,2,2,1,2,0,0",1,2,2,1,2,null,null,null,null,"Documentos por Pagar a Largo Plazo",null,null,null,null,{"$f":"'Formato 1'!E51","v":0},{"$f":"'Formato 1'!F51","v":0}]
["1,2,2,1,3,0,0",1,2,2,1,3,null,null,null,null,"Deuda Pública a Largo Plazo",null,null,null,null,{"$f":"'Formato 1'!E52","v":0},{"$f":"'Formato 1'!F52","v":0}]
["1,2,2,1,4,0,0",1,2,2,1,4,null,null,null,null,"Pasivos Diferidos a Largo Plazo",null,null,null,null,{"$f":"'Formato 1'!E53","v":0},{"$f":"'Formato 1'!F53","v":0}]
["1,2,2,1,5,0,0",1,2,2,1,5,null,null,null,null,"Fondos y Bienes de Terceros en Garantía y/o en Administración a Largo Plazo",null,null,null,null,{"$f":"'Formato 1'!E54","v":0},{"$f":"'Formato 1'!F54","v":0}]
["1,2,2,1,6,0,0",1,2,2,1,6,null,null,null,null,"Provisiones a Largo Plazo",null,null,null,null,{"$f":"'Formato 1'!E55","v":0},{"$f":"'Formato 1'!F55","v":0}]
["1,2,2,1,7,0,0",1,2,2,1,7,null,null,null,null,"Total de Pasivos No Circulantes",null,null,null,null,{"$f":"'Formato 1'!E57","v":0},{"$f":"'Formato 1'!F57","v":0}]
["1,2,3,0,0,0,0",1,2,3,null,null,null,null,null,"Total del Pasivo",null,null,null,null,null,{"$f":"'Formato 1'!E59","v":102791.22},{"$f":"'Formato 1'!F59","v":68139.990000000005}]
["1,2,4,0,0,0,0",1,2,4,null,null,null,null,null,"HACIENDA PÚBLICA/PATRIMONIO"]
["1,2,4,1,0,0,0",1,2,4,1,null,null,null,null,null,"Hacienda Pública/Patrimonio Contribuido",null,null,null,null,{"$f":"'Formato 1'!E63","v":0},{"$f":"'Formato 1'!F63","v":0}]
["1,2,4,1,1,0,0",1,2,4,1,1,null,null,null,null,null,"Aportaciones",null,null,null,{"$f":"'Formato 1'!E64","v":0},{"$f":"'Formato 1'!F64","v":0}]
["1,2,4,1,2,0,0",1,2,4,1,2,null,null,null,null,null,"Donaciones de Capital",null,null,null,{"$f":"'Formato 1'!E65","v":0},{"$f":"'Formato 1'!F65","v":0}]
["1,2,4,1,4,0,0",1,2,4,1,4,null,null,null,null,null,"Actualización de la Hacienda Pública/Patrimonio",null,null,null,{"$f":"'Formato 1'!E66","v":0},{"$f":"'Formato 1'!F66","v":0}]
["1,2,4,2,0,0,0",1,2,4,2,null,null,null,null,null,"Hacienda Pública/Patrimonio Generado",null,null,null,null,{"$f":"'Formato 1'!E68","v":760092.96},{"$f":"'Formato 1'!F68","v":747191.91}]
["1,2,4,2,1,0,0",1,2,4,2,1,null,null,null,null,null,"Resultados del Ejercicio (Ahorro/ Desahorro)",null,null,null,{"$f":"'Formato 1'!E69","v":78199.77},{"$f":"'Formato 1'!F69","v":552955.39}]
["1,2,4,2,2,0,0",1,2,4,2,2,null,null,null,null,null,"Resultados de Ejercicios Anteriores",null,null,null,{"$f":"'Formato 1'!E70","v":681893.19},{"$f":"'Formato 1'!F70","v":194236.52}]
["1,2,4,2,3,0,0",1,2,4,2,3,null,null,null,null,null,"Revalúos",null,null,null,{"$f":"'Formato 1'!E71","v":0},{"$f":"'Formato 1'!F71","v":0}]
["1,2,4,2,4,0,0",1,2,4,2,4,null,null,null,null,null,"Reservas",null,null,null,{"$f":"'Formato 1'!E72","v":0},{"$f":"'Formato 1'!F72","v":0}]
["1,2,4,2,5,0,0",1,2,4,2,5,null,null,null,null,null,"Rectificaciones de Resultados de Ejercicios Anteriores",null,null,null,{"$f":"'Formato 1'!E73","v":0},{"$f":"'Formato 1'!F73","v":0}]
["1,2,4,3,0,0,0",1,2,4,3,null,null,null,null,null,"Exceso o Insuficiencia en la Actualización de la Hacienda Pública/Patrimonio",null,null,null,null,{"$f":"'Formato 1'!E75","v":0},{"$f":"'Formato 1'!F75","v":0}]
["1,2,4,3,1,0,0",1,2,4,3,1,null,null,null,null,null,"Resultado por Posición Monetaria",null,null,null,{"$f":"'Formato 1'!E76","v":0},{"$f":"'Formato 1'!F76","v":0}]
["1,2,4,3,2,0,0",1,2,4,3,2,null,null,null,null,null,"Resultado por Tenencia de Activos no Monetarios",null,null,null,{"$f":"'Formato 1'!E77","v":0},{"$f":"'Formato 1'!F77","v":0}]
["1,2,4,4,0,0,0",1,2,4,4,null,null,null,null,null,"Total Hacienda Pública/Patrimonio",null,null,null,null,{"$f":"'Formato 1'!E79","v":760092.96},{"$f":"'Formato 1'!F79","v":747191.91}]
["1,2,4,5,0,0,0",1,2,4,5,null,null,null,null,null,"Total del Pasivo y Hacienda Pública/Patrimonio",null,null,null,null,{"$f":"'Formato 1'!E81","v":862884.17999999993},{"$f":"'Formato 1'!F81","v":815331.9}]

{"sheet":"Formato 2","index":5,"n_rows":45,"n_cols":8,"rows_kept":45,"cut":false,"hidden":false,"merged":[[32,0,36,7],[0,0,0,5],[0,6,0,7],[1,0,1,7],[2,0,2,7],[3,0,3,7],[4,0,4,7]]}
["Formato 2 Informe Analítico de la Deuda Pública y Otros Pasivos - LDF"]
[{"$f":"ENTE_PUBLICO_A","v":"INSTITUTO SALMANTINO PARA LAS PERSONAS CON DISCAPACIDAD, Gobierno del Estado de Guanajuato (a)"}]
["Informe Analítico de la Deuda Pública y Otros Pasivos - LDF"]
[{"$f":"PERIODO_INFORME","v":"Al 31 de diciembre de 2019 y al 31 de diciembre de 2020 (b)"}]
["(PESOS)"]
["Denominación de la Deuda Pública y Otros Pasivos (c)",{"$f":"ULTIMO_SALDO","v":"Saldo al 31 de diciembre de 2019 (d)"},"Disposiciones del Periodo (e)","Amortizaciones del Periodo (f)","Revaluaciones, Reclasificaciones y Otros Ajustes (g)","Saldo Final del Periodo (h)\nh=d+e-f+g","Pago de Intereses del Periodo (i)","Pago de Comisiones y demás costos asociados durante el Periodo (j)"]
[]
["1. Deuda Pública (1=A+B)",{"$f":"B9+B13","v":0},{"$f":"C9+C13","v":0},0,0,0,0,0]
["A. Corto Plazo (A=a1+a2+a3)",{"$f":"SUM(B10:B12)","v":0},{"$f":"SUM(C10:C12)","v":0},0,0,0,0,0]
["a1) Instituciones de Crédito"]
["a2) Títulos y Valores"]
["a3) Arrendamientos Financieros"]
["B. Largo Plazo (B=b1+b2+b3)",{"$f":"SUM(B14:B16)","v":0},{"$f":"SUM(C14:C16)","v":0},0,0,0,0,0]
["b1) Instituciones de Crédito"]
["b2) Títulos y Valores"]
["b3) Arrendamientos Financieros"]
[]
["2. Otros Pasivos ",0,null,null,null,0]
[]
["3. Total de la Deuda Pública y Otros Pasivos (3=1+2)",{"$f":"B8+B18","v":0},{"$f":"C8+C18","v":0},0,0,0,0,0]
[]
["4. Deuda Contingente 1 (Informativo)",{"$f":"SUM(B23:DEUDA_CONT_FIN_01)","v":0},{"$f":"SUM(C23:DEUDA_CONT_FIN_02)","v":0},{"$f":"SUM(D23:DEUDA_CONT_FIN_03)","v":0},{"$f":"SUM(E23:DEUDA_CONT_FIN_04)","v":0},{"$f":"SUM(F23:DEUDA_CONT_FIN_05)","v":0},{"$f":"SUM(G23:DEUDA_CONT_FIN_06)","v":0},{"$f":"SUM(H23:DEUDA_CONT_FIN_07)","v":0}]
["A. Deuda Contingente 1"]
["B. Deuda Contingente 2"]
["C. Deuda Contingente XX"]
["*"]
["5. Valor de Instrumentos Bono Cupón Cero 2 (Informativo)",{"$f":"SUM(B28:VALOR_INS_BCC_FIN_01)","v":0},{"$f":"SUM(C28:VALOR_INS_BCC_FIN_02)","v":0},{"$f":"SUM(D28:VALOR_INS_BCC_FIN_03)","v":0},{"$f":"SUM(E28:VALOR_INS_BCC_FIN_04)","v":0},{"$f":"SUM(F28:VALOR_INS_BCC_FIN_05)","v":0},{"$f":"SUM(G28:VALOR_INS_BCC_FIN_06)","v":0},{"$f":"SUM(H28:VALOR_INS_BCC_FIN_07)","v":0}]
["A. Instrumento Bono Cupón Cero 1"]
["B. Instrumento Bono Cupón Cero 2"]
["C. Instrumento Bono Cupón Cero XX"]
["*"]
[]
["1  Se refiere a cualquier Financiamiento sin fuente o garantía de pago definida, que sea asumida de manera solidaria o subsidiaria por las Entidades Federativas con sus Municipios, organismos descentralizados y empresas de participación estatal mayoritaria y fideicomisos, locales o municipales, y por los Municipios con sus respectivos organismos descentralizados y empresas de participación municipal mayoritaria.\n2  Se refiere al valor del Bono Cupón Cero que respalda el pago de los créditos asociados al mismo (Activo)."]
[]
[]
[]
[]
[]
["Obligaciones a Corto Plazo (k)","Monto Contratado (l)","Plazo Pactado (m)","Tasa de Interés (n)","Comisiones y Costos Relacionados (o)","Tasa Efectiva (p)"]
[]
["6. Obligaciones a Corto Plazo (Informativo)",{"$f":"SUM(B42:OB_CORTO_PLAZO_FIN_01)","v":0},{"$f":"SUM(C42:OB_CORTO_PLAZO_FIN_02)","v":0},{"$f":"SUM(D42:OB_CORTO_PLAZO_FIN_03)","v":0},{"$f":"SUM(E42:OB_CORTO_PLAZO_FIN_04)","v":0},{"$f":"SUM(F42:OB_CORTO_PLAZO_FIN_05)","v":0}]
["A. Crédito 1"]
["B. Crédito 2"]
["C. Crédito XX"]
["*"]

{"sheet":"F02","index":6,"n_rows":17,"n_cols":22,"rows_kept":17,"cut":false,"hidden":true,"merged":[]}
["CLAVE","N1","N2","N3","N4","N5","N6","N7","C  O  N  C  E  P  T  O  S",null,null,null,null,null,null,"SALDO_ANT","DISP","AMORT","REVAL","SALDO_FIN","PAGO_INT","PAGO_COM"]
[{"$f":"IF(LEN(CLEAN(B2))=0,\"0\",B2)&\",\"&IF(LEN(CLEAN(C2))=0,\"0\",C2)&\",\"&IF(LEN(CLEAN(D2))=0,\"0\",D2)&\",\"&IF(LEN(CLEAN(E2))=0,\"0\",E2)&\",\"&IF(LEN(CLEAN(F2))=0,\"0\",F2)&\",\"&IF(LEN(CLEAN(G2))=0,\"0\",G2)&\",\"&IF(LEN(CLEAN(H2))=0,\"0\",H2)","v":"2,1,0,0,0,0,0"},2,1,null,null,null,null,null,"Denominación de la Deuda Pública y Otros Pasivos",null,null,null,null,null,null," "," "]
[{"$f":"IF(LEN(CLEAN(B3))=0,\"0\",B3)&\",\"&IF(LEN(CLEAN(C3))=0,\"0\",C3)&\",\"&IF(LEN(CLEAN(D3))=0,\"0\",D3)&\",\"&IF(LEN(CLEAN(E3))=0,\"0\",E3)&\",\"&IF(LEN(CLEAN(F3))=0,\"0\",F3)&\",\"&IF(LEN(CLEAN(G3))=0,\"0\",G3)&\",\"&IF(LEN(CLEAN(H3))=0,\"0\",H3)","v":"2,1,1,0,0,0,0"},2,1,1,null,null,null,null,null,"Deuda Pública",null,null,null,null,null,{"$f":"'Formato 2'!B8","v":0},{"$f":"'Formato 2'!C8","v":0},{"$f":"'Formato 2'!D8","v":0},{"$f":"'Formato 2'!E8","v":0},{"$f":"'Formato 2'!F8","v":0},{"$f":"'Formato 2'!G8","v":0},{"$f":"'Formato 2'!H8","v":0}]
["2,1,1,1,0,0,0",2,1,1,1,null,null,null,null,null,"Corto Plazo",null,null,null,null,{"$f":"'Formato 2'!B9","v":0},{"$f":"'Formato 2'!C9","v":0},{"$f":"'Formato 2'!D9","v":0},{"$f":"'Formato 2'!E9","v":0},{"$f":"'Formato 2'!F9","v":0},{"$f":"'Formato 2'!G9","v":0},{"$f":"'Formato 2'!H9","v":0}]
["2,1,1,1,1,0,0",2,1,1,1,1,null,null,null,null,null,"Instituciones de Crédito",null,null,null,{"$f":"'Formato 2'!B10","v":0},{"$f":"'Formato 2'!C10","v":0},{"$f":"'Formato 2'!D10","v":0},{"$f":"'Formato 2'!E10","v":0},{"$f":"'Formato 2'!F10","v":0},{"$f":"'Formato 2'!G10","v":0},{"$f":"'Formato 2'!H10","v":0}]
["2,1,1,1,2,0,0",2,1,1,1,2,null,null,null,null,null,"Títulos y Valores",null,null,null,{"$f":"'Formato 2'!B11","v":0},{"$f":"'Formato 2'!C11","v":0},{"$f":"'Formato 2'!D11","v":0},{"$f":"'Formato 2'!E11","v":0},{"$f":"'Formato 2'!F11","v":0},{"$f":"'Formato 2'!G11","v":0},{"$f":"'Formato 2'!H11","v":0}]
[{"$f":"IF(LEN(CLEAN(B7))=0,\"0\",B7)&\",\"&IF(LEN(CLEAN(C7))=0,\"0\",C7)&\",\"&IF(LEN(CLEAN(D7))=0,\"0\",D7)&\",\"&IF(LEN(CLEAN(E7))=0,\"0\",E7)&\",\"&IF(LEN(CLEAN(F7))=0,\"0\",F7)&\",\"&IF(LEN(CLEAN(G7))=0,\"0\",G7)&\",\"&IF(LEN(CLEAN(H7))=0,\"0\",H7)","v":"2,1,1,1,3,0,0"},2,1,1,1,3,null,null,null,null,null,"Arrendamientos Financieros",null,null,null,{"$f":"'Formato 2'!B12","v":0},{"$f":"'Formato 2'!C12","v":0},{"$f":"'Formato 2'!D12","v":0},{"$f":"'Formato 2'!E12","v":0},{"$f":"'Formato 2'!F12","v":0},{"$f":"'Formato 2'!G12","v":0},{"$f":"'Formato 2'!H12","v":0}]
[{"$f":"IF(LEN(CLEAN(B8))=0,\"0\",B8)&\",\"&IF(LEN(CLEAN(C8))=0,\"0\",C8)&\",\"&IF(LEN(CLEAN(D8))=0,\"0\",D8)&\",\"&IF(LEN(CLEAN(E8))=0,\"0\",E8)&\",\"&IF(LEN(CLEAN(F8))=0,\"0\",F8)&\",\"&IF(LEN(CLEAN(G8))=0,\"0\",G8)&\",\"&IF(LEN(CLEAN(H8))=0,\"0\",H8)","v":"2,1,1,2,0,0,0"},2,1,1,2,null,null,null,null,null,"Largo Plazo",null,null,null,null,{"$f":"'Formato 2'!B13","v":0},{"$f":"'Formato 2'!C13","v":0},{"$f":"'Formato 2'!D13","v":0},{"$f":"'Formato 2'!E13","v":0},{"$f":"'Formato 2'!F13","v":0},{"$f":"'Formato 2'!G13","v":0},{"$f":"'Formato 2'!H13","v":0}]
["2,1,1,2,1,0,0",2,1,1,2,1,null,null,null,null,null,"Instituciones de Crédito",null,null,null,{"$f":"'Formato 2'!B14","v":0},{"$f":"'Formato 2'!C14","v":0},{"$f":"'Formato 2'!D14","v":0},{"$f":"'Formato 2'!E14","v":0},{"$f":"'Formato 2'!F14","v":0},{"$f":"'Formato 2'!G14","v":0},{"$f":"'Formato 2'!H14","v":0}]
["2,1,1,2,2,0,0",2,1,1,2,2,null,null,null,null,null,"Títulos y Valores",null,null,null,{"$f":"'Formato 2'!B15","v":0},{"$f":"'Formato 2'!C15","v":0},{"$f":"'Formato 2'!D15","v":0},{"$f":"'Formato 2'!E15","v":0},{"$f":"'Formato 2'!F15","v":0},{"$f":"'Formato 2'!G15","v":0},{"$f":"'Formato 2'!H15","v":0}]
["2,1,1,2,3,0,0",2,1,1,2,3,null,null,null,null,null,"Arrendamientos Financieros",null,null,null,{"$f":"'Formato 2'!B16","v":0},{"$f":"'Formato 2'!C16","v":0},{"$f":"'Formato 2'!D16","v":0},{"$f":"'Formato 2'!E16","v":0},{"$f":"'Formato 2'!F16","v":0},{"$f":"'Formato 2'!G16","v":0},{"$f":"'Formato 2'!H16","v":0}]
[{"$f":"IF(LEN(CLEAN(B12))=0,\"0\",B12)&\",\"&IF(LEN(CLEAN(C12))=0,\"0\",C12)&\",\"&IF(LEN(CLEAN(D12))=0,\"0\",D12)&\",\"&IF(LEN(CLEAN(E12))=0,\"0\",E12)&\",\"&IF(LEN(CLEAN(F12))=0,\"0\",F12)&\",\"&IF(LEN(CLEAN(G12))=0,\"0\",G12)&\",\"&IF(LEN(CLEAN(H12))=0,\"0\",H12)","v":"2,1,2,0,0,0,0"},2,1,2,null,null,null,null,null,"Otros Pasivos",null,null,null,null,null,{"$f":"'Formato 2'!B18","v":0},null,null,null,{"$f":"'Formato 2'!F18","v":0}]
["2,1,3,0,0,0,0",2,1,3,null,null,null,null,null,"Total de la Deuda Pública y Otros Pasivos",null,null,null,null,null,{"$f":"'Formato 2'!B20","v":0},{"$f":"'Formato 2'!C20","v":0},{"$f":"'Formato 2'!D20","v":0},{"$f":"'Formato 2'!E20","v":0},{"$f":"'Formato 2'!F20","v":0},{"$f":"'Formato 2'!G20","v":0},{"$f":"'Formato 2'!H20","v":0}]
["2,1,4,0,0,0,0",2,1,4,null,null,null,null,null,"Deuda Contingente",null,null,null,null,null,{"$f":"DEUDA_CONT_T1","v":0},{"$f":"DEUDA_CONT_T2","v":0},{"$f":"DEUDA_CONT_T3","v":0},{"$f":"DEUDA_CONT_T4","v":0},{"$f":"DEUDA_CONT_T4","v":0},{"$f":"DEUDA_CONT_T6","v":0},{"$f":"DEUDA_CONT_T7","v":0}]
[{"$f":"IF(LEN(CLEAN(B15))=0,\"0\",B15)&\",\"&IF(LEN(CLEAN(C15))=0,\"0\",C15)&\",\"&IF(LEN(CLEAN(D15))=0,\"0\",D15)&\",\"&IF(LEN(CLEAN(E15))=0,\"0\",E15)&\",\"&IF(LEN(CLEAN(F15))=0,\"0\",F15)&\",\"&IF(LEN(CLEAN(G15))=0,\"0\",G15)&\",\"&IF(LEN(CLEAN(H15))=0,\"0\",H15)","v":"2,1,5,0,0,0,0"},2,1,5,null,null,null,null,null,"Valor de Instrumentos Bono Cupón Cero",null,null,null,null,null,{"$f":"VALOR_INS_BCC_T1","v":0},{"$f":"VALOR_INS_BCC_T2","v":0},{"$f":"VALOR_INS_BCC_T3","v":0},{"$f":"VALOR_INS_BCC_T4","v":0},{"$f":"VALOR_INS_BCC_T5","v":0},{"$f":"VALOR_INS_BCC_T6","v":0},{"$f":"VALOR_INS_BCC_T7","v":0}]
[{"$f":"IF(LEN(CLEAN(B16))=0,\"0\",B16)&\",\"&IF(LEN(CLEAN(C16))=0,\"0\",C16)&\",\"&IF(LEN(CLEAN(D16))=0,\"0\",D16)&\",\"&IF(LEN(CLEAN(E16))=0,\"0\",E16)&\",\"&IF(LEN(CLEAN(F16))=0,\"0\",F16)&\",\"&IF(LEN(CLEAN(G16))=0,\"0\",G16)&\",\"&IF(LEN(CLEAN(H16))=0,\"0\",H16)","v":"2,2,0,0,0,0,0"},2,2,null,null,null,null,null,"Obligaciones a Corto Plazo",null,null,null,null,null,null,"MONTO","PLAZO","TASA_INTERES","COMISIONES","TASA_EFECTIVA"]
["2,2,1,0,0,0,0",2,2,1,null,null,null,null,null,"Obligaciones a Corto Plazo",null,null,null,null,null,{"$f":"OB_CORTO_PLAZO_T1","v":0},{"$f":"OB_CORTO_PLAZO_T2","v":0},{"$f":"OB_CORTO_PLAZO_T3","v":0},{"$f":"OB_CORTO_PLAZO_T4","v":0},{"$f":"OB_CORTO_PLAZO_T5","v":0}]

{"sheet":"Formato 3","index":7,"n_rows":20,"n_cols":11,"rows_kept":20,"cut":false,"hidden":false,"merged":[[1,0,1,10],[2,0,2,10],[3,0,3,10],[4,0,4,10],[0,0,0,10]]}
["Formato 3 Informe Analítico de Obligaciones Diferentes de Financiamientos - LDF"]
[{"$f":"ENTE_PUBLICO_A","v":"INSTITUTO SALMANTINO PARA LAS PERSONAS CON DISCAPACIDAD, Gobierno del Estado de Guanajuato (a)"}]
["Informe Analítico de Obligaciones Diferentes de Financiamientos – LDF"]
[{"$f":"TRIMESTRE","v":"Del 1 de enero al 31 de diciembre de 2020 (b)"}]
["(PESOS)"]
["Denominación de las Obligaciones Diferentes de Financiamiento (c)","Fecha del Contrato (d)","Fecha de inicio de operación del proyecto (e)","Fecha de vencimiento (f)","Monto de la inversión pactado (g)","Plazo pactado (h)","Monto promedio mensual del pago de la contraprestación (i)","Monto promedio mensual del pago de la contraprestación correspondiente al pago de inversión (j)",{"$f":"MONTO1","v":"Monto pagado de la inversión al 31 de diciembre de 2020 (k)"},{"$f":"MONTO2","v":"Monto pagado de la inversión actualizado al 31 de diciembre de 2020 (l)"},{"$f":"SALDO_PENDIENTE","v":"Saldo pendiente por pagar de la inversión al 31 de diciembre de 2020 (m = g – l)"}]
[]
["A. Asociaciones Público Privadas (APP’s) (A=a+b+c+d)",null,null,null,{"$f":"SUM(E9:APP_FIN_04)","v":0},null,{"$f":"SUM(G9:APP_FIN_06)","v":0},{"$f":"SUM(H9:APP_FIN_07)","v":0},{"$f":"SUM(I9:APP_FIN_08)","v":0},{"$f":"SUM(J9:APP_FIN_09)","v":0},{"$f":"SUM(K9:APP_FIN_10)","v":0}]
["a) APP 1"]
["b) APP 2"]
["c) APP 3"]
["d) APP XX"]
["*"]
["B. Otros Instrumentos (B=a+b+c+d)",null,null,null,{"$f":"SUM(E15:OTROS_FIN_04)","v":0},null,{"$f":"SUM(G15:OTROS_FIN_06)","v":0},{"$f":"SUM(H15:OTROS_FIN_07)","v":0},{"$f":"SUM(I15:OTROS_FIN_08)","v":0},{"$f":"SUM(J15:OTROS_FIN_09)","v":0},{"$f":"SUM(K15:OTROS_FIN_10)","v":0}]
["a) Otro Instrumento 1"]
["b) Otro Instrumento 2"]
["c) Otro Instrumento 3"]
["d) Otro Instrumento XX"]
["*"]
["C. Total de Obligaciones Diferentes de Financiamiento (C=A+B)",null,null,null,{"$f":"APP_T4+OTROS_T4","v":0},null,{"$f":"APP_T6+OTROS_T6","v":0},{"$f":"APP_T7+OTROS_T7","v":0},{"$f":"APP_T8+OTROS_T8","v":0},{"$f":"APP_T9+OTROS_T9","v":0},{"$f":"APP_T10+OTROS_T10","v":0}]

{"sheet":"F03","index":8,"n_rows":5,"n_cols":25,"rows_kept":5,"cut":false,"hidden":true,"merged":[]}
["CLAVE","N1","N2","N3","N4","N5","N6","N7","C  O  N  C  E  P  T  O  S",null,null,null,null,null,null,"FECHA_CONTRATO","FECHA_INICIO","FECHA_VENCIMIENTO","MONTO_INVERSION","PLAZO","MONTO_PROMEDIO","MONTO_PROMEDIO_INV","MONTO_PAGADO","MONTO_PAGADO_ACTUALIZADO","SALDO_PENDIENTE"]
[{"$f":"IF(LEN(CLEAN(B2))=0,\"0\",B2)&\",\"&IF(LEN(CLEAN(C2))=0,\"0\",C2)&\",\"&IF(LEN(CLEAN(D2))=0,\"0\",D2)&\",\"&IF(LEN(CLEAN(E2))=0,\"0\",E2)&\",\"&IF(LEN(CLEAN(F2))=0,\"0\",F2)&\",\"&IF(LEN(CLEAN(G2))=0,\"0\",G2)&\",\"&IF(LEN(CLEAN(H2))=0,\"0\",H2)","v":"3,1,0,0,0,0,0"},3,1,null,null,null,null,null,"Denominación de las Obligaciones Diferentes de Financiamiento",null,null,null,null,null,null," "," "]
[{"$f":"IF(LEN(CLEAN(B3))=0,\"0\",B3)&\",\"&IF(LEN(CLEAN(C3))=0,\"0\",C3)&\",\"&IF(LEN(CLEAN(D3))=0,\"0\",D3)&\",\"&IF(LEN(CLEAN(E3))=0,\"0\",E3)&\",\"&IF(LEN(CLEAN(F3))=0,\"0\",F3)&\",\"&IF(LEN(CLEAN(G3))=0,\"0\",G3)&\",\"&IF(LEN(CLEAN(H3))=0,\"0\",H3)","v":"3,1,1,0,0,0,0"},3,1,1,null,null,null,null,null,"Asociaciones Público Privadas",null,null,null,null,null,null,null,null,{"$f":"APP_T4","v":0},null,{"$f":"APP_T6","v":0},{"$f":"APP_T7","v":0},{"$f":"APP_T8","v":0},{"$f":"APP_T9","v":0},{"$f":"APP_T10","v":0}]
["3,1,2,1,1,0,0",3,1,2,1,1,null,null,null,"Otros Instrumentos",null,null,null,null,null,null,null,null,{"$f":"OTROS_T4","v":0},null,{"$f":"OTROS_T6","v":0},{"$f":"OTROS_T7","v":0},{"$f":"OTROS_T8","v":0},{"$f":"OTROS_T9","v":0},{"$f":"OTROS_T10","v":0}]
["3,1,3,0,0,0,0",3,1,3,null,null,null,null,null,"Total de Obligaciones Diferentes de Financiamiento",null,null,null,null,null,null,null,null,{"$f":"TOTAL_ODF_T4","v":0},null,{"$f":"TOTAL_ODF_T6","v":0},{"$f":"TOTAL_ODF_T7","v":0},{"$f":"TOTAL_ODF_T8","v":0},{"$f":"TOTAL_ODF_T9","v":0},{"$f":"TOTAL_ODF_T10","v":0}]

{"sheet":"Formato 4","index":9,"n_rows":74,"n_cols":4,"rows_kept":74,"cut":false,"hidden":false,"merged":[[1,0,1,3],[2,0,2,3],[3,0,3,3],[4,0,4,3],[0,0,0,3]]}
["Formato 4 Balance Presupuestario - LDF"]
[{"$f":"ENTE_PUBLICO_A","v":"INSTITUTO SALMANTINO PARA LAS PERSONAS CON DISCAPACIDAD, Gobierno del Estado de Guanajuato (a)"}]
["Balance Presupuestario - LDF"]
[{"$f":"TRIMESTRE","v":"Del 1 de enero al 31 de diciembre de 2020 (b)"}]
["(PESOS)"]
[]
["Concepto (c)","Estimado/\nAprobado (d)","Devengado","Recaudado/\nPagado"]
["A. Ingresos Totales (A = A1+A2+A3)",{"$f":"SUM(B9:B11)","v":5770900},{"$f":"SUM(C9:C11)","v":5276786.9800000004},{"$f":"SUM(D9:D11)","v":5276786.9800000004}]
["A1. Ingresos de Libre Disposición",5770900,5276786.9800000004,5276786.9800000004]
["A2. Transferencias Federales Etiquetadas"]
["A3. Financiamiento Neto",{"$f":"B44","v":0},{"$f":"C44","v":0},{"$f":"D44","v":0}]
[]
["B. Egresos Presupuestarios1 (B = B1+B2)",{"$f":"B14+B15","v":5770900},{"$f":"C14+C15","v":5172255.03},5158488.03]
["B1. Gasto No Etiquetado (sin incluir Amortización de la Deuda Pública)",5770900,5172255.03,5158488.03]
["B2. Gasto Etiquetado (sin incluir Amortización de la Deuda Pública) "]
[]
["C. Remanentes del Ejercicio Anterior ( C = C1 + C2 )",{"$f":"B18+B19","v":0},100140,100140]
["C1. Remanentes de Ingresos de Libre Disposición aplicados en el periodo",0,100140,100140]
["C2. Remanentes de Transferencias Federales Etiquetadas aplicados en el periodo",0]
[]
["I. Balance Presupuestario (I = A – B + C)  ",{"$f":"B8-B13+B17","v":0},204671.95,218438.95]
[]
["II. Balance Presupuestario sin Financiamiento Neto (II = I - A3)",{"$f":"B21-B11","v":0},{"$f":"C21-C11","v":204671.95},{"$f":"D21-D11","v":218438.95}]
[]
["III. Balance Presupuestario sin Financiamiento Neto y sin Remanentes del Ejercicio Anterior (III= II - C)",{"$f":"B23-B17","v":0},{"$f":"C23-C17","v":104531.95000000001},{"$f":"D23-D17","v":118298.95000000001}]
[]
[]
["Concepto","Aprobado","Devengado","Pagado"]
["E. Intereses, Comisiones y Gastos de la Deuda (E = E1+E2)",{"$f":"B30+B31","v":0},{"$f":"C30+C31","v":0},0]
["E1. Intereses, Comisiones y Gastos de la Deuda con Gasto No Etiquetado"]
["E2. Intereses, Comisiones y Gastos de la Deuda con Gasto Etiquetado"]
[]
["IV. Balance Primario (IV = III + E)",{"$f":"B25+B29","v":0},{"$f":"C25+C29","v":104531.95000000001},118298.95000000001]
[]
[]
["Concepto","Estimado/\nAprobado","Devengado","Recaudado/\nPagado"]
["F. Financiamiento (F = F1 + F2)",{"$f":"B38+B39","v":0},{"$f":"C38+C39","v":0},0]
["F1. Financiamiento con Fuente de Pago de Ingresos de Libre Disposición"]
["F2. Financiamiento con Fuente de Pago de Transferencias Federales Etiquetadas"]
["G. Amortización de la Deuda (G = G1 + G2)",{"$f":"B41+B42","v":0},{"$f":"C41+C42","v":0},0]
["G1. Amortización de la Deuda Pública con Gasto No Etiquetado"]
["G2. Amortización de la Deuda Pública con Gasto Etiquetado"]
[]
["A3. Financiamiento Neto (A3 = F – G )",{"$f":"B37-B40","v":0},{"$f":"C37-C40","v":0},0]
[]
[]
["Concepto","Estimado/\nAprobado","Devengado","Recaudado/\nPagado"]
["A1. Ingresos de Libre Disposición ",{"$f":"B9","v":5770900},{"$f":"C9","v":5276786.9800000004},{"$f":"D9","v":5276786.9800000004}]
["A3.1 Financiamiento Neto con Fuente de Pago de Ingresos de Libre Disposición (A3.1 = F1 – G1)",{"$f":"B50-B51","v":0},{"$f":"C50-C51","v":0},0]
["F1. Financiamiento con Fuente de Pago de Ingresos de Libre Disposición"]
["G1. Amortización de la Deuda Pública con Gasto No Etiquetado"]
[]
["B1. Gasto No Etiquetado (sin incluir Amortización de la Deuda Pública)",{"$f":"B14","v":5770900},{"$f":"C14","v":5172255.03},5158488.03]
[]
["C1. Remanentes de Ingresos de Libre Disposición aplicados en el periodo",{"$f":"B18","v":0},{"$f":"C18","v":100140},100140]
[]
["V. Balance Presupuestario de Recursos Disponibles \n(V = A1 + A3.1 – B 1 + C1)",{"$f":"B48+B49-B53+B55","v":0},{"$f":"C48+C49-C53+C55","v":204671.95000000019},{"$f":"D48+D49-D53+D55","v":218438.95000000019}]
[]
["VI. Balance Presupuestario de Recursos Disponibles sin Financiamiento Neto (VI = V – A3.1)",{"$f":"B57-B49","v":0},{"$f":"C57-C49","v":204671.95000000019},{"$f":"D57-D49","v":218438.95000000019}]
[]
[]
["Concepto","Estimado/\nAprobado","Devengado","Recaudado/\nPagado"]
["A2. Transferencias Federales Etiquetadas",{"$f":"B10","v":0},{"$f":"C10","v":0},0]
["A3.2 Financiamiento Neto con Fuente de Pago de Transferencias Federales Etiquetadas (A3.2 = F2 – G2)",{"$f":"B65-B66","v":0},{"$f":"C65-C66","v":0},0]
["F2. Financiamiento con Fuente de Pago de Transferencias Federales Etiquetadas"]
["G2. Amortización de la Deuda Pública con Gasto Etiquetado"]
[]
["B2. Gasto Etiquetado (sin incluir Amortización de la Deuda Pública)",{"$f":"B15","v":0},{"$f":"C15","v":0},0]
[]
["C2. Remanentes de Transferencias Federales Etiquetadas aplicados en el periodo",{"$f":"B19","v":0},{"$f":"C19","v":0},0]
[]
["VII. Balance Presupuestario de Recursos Etiquetados \n(VII = A2 + A3.2 – B2 + C2)",{"$f":"B63+B64-B68+B70","v":0},{"$f":"C63+C64-C68+C70","v":0},0]
[]
["VIII. Balance Presupuestario de Recursos Etiquetados sin Financiamiento Neto (VIII = VII – A3.2)",{"$f":"B72-B64","v":0},{"$f":"C72-C64","v":0},{"$f":"D72-D64","v":0}]

{"sheet":"F04","index":10,"n_rows":39,"n_cols":18,"rows_kept":39,"cut":false,"hidden":true,"merged":[]}
["CLAVE","N1","N2","N3","N4","N5","N6","N7","C  O  N  C  E  P  T  O  S",null,null,null,null,null,null,"EST_APROB","DEVENGADO","RECAUDADO_PAGADO"]
[{"$f":"IF(LEN(CLEAN(B2))=0,\"0\",B2)&\",\"&IF(LEN(CLEAN(C2))=0,\"0\",C2)&\",\"&IF(LEN(CLEAN(D2))=0,\"0\",D2)&\",\"&IF(LEN(CLEAN(E2))=0,\"0\",E2)&\",\"&IF(LEN(CLEAN(F2))=0,\"0\",F2)&\",\"&IF(LEN(CLEAN(G2))=0,\"0\",G2)&\",\"&IF(LEN(CLEAN(H2))=0,\"0\",H2)","v":"4,1,0,0,0,0,0"},4,1,null,null,null,null,null,"Ingresos Totales",null,null,null,null,null,null,{"$f":"'Formato 4'!B8","v":5770900},{"$f":"'Formato 4'!C8","v":5276786.9800000004},{"$f":"'Formato 4'!D8","v":5276786.9800000004}]
["4,1,1,0,0,0,0",4,1,1,null,null,null,null,null,"Ingresos de Libre Disposición",null,null,null,null,null,{"$f":"'Formato 4'!B9","v":5770900},{"$f":"'Formato 4'!C9","v":5276786.9800000004},{"$f":"'Formato 4'!D9","v":5276786.9800000004}]
["4,1,2,0,0,0,0",4,1,2,null,null,null,null,null,"Transferencias Federales Etiquetadas",null,null,null,null,null,{"$f":"'Formato 4'!B10","v":0},{"$f":"'Formato 4'!C10","v":0},{"$f":"'Formato 4'!D10","v":0}]
["4,1,3,0,0,0,0",4,1,3,null,null,null,null,null,"Financiamiento Neto",null,null,null,null,null,{"$f":"'Formato 4'!B11","v":0},{"$f":"'Formato 4'!C11","v":0},{"$f":"'Formato 4'!D11","v":0}]
["4,2,0,0,0,0,0",4,2,null,null,null,null,null,"Egresos Presupuestarios",null,null,null,null,null,null,{"$f":"'Formato 4'!B13","v":5770900},{"$f":"'Formato 4'!C13","v":5172255.03},{"$f":"'Formato 4'!D13","v":5158488.03}]
["4,2,1,0,0,0,0",4,2,1,null,null,null,null,null,"Gasto No Etiquetado",null,null,null,null,null,{"$f":"'Formato 4'!B14","v":5770900},{"$f":"'Formato 4'!C14","v":5172255.03},{"$f":"'Formato 4'!D14","v":5158488.03}]
["4,2,2,0,0,0,0",4,2,2,null,null,null,null,null,"Gasto Etiquetado",null,null,null,null,null,{"$f":"'Formato 4'!B15","v":0},{"$f":"'Formato 4'!C15","v":0},{"$f":"'Formato 4'!D15","v":0}]
["4,3,0,0,0,0,0",4,3,null,null,null,null,null,"Remanentes del Ejercicio Anterior",null,null,null,null,null,null,null,{"$f":"'Formato 4'!C17","v":100140},{"$f":"'Formato 4'!D17","v":100140}]
["4,3,1,0,0,0,0",4,3,1,null,null,null,null,null,"Remanentes de Ingresos de Libre Disposición aplicados en el periodo",null,null,null,null,null,null,{"$f":"'Formato 4'!C18","v":100140},{"$f":"'Formato 4'!D18","v":100140}]
["4,3,2,0,0,0,0",4,3,2,null,null,null,null,null,"Remanentes de Transferencias Federales Etiquetadas aplicados en el periodo",null,null,null,null,null,null,{"$f":"'Formato 4'!C19","v":0},{"$f":"'Formato 4'!D19","v":0}]
["4,4,0,0,0,0,0",4,4,null,null,null,null,null,"Balance Presupuestario",null,null,null,null,null,null,{"$f":"'Formato 4'!B21","v":0},{"$f":"'Formato 4'!C21","v":204671.95},{"$f":"'Formato 4'!D21","v":218438.95}]
["4,5,0,0,0,0,0",4,5,null,null,null,null,null,"Balance Presupuestario sin Financiamiento Neto",null,null,null,null,null,null,{"$f":"'Formato 4'!B23","v":0},{"$f":"'Formato 4'!C23","v":204671.95},{"$f":"'Formato 4'!D23","v":218438.95}]
["4,6,0,0,0,0,0",4,6,null,null,null,null,null,"Balance Presupuestario sin Financiamiento Neto y sin Remanentes del Ejercicio Anterior",null,null,null,null,null,null,{"$f":"'Formato 4'!B25","v":0},{"$f":"'Formato 4'!C25","v":104531.95000000001},{"$f":"'Formato 4'!D25","v":118298.95000000001}]
["4,7,0,0,0,0,0",4,7,null,null,null,null,null,"Intereses, Comisiones y Gastos de la Deuda",null,null,null,null,null,null,{"$f":"'Formato 4'!B29","v":0},{"$f":"'Formato 4'!C29","v":0},{"$f":"'Formato 4'!D29","v":0}]
["4,7,1,0,0,0,0",4,7,1,null,null,null,null,null,"Intereses, Comisiones y Gastos de la Deuda con Gasto No Etiquetado",null,null,null,null,null,{"$f":"'Formato 4'!B30","v":0},{"$f":"'Formato 4'!C30","v":0},{"$f":"'Formato 4'!D30","v":0}]
["4,7,2,0,0,0,0",4,7,2,null,null,null,null,null,"Intereses, Comisiones y Gastos de la Deuda con Gasto Etiquetado",null,null,null,null,null,{"$f":"'Formato 4'!B31","v":0},{"$f":"'Formato 4'!C31","v":0},{"$f":"'Formato 4'!D31","v":0}]
["4,8,0,0,0,0,0",4,8,null,null,null,null,null,"Balance Primario",null,null,null,null,null,null,{"$f":"'Formato 4'!B33","v":0},{"$f":"'Formato 4'!C33","v":104531.95000000001},{"$f":"'Formato 4'!D33","v":118298.95000000001}]
["4,8,0,0,0,0,0",4,8,null,null,null,null,null,"Financiamiento",null,null,null,null,null,null,{"$f":"'Formato 4'!B37","v":0},{"$f":"'Formato 4'!C37","v":0},{"$f":"'Formato 4'!D37","v":0}]
["4,8,1,0,0,0,0",4,8,1,null,null,null,null,null,"Financiamiento con Fuente de Pago de Ingresos de Libre Disposición",null,null,null,null,null,{"$f":"'Formato 4'!B38","v":0},{"$f":"'Formato 4'!C38","v":0},{"$f":"'Formato 4'!D38","v":0}]
["4,8,2,0,0,0,0",4,8,2,null,null,null,null,null,"Financiamiento con Fuente de Pago de Transferencias Federales Etiquetadas",null,null,null,null,null,{"$f":"'Formato 4'!B39","v":0},{"$f":"'Formato 4'!C39","v":0},{"$f":"'Formato 4'!D39","v":0}]
["4,9,0,0,0,0,0",4,9,null,null,null,null,null,"Amortización de la Deuda",null,null,null,null,null,null,{"$f":"'Formato 4'!B40","v":0},{"$f":"'Formato 4'!C40","v":0},{"$f":"'Formato 4'!D40","v":0}]
["4,9,1,0,0,0,0",4,9,1,null,null,null,null,null,"G1. Amortización de la Deuda Pública con Gasto No Etiquetado",null,null,null,null,null,{"$f":"'Formato 4'!B41","v":0},{"$f":"'Formato 4'!C41","v":0},{"$f":"'Formato 4'!D41","v":0}]
["4,9,2,0,0,0,0",4,9,2,null,null,null,null,null,"G2. Amortización de la Deuda Pública con Gasto Etiquetado",null,null,null,null,null,{"$f":"'Formato 4'!B42","v":0},{"$f":"'Formato 4'!C42","v":0},{"$f":"'Formato 4'!D42","v":0}]
["4,10,0,0,0,0,0",4,10,null,null,null,null,null,"Financiamiento Neto",null,null,null,null,null,null,{"$f":"'Formato 4'!B44","v":0},{"$f":"'Formato 4'!C44","v":0},{"$f":"'Formato 4'!D44","v":0}]
["4,11,0,0,0,0,0",4,11,null,null,null,null,null,"Ingresos de Libre Disposición",null,null,null,null,null,null,{"$f":"'Formato 4'!B48","v":5770900},{"$f":"'Formato 4'!C48","v":5276786.9800000004},{"$f":"'Formato 4'!D48","v":5276786.9800000004}]
["4,11,1,0,0,0,0",4,11,1,null,null,null,null,null,"Financiamiento Neto con Fuente de Pago de Ingresos de Libre",null,null,null,null,null,{"$f":"'Formato 4'!B49","v":0},{"$f":"'Formato 4'!C49","v":0},{"$f":"'Formato 4'!D49","v":0}]
["4,11,1,1,0,0,0",4,11,1,1,null,null,null,null,null,"Financiamiento con Fuente de Pago de Ingresos de Libre Disposición",null,null,null,null,{"$f":"'Formato 4'!B50","v":0},{"$f":"'Formato 4'!C50","v":0},{"$f":"'Formato 4'!D50","v":0}]
["4,11,1,2,0,0,0",4,11,1,2,null,null,null,null,null,"Amortización de la Deuda Pública con Gasto No Etiquetado",null,null,null,null,{"$f":"'Formato 4'!B51","v":0},{"$f":"'Formato 4'!C51","v":0},{"$f":"'Formato 4'!D51","v":0}]
["4,12,0,0,0,0,0",4,12,null,null,null,null,null,"Gasto No Etiquetado",null,null,null,null,null,null,{"$f":"'Formato 4'!B53","v":5770900},{"$f":"'Formato 4'!C53","v":5172255.03},{"$f":"'Formato 4'!D53","v":5158488.03}]
["4,13,0,0,0,0,0",4,13,null,null,null,null,null,"Remanentes de Ingresos de Libre Disposición aplicados en el periodo",null,null,null,null,null,null,null,{"$f":"'Formato 4'!C55","v":100140},{"$f":"'Formato 4'!D55","v":100140}]
["4,14,0,0,0,0,0",4,14,null,null,null,null,null,"Transferencias Federales Etiquetadas",null,null,null,null,null,null,{"$f":"'Formato 4'!B63","v":0},{"$f":"'Formato 4'!C63","v":0},{"$f":"'Formato 4'!D63","v":0}]
["4,14,1,0,0,0,0",4,14,1,null,null,null,null,null,"Financiamiento Neto con Fuente de Pago de Transferencias Federales Etiquetadas",null,null,null,null,null,{"$f":"'Formato 4'!B64","v":0},{"$f":"'Formato 4'!C64","v":0},{"$f":"'Formato 4'!D64","v":0}]
["4,14,1,1,0,0,0",4,14,1,1,null,null,null,null,null,"Financiamiento con Fuente de Pago de Transferencias Federales",null,null,null,null,{"$f":"'Formato 4'!B65","v":0},{"$f":"'Formato 4'!C65","v":0},{"$f":"'Formato 4'!D65","v":0}]
["4,14,1,2,0,0,0",4,14,1,2,null,null,null,null,null,"Amortización de la Deuda Pública con Gasto Etiquetado",null,null,null,null,{"$f":"'Formato 4'!B66","v":0},{"$f":"'Formato 4'!C66","v":0},{"$f":"'Formato 4'!D66","v":0}]
["4,15,0,0,0,0,0",4,15,null,null,null,null,null,"Gasto Etiquetado",null,null,null,null,null,null,{"$f":"'Formato 4'!B68","v":0},{"$f":"'Formato 4'!C68","v":0},{"$f":"'Formato 4'!D68","v":0}]
["4,16,0,0,0,0,0",4,16,null,null,null,null,null,"Remanentes de Transferencias Federales Etiquetadas aplicados en el periodo",null,null,null,null,null,null,null,{"$f":"'Formato 4'!C70","v":0},{"$f":"'Formato 4'!D70","v":0}]
["4,17,0,0,0,0,0",4,17,null,null,null,null,null,"Balance Presupuestario de Recursos Etiquetados",null,null,null,null,null,null,{"$f":"'Formato 4'!B72","v":0},{"$f":"'Formato 4'!C72","v":0},{"$f":"'Formato 4'!D72","v":0}]
["4,18,0,0,0,0,0",4,18,null,null,null,null,null,"Balance Presupuestario de Recursos Etiquetados sin Financiamiento",null,null,null,null,null,null,{"$f":"'Formato 4'!B74","v":0},{"$f":"'Formato 4'!C74","v":0},{"$f":"'Formato 4'!D74","v":0}]

{"sheet":"Formato 5","index":11,"n_rows":75,"n_cols":7,"rows_kept":75,"cut":false,"hidden":false,"merged":[[5,0,6,0],[5,6,6,6],[5,1,5,5],[0,0,0,6],[1,0,1,6],[2,0,2,6],[3,0,3,6],[4,0,4,6]]}
["Formato 5 Estado Analítico de Ingresos Detallado - LDF"]
[{"$f":"ENTE_PUBLICO_A","v":"INSTITUTO SALMANTINO PARA LAS PERSONAS CON DISCAPACIDAD, Gobierno del Estado de Guanajuato (a)"}]
["Estado Analítico de Ingresos Detallado - LDF"]
[{"$f":"TRIMESTRE","v":"Del 1 de enero al 31 de diciembre de 2020 (b)"}]
["(PESOS)"]
["Concepto (c) ","Ingreso",null,null,null,null,"Diferencia (e)"]
[null,"Estimado (d)","Ampliaciones/ (Reducciones)","Modificado","Devengado","Recaudado"]
["Ingresos de Libre Disposición"]
["A. Impuestos",null,null,null,null,null,{"$f":"F9-B9","v":0}]
["B. Cuotas y Aportaciones de Seguridad Social",null,null,null,null,null,{"$f":"F10-B10","v":0}]
["C. Contribuciones de Mejoras",null,null,null,null,null,0]
["D. Derechos",null,null,null,null,null,0]
["E. Productos",null,null,null,48.14,48.14,48.14]
["F. Aprovechamientos",null,null,null,null,null,0]
["G. Ingresos por Ventas de Bienes y Servicios",950000,494113.02,455886.98,455781.31,455781.31,-494218.69]
["H. Participaciones (H=h1+h2+h3+h4+h5+h6+h7+h8+h9+h10+h11)",{"$f":"SUM(B17:B27)","v":0},{"$f":"SUM(C17:C27)","v":0},0,0,0,{"$f":"SUM(G17:G27)","v":0}]
["h1) Fondo General de Participaciones ",null,null,null,null,null,{"$f":"F17-B17","v":0}]
["h2) Fondo de Fomento Municipal",null,null,null,null,null,{"$f":"F18-B18","v":0}]
["h3) Fondo de Fiscalización y Recaudación",null,null,null,null,null,0]
["h4) Fondo de Compensación",null,null,null,null,null,0]
["h5) Fondo de Extracción de Hidrocarburos",null,null,null,null,null,0]
["h6) Impuesto Especial Sobre Producción y Servicios",null,null,null,null,null,0]
["h7) 0.136% de la Recaudación Federal Participable",null,null,null,null,null,0]
["h8) 3.17% Sobre Extracción de Petróleo",null,null,null,null,null,0]
["h9) Gasolinas y Diésel",null,null,null,null,null,0]
["h10) Fondo del Impuesto Sobre la Renta",null,null,null,null,null,0]
["h11) Fondo de Estabilización de los Ingresos de las Entidades Federativas",null,null,null,null,null,0]
["I. Incentivos Derivados de la Colaboración Fiscal (I=i1+i2+i3+i4+i5)",{"$f":"SUM(B29:B33)","v":0},{"$f":"SUM(C29:C33)","v":0},0,0,0,0]
["i1) Tenencia o Uso de Vehículos",null,null,null,null,null,{"$f":"F29-B29","v":0}]
["i2) Fondo de Compensación ISAN",null,null,null,null,null,{"$f":"F30-B30","v":0}]
["i3) Impuesto Sobre Automóviles Nuevos",null,null,null,null,null,{"$f":"F31-B31","v":0}]
["i4) Fondo de Compensación de Repecos-Intermedios",null,null,null,null,null,0]
["i5) Otros Incentivos Económicos",null,null,null,null,null,0]
["J. Transferencias",4820900,null,{"$f":"+B34","v":4820900},4820900,4820900,0]
["K. Convenios",null,null,null,null,null,{"$f":"G36","v":0}]
["k1) Otros Convenios y Subsidios",null,null,null,null,null,{"$f":"F36-B36","v":0}]
["L. Otros Ingresos de Libre Disposición (L=l1+l2)",{"$f":"B38+B39","v":0},{"$f":"C38+C39","v":0},0,0,0,0]
["l1) Participaciones en Ingresos Locales ",null,null,null,null,null,{"$f":"F38-B38","v":0}]
["l2) Otros Ingresos de Libre Disposición",null,null,null,null,null,{"$f":"F39-B39","v":0}]
[]
["I. Total de Ingresos de Libre Disposición (I=A+B+C+D+E+F+G+H+I+J+K+L)",{"$f":"SUM(B9,B10,B11,B12,B13,B14,B15,B16,B28,B34,B35,B37)","v":5770900},{"$f":"SUM(C9,C10,C11,C12,C13,C14,C15,C16,C28,C34,C35,C37)","v":494113.02},5276786.9800000004,5276729.45,{"$f":"SUM(F9,F10,F11,F12,F13,F14,F15,F16,F28,F34,F35,F37)","v":5276729.45},{"$f":"SUM(G9,G10,G11,G12,G13,G14,G15,G16,G28,G34,G35,G37)","v":-494170.55}]
["Ingresos Excedentes de Ingresos de Libre Disposición",null,null,null,null,null,{"$f":"IF(G41>0,G41,0)","v":0}]
[]
["Transferencias Federales Etiquetadas "]
["A. Aportaciones (A=a1+a2+a3+a4+a5+a6+a7+a8)",{"$f":"SUM(B46:B53)","v":0},{"$f":"SUM(C46:C53)","v":0},0,0,0,0]
["a1) Fondo de Aportaciones para la Nómina Educativa y Gasto Operativo",null,null,null,null,null,{"$f":"F46-B46","v":0}]
["a2) Fondo de Aportaciones para los Servicios de Salud",null,null,null,null,null,{"$f":"F47-B47","v":0}]
["a3) Fondo de Aportaciones para la Infraestructura Social",null,null,null,null,null,0]
["a4) Fondo de Aportaciones para el Fortalecimiento de los Municipios y de las Demarcaciones Territoriales del Distrito Federal",null,null,null,null,null,0]
["a5) Fondo de Aportaciones Múltiples",null,null,null,null,null,0]
["a6) Fondo de Aportaciones para la Educación Tecnológica y de Adultos",null,null,null,null,null,0]
["a7) Fondo de Aportaciones para la Seguridad Pública de los Estados y del Distrito Federal",null,null,null,null,null,0]
["a8) Fondo de Aportaciones para el Fortalecimiento de las Entidades Federativas",null,null,null,null,null,0]
["B. Convenios (B=b1+b2+b3+b4)",{"$f":"SUM(B55:B58)","v":0},{"$f":"SUM(C55:C58)","v":0},0,0,0,0]
["b1) Convenios de Protección Social en Salud",null,null,null,null,null,{"$f":"F55-B55","v":0}]
["b2) Convenios de Descentralización",null,null,null,null,null,{"$f":"F56-B56","v":0}]
["b3) Convenios de Reasignación",null,null,null,null,null,0]
["b4) Otros Convenios y Subsidios",null,null,null,null,null,0]
["C. Fondos Distintos de Aportaciones (C=c1+c2)",{"$f":"SUM(B60:B61)","v":0},{"$f":"SUM(C60:C61)","v":0},0,0,0,0]
["c1) Fondo para Entidades Federativas y Municipios Productores de Hidrocarburos",null,null,null,null,null,{"$f":"F60-B60","v":0}]
["c2) Fondo Minero",null,null,null,null,null,{"$f":"F61-B61","v":0}]
["D. Transferencias, Subsidios y Subvenciones, y Pensiones y Jubilaciones",null,null,null,null,null,{"$f":"F62-B62","v":0}]
["E. Otras Transferencias Federales Etiquetadas",null,null,null,null,null,{"$f":"F63-B63","v":0}]
[]
["II. Total de Transferencias Federales Etiquetadas (II = A + B + C + D + E)",{"$f":"B45+B54+B59+B62+B63","v":0},{"$f":"C45+C54+C59+C62+C63","v":0},0,0,0,0]
[]
["III. Ingresos Derivados de Financiamientos (III = A)",{"$f":"B68","v":0},{"$f":"C68","v":100140},100140,0,0,0]
["A. Ingresos Derivados de Financiamientos",null,100140,100140,null,null,{"$f":"F68-B68","v":0}]
[]
["IV. Total de Ingresos (IV = I + II + III)",{"$f":"B41+B65+B67","v":5770900},393973.02,{"$f":"D41+D65+D67","v":5376926.9800000004},5276729.45,5276729.45,-494170.55]
[]
["Datos Informativos"]
["1. Ingresos Derivados de Financiamientos con Fuente de Pago de Ingresos de Libre Disposición",null,100140,100140,null,null,{"$f":"F73-B73","v":0}]
["2. Ingresos Derivados de Financiamientos con Fuente de Pago de Transferencias Federales Etiquetadas",null,null,null,null,null,{"$f":"F74-B74","v":0}]
["3. Ingresos Derivados de Financiamientos (3 = 1 + 2)",{"$f":"B73+B74","v":0},{"$f":"C73+C74","v":100140},100140,0,0,0]

{"sheet":"F05","index":12,"n_rows":62,"n_cols":21,"rows_kept":62,"cut":false,"hidden":true,"merged":[]}
["CLAVE","N1","N2","N3","N4","N5","N6","N7","C  O  N  C  E  P  T  O  S",null,null,null,null,null,null,"ESTIMADO","AMPLIACIONES","MODIFICADO","DEVENGADO","RECAUDADO","DIFERENCIA"]
[{"$f":"IF(LEN(CLEAN(B2))=0,\"0\",B2)&\",\"&IF(LEN(CLEAN(C2))=0,\"0\",C2)&\",\"&IF(LEN(CLEAN(D2))=0,\"0\",D2)&\",\"&IF(LEN(CLEAN(E2))=0,\"0\",E2)&\",\"&IF(LEN(CLEAN(F2))=0,\"0\",F2)&\",\"&IF(LEN(CLEAN(G2))=0,\"0\",G2)&\",\"&IF(LEN(CLEAN(H2))=0,\"0\",H2)","v":"5,1,0,0,0,0,0"},5,1,null,null,null,null,null,"Ingresos de Libre Disposición"]
["5,1,1,0,0,0,0",5,1,1,null,null,null,null,null,"Impuestos",null,null,null,null,null,{"$f":"'Formato 5'!B9","v":0},{"$f":"'Formato 5'!C9","v":0},{"$f":"'Formato 5'!D9","v":0},{"$f":"'Formato 5'!E9","v":0},{"$f":"'Formato 5'!F9","v":0},{"$f":"'Formato 5'!G9","v":0}]
["5,1,2,0,0,0,0",5,1,2,null,null,null,null,null,"Cuotas y Aportaciones de Seguridad Social",null,null,null,null,null,{"$f":"'Formato 5'!B10","v":0},{"$f":"'Formato 5'!C10","v":0},{"$f":"'Formato 5'!D10","v":0},{"$f":"'Formato 5'!E10","v":0},{"$f":"'Formato 5'!F10","v":0},{"$f":"'Formato 5'!G10","v":0}]
["5,1,3,0,0,0,0",5,1,3,null,null,null,null,null,"Contribuciones de Mejoras",null,null,null,null,null,{"$f":"'Formato 5'!B11","v":0},{"$f":"'Formato 5'!C11","v":0},{"$f":"'Formato 5'!D11","v":0},{"$f":"'Formato 5'!E11","v":0},{"$f":"'Formato 5'!F11","v":0},{"$f":"'Formato 5'!G11","v":0}]
["5,1,4,0,0,0,0",5,1,4,null,null,null,null,null,"Derechos",null,null,null,null,null,{"$f":"'Formato 5'!B12","v":0},{"$f":"'Formato 5'!C12","v":0},{"$f":"'Formato 5'!D12","v":0},{"$f":"'Formato 5'!E12","v":0},{"$f":"'Formato 5'!F12","v":0},{"$f":"'Formato 5'!G12","v":0}]
["5,1,5,0,0,0,0",5,1,5,null,null,null,null,null,"Productos",null,null,null,null,null,{"$f":"'Formato 5'!B13","v":0},{"$f":"'Formato 5'!C13","v":0},{"$f":"'Formato 5'!D13","v":0},{"$f":"'Formato 5'!E13","v":48.14},{"$f":"'Formato 5'!F13","v":48.14},{"$f":"'Formato 5'!G13","v":48.14}]
["5,1,6,0,0,0,0",5,1,6,null,null,null,null,null,"Aprovechamientos",null,null,null,null,null,{"$f":"'Formato 5'!B14","v":0},{"$f":"'Formato 5'!C14","v":0},{"$f":"'Formato 5'!D14","v":0},{"$f":"'Formato 5'!E14","v":0},{"$f":"'Formato 5'!F14","v":0},{"$f":"'Formato 5'!G14","v":0}]
["5,1,7,0,0,0,0",5,1,7,null,null,null,null,null,"Ingresos por Ventas de Bienes y Servicios",null,null,null,null,null,{"$f":"'Formato 5'!B15","v":950000},{"$f":"'Formato 5'!C15","v":494113.02},{"$f":"'Formato 5'!D15","v":455886.98},{"$f":"'Formato 5'!E15","v":455781.31},{"$f":"'Formato 5'!F15","v":455781.31},{"$f":"'Formato 5'!G15","v":-494218.69}]
["5,1,8,0,0,0,0",5,1,8,null,null,null,null,null,"Participaciones",null,null,null,null,null,{"$f":"'Formato 5'!B16","v":0},{"$f":"'Formato 5'!C16","v":0},{"$f":"'Formato 5'!D16","v":0},{"$f":"'Formato 5'!E16","v":0},{"$f":"'Formato 5'!F16","v":0},{"$f":"'Formato 5'!G16","v":0}]
["5,1,8,1,0,0,0",5,1,8,1,null,null,null,null,null,"Fondo General de Participaciones ",null,null,null,null,{"$f":"'Formato 5'!B17","v":0},{"$f":"'Formato 5'!C17","v":0},{"$f":"'Formato 5'!D17","v":0},{"$f":"'Formato 5'!E17","v":0},{"$f":"'Formato 5'!F17","v":0},{"$f":"'Formato 5'!G17","v":0}]
["5,1,8,2,0,0,0",5,1,8,2,null,null,null,null,null,"Fondo de Fomento Municipal",null,null,null,null,{"$f":"'Formato 5'!B18","v":0},{"$f":"'Formato 5'!C18","v":0},{"$f":"'Formato 5'!D18","v":0},{"$f":"'Formato 5'!E18","v":0},{"$f":"'Formato 5'!F18","v":0},{"$f":"'Formato 5'!G18","v":0}]
["5,1,8,3,0,0,0",5,1,8,3,null,null,null,null,null,"Fondo de Fiscalización y Recaudación",null,null,null,null,{"$f":"'Formato 5'!B19","v":0},{"$f":"'Formato 5'!C19","v":0},{"$f":"'Formato 5'!D19","v":0},{"$f":"'Formato 5'!E19","v":0},{"$f":"'Formato 5'!F19","v":0},{"$f":"'Formato 5'!G19","v":0}]
["5,1,8,4,0,0,0",5,1,8,4,null,null,null,null,null,"Fondo de Compensación",null,null,null,null,{"$f":"'Formato 5'!B20","v":0},{"$f":"'Formato 5'!C20","v":0},{"$f":"'Formato 5'!D20","v":0},{"$f":"'Formato 5'!E20","v":0},{"$f":"'Formato 5'!F20","v":0},{"$f":"'Formato 5'!G20","v":0}]
["5,1,8,5,0,0,0",5,1,8,5,null,null,null,null,null,"Fondo de Extracción de Hidrocarburos",null,null,null,null,{"$f":"'Formato 5'!B21","v":0},{"$f":"'Formato 5'!C21","v":0},{"$f":"'Formato 5'!D21","v":0},{"$f":"'Formato 5'!E21","v":0},{"$f":"'Formato 5'!F21","v":0},{"$f":"'Formato 5'!G21","v":0}]
["5,1,8,6,0,0,0",5,1,8,6,null,null,null,null,null,"Impuesto Especial Sobre Producción y Servicios",null,null,null,null,{"$f":"'Formato 5'!B22","v":0},{"$f":"'Formato 5'!C22","v":0},{"$f":"'Formato 5'!D22","v":0},{"$f":"'Formato 5'!E22","v":0},{"$f":"'Formato 5'!F22","v":0},{"$f":"'Formato 5'!G22","v":0}]
["5,1,8,7,0,0,0",5,1,8,7,null,null,null,null,null,"0.136% de la Recaudación Federal Participable",null,null,null,null,{"$f":"'Formato 5'!B23","v":0},{"$f":"'Formato 5'!C23","v":0},{"$f":"'Formato 5'!D23","v":0},{"$f":"'Formato 5'!E23","v":0},{"$f":"'Formato 5'!F23","v":0},{"$f":"'Formato 5'!G23","v":0}]
["5,1,8,8,0,0,0",5,1,8,8,null,null,null,null,null,"3.17% Sobre Extracción de Petróleo",null,null,null,null,{"$f":"'Formato 5'!B24","v":0},{"$f":"'Formato 5'!C24","v":0},{"$f":"'Formato 5'!D24","v":0},{"$f":"'Formato 5'!E24","v":0},{"$f":"'Formato 5'!F24","v":0},{"$f":"'Formato 5'!G24","v":0}]
["5,1,8,9,0,0,0",5,1,8,9,null,null,null,null,null,"Gasolinas y Diésel",null,null,null,null,{"$f":"'Formato 5'!B25","v":0},{"$f":"'Formato 5'!C25","v":0},{"$f":"'Formato 5'!D25","v":0},{"$f":"'Formato 5'!E25","v":0},{"$f":"'Formato 5'!F25","v":0},{"$f":"'Formato 5'!G25","v":0}]
["5,1,8,10,0,0,0",5,1,8,10,null,null,null,null,null,"Fondo del Impuesto Sobre la Renta",null,null,null,null,{"$f":"'Formato 5'!B26","v":0},{"$f":"'Formato 5'!C26","v":0},{"$f":"'Formato 5'!D26","v":0},{"$f":"'Formato 5'!E26","v":0},{"$f":"'Formato 5'!F26","v":0},{"$f":"'Formato 5'!G26","v":0}]
["5,1,8,11,0,0,0",5,1,8,11,null,null,null,null,null,"Fondo de Estabilización de los Ingresos de las Entidades Federativas",null,null,null,null,{"$f":"'Formato 5'!B27","v":0},{"$f":"'Formato 5'!C27","v":0},{"$f":"'Formato 5'!D27","v":0},{"$f":"'Formato 5'!E27","v":0},{"$f":"'Formato 5'!F27","v":0},{"$f":"'Formato 5'!G27","v":0}]
["5,1,9,0,0,0,0",5,1,9,null,null,null,null,null,"Incentivos Derivados de la Colaboración Fiscal",null,null,null,null,null,{"$f":"'Formato 5'!B28","v":0},{"$f":"'Formato 5'!C28","v":0},{"$f":"'Formato 5'!D28","v":0},{"$f":"'Formato 5'!E28","v":0},{"$f":"'Formato 5'!F28","v":0},{"$f":"'Formato 5'!G28","v":0}]
["5,1,9,1,0,0,0",5,1,9,1,null,null,null,null,null,"Tenencia o Uso de Vehículos",null,null,null,null,{"$f":"'Formato 5'!B29","v":0},{"$f":"'Formato 5'!C29","v":0},{"$f":"'Formato 5'!D29","v":0},{"$f":"'Formato 5'!E29","v":0},{"$f":"'Formato 5'!F29","v":0},{"$f":"'Formato 5'!G29","v":0}]
["5,1,9,2,0,0,0",5,1,9,2,null,null,null,null,null,"Fondo de Compensación ISAN",null,null,null,null,{"$f":"'Formato 5'!B30","v":0},{"$f":"'Formato 5'!C30","v":0},{"$f":"'Formato 5'!D30","v":0},{"$f":"'Formato 5'!E30","v":0},{"$f":"'Formato 5'!F30","v":0},{"$f":"'Formato 5'!G30","v":0}]
["5,1,9,3,0,0,0",5,1,9,3,null,null,null,null,null,"Impuesto Sobre Automóviles Nuevos",null,null,null,null,{"$f":"'Formato 5'!B31","v":0},{"$f":"'Formato 5'!C31","v":0},{"$f":"'Formato 5'!D31","v":0},{"$f":"'Formato 5'!E31","v":0},{"$f":"'Formato 5'!F31","v":0},{"$f":"'Formato 5'!G31","v":0}]
["5,1,9,4,0,0,0",5,1,9,4,null,null,null,null,null,"Fondo de Compensación de Repecos-Intermedios",null,null,null,null,{"$f":"'Formato 5'!B32","v":0},{"$f":"'Formato 5'!C32","v":0},{"$f":"'Formato 5'!D32","v":0},{"$f":"'Formato 5'!E32","v":0},{"$f":"'Formato 5'!F32","v":0},{"$f":"'Formato 5'!G32","v":0}]
["5,1,9,5,0,0,0",5,1,9,5,null,null,null,null,null,"Otros Incentivos Económicos",null,null,null,null,{"$f":"'Formato 5'!B33","v":0},{"$f":"'Formato 5'!C33","v":0},{"$f":"'Formato 5'!D33","v":0},{"$f":"'Formato 5'!E33","v":0},{"$f":"'Formato 5'!F33","v":0},{"$f":"'Formato 5'!G33","v":0}]
["5,1,10,0,0,0,0",5,1,10,null,null,null,null,null,"Transferencias",null,null,null,null,null,{"$f":"'Formato 5'!B34","v":4820900},{"$f":"'Formato 5'!C34","v":0},{"$f":"'Formato 5'!D34","v":4820900},{"$f":"'Formato 5'!E34","v":4820900},{"$f":"'Formato 5'!F34","v":4820900},{"$f":"'Formato 5'!G34","v":0}]
["5,1,11,0,0,0,0",5,1,11,null,null,null,null,null,"Convenios",null,null,null,null,null,{"$f":"'Formato 5'!B35","v":0},{"$f":"'Formato 5'!C35","v":0},{"$f":"'Formato 5'!D35","v":0},{"$f":"'Formato 5'!E35","v":0},{"$f":"'Formato 5'!F35","v":0},{"$f":"'Formato 5'!G35","v":0}]
["5,1,11,1,0,0,0",5,1,11,1,null,null,null,null,null,"Otros Convenios y Subsidios",null,null,null,null,{"$f":"'Formato 5'!B36","v":0},{"$f":"'Formato 5'!C36","v":0},{"$f":"'Formato 5'!D36","v":0},{"$f":"'Formato 5'!E36","v":0},{"$f":"'Formato 5'!F36","v":0},{"$f":"'Formato 5'!G36","v":0}]
["5,1,12,0,0,0,0",5,1,12,null,null,null,null,null,"Otros Ingresos de Libre Disposición (L=l1+l2)",null,null,null,null,null,{"$f":"'Formato 5'!B37","v":0},{"$f":"'Formato 5'!C37","v":0},{"$f":"'Formato 5'!D37","v":0},{"$f":"'Formato 5'!E37","v":0},{"$f":"'Formato 5'!F37","v":0},{"$f":"'Formato 5'!G37","v":0}]
["5,1,12,1,0,0,0",5,1,12,1,null,null,null,null,null,"Participaciones en Ingresos Locales ",null,null,null,null,{"$f":"'Formato 5'!B38","v":0},{"$f":"'Formato 5'!C38","v":0},{"$f":"'Formato 5'!D38","v":0},{"$f":"'Formato 5'!E38","v":0},{"$f":"'Formato 5'!F38","v":0},{"$f":"'Formato 5'!G38","v":0}]
["5,1,12,2,0,0,0",5,1,12,2,null,null,null,null,null,"Otros Ingresos de Libre Disposición",null,null,null,null,{"$f":"'Formato 5'!B39","v":0},{"$f":"'Formato 5'!C39","v":0},{"$f":"'Formato 5'!D39","v":0},{"$f":"'Formato 5'!E39","v":0},{"$f":"'Formato 5'!F39","v":0},{"$f":"'Formato 5'!G39","v":0}]
["5,2,0,0,0,0,0",5,2,null,null,null,null,null,"Total de Ingresos de Libre Disposición",null,null,null,null,null,null,{"$f":"'Formato 5'!B41","v":5770900},{"$f":"'Formato 5'!C41","v":494113.02},{"$f":"'Formato 5'!D41","v":5276786.9800000004},{"$f":"'Formato 5'!E41","v":5276729.45},{"$f":"'Formato 5'!F41","v":5276729.45},{"$f":"'Formato 5'!G41","v":-494170.55}]
["5,3,0,0,0,0,0",5,3,null,null,null,null,null,"Ingresos Excedentes de Ingresos de Libre Disposición",null,null,null,null,null,null,null,null,null,null,null,{"$f":"'Formato 5'!G42","v":0}]
["5,4,0,0,0,0,0",5,4,null,null,null,null,null,"Transferencias Federales Etiquetadas "]
["5,4,1,0,0,0,0",5,4,1,null,null,null,null,null,"Aportaciones",null,null,null,null,null,{"$f":"'Formato 5'!B45","v":0},{"$f":"'Formato 5'!C45","v":0},{"$f":"'Formato 5'!D45","v":0},{"$f":"'Formato 5'!E45","v":0},{"$f":"'Formato 5'!F45","v":0},{"$f":"'Formato 5'!G45","v":0}]
["5,4,1,1,0,0,0",5,4,1,1,null,null,null,null,null,"Fondo de Aportaciones para la Nómina Educativa y Gasto Operativo",null,null,null,null,{"$f":"'Formato 5'!B46","v":0},{"$f":"'Formato 5'!C46","v":0},{"$f":"'Formato 5'!D46","v":0},{"$f":"'Formato 5'!E46","v":0},{"$f":"'Formato 5'!F46","v":0},{"$f":"'Formato 5'!G46","v":0}]
["5,4,1,2,0,0,0",5,4,1,2,null,null,null,null,null,"Fondo de Aportaciones para los Servicios de Salud",null,null,null,null,{"$f":"'Formato 5'!B47","v":0},{"$f":"'Formato 5'!C47","v":0},{"$f":"'Formato 5'!D47","v":0},{"$f":"'Formato 5'!E47","v":0},{"$f":"'Formato 5'!F47","v":0},{"$f":"'Formato 5'!G47","v":0}]
["5,4,1,3,0,0,0",5,4,1,3,null,null,null,null,null,"Fondo de Aportaciones para la Infraestructura Social",null,null,null,null,{"$f":"'Formato 5'!B48","v":0},{"$f":"'Formato 5'!C48","v":0},{"$f":"'Formato 5'!D48","v":0},{"$f":"'Formato 5'!E48","v":0},{"$f":"'Formato 5'!F48","v":0},{"$f":"'Formato 5'!G48","v":0}]
["5,4,1,4,0,0,0",5,4,1,4,null,null,null,null,null,"Fondo de Aportaciones para el Fortalecimiento de los Municipios y de las Demarcaciones Territoriales del Distrito Federal",null,null,null,null,{"$f":"'Formato 5'!B49","v":0},{"$f":"'Formato 5'!C49","v":0},{"$f":"'Formato 5'!D49","v":0},{"$f":"'Formato 5'!E49","v":0},{"$f":"'Formato 5'!F49","v":0},{"$f":"'Formato 5'!G49","v":0}]
["5,4,1,5,0,0,0",5,4,1,5,null,null,null,null,null,"Fondo de Aportaciones Múltiples",null,null,null,null,{"$f":"'Formato 5'!B50","v":0},{"$f":"'Formato 5'!C50","v":0},{"$f":"'Formato 5'!D50","v":0},{"$f":"'Formato 5'!E50","v":0},{"$f":"'Formato 5'!F50","v":0},{"$f":"'Formato 5'!G50","v":0}]
["5,4,1,6,0,0,0",5,4,1,6,null,null,null,null,null,"Fondo de Aportaciones para la Educación Tecnológica y de Adultos",null,null,null,null,{"$f":"'Formato 5'!B51","v":0},{"$f":"'Formato 5'!C51","v":0},{"$f":"'Formato 5'!D51","v":0},{"$f":"'Formato 5'!E51","v":0},{"$f":"'Formato 5'!F51","v":0},{"$f":"'Formato 5'!G51","v":0}]
["5,4,1,7,0,0,0",5,4,1,7,null,null,null,null,null,"Fondo de Aportaciones para la Seguridad Pública de los Estados y del Distrito Federal",null,null,null,null,{"$f":"'Formato 5'!B52","v":0},{"$f":"'Formato 5'!C52","v":0},{"$f":"'Formato 5'!D52","v":0},{"$f":"'Formato 5'!E52","v":0},{"$f":"'Formato 5'!F52","v":0},{"$f":"'Formato 5'!G52","v":0}]
["5,4,1,8,0,0,0",5,4,1,8,null,null,null,null,null,"Fondo de Aportaciones para el Fortalecimiento de las Entidades Federativas",null,null,null,null,{"$f":"'Formato 5'!B53","v":0},{"$f":"'Formato 5'!C53","v":0},{"$f":"'Formato 5'!D53","v":0},{"$f":"'Formato 5'!E53","v":0},{"$f":"'Formato 5'!F53","v":0},{"$f":"'Formato 5'!G53","v":0}]
["5,4,2,0,0,0,0",5,4,2,null,null,null,null,null,"Convenios",null,null,null,null,null,{"$f":"'Formato 5'!B54","v":0},{"$f":"'Formato 5'!C54","v":0},{"$f":"'Formato 5'!D54","v":0},{"$f":"'Formato 5'!E54","v":0},{"$f":"'Formato 5'!F54","v":0},{"$f":"'Formato 5'!G54","v":0}]
["5,4,2,1,0,0,0",5,4,2,1,null,null,null,null,null,"Convenios de Protección Social en Salud",null,null,null,null,{"$f":"'Formato 5'!B55","v":0},{"$f":"'Formato 5'!C55","v":0},{"$f":"'Formato 5'!D55","v":0},{"$f":"'Formato 5'!E55","v":0},{"$f":"'Formato 5'!F55","v":0},{"$f":"'Formato 5'!G55","v":0}]
["5,4,2,2,0,0,0",5,4,2,2,null,null,null,null,null,"Convenios de Descentralización",null,null,null,null,{"$f":"'Formato 5'!B56","v":0},{"$f":"'Formato 5'!C56","v":0},{"$f":"'Formato 5'!D56","v":0},{"$f":"'Formato 5'!E56","v":0},{"$f":"'Formato 5'!F56","v":0},{"$f":"'Formato 5'!G56","v":0}]
["5,4,2,3,0,0,0",5,4,2,3,null,null,null,null,null,"Convenios de Reasignación",null,null,null,null,{"$f":"'Formato 5'!B57","v":0},{"$f":"'Formato 5'!C57","v":0},{"$f":"'Formato 5'!D57","v":0},{"$f":"'Formato 5'!E57","v":0},{"$f":"'Formato 5'!F57","v":0},{"$f":"'Formato 5'!G57","v":0}]
["5,4,2,4,0,0,0",5,4,2,4,null,null,null,null,null,"Otros Convenios y Subsidios",null,null,null,null,{"$f":"'Formato 5'!B58","v":0},{"$f":"'Formato 5'!C58","v":0},{"$f":"'Formato 5'!D58","v":0},{"$f":"'Formato 5'!E58","v":0},{"$f":"'Formato 5'!F58","v":0},{"$f":"'Formato 5'!G58","v":0}]
["5,4,3,0,0,0,0",5,4,3,null,null,null,null,null,"Fondos Distintos de Aportaciones",null,null,null,null,null,{"$f":"'Formato 5'!B59","v":0},{"$f":"'Formato 5'!C59","v":0},{"$f":"'Formato 5'!D59","v":0},{"$f":"'Formato 5'!E59","v":0},{"$f":"'Formato 5'!F59","v":0},{"$f":"'Formato 5'!G59","v":0}]
["5,4,3,1,0,0,0",5,4,3,1,null,null,null,null,null,"Fondo para Entidades Federativas y Municipios Productores de Hidrocarburos",null,null,null,null,{"$f":"'Formato 5'!B60","v":0},{"$f":"'Formato 5'!C60","v":0},{"$f":"'Formato 5'!D60","v":0},{"$f":"'Formato 5'!E60","v":0},{"$f":"'Formato 5'!F60","v":0},{"$f":"'Formato 5'!G60","v":0}]
["5,4,3,2,0,0,0",5,4,3,2,null,null,null,null,null,"Fondo Minero",null,null,null,null,{"$f":"'Formato 5'!B61","v":0},{"$f":"'Formato 5'!C61","v":0},{"$f":"'Formato 5'!D61","v":0},{"$f":"'Formato 5'!E61","v":0},{"$f":"'Formato 5'!F61","v":0},{"$f":"'Formato 5'!G61","v":0}]
["5,4,4,0,0,0,0",5,4,4,null,null,null,null,null,"Transferencias, Subsidios y Subvenciones, y Pensiones y Jubilaciones",null,null,null,null,null,{"$f":"'Formato 5'!B62","v":0},{"$f":"'Formato 5'!C62","v":0},{"$f":"'Formato 5'!D62","v":0},{"$f":"'Formato 5'!E62","v":0},{"$f":"'Formato 5'!F62","v":0},{"$f":"'Formato 5'!G62","v":0}]
["5,4,5,0,0,0,0",5,4,5,null,null,null,null,null,"Otras Transferencias Federales Etiquetadas",null,null,null,null,null,{"$f":"'Formato 5'!B63","v":0},{"$f":"'Formato 5'!C63","v":0},{"$f":"'Formato 5'!D63","v":0},{"$f":"'Formato 5'!E63","v":0},{"$f":"'Formato 5'!F63","v":0},{"$f":"'Formato 5'!G63","v":0}]
["5,5,0,0,0,0,0",5,5,null,null,null,null,null,"Total de Transferencias Federales Etiquetadas",null,null,null,null,null,null,{"$f":"'Formato 5'!B65","v":0},{"$f":"'Formato 5'!C65","v":0},{"$f":"'Formato 5'!D65","v":0},{"$f":"'Formato 5'!E65","v":0},{"$f":"'Formato 5'!F65","v":0},{"$f":"'Formato 5'!G65","v":0}]
["5,6,0,0,0,0,0",5,6,null,null,null,null,null,"Ingresos Derivados de Financiamientos",null,null,null,null,null,null,{"$f":"'Formato 5'!B67","v":0},{"$f":"'Formato 5'!C67","v":100140},{"$f":"'Formato 5'!D67","v":100140},{"$f":"'Formato 5'!E67","v":0},{"$f":"'Formato 5'!F67","v":0},{"$f":"'Formato 5'!G67","v":0}]
["5,6,1,0,0,0,0",5,6,1,null,null,null,null,null,"Ingresos Derivados de Financiamientos",null,null,null,null,null,{"$f":"'Formato 5'!B68","v":0},{"$f":"'Formato 5'!C68","v":100140},{"$f":"'Formato 5'!D68","v":100140},{"$f":"'Formato 5'!E68","v":0},{"$f":"'Formato 5'!F68","v":0},{"$f":"'Formato 5'!G68","v":0}]
["5,7,0,0,0,0,0",5,7,null,null,null,null,null,"Datos Informativos"]
["5,7,1,0,0,0,0",5,7,1,null,null,null,null,null,"Ingresos Derivados de Financiamientos con Fuente de Pago de Ingresos de Libre Disposición",null,null,null,null,null,{"$f":"'Formato 5'!B73","v":0},{"$f":"'Formato 5'!C73","v":100140},{"$f":"'Formato 5'!D73","v":100140},{"$f":"'Formato 5'!E73","v":0},{"$f":"'Formato 5'!F73","v":0},{"$f":"'Formato 5'!G73","v":0}]
["5,7,2,0,0,0,0",5,7,2,null,null,null,null,null,"Ingresos Derivados de Financiamientos con Fuente de Pago de Transferencias Federales Etiquetadas",null,null,null,null,null,{"$f":"'Formato 5'!B74","v":0},{"$f":"'Formato 5'!C74","v":0},{"$f":"'Formato 5'!D74","v":0},{"$f":"'Formato 5'!E74","v":0},{"$f":"'Formato 5'!F74","v":0},{"$f":"'Formato 5'!G74","v":0}]
["5,7,3,0,0,0,0",5,7,3,null,null,null,null,null,"Ingresos Derivados de Financiamientos",null,null,null,null,null,{"$f":"'Formato 5'!B75","v":0},{"$f":"'Formato 5'!C75","v":100140},{"$f":"'Formato 5'!D75","v":100140},{"$f":"'Formato 5'!E75","v":0},{"$f":"'Formato 5'!F75","v":0},{"$f":"'Formato 5'!G75","v":0}]

{"sheet":"Formato 6 a)","index":13,"n_rows":159,"n_cols":7,"rows_kept":159,"cut":false,"hidden":false,"merged":[[0,0,0,6],[6,0,7,0],[6,1,6,5],[6,6,7,6],[1,0,1,6],[2,0,2,6],[3,0,3,6],[4,0,4,6],[5,0,5,6]]}
["Formato 6 a) Estado Analítico del Ejercicio del Presupuesto de Egresos Detallado - LDF \n                       (Clasificación por Objeto del Gasto)"]
[{"$f":"ENTE_PUBLICO_A","v":"INSTITUTO SALMANTINO PARA LAS PERSONAS CON DISCAPACIDAD, Gobierno del Estado de Guanajuato (a)"}]
["Estado Analítico del Ejercicio del Presupuesto de Egresos Detallado - LDF"]
["Clasificación por Objeto del Gasto (Capítulo y Concepto) "]
[{"$f":"TRIMESTRE","v":"Del 1 de enero al 31 de diciembre de 2020 (b)"}]
["(PESOS)"]
["Concepto (c)","Egresos",null,null,null,null,"Subejercicio (e)"]
[null,"Aprobado (d)","Ampliaciones/ (Reducciones) ","Modificado ","Devengado","Pagado "]
["I. Gasto No Etiquetado (I=A+B+C+D+E+F+G+H+I)",{"$f":"SUM(B10,B18,B28,B38,B48,B58,B62,B71,B75)","v":5770900},{"$f":"SUM(C10,C18,C28,C38,C48,C58,C62,C71,C75)","v":-393973.02},5376926.9799999995,5172255.0299999993,5158488.0299999993,{"$f":"SUM(G10,G18,G28,G38,G48,G58,G62,G71,G75)","v":204671.94999999998}]
["A. Servicios Personales (A=a1+a2+a3+a4+a5+a6+a7)",{"$f":"SUM(B11:B17)","v":4760870},-34732,4726138,4526091.8499999996,4526091.8499999996,200046.15]
["a1) Remuneraciones al Personal de Carácter Permanente",3001500,-265157.09000000003,3266657.09,3258402.05,3258402.05,{"$f":"D11-E11","v":8255.0400000000373}]
["a2) Remuneraciones al Personal de Carácter Transitorio",950000,-912580.88,37419.120000000003,37419.120000000003,37419.120000000003,{"$f":"D12-E12","v":0}]
["a3) Remuneraciones Adicionales y Especiales",414000,-56152.11,470152.11,470152.11,470152.11,{"$f":"D13-E13","v":0}]
["a4) Seguridad Social",395370,-204216.46,191153.54,null,0,191153.54]
["a5) Otras Prestaciones Sociales y Económicas",null,760756.14,{"$f":"+B15+C15","v":760756.14},760188.57,760118.57,637.57000000000005]
["a6) Previsiones",null,null,{"$f":"+C16+B16+C16","v":0},null,null,0]
["a7) Pago de Estímulos a Servidores Públicos",null,null,null,null,null,0]
["B. Materiales y Suministros (B=b1+b2+b3+b4+b5+b6+b7+b8+b9)",{"$f":"SUM(B19:B27)","v":402011},-177845.45,224165.55,224165.55,224165.55,0]
["b1) Materiales de Administración, Emisión de Documentos y Artículos Oficiales",121311,-49616.35,{"$f":"+B19+C19","v":71694.649999999994},71694.649999999994,71694.95,{"$f":"D19-E19","v":0}]
["b2) Alimentos y Utensilios",13000,-10896,{"$f":"+B20+C20","v":2104},2104,2104,{"$f":"D20-E20","v":0}]
["b3) Materias Primas y Materiales de Producción y Comercialización",null,null,0,null,null,0]
["b4) Materiales y Artículos de Construcción y de Reparación",38000,-33839.18,4160.82,4160.82,4160.82,0]
["b5) Productos Químicos, Farmacéuticos y de Laboratorio",32000,-13316.9,18683.099999999999,18683.099999999999,18863.099999999999,0]
["b6) Combustibles, Lubricantes y Aditivos",120000,-51496.35,68503.649999999994,68506.649999999994,68503.649999999994,0]
["b7) Vestuario, Blancos, Prendas de Protección y Artículos Deportivos",22700,16199.63,38899.629999999997,33899.629999999997,33899.629999999997,0]
["b8) Materiales y Suministros Para Seguridad",null,null,0,0,null,0]
["b9) Herramientas, Refacciones y Accesorios Menores",55000,-34880.300000000003,20119.699999999997,20119.7,20119.7,0]
["C. Servicios Generales (C=c1+c2+c3+c4+c5+c6+c7+c8+c9)",{"$f":"SUM(B29:B37)","v":471359},-129789.99,341569.01,339919.01,326152.01,1650]
["c1) Servicios Básicos",58800,-45342.95,{"$f":"+B29+C29","v":13457.050000000003},13457.05,13457.05,{"$f":"D29-E29","v":0}]
["c2) Servicios de Arrendamiento",null,null,{"$f":"+B30+C30","v":0},null,null,{"$f":"D30-E30","v":0}]
["c3) Servicios Profesionales, Científicos, Técnicos y Otros Servicios",78840,-10354.76,68485.240000000005,68845.240000000005,68845.240000000005,0]
["c4) Servicios Financieros, Bancarios y Comerciales",38000,21515.38,59515.380000000005,59515.38,59515.38,0]
["c5) Servicios de Instalación, Reparación, Mantenimiento y Conservación",115489,-41593.97,73895.03,73895.03,73895.03,0]
["c6) Servicios de Comunicación Social y Publicidad",null,null,0,null,null,0]
["c7) Servicios de Traslado y Viáticos",18000,-11700.49,6299.51,6299.51,6299.51,0]
["c8) Servicios Oficiales",102200,-77045.2,25154.800000000003,25154.799999999999,25154.799999999999,0]
["c9) Otros Servicios Generales",60030,34732,94762,93112,79345,1650]
["D. Transferencias, Asignaciones, Subsidios y Otras Ayudas (D=d1+d2+d3+d4+d5+d6+d7+d8+d9)",{"$f":"SUM(B39:B47)","v":0},39710,39710,39710,39710,0]
["d1) Transferencias Internas y Asignaciones al Sector Público",null,null,{"$f":"+B39+C39","v":0},null,null,{"$f":"D39-E39","v":0}]
["d2) Transferencias al Resto del Sector Público",null,null,{"$f":"+B40+C40","v":0},null,null,{"$f":"D40-E40","v":0}]
["d3) Subsidios y Subvenciones",null,null,0,null,null,0]
["d4) Ayudas Sociales",null,39710,39710,39710,39710,0]
["d5) Pensiones y Jubilaciones",null,null,0,null,null,0]
["d6) Transferencias a Fideicomisos, Mandatos y Otros Análogos",null,null,0,null,null,0]
["d7) Transferencias a la Seguridad Social",null,null,0,null,null,0]
["d8) Donativos",null,null,0,null,null,0]
["d9) Transferencias al Exterior",null,null,0,null,null,0]
["E. Bienes Muebles, Inmuebles e Intangibles (E=e1+e2+e3+e4+e5+e6+e7+e8+e9)",{"$f":"SUM(B49:B57)","v":136660},-91315.58,{"$f":"SUM(D49:D57)","v":45344.42},42368.62,42368.62,2975.8]
["e1) Mobiliario y Equipo de Administración",67700,-27775.38,{"$f":"+B49+C49","v":39924.619999999995},39924.620000000003,39924.620000000003,0]
["e2) Mobiliario y Equipo Educacional y Recreativo",21000,-21000,{"$f":"+B50+C50","v":0},0,0,{"$f":"D50-E50","v":0}]
["e3) Equipo e Instrumental Médico y de Laboratorio",31700,-31700,0,0,0,0]
["e4) Vehículos y Equipo de Transporte",null,null,0,null,null,0]
["e5) Equipo de Defensa y Seguridad",null,null,0,null,null,0]
["e6) Maquinaria, Otros Equipos y Herramientas",6600,-4156,2444,2444,2444,0]
["e7) Activos Biológicos",null,null,0,null,null,0]
["e8) Bienes Inmuebles",null,null,0,null,null,0]
["e9) Activos Intangibles",9660,-6684.2,2975.8,0,0,2975.8]
["F. Inversión Pública (F=f1+f2+f3)",null,{"$f":"SUM(C59:C61)","v":0},0,0,{"$f":"SUM(F59:F61)","v":0},0]
["f1) Obra Pública en Bienes de Dominio Público",null,null,{"$f":"+B59+C59","v":0},null,null,{"$f":"D59-E59","v":0}]
["f2) Obra Pública en Bienes Propios",null,null,{"$f":"+B60+C60","v":0},null,null,{"$f":"D60-E60","v":0}]
["f3) Proyectos Productivos y Acciones de Fomento",null,null,0,null,null,0]
["G. Inversiones Financieras y Otras Provisiones (G=g1+g2+g3+g4+g5+g6+g7)",{"$f":"SUM(B63:B67,B69:B70)","v":0},{"$f":"SUM(C63:C67,C69:C70)","v":0},0,0,{"$f":"SUM(F63:F67,F69:F70)","v":0},0]
["g1) Inversiones Para el Fomento de Actividades Productivas",null,null,{"$f":"+B63+C63","v":0},null,null,{"$f":"D63-E63","v":0}]
["g2) Acciones y Participaciones de Capital",null,null,{"$f":"+B64+C64","v":0},null,null,{"$f":"D64-E64","v":0}]
["g3) Compra de Títulos y Valores",null,null,0,null,null,0]
["g4) Concesión de Préstamos",null,null,0,null,null,0]
["g5) Inversiones en Fideicomisos, Mandatos y Otros Análogos",null,null,0,null,null,0]
["          Fideicomiso de Desastres Naturales (Informativo)",null,null,0,null,null,0]
["g6) Otras Inversiones Financieras",null,null,0,null,null,0]
["g7) Provisiones para Contingencias y Otras Erogaciones Especiales",null,null,0,null,null,0]
["H. Participaciones y Aportaciones (H=h1+h2+h3)",{"$f":"SUM(B72:B74)","v":0},{"$f":"SUM(C72:C74)","v":0},0,0,{"$f":"SUM(F72:F74)","v":0},0]
["h1) Participaciones",null,null,null,null,null,{"$f":"D72-E72","v":0}]
["h2) Aportaciones",null,null,null,null,null,{"$f":"D73-E73","v":0}]
["h3) Convenios",null,null,null,null,null,0]
["I. Deuda Pública (I=i1+i2+i3+i4+i5+i6+i7)",{"$f":"SUM(B76:B82)","v":0},{"$f":"SUM(C76:C82)","v":0},0,0,0,0]
["i1) Amortización de la Deuda Pública",null,null,null,null,null,{"$f":"D76-E76","v":0}]
["i2) Intereses de la Deuda Pública",null,null,null,null,null,{"$f":"D77-E77","v":0}]
["i3) Comisiones de la Deuda Pública",null,null,null,null,null,0]
["i4) Gastos de la Deuda Pública",null,null,null,null,null,0]
["i5) Costo por Coberturas",null,null,null,null,null,0]
["i6) Apoyos Financieros",null,null,null,null,null,0]
["i7) Adeudos de Ejercicios Fiscales Anteriores (ADEFAS)",null,null,null,null,null,0]
[]
["II. Gasto Etiquetado (II=A+B+C+D+E+F+G+H+I)",{"$f":"SUM(B85,B93,B103,B113,B123,B133,B137,B146,B150)","v":0},{"$f":"SUM(C85,C93,C103,C113,C123,C133,C137,C146,C150)","v":0},0,0,0,0]
["A. Servicios Personales (A=a1+a2+a3+a4+a5+a6+a7)",{"$f":"SUM(B86:B92)","v":0},{"$f":"SUM(C86:C92)","v":0},0,0,0,0]
["a1) Remuneraciones al Personal de Carácter Permanente",null,null,null,null,null,{"$f":"D86-E86","v":0}]
["a2) Remuneraciones al Personal de Carácter Transitorio",null,null,null,null,null,{"$f":"D87-E87","v":0}]
["a3) Remuneraciones Adicionales y Especiales",null,null,null,null,null,0]
["a4) Seguridad Social",null,null,null,null,null,0]
["a5) Otras Prestaciones Sociales y Económicas",null,null,null,null,null,0]
["a6) Previsiones",null,null,null,null,null,0]
["a7) Pago de Estímulos a Servidores Públicos",null,null,null,null,null,0]
["B. Materiales y Suministros (B=b1+b2+b3+b4+b5+b6+b7+b8+b9)",{"$f":"SUM(B94:B102)","v":0},{"$f":"SUM(C94:C102)","v":0},0,0,0,0]
["b1) Materiales de Administración, Emisión de Documentos y Artículos Oficiales",null,null,null,null,null,{"$f":"D94-E94","v":0}]
["b2) Alimentos y Utensilios",null,null,null,null,null,{"$f":"D95-E95","v":0}]
["b3) Materias Primas y Materiales de Producción y Comercialización",null,null,null,null,null,0]
["b4) Materiales y Artículos de Construcción y de Reparación",null,null,null,null,null,0]
["b5) Productos Químicos, Farmacéuticos y de Laboratorio",null,null,null,null,null,0]
["b6) Combustibles, Lubricantes y Aditivos",null,null,null,null,null,0]
["b7) Vestuario, Blancos, Prendas de Protección y Artículos Deportivos",null,null,null,null,null,0]
["b8) Materiales y Suministros Para Seguridad",null,null,null,null,null,0]
["b9) Herramientas, Refacciones y Accesorios Menores",null,null,null,null,null,0]
["C. Servicios Generales (C=c1+c2+c3+c4+c5+c6+c7+c8+c9)",{"$f":"SUM(B104:B112)","v":0},{"$f":"SUM(C104:C112)","v":0},{"$f":"SUM(D104:D112)","v":0},0,0,0]
["c1) Servicios Básicos",null,null,null,null,null,{"$f":"D104-E104","v":0}]
["c2) Servicios de Arrendamiento",null,null,null,null,null,{"$f":"D105-E105","v":0}]
["c3) Servicios Profesionales, Científicos, Técnicos y Otros Servicios",null,null,null,null,null,0]
["c4) Servicios Financieros, Bancarios y Comerciales",null,null,null,null,null,0]
["c5) Servicios de Instalación, Reparación, Mantenimiento y Conservación",null,null,null,null,null,0]
["c6) Servicios de Comunicación Social y Publicidad",null,null,null,null,null,0]
["c7) Servicios de Traslado y Viáticos",null,null,null,null,null,0]
["c8) Servicios Oficiales",null,null,null,null,null,0]
["c9) Otros Servicios Generales",null,null,null,null,null,0]
["D. Transferencias, Asignaciones, Subsidios y Otras Ayudas (D=d1+d2+d3+d4+d5+d6+d7+d8+d9)",{"$f":"SUM(B114:B122)","v":0},{"$f":"SUM(C114:C122)","v":0},0,0,0,0]
["d1) Transferencias Internas y Asignaciones al Sector Público",null,null,null,null,null,{"$f":"D114-E114","v":0}]
["d2) Transferencias al Resto del Sector Público",null,null,null,null,null,{"$f":"D115-E115","v":0}]
["d3) Subsidios y Subvenciones",null,null,null,null,null,0]
["d4) Ayudas Sociales",null,null,null,null,null,0]
["d5) Pensiones y Jubilaciones",null,null,null,null,null,0]
["d6) Transferencias a Fideicomisos, Mandatos y Otros Análogos",null,null,null,null,null,0]
["d7) Transferencias a la Seguridad Social",null,null,null,null,null,0]
["d8) Donativos",null,null,null,null,null,0]
["d9) Transferencias al Exterior",null,null,null,null,null,0]
["E. Bienes Muebles, Inmuebles e Intangibles (E=e1+e2+e3+e4+e5+e6+e7+e8+e9)",{"$f":"SUM(B124:B132)","v":0},{"$f":"SUM(C124:C132)","v":0},0,0,0,0]
["e1) Mobiliario y Equipo de Administración",null,null,null,null,null,{"$f":"D124-E124","v":0}]
["e2) Mobiliario y Equipo Educacional y Recreativo",null,null,null,null,null,{"$f":"D125-E125","v":0}]
["e3) Equipo e Instrumental Médico y de Laboratorio",null,null,null,null,null,0]
["e4) Vehículos y Equipo de Transporte",null,null,null,null,null,0]
["e5) Equipo de Defensa y Seguridad",null,null,null,null,null,0]
["e6) Maquinaria, Otros Equipos y Herramientas",null,null,null,null,null,0]
["e7) Activos Biológicos",null,null,null,null,null,0]
["e8) Bienes Inmuebles",null,null,null,null,null,0]
["e9) Activos Intangibles",null,null,null,null,null,0]
["F. Inversión Pública (F=f1+f2+f3)",{"$f":"SUM(B134:B136)","v":0},{"$f":"SUM(C134:C136)","v":0},0,0,0,0]
["f1) Obra Pública en Bienes de Dominio Público",null,null,null,null,null,{"$f":"D134-E134","v":0}]
["f2) Obra Pública en Bienes Propios",null,null,null,null,null,{"$f":"D135-E135","v":0}]
["f3) Proyectos Productivos y Acciones de Fomento",null,null,null,null,null,0]
["G. Inversiones Financieras y Otras Provisiones (G=g1+g2+g3+g4+g5+g6+g7)",{"$f":"SUM(B138:B142,B144:B145)","v":0},{"$f":"SUM(C138:C142,C144:C145)","v":0},0,0,0,0]
["g1) Inversiones Para el Fomento de Actividades Productivas",null,null,null,null,null,{"$f":"D138-E138","v":0}]
["g2) Acciones y Participaciones de Capital",null,null,null,null,null,{"$f":"D139-E139","v":0}]
["g3) Compra de Títulos y Valores",null,null,null,null,null,0]
["g4) Concesión de Préstamos",null,null,null,null,null,0]
["g5) Inversiones en Fideicomisos, Mandatos y Otros Análogos",null,null,null,null,null,0]
["          Fideicomiso de Desastres Naturales (Informativo)",null,null,null,null,null,0]
["g6) Otras Inversiones Financieras",null,null,null,null,null,0]
["g7) Provisiones para Contingencias y Otras Erogaciones Especiales",null,null,null,null,null,0]
["H. Participaciones y Aportaciones (H=h1+h2+h3)",{"$f":"SUM(B147:B149)","v":0},{"$f":"SUM(C147:C149)","v":0},0,0,0,0]
["h1) Participaciones",null,null,null,null,null,{"$f":"D147-E147","v":0}]
["h2) Aportaciones",null,null,null,null,null,{"$f":"D148-E148","v":0}]
["h3) Convenios",null,null,null,null,null,0]
["I. Deuda Pública (I=i1+i2+i3+i4+i5+i6+i7)",{"$f":"SUM(B151:B157)","v":0},{"$f":"SUM(C151:C157)","v":0},0,0,0,0]
["i1) Amortización de la Deuda Pública",null,null,null,null,null,{"$f":"D151-E151","v":0}]
["i2) Intereses de la Deuda Pública",null,null,null,null,null,{"$f":"D152-E152","v":0}]
["i3) Comisiones de la Deuda Pública",null,null,null,null,null,0]
["i4) Gastos de la Deuda Pública",null,null,null,null,null,0]
["i5) Costo por Coberturas",null,null,null,null,null,0]
["i6) Apoyos Financieros",null,null,null,null,null,0]
["i7) Adeudos de Ejercicios Fiscales Anteriores (ADEFAS)",null,null,null,null,null,0]
[]
["III. Total de Egresos (III = I + II)",{"$f":"B9+B84","v":5770900},{"$f":"C9+C84","v":-393973.02},5376926.9799999995,5172255.0299999993,5158488.0299999993,204671.94999999998]

{"sheet":"F06a","index":14,"n_rows":150,"n_cols":21,"rows_kept":150,"cut":false,"hidden":true,"merged":[]}
["CLAVE","N1","N2","N3","N4","N5","N6","N7","C  O  N  C  E  P  T  O  S",null,null,null,null,null,null,"APROBADO","AMPLIACIONES","MODIFICADO","DEVENGADO","PAGADO","SUBEJERCICIO"]
[{"$f":"IF(LEN(CLEAN(B2))=0,\"0\",B2)&\",\"&IF(LEN(CLEAN(C2))=0,\"0\",C2)&\",\"&IF(LEN(CLEAN(D2))=0,\"0\",D2)&\",\"&IF(LEN(CLEAN(E2))=0,\"0\",E2)&\",\"&IF(LEN(CLEAN(F2))=0,\"0\",F2)&\",\"&IF(LEN(CLEAN(G2))=0,\"0\",G2)&\",\"&IF(LEN(CLEAN(H2))=0,\"0\",H2)","v":"6,1,1,0,0,0,0"},6,1,1,null,null,null,null,"Gasto No Etiquetado",null,null,null,null,null,null,{"$f":"'Formato 6 a)'!B9","v":5770900},{"$f":"'Formato 6 a)'!C9","v":-393973.02},{"$f":"'Formato 6 a)'!D9","v":5376926.9799999995},{"$f":"'Formato 6 a)'!E9","v":5172255.0299999993},{"$f":"'Formato 6 a)'!F9","v":5158488.0299999993},{"$f":"'Formato 6 a)'!G9","v":204671.94999999998}]
[{"$f":"IF(LEN(CLEAN(B3))=0,\"0\",B3)&\",\"&IF(LEN(CLEAN(C3))=0,\"0\",C3)&\",\"&IF(LEN(CLEAN(D3))=0,\"0\",D3)&\",\"&IF(LEN(CLEAN(E3))=0,\"0\",E3)&\",\"&IF(LEN(CLEAN(F3))=0,\"0\",F3)&\",\"&IF(LEN(CLEAN(G3))=0,\"0\",G3)&\",\"&IF(LEN(CLEAN(H3))=0,\"0\",H3)","v":"6,1,1,1,0,0,0"},6,1,1,1,null,null,null,null,"Servicios Personales",null,null,null,null,null,{"$f":"'Formato 6 a)'!B10","v":4760870},{"$f":"'Formato 6 a)'!C10","v":-34732},{"$f":"'Formato 6 a)'!D10","v":4726138},{"$f":"'Formato 6 a)'!E10","v":4526091.8499999996},{"$f":"'Formato 6 a)'!F10","v":4526091.8499999996},{"$f":"'Formato 6 a)'!G10","v":200046.15}]
["6,1,1,1,1,0,0",6,1,1,1,1,null,null,null,null,"Remuneraciones al Personal de Carácter Permanente",null,null,null,null,{"$f":"'Formato 6 a)'!B11","v":3001500},{"$f":"'Formato 6 a)'!C11","v":-265157.09000000003},{"$f":"'Formato 6 a)'!D11","v":3266657.09},{"$f":"'Formato 6 a)'!E11","v":3258402.05},{"$f":"'Formato 6 a)'!F11","v":3258402.05},{"$f":"'Formato 6 a)'!G11","v":8255.0400000000373}]
["6,1,1,1,2,0,0",6,1,1,1,2,null,null,null,null,"Remuneraciones al Personal de Carácter Transitorio",null,null,null,null,{"$f":"'Formato 6 a)'!B12","v":950000},{"$f":"'Formato 6 a)'!C12","v":-912580.88},{"$f":"'Formato 6 a)'!D12","v":37419.120000000003},{"$f":"'Formato 6 a)'!E12","v":37419.120000000003},{"$f":"'Formato 6 a)'!F12","v":37419.120000000003},{"$f":"'Formato 6 a)'!G12","v":0}]
["6,1,1,1,3,0,0",6,1,1,1,3,null,null,null,null,"Remuneraciones Adicionales y Especiales",null,null,null,null,{"$f":"'Formato 6 a)'!B13","v":414000},{"$f":"'Formato 6 a)'!C13","v":-56152.11},{"$f":"'Formato 6 a)'!D13","v":470152.11},{"$f":"'Formato 6 a)'!E13","v":470152.11},{"$f":"'Formato 6 a)'!F13","v":470152.11},{"$f":"'Formato 6 a)'!G13","v":0}]
["6,1,1,1,4,0,0",6,1,1,1,4,null,null,null,null,"Seguridad Social",null,null,null,null,{"$f":"'Formato 6 a)'!B14","v":395370},{"$f":"'Formato 6 a)'!C14","v":-204216.46},{"$f":"'Formato 6 a)'!D14","v":191153.54},{"$f":"'Formato 6 a)'!E14","v":0},{"$f":"'Formato 6 a)'!F14","v":0},{"$f":"'Formato 6 a)'!G14","v":191153.54}]
["6,1,1,1,5,0,0",6,1,1,1,5,null,null,null,null,"Otras Prestaciones Sociales y Económicas",null,null,null,null,{"$f":"'Formato 6 a)'!B15","v":0},{"$f":"'Formato 6 a)'!C15","v":760756.14},{"$f":"'Formato 6 a)'!D15","v":760756.14},{"$f":"'Formato 6 a)'!E15","v":760188.57},{"$f":"'Formato 6 a)'!F15","v":760118.57},{"$f":"'Formato 6 a)'!G15","v":637.57000000000005}]
["6,1,1,1,6,0,0",6,1,1,1,6,null,null,null,null,"Previsiones",null,null,null,null,{"$f":"'Formato 6 a)'!B16","v":0},{"$f":"'Formato 6 a)'!C16","v":0},{"$f":"'Formato 6 a)'!D16","v":0},{"$f":"'Formato 6 a)'!E16","v":0},{"$f":"'Formato 6 a)'!F16","v":0},{"$f":"'Formato 6 a)'!G16","v":0}]
["6,1,1,1,7,0,0",6,1,1,1,7,null,null,null,null,"Pago de Estímulos a Servidores Públicos",null,null,null,null,{"$f":"'Formato 6 a)'!B17","v":0},{"$f":"'Formato 6 a)'!C17","v":0},{"$f":"'Formato 6 a)'!D17","v":0},{"$f":"'Formato 6 a)'!E17","v":0},{"$f":"'Formato 6 a)'!F17","v":0},{"$f":"'Formato 6 a)'!G17","v":0}]
["6,1,1,2,0,0,0",6,1,1,2,null,null,null,null,"Materiales y Suministros",null,null,null,null,null,{"$f":"'Formato 6 a)'!B18","v":402011},{"$f":"'Formato 6 a)'!C18","v":-177845.45},{"$f":"'Formato 6 a)'!D18","v":224165.55},{"$f":"'Formato 6 a)'!E18","v":224165.55},{"$f":"'Formato 6 a)'!F18","v":224165.55},{"$f":"'Formato 6 a)'!G18","v":0}]
["6,1,1,2,1,0,0",6,1,1,2,1,null,null,null,null,"Materiales de Administración, Emisión de Documentos y Artículos Oficiales",null,null,null,null,{"$f":"'Formato 6 a)'!B19","v":121311},{"$f":"'Formato 6 a)'!C19","v":-49616.35},{"$f":"'Formato 6 a)'!D19","v":71694.649999999994},{"$f":"'Formato 6 a)'!E19","v":71694.649999999994},{"$f":"'Formato 6 a)'!F19","v":71694.95},{"$f":"'Formato 6 a)'!G19","v":0}]
["6,1,1,2,2,0,0",6,1,1,2,2,null,null,null,null,"Alimentos y Utensilios",null,null,null,null,{"$f":"'Formato 6 a)'!B20","v":13000},{"$f":"'Formato 6 a)'!C20","v":-10896},{"$f":"'Formato 6 a)'!D20","v":2104},{"$f":"'Formato 6 a)'!E20","v":2104},{"$f":"'Formato 6 a)'!F20","v":2104},{"$f":"'Formato 6 a)'!G20","v":0}]
["6,1,1,2,3,0,0",6,1,1,2,3,null,null,null,null,"Materias Primas y Materiales de Producción y Comercialización",null,null,null,null,{"$f":"'Formato 6 a)'!B21","v":0},{"$f":"'Formato 6 a)'!C21","v":0},{"$f":"'Formato 6 a)'!D21","v":0},{"$f":"'Formato 6 a)'!E21","v":0},{"$f":"'Formato 6 a)'!F21","v":0},{"$f":"'Formato 6 a)'!G21","v":0}]
["6,1,1,2,4,0,0",6,1,1,2,4,null,null,null,null,"Materiales y Artículos de Construcción y de Reparación",null,null,null,null,{"$f":"'Formato 6 a)'!B22","v":38000},{"$f":"'Formato 6 a)'!C22","v":-33839.18},{"$f":"'Formato 6 a)'!D22","v":4160.82},{"$f":"'Formato 6 a)'!E22","v":4160.82},{"$f":"'Formato 6 a)'!F22","v":4160.82},{"$f":"'Formato 6 a)'!G22","v":0}]
["6,1,1,2,5,0,0",6,1,1,2,5,null,null,null,null,"Productos Químicos, Farmacéuticos y de Laboratorio",null,null,null,null,{"$f":"'Formato 6 a)'!B23","v":32000},{"$f":"'Formato 6 a)'!C23","v":-13316.9},{"$f":"'Formato 6 a)'!D23","v":18683.099999999999},{"$f":"'Formato 6 a)'!E23","v":18683.099999999999},{"$f":"'Formato 6 a)'!F23","v":18863.099999999999},{"$f":"'Formato 6 a)'!G23","v":0}]
["6,1,1,2,6,0,0",6,1,1,2,6,null,null,null,null,"Combustibles, Lubricantes y Aditivos",null,null,null,null,{"$f":"'Formato 6 a)'!B24","v":120000},{"$f":"'Formato 6 a)'!C24","v":-51496.35},{"$f":"'Formato 6 a)'!D24","v":68503.649999999994},{"$f":"'Formato 6 a)'!E24","v":68506.649999999994},{"$f":"'Formato 6 a)'!F24","v":68503.649999999994},{"$f":"'Formato 6 a)'!G24","v":0}]
["6,1,1,2,7,0,0",6,1,1,2,7,null,null,null,null,"Vestuario, Blancos, Prendas de Protección y Artículos Deportivos",null,null,null,null,{"$f":"'Formato 6 a)'!B25","v":22700},{"$f":"'Formato 6 a)'!C25","v":16199.63},{"$f":"'Formato 6 a)'!D25","v":38899.629999999997},{"$f":"'Formato 6 a)'!E25","v":33899.629999999997},{"$f":"'Formato 6 a)'!F25","v":33899.629999999997},{"$f":"'Formato 6 a)'!G25","v":0}]
["6,1,1,2,8,0,0",6,1,1,2,8,null,null,null,null,"Materiales y Suministros Para Seguridad",null,null,null,null,{"$f":"'Formato 6 a)'!B26","v":0},{"$f":"'Formato 6 a)'!C26","v":0},{"$f":"'Formato 6 a)'!D26","v":0},{"$f":"'Formato 6 a)'!E26","v":0},{"$f":"'Formato 6 a)'!F26","v":0},{"$f":"'Formato 6 a)'!G26","v":0}]
["6,1,1,2,9,0,0",6,1,1,2,9,null,null,null,null,"Herramientas, Refacciones y Accesorios Menores",null,null,null,null,{"$f":"'Formato 6 a)'!B27","v":55000},{"$f":"'Formato 6 a)'!C27","v":-34880.300000000003},{"$f":"'Formato 6 a)'!D27","v":20119.699999999997},{"$f":"'Formato 6 a)'!E27","v":20119.7},{"$f":"'Formato 6 a)'!F27","v":20119.7},{"$f":"'Formato 6 a)'!G27","v":0}]
["6,1,1,3,0,0,0",6,1,1,3,null,null,null,null,"Servicios Generales",null,null,null,null,null,{"$f":"'Formato 6 a)'!B28","v":471359},{"$f":"'Formato 6 a)'!C28","v":-129789.99},{"$f":"'Formato 6 a)'!D28","v":341569.01},{"$f":"'Formato 6 a)'!E28","v":339919.01},{"$f":"'Formato 6 a)'!F28","v":326152.01},{"$f":"'Formato 6 a)'!G28","v":1650}]
["6,1,1,3,1,0,0",6,1,1,3,1,null,null,null,null,"Servicios Básicos",null,null,null,null,{"$f":"'Formato 6 a)'!B29","v":58800},{"$f":"'Formato 6 a)'!C29","v":-45342.95},{"$f":"'Formato 6 a)'!D29","v":13457.050000000003},{"$f":"'Formato 6 a)'!E29","v":13457.05},{"$f":"'Formato 6 a)'!F29","v":13457.05},{"$f":"'Formato 6 a)'!G29","v":0}]
["6,1,1,3,2,0,0",6,1,1,3,2,null,null,null,null,"Servicios de Arrendamiento",null,null,null,null,{"$f":"'Formato 6 a)'!B30","v":0},{"$f":"'Formato 6 a)'!C30","v":0},{"$f":"'Formato 6 a)'!D30","v":0},{"$f":"'Formato 6 a)'!E30","v":0},{"$f":"'Formato 6 a)'!F30","v":0},{"$f":"'Formato 6 a)'!G30","v":0}]
["6,1,1,3,3,0,0",6,1,1,3,3,null,null,null,null,"Servicios Profesionales, Científicos, Técnicos y Otros Servicios",null,null,null,null,{"$f":"'Formato 6 a)'!B31","v":78840},{"$f":"'Formato 6 a)'!C31","v":-10354.76},{"$f":"'Formato 6 a)'!D31","v":68485.240000000005},{"$f":"'Formato 6 a)'!E31","v":68845.240000000005},{"$f":"'Formato 6 a)'!F31","v":68845.240000000005},{"$f":"'Formato 6 a)'!G31","v":0}]
["6,1,1,3,4,0,0",6,1,1,3,4,null,null,null,null,"Servicios Financieros, Bancarios y Comerciales",null,null,null,null,{"$f":"'Formato 6 a)'!B32","v":38000},{"$f":"'Formato 6 a)'!C32","v":21515.38},{"$f":"'Formato 6 a)'!D32","v":59515.380000000005},{"$f":"'Formato 6 a)'!E32","v":59515.38},{"$f":"'Formato 6 a)'!F32","v":59515.38},{"$f":"'Formato 6 a)'!G32","v":0}]
["6,1,1,3,5,0,0",6,1,1,3,5,null,null,null,null,"Servicios de Instalación, Reparación, Mantenimiento y Conservación",null,null,null,null,{"$f":"'Formato 6 a)'!B33","v":115489},{"$f":"'Formato 6 a)'!C33","v":-41593.97},{"$f":"'Formato 6 a)'!D33","v":73895.03},{"$f":"'Formato 6 a)'!E33","v":73895.03},{"$f":"'Formato 6 a)'!F33","v":73895.03},{"$f":"'Formato 6 a)'!G33","v":0}]
["6,1,1,3,6,0,0",6,1,1,3,6,null,null,null,null,"Servicios de Comunicación Social y Publicidad",null,null,null,null,{"$f":"'Formato 6 a)'!B34","v":0},{"$f":"'Formato 6 a)'!C34","v":0},{"$f":"'Formato 6 a)'!D34","v":0},{"$f":"'Formato 6 a)'!E34","v":0},{"$f":"'Formato 6 a)'!F34","v":0},{"$f":"'Formato 6 a)'!G34","v":0}]
["6,1,1,3,7,0,0",6,1,1,3,7,null,null,null,null,"Servicios de Traslado y Viáticos",null,null,null,null,{"$f":"'Formato 6 a)'!B35","v":18000},{"$f":"'Formato 6 a)'!C35","v":-11700.49},{"$f":"'Formato 6 a)'!D35","v":6299.51},{"$f":"'Formato 6 a)'!E35","v":6299.51},{"$f":"'Formato 6 a)'!F35","v":6299.51},{"$f":"'Formato 6 a)'!G35","v":0}]
["6,1,1,3,8,0,0",6,1,1,3,8,null,null,null,null,"Servicios Oficiales",null,null,null,null,{"$f":"'Formato 6 a)'!B36","v":102200},{"$f":"'Formato 6 a)'!C36","v":-77045.2},{"$f":"'Formato 6 a)'!D36","v":25154.800000000003},{"$f":"'Formato 6 a)'!E36","v":25154.799999999999},{"$f":"'Formato 6 a)'!F36","v":25154.799999999999},{"$f":"'Formato 6 a)'!G36","v":0}]
["6,1,1,3,9,0,0",6,1,1,3,9,null,null,null,null,"Otros Servicios Generales",null,null,null,null,{"$f":"'Formato 6 a)'!B37","v":60030},{"$f":"'Formato 6 a)'!C37","v":34732},{"$f":"'Formato 6 a)'!D37","v":94762},{"$f":"'Formato 6 a)'!E37","v":93112},{"$f":"'Formato 6 a)'!F37","v":79345},{"$f":"'Formato 6 a)'!G37","v":1650}]
["6,1,1,4,0,0,0",6,1,1,4,null,null,null,null,"Transferencias, Asignaciones, Subsidios y Otras Ayudas",null,null,null,null,null,{"$f":"'Formato 6 a)'!B38","v":0},{"$f":"'Formato 6 a)'!C38","v":39710},{"$f":"'Formato 6 a)'!D38","v":39710},{"$f":"'Formato 6 a)'!E38","v":39710},{"$f":"'Formato 6 a)'!F38","v":39710},{"$f":"'Formato 6 a)'!G38","v":0}]
["6,1,1,4,1,0,0",6,1,1,4,1,null,null,null,null,"Transferencias Internas y Asignaciones al Sector Público",null,null,null,null,{"$f":"'Formato 6 a)'!B39","v":0},{"$f":"'Formato 6 a)'!C39","v":0},{"$f":"'Formato 6 a)'!D39","v":0},{"$f":"'Formato 6 a)'!E39","v":0},{"$f":"'Formato 6 a)'!F39","v":0},{"$f":"'Formato 6 a)'!G39","v":0}]
["6,1,1,4,2,0,0",6,1,1,4,2,null,null,null,null,"Transferencias al Resto del Sector Público",null,null,null,null,{"$f":"'Formato 6 a)'!B40","v":0},{"$f":"'Formato 6 a)'!C40","v":0},{"$f":"'Formato 6 a)'!D40","v":0},{"$f":"'Formato 6 a)'!E40","v":0},{"$f":"'Formato 6 a)'!F40","v":0},{"$f":"'Formato 6 a)'!G40","v":0}]
["6,1,1,4,3,0,0",6,1,1,4,3,null,null,null,null,"Subsidios y Subvenciones",null,null,null,null,{"$f":"'Formato 6 a)'!B41","v":0},{"$f":"'Formato 6 a)'!C41","v":0},{"$f":"'Formato 6 a)'!D41","v":0},{"$f":"'Formato 6 a)'!E41","v":0},{"$f":"'Formato 6 a)'!F41","v":0},{"$f":"'Formato 6 a)'!G41","v":0}]
["6,1,1,4,4,0,0",6,1,1,4,4,null,null,null,null,"Ayudas Sociales",null,null,null,null,{"$f":"'Formato 6 a)'!B42","v":0},{"$f":"'Formato 6 a)'!C42","v":39710},{"$f":"'Formato 6 a)'!D42","v":39710},{"$f":"'Formato 6 a)'!E42","v":39710},{"$f":"'Formato 6 a)'!F42","v":39710},{"$f":"'Formato 6 a)'!G42","v":0}]
["6,1,1,4,5,0,0",6,1,1,4,5,null,null,null,null,"Pensiones y Jubilaciones",null,null,null,null,{"$f":"'Formato 6 a)'!B43","v":0},{"$f":"'Formato 6 a)'!C43","v":0},{"$f":"'Formato 6 a)'!D43","v":0},{"$f":"'Formato 6 a)'!E43","v":0},{"$f":"'Formato 6 a)'!F43","v":0},{"$f":"'Formato 6 a)'!G43","v":0}]
["6,1,1,4,6,0,0",6,1,1,4,6,null,null,null,null,"Transferencias a Fideicomisos, Mandatos y Otros Análogos",null,null,null,null,{"$f":"'Formato 6 a)'!B44","v":0},{"$f":"'Formato 6 a)'!C44","v":0},{"$f":"'Formato 6 a)'!D44","v":0},{"$f":"'Formato 6 a)'!E44","v":0},{"$f":"'Formato 6 a)'!F44","v":0},{"$f":"'Formato 6 a)'!G44","v":0}]
["6,1,1,4,7,0,0",6,1,1,4,7,null,null,null,null,"Transferencias a la Seguridad Social",null,null,null,null,{"$f":"'Formato 6 a)'!B45","v":0},{"$f":"'Formato 6 a)'!C45","v":0},{"$f":"'Formato 6 a)'!D45","v":0},{"$f":"'Formato 6 a)'!E45","v":0},{"$f":"'Formato 6 a)'!F45","v":0},{"$f":"'Formato 6 a)'!G45","v":0}]
["6,1,1,4,8,0,0",6,1,1,4,8,null,null,null,null,"Donativos",null,null,null,null,{"$f":"'Formato 6 a)'!B46","v":0},{"$f":"'Formato 6 a)'!C46","v":0},{"$f":"'Formato 6 a)'!D46","v":0},{"$f":"'Formato 6 a)'!E46","v":0},{"$f":"'Formato 6 a)'!F46","v":0},{"$f":"'Formato 6 a)'!G46","v":0}]
["6,1,1,4,9,0,0",6,1,1,4,9,null,null,null,null,"Transferencias al Exterior",null,null,null,null,{"$f":"'Formato 6 a)'!B47","v":0},{"$f":"'Formato 6 a)'!C47","v":0},{"$f":"'Formato 6 a)'!D47","v":0},{"$f":"'Formato 6 a)'!E47","v":0},{"$f":"'Formato 6 a)'!F47","v":0},{"$f":"'Formato 6 a)'!G47","v":0}]
["6,1,1,5,0,0,0",6,1,1,5,null,null,null,null,"Bienes Muebles, Inmuebles e Intangibles",null,null,null,null,null,{"$f":"'Formato 6 a)'!B48","v":136660},{"$f":"'Formato 6 a)'!C48","v":-91315.58},{"$f":"'Formato 6 a)'!D48","v":45344.42},{"$f":"'Formato 6 a)'!E48","v":42368.62},{"$f":"'Formato 6 a)'!F48","v":42368.62},{"$f":"'Formato 6 a)'!G48","v":2975.8}]
["6,1,1,5,1,0,0",6,1,1,5,1,null,null,null,null,"Mobiliario y Equipo de Administración",null,null,null,null,{"$f":"'Formato 6 a)'!B49","v":67700},{"$f":"'Formato 6 a)'!C49","v":-27775.38},{"$f":"'Formato 6 a)'!D49","v":39924.619999999995},{"$f":"'Formato 6 a)'!E49","v":39924.620000000003},{"$f":"'Formato 6 a)'!F49","v":39924.620000000003},{"$f":"'Formato 6 a)'!G49","v":0}]
["6,1,1,5,2,0,0",6,1,1,5,2,null,null,null,null,"Mobiliario y Equipo Educacional y Recreativo",null,null,null,null,{"$f":"'Formato 6 a)'!B50","v":21000},{"$f":"'Formato 6 a)'!C50","v":-21000},{"$f":"'Formato 6 a)'!D50","v":0},{"$f":"'Formato 6 a)'!E50","v":0},{"$f":"'Formato 6 a)'!F50","v":0},{"$f":"'Formato 6 a)'!G50","v":0}]
["6,1,1,5,3,0,0",6,1,1,5,3,null,null,null,null,"Equipo e Instrumental Médico y de Laboratorio",null,null,null,null,{"$f":"'Formato 6 a)'!B51","v":31700},{"$f":"'Formato 6 a)'!C51","v":-31700},{"$f":"'Formato 6 a)'!D51","v":0},{"$f":"'Formato 6 a)'!E51","v":0},{"$f":"'Formato 6 a)'!F51","v":0},{"$f":"'Formato 6 a)'!G51","v":0}]
["6,1,1,5,4,0,0",6,1,1,5,4,null,null,null,null,"Vehículos y Equipo de Transporte",null,null,null,null,{"$f":"'Formato 6 a)'!B52","v":0},{"$f":"'Formato 6 a)'!C52","v":0},{"$f":"'Formato 6 a)'!D52","v":0},{"$f":"'Formato 6 a)'!E52","v":0},{"$f":"'Formato 6 a)'!F52","v":0},{"$f":"'Formato 6 a)'!G52","v":0}]
["6,1,1,5,5,0,0",6,1,1,5,5,null,null,null,null,"Equipo de Defensa y Seguridad",null,null,null,null,{"$f":"'Formato 6 a)'!B53","v":0},{"$f":"'Formato 6 a)'!C53","v":0},{"$f":"'Formato 6 a)'!D53","v":0},{"$f":"'Formato 6 a)'!E53","v":0},{"$f":"'Formato 6 a)'!F53","v":0},{"$f":"'Formato 6 a)'!G53","v":0}]
["6,1,1,5,6,0,0",6,1,1,5,6,null,null,null,null,"Maquinaria, Otros Equipos y Herramientas",null,null,null,null,{"$f":"'Formato 6 a)'!B54","v":6600},{"$f":"'Formato 6 a)'!C54","v":-4156},{"$f":"'Formato 6 a)'!D54","v":2444},{"$f":"'Formato 6 a)'!E54","v":2444},{"$f":"'Formato 6 a)'!F54","v":2444},{"$f":"'Formato 6 a)'!G54","v":0}]
["6,1,1,5,7,0,0",6,1,1,5,7,null,null,null,null,"Activos Biológicos",null,null,null,null,{"$f":"'Formato 6 a)'!B55","v":0},{"$f":"'Formato 6 a)'!C55","v":0},{"$f":"'Formato 6 a)'!D55","v":0},{"$f":"'Formato 6 a)'!E55","v":0},{"$f":"'Formato 6 a)'!F55","v":0},{"$f":"'Formato 6 a)'!G55","v":0}]
["6,1,1,5,8,0,0",6,1,1,5,8,null,null,null,null,"Bienes Inmuebles",null,null,null,null,{"$f":"'Formato 6 a)'!B56","v":0},{"$f":"'Formato 6 a)'!C56","v":0},{"$f":"'Formato 6 a)'!D56","v":0},{"$f":"'Formato 6 a)'!E56","v":0},{"$f":"'Formato 6 a)'!F56","v":0},{"$f":"'Formato 6 a)'!G56","v":0}]
["6,1,1,5,9,0,0",6,1,1,5,9,null,null,null,null,"Activos Intangibles",null,null,null,null,{"$f":"'Formato 6 a)'!B57","v":9660},{"$f":"'Formato 6 a)'!C57","v":-6684.2},{"$f":"'Formato 6 a)'!D57","v":2975.8},{"$f":"'Formato 6 a)'!E57","v":0},{"$f":"'Formato 6 a)'!F57","v":0},{"$f":"'Formato 6 a)'!G57","v":2975.8}]
["6,1,1,6,0,0,0",6,1,1,6,null,null,null,null,"Inversión Pública",null,null,null,null,null,{"$f":"'Formato 6 a)'!B58","v":0},{"$f":"'Formato 6 a)'!C58","v":0},{"$f":"'Formato 6 a)'!D58","v":0},{"$f":"'Formato 6 a)'!E58","v":0},{"$f":"'Formato 6 a)'!F58","v":0},{"$f":"'Formato 6 a)'!G58","v":0}]
["6,1,1,6,1,0,0",6,1,1,6,1,null,null,null,null,"Obra Pública en Bienes de Dominio Público",null,null,null,null,{"$f":"'Formato 6 a)'!B59","v":0},{"$f":"'Formato 6 a)'!C59","v":0},{"$f":"'Formato 6 a)'!D59","v":0},{"$f":"'Formato 6 a)'!E59","v":0},{"$f":"'Formato 6 a)'!F59","v":0},{"$f":"'Formato 6 a)'!G59","v":0}]
["6,1,1,6,2,0,0",6,1,1,6,2,null,null,null,null,"Obra Pública en Bienes Propios",null,null,null,null,{"$f":"'Formato 6 a)'!B60","v":0},{"$f":"'Formato 6 a)'!C60","v":0},{"$f":"'Formato 6 a)'!D60","v":0},{"$f":"'Formato 6 a)'!E60","v":0},{"$f":"'Formato 6 a)'!F60","v":0},{"$f":"'Formato 6 a)'!G60","v":0}]
["6,1,1,6,3,0,0",6,1,1,6,3,null,null,null,null,"Proyectos Productivos y Acciones de Fomento",null,null,null,null,{"$f":"'Formato 6 a)'!B61","v":0},{"$f":"'Formato 6 a)'!C61","v":0},{"$f":"'Formato 6 a)'!D61","v":0},{"$f":"'Formato 6 a)'!E61","v":0},{"$f":"'Formato 6 a)'!F61","v":0},{"$f":"'Formato 6 a)'!G61","v":0}]
["6,1,1,7,0,0,0",6,1,1,7,null,null,null,null,"Inversiones Financieras y Otras Provisiones",null,null,null,null,null,{"$f":"'Formato 6 a)'!B62","v":0},{"$f":"'Formato 6 a)'!C62","v":0},{"$f":"'Formato 6 a)'!D62","v":0},{"$f":"'Formato 6 a)'!E62","v":0},{"$f":"'Formato 6 a)'!F62","v":0},{"$f":"'Formato 6 a)'!G62","v":0}]
["6,1,1,7,1,0,0",6,1,1,7,1,null,null,null,null,"Inversiones Para el Fomento de Actividades Productivas",null,null,null,null,{"$f":"'Formato 6 a)'!B63","v":0},{"$f":"'Formato 6 a)'!C63","v":0},{"$f":"'Formato 6 a)'!D63","v":0},{"$f":"'Formato 6 a)'!E63","v":0},{"$f":"'Formato 6 a)'!F63","v":0},{"$f":"'Formato 6 a)'!G63","v":0}]
["6,1,1,7,2,0,0",6,1,1,7,2,null,null,null,null,"Acciones y Participaciones de Capital",null,null,null,null,{"$f":"'Formato 6 a)'!B64","v":0},{"$f":"'Formato 6 a)'!C64","v":0},{"$f":"'Formato 6 a)'!D64","v":0},{"$f":"'Formato 6 a)'!E64","v":0},{"$f":"'Formato 6 a)'!F64","v":0},{"$f":"'Formato 6 a)'!G64","v":0}]
["6,1,1,7,3,0,0",6,1,1,7,3,null,null,null,null,"Compra de Títulos y Valores",null,null,null,null,{"$f":"'Formato 6 a)'!B65","v":0},{"$f":"'Formato 6 a)'!C65","v":0},{"$f":"'Formato 6 a)'!D65","v":0},{"$f":"'Formato 6 a)'!E65","v":0},{"$f":"'Formato 6 a)'!F65","v":0},{"$f":"'Formato 6 a)'!G65","v":0}]
["6,1,1,7,4,0,0",6,1,1,7,4,null,null,null,null,"Concesión de Préstamos",null,null,null,null,{"$f":"'Formato 6 a)'!B66","v":0},{"$f":"'Formato 6 a)'!C66","v":0},{"$f":"'Formato 6 a)'!D66","v":0},{"$f":"'Formato 6 a)'!E66","v":0},{"$f":"'Formato 6 a)'!F66","v":0},{"$f":"'Formato 6 a)'!G66","v":0}]
["6,1,1,7,5,0,0",6,1,1,7,5,null,null,null,null,"Inversiones en Fideicomisos, Mandatos y Otros Análogos",null,null,null,null,{"$f":"'Formato 6 a)'!B67","v":0},{"$f":"'Formato 6 a)'!C67","v":0},{"$f":"'Formato 6 a)'!D67","v":0},{"$f":"'Formato 6 a)'!E67","v":0},{"$f":"'Formato 6 a)'!F67","v":0},{"$f":"'Formato 6 a)'!G67","v":0}]
["6,1,1,7,5,1,0",6,1,1,7,5,1,null,null,null,null,"Fideicomiso de Desastres Naturales (Informativo)",null,null,null,{"$f":"'Formato 6 a)'!B68","v":0},{"$f":"'Formato 6 a)'!C68","v":0},{"$f":"'Formato 6 a)'!D68","v":0},{"$f":"'Formato 6 a)'!E68","v":0},{"$f":"'Formato 6 a)'!F68","v":0},{"$f":"'Formato 6 a)'!G68","v":0}]
["6,1,1,7,6,0,0",6,1,1,7,6,null,null,null,null,"Otras Inversiones Financieras",null,null,null,null,{"$f":"'Formato 6 a)'!B69","v":0},{"$f":"'Formato 6 a)'!C69","v":0},{"$f":"'Formato 6 a)'!D69","v":0},{"$f":"'Formato 6 a)'!E69","v":0},{"$f":"'Formato 6 a)'!F69","v":0},{"$f":"'Formato 6 a)'!G69","v":0}]
["6,1,1,7,7,0,0",6,1,1,7,7,null,null,null,null,"Provisiones para Contingencias y Otras Erogaciones Especiales",null,null,null,null,{"$f":"'Formato 6 a)'!B70","v":0},{"$f":"'Formato 6 a)'!C70","v":0},{"$f":"'Formato 6 a)'!D70","v":0},{"$f":"'Formato 6 a)'!E70","v":0},{"$f":"'Formato 6 a)'!F70","v":0},{"$f":"'Formato 6 a)'!G70","v":0}]
[{"$f":"IF(LEN(CLEAN(B64))=0,\"0\",B64)&\",\"&IF(LEN(CLEAN(C64))=0,\"0\",C64)&\",\"&IF(LEN(CLEAN(D64))=0,\"0\",D64)&\",\"&IF(LEN(CLEAN(E64))=0,\"0\",E64)&\",\"&IF(LEN(CLEAN(F64))=0,\"0\",F64)&\",\"&IF(LEN(CLEAN(G64))=0,\"0\",G64)&\",\"&IF(LEN(CLEAN(H64))=0,\"0\",H64)","v":"6,1,1,8,0,0,0"},6,1,1,8,null,null,null,null,"Participaciones y Aportaciones",null,null,null,null,null,{"$f":"'Formato 6 a)'!B71","v":0},{"$f":"'Formato 6 a)'!C71","v":0},{"$f":"'Formato 6 a)'!D71","v":0},{"$f":"'Formato 6 a)'!E71","v":0},{"$f":"'Formato 6 a)'!F71","v":0},{"$f":"'Formato 6 a)'!G71","v":0}]
["6,1,1,8,1,0,0",6,1,1,8,1,null,null,null,null,"Participaciones",null,null,null,null,{"$f":"'Formato 6 a)'!B72","v":0},{"$f":"'Formato 6 a)'!C72","v":0},{"$f":"'Formato 6 a)'!D72","v":0},{"$f":"'Formato 6 a)'!E72","v":0},{"$f":"'Formato 6 a)'!F72","v":0},{"$f":"'Formato 6 a)'!G72","v":0}]
["6,1,1,8,2,0,0",6,1,1,8,2,null,null,null,null,"Aportaciones",null,null,null,null,{"$f":"'Formato 6 a)'!B73","v":0},{"$f":"'Formato 6 a)'!C73","v":0},{"$f":"'Formato 6 a)'!D73","v":0},{"$f":"'Formato 6 a)'!E73","v":0},{"$f":"'Formato 6 a)'!F73","v":0},{"$f":"'Formato 6 a)'!G73","v":0}]
["6,1,1,8,3,0,0",6,1,1,8,3,null,null,null,null,"Convenios",null,null,null,null,{"$f":"'Formato 6 a)'!B74","v":0},{"$f":"'Formato 6 a)'!C74","v":0},{"$f":"'Formato 6 a)'!D74","v":0},{"$f":"'Formato 6 a)'!E74","v":0},{"$f":"'Formato 6 a)'!F74","v":0},{"$f":"'Formato 6 a)'!G74","v":0}]
["6,1,1,9,0,0,0",6,1,1,9,null,null,null,null,"Deuda Pública",null,null,null,null,null,{"$f":"'Formato 6 a)'!B75","v":0},{"$f":"'Formato 6 a)'!C75","v":0},{"$f":"'Formato 6 a)'!D75","v":0},{"$f":"'Formato 6 a)'!E75","v":0},{"$f":"'Formato 6 a)'!F75","v":0},{"$f":"'Formato 6 a)'!G75","v":0}]
["6,1,1,9,1,0,0",6,1,1,9,1,null,null,null,null,"Amortización de la Deuda Pública",null,null,null,null,{"$f":"'Formato 6 a)'!B76","v":0},{"$f":"'Formato 6 a)'!C76","v":0},{"$f":"'Formato 6 a)'!D76","v":0},{"$f":"'Formato 6 a)'!E76","v":0},{"$f":"'Formato 6 a)'!F76","v":0},{"$f":"'Formato 6 a)'!G76","v":0}]
["6,1,1,9,2,0,0",6,1,1,9,2,null,null,null,null,"Intereses de la Deuda Pública",null,null,null,null,{"$f":"'Formato 6 a)'!B77","v":0},{"$f":"'Formato 6 a)'!C77","v":0},{"$f":"'Formato 6 a)'!D77","v":0},{"$f":"'Formato 6 a)'!E77","v":0},{"$f":"'Formato 6 a)'!F77","v":0},{"$f":"'Formato 6 a)'!G77","v":0}]
["6,1,1,9,3,0,0",6,1,1,9,3,null,null,null,null,"Comisiones de la Deuda Pública",null,null,null,null,{"$f":"'Formato 6 a)'!B78","v":0},{"$f":"'Formato 6 a)'!C78","v":0},{"$f":"'Formato 6 a)'!D78","v":0},{"$f":"'Formato 6 a)'!E78","v":0},{"$f":"'Formato 6 a)'!F78","v":0},{"$f":"'Formato 6 a)'!G78","v":0}]
["6,1,1,9,4,0,0",6,1,1,9,4,null,null,null,null,"Gastos de la Deuda Pública",null,null,null,null,{"$f":"'Formato 6 a)'!B79","v":0},{"$f":"'Formato 6 a)'!C79","v":0},{"$f":"'Formato 6 a)'!D79","v":0},{"$f":"'Formato 6 a)'!E79","v":0},{"$f":"'Formato 6 a)'!F79","v":0},{"$f":"'Formato 6 a)'!G79","v":0}]
["6,1,1,9,5,0,0",6,1,1,9,5,null,null,null,null,"Costo por Coberturas",null,null,null,null,{"$f":"'Formato 6 a)'!B80","v":0},{"$f":"'Formato 6 a)'!C80","v":0},{"$f":"'Formato 6 a)'!D80","v":0},{"$f":"'Formato 6 a)'!E80","v":0},{"$f":"'Formato 6 a)'!F80","v":0},{"$f":"'Formato 6 a)'!G80","v":0}]
["6,1,1,9,6,0,0",6,1,1,9,6,null,null,null,null,"Apoyos Financieros",null,null,null,null,{"$f":"'Formato 6 a)'!B81","v":0},{"$f":"'Formato 6 a)'!C81","v":0},{"$f":"'Formato 6 a)'!D81","v":0},{"$f":"'Formato 6 a)'!E81","v":0},{"$f":"'Formato 6 a)'!F81","v":0},{"$f":"'Formato 6 a)'!G81","v":0}]
["6,1,1,9,7,0,0",6,1,1,9,7,null,null,null,null,"Adeudos de Ejercicios Fiscales Anteriores (ADEFAS)",null,null,null,null,{"$f":"'Formato 6 a)'!B82","v":0},{"$f":"'Formato 6 a)'!C82","v":0},{"$f":"'Formato 6 a)'!D82","v":0},{"$f":"'Formato 6 a)'!E82","v":0},{"$f":"'Formato 6 a)'!F82","v":0},{"$f":"'Formato 6 a)'!G82","v":0}]
["6,1,2,0,0,0,0",6,1,2,null,null,null,null,"Gasto Etiquetado",null,null,null,null,null,null,{"$f":"'Formato 6 a)'!B84","v":0},{"$f":"'Formato 6 a)'!C84","v":0},{"$f":"'Formato 6 a)'!D84","v":0},{"$f":"'Formato 6 a)'!E84","v":0},{"$f":"'Formato 6 a)'!F84","v":0},{"$f":"'Formato 6 a)'!G84","v":0}]
[{"$f":"IF(LEN(CLEAN(B77))=0,\"0\",B77)&\",\"&IF(LEN(CLEAN(C77))=0,\"0\",C77)&\",\"&IF(LEN(CLEAN(D77))=0,\"0\",D77)&\",\"&IF(LEN(CLEAN(E77))=0,\"0\",E77)&\",\"&IF(LEN(CLEAN(F77))=0,\"0\",F77)&\",\"&IF(LEN(CLEAN(G77))=0,\"0\",G77)&\",\"&IF(LEN(CLEAN(H77))=0,\"0\",H77)","v":"6,1,2,1,0,0,0"},6,1,2,1,null,null,null,null,"Servicios Personales",null,null,null,null,null,{"$f":"'Formato 6 a)'!B85","v":0},{"$f":"'Formato 6 a)'!C85","v":0},{"$f":"'Formato 6 a)'!D85","v":0},{"$f":"'Formato 6 a)'!E85","v":0},{"$f":"'Formato 6 a)'!F85","v":0},{"$f":"'Formato 6 a)'!G85","v":0}]
["6,1,2,1,1,0,0",6,1,2,1,1,null,null,null,null,"Remuneraciones al Personal de Carácter Permanente",null,null,null,null,{"$f":"'Formato 6 a)'!B86","v":0},{"$f":"'Formato 6 a)'!C86","v":0},{"$f":"'Formato 6 a)'!D86","v":0},{"$f":"'Formato 6 a)'!E86","v":0},{"$f":"'Formato 6 a)'!F86","v":0},{"$f":"'Formato 6 a)'!G86","v":0}]
["6,1,2,1,2,0,0",6,1,2,1,2,null,null,null,null,"Remuneraciones al Personal de Carácter Transitorio",null,null,null,null,{"$f":"'Formato 6 a)'!B87","v":0},{"$f":"'Formato 6 a)'!C87","v":0},{"$f":"'Formato 6 a)'!D87","v":0},{"$f":"'Formato 6 a)'!E87","v":0},{"$f":"'Formato 6 a)'!F87","v":0},{"$f":"'Formato 6 a)'!G87","v":0}]
["6,1,2,1,3,0,0",6,1,2,1,3,null,null,null,null,"Remuneraciones Adicionales y Especiales",null,null,null,null,{"$f":"'Formato 6 a)'!B88","v":0},{"$f":"'Formato 6 a)'!C88","v":0},{"$f":"'Formato 6 a)'!D88","v":0},{"$f":"'Formato 6 a)'!E88","v":0},{"$f":"'Formato 6 a)'!F88","v":0},{"$f":"'Formato 6 a)'!G88","v":0}]
["6,1,2,1,4,0,0",6,1,2,1,4,null,null,null,null,"Seguridad Social",null,null,null,null,{"$f":"'Formato 6 a)'!B89","v":0},{"$f":"'Formato 6 a)'!C89","v":0},{"$f":"'Formato 6 a)'!D89","v":0},{"$f":"'Formato 6 a)'!E89","v":0},{"$f":"'Formato 6 a)'!F89","v":0},{"$f":"'Formato 6 a)'!G89","v":0}]
["6,1,2,1,5,0,0",6,1,2,1,5,null,null,null,null,"Otras Prestaciones Sociales y Económicas",null,null,null,null,{"$f":"'Formato 6 a)'!B90","v":0},{"$f":"'Formato 6 a)'!C90","v":0},{"$f":"'Formato 6 a)'!D90","v":0},{"$f":"'Formato 6 a)'!E90","v":0},{"$f":"'Formato 6 a)'!F90","v":0},{"$f":"'Formato 6 a)'!G90","v":0}]
["6,1,2,1,6,0,0",6,1,2,1,6,null,null,null,null,"Previsiones",null,null,null,null,{"$f":"'Formato 6 a)'!B91","v":0},{"$f":"'Formato 6 a)'!C91","v":0},{"$f":"'Formato 6 a)'!D91","v":0},{"$f":"'Formato 6 a)'!E91","v":0},{"$f":"'Formato 6 a)'!F91","v":0},{"$f":"'Formato 6 a)'!G91","v":0}]
["6,1,2,1,7,0,0",6,1,2,1,7,null,null,null,null,"Pago de Estímulos a Servidores Públicos",null,null,null,null,{"$f":"'Formato 6 a)'!B92","v":0},{"$f":"'Formato 6 a)'!C92","v":0},{"$f":"'Formato 6 a)'!D92","v":0},{"$f":"'Formato 6 a)'!E92","v":0},{"$f":"'Formato 6 a)'!F92","v":0},{"$f":"'Formato 6 a)'!G92","v":0}]
["6,1,2,2,0,0,0",6,1,2,2,null,null,null,null,"Materiales y Suministros",null,null,null,null,null,{"$f":"'Formato 6 a)'!B93","v":0},{"$f":"'Formato 6 a)'!C93","v":0},{"$f":"'Formato 6 a)'!D93","v":0},{"$f":"'Formato 6 a)'!E93","v":0},{"$f":"'Formato 6 a)'!F93","v":0},{"$f":"'Formato 6 a)'!G93","v":0}]
["6,1,2,2,1,0,0",6,1,2,2,1,null,null,null,null,"Materiales de Administración, Emisión de Documentos y Artículos Oficiales",null,null,null,null,{"$f":"'Formato 6 a)'!B94","v":0},{"$f":"'Formato 6 a)'!C94","v":0},{"$f":"'Formato 6 a)'!D94","v":0},{"$f":"'Formato 6 a)'!E94","v":0},{"$f":"'Formato 6 a)'!F94","v":0},{"$f":"'Formato 6 a)'!G94","v":0}]
["6,1,2,2,2,0,0",6,1,2,2,2,null,null,null,null,"Alimentos y Utensilios",null,null,null,null,{"$f":"'Formato 6 a)'!B95","v":0},{"$f":"'Formato 6 a)'!C95","v":0},{"$f":"'Formato 6 a)'!D95","v":0},{"$f":"'Formato 6 a)'!E95","v":0},{"$f":"'Formato 6 a)'!F95","v":0},{"$f":"'Formato 6 a)'!G95","v":0}]
["6,1,2,2,3,0,0",6,1,2,2,3,null,null,null,null,"Materias Primas y Materiales de Producción y Comercialización",null,null,null,null,{"$f":"'Formato 6 a)'!B96","v":0},{"$f":"'Formato 6 a)'!C96","v":0},{"$f":"'Formato 6 a)'!D96","v":0},{"$f":"'Formato 6 a)'!E96","v":0},{"$f":"'Formato 6 a)'!F96","v":0},{"$f":"'Formato 6 a)'!G96","v":0}]
["6,1,2,2,4,0,0",6,1,2,2,4,null,null,null,null,"Materiales y Artículos de Construcción y de Reparación",null,null,null,null,{"$f":"'Formato 6 a)'!B97","v":0},{"$f":"'Formato 6 a)'!C97","v":0},{"$f":"'Formato 6 a)'!D97","v":0},{"$f":"'Formato 6 a)'!E97","v":0},{"$f":"'Formato 6 a)'!F97","v":0},{"$f":"'Formato 6 a)'!G97","v":0}]
["6,1,2,2,5,0,0",6,1,2,2,5,null,null,null,null,"Productos Químicos, Farmacéuticos y de Laboratorio",null,null,null,null,{"$f":"'Formato 6 a)'!B98","v":0},{"$f":"'Formato 6 a)'!C98","v":0},{"$f":"'Formato 6 a)'!D98","v":0},{"$f":"'Formato 6 a)'!E98","v":0},{"$f":"'Formato 6 a)'!F98","v":0},{"$f":"'Formato 6 a)'!G98","v":0}]
["6,1,2,2,6,0,0",6,1,2,2,6,null,null,null,null,"Combustibles, Lubricantes y Aditivos",null,null,null,null,{"$f":"'Formato 6 a)'!B99","v":0},{"$f":"'Formato 6 a)'!C99","v":0},{"$f":"'Formato 6 a)'!D99","v":0},{"$f":"'Formato 6 a)'!E99","v":0},{"$f":"'Formato 6 a)'!F99","v":0},{"$f":"'Formato 6 a)'!G99","v":0}]
["6,1,2,2,7,0,0",6,1,2,2,7,null,null,null,null,"Vestuario, Blancos, Prendas de Protección y Artículos Deportivos",null,null,null,null,{"$f":"'Formato 6 a)'!B100","v":0},{"$f":"'Formato 6 a)'!C100","v":0},{"$f":"'Formato 6 a)'!D100","v":0},{"$f":"'Formato 6 a)'!E100","v":0},{"$f":"'Formato 6 a)'!F100","v":0},{"$f":"'Formato 6 a)'!G100","v":0}]
["6,1,2,2,8,0,0",6,1,2,2,8,null,null,null,null,"Materiales y Suministros Para Seguridad",null,null,null,null,{"$f":"'Formato 6 a)'!B101","v":0},{"$f":"'Formato 6 a)'!C101","v":0},{"$f":"'Formato 6 a)'!D101","v":0},{"$f":"'Formato 6 a)'!E101","v":0},{"$f":"'Formato 6 a)'!F101","v":0},{"$f":"'Formato 6 a)'!G101","v":0}]
["6,1,2,2,9,0,0",6,1,2,2,9,null,null,null,null,"Herramientas, Refacciones y Accesorios Menores",null,null,null,null,{"$f":"'Formato 6 a)'!B102","v":0},{"$f":"'Formato 6 a)'!C102","v":0},{"$f":"'Formato 6 a)'!D102","v":0},{"$f":"'Formato 6 a)'!E102","v":0},{"$f":"'Formato 6 a)'!F102","v":0},{"$f":"'Formato 6 a)'!G102","v":0}]
["6,1,2,3,0,0,0",6,1,2,3,null,null,null,null,"Servicios Generales",null,null,null,null,null,{"$f":"'Formato 6 a)'!B103","v":0},{"$f":"'Formato 6 a)'!C103","v":0},{"$f":"'Formato 6 a)'!D103","v":0},{"$f":"'Formato 6 a)'!E103","v":0},{"$f":"'Formato 6 a)'!F103","v":0},{"$f":"'Formato 6 a)'!G103","v":0}]
["6,1,2,3,1,0,0",6,1,2,3,1,null,null,null,null,"Servicios Básicos",null,null,null,null,{"$f":"'Formato 6 a)'!B104","v":0},{"$f":"'Formato 6 a)'!C104","v":0},{"$f":"'Formato 6 a)'!D104","v":0},{"$f":"'Formato 6 a)'!E104","v":0},{"$f":"'Formato 6 a)'!F104","v":0},{"$f":"'Formato 6 a)'!G104","v":0}]
["6,1,2,3,2,0,0",6,1,2,3,2,null,null,null,null,"Servicios de Arrendamiento",null,null,null,null,{"$f":"'Formato 6 a)'!B105","v":0},{"$f":"'Formato 6 a)'!C105","v":0},{"$f":"'Formato 6 a)'!D105","v":0},{"$f":"'Formato 6 a)'!E105","v":0},{"$f":"'Formato 6 a)'!F105","v":0},{"$f":"'Formato 6 a)'!G105","v":0}]
["6,1,2,3,3,0,0",6,1,2,3,3,null,null,null,null,"Servicios Profesionales, Científicos, Técnicos y Otros Servicios",null,null,null,null,{"$f":"'Formato 6 a)'!B106","v":0},{"$f":"'Formato 6 a)'!C106","v":0},{"$f":"'Formato 6 a)'!D106","v":0},{"$f":"'Formato 6 a)'!E106","v":0},{"$f":"'Formato 6 a)'!F106","v":0},{"$f":"'Formato 6 a)'!G106","v":0}]
["6,1,2,3,4,0,0",6,1,2,3,4,null,null,null,null,"Servicios Financieros, Bancarios y Comerciales",null,null,null,null,{"$f":"'Formato 6 a)'!B107","v":0},{"$f":"'Formato 6 a)'!C107","v":0},{"$f":"'Formato 6 a)'!D107","v":0},{"$f":"'Formato 6 a)'!E107","v":0},{"$f":"'Formato 6 a)'!F107","v":0},{"$f":"'Formato 6 a)'!G107","v":0}]
["6,1,2,3,5,0,0",6,1,2,3,5,null,null,null,null,"Servicios de Instalación, Reparación, Mantenimiento y Conservación",null,null,null,null,{"$f":"'Formato 6 a)'!B108","v":0},{"$f":"'Formato 6 a)'!C108","v":0},{"$f":"'Formato 6 a)'!D108","v":0},{"$f":"'Formato 6 a)'!E108","v":0},{"$f":"'Formato 6 a)'!F108","v":0},{"$f":"'Formato 6 a)'!G108","v":0}]
["6,1,2,3,6,0,0",6,1,2,3,6,null,null,null,null,"Servicios de Comunicación Social y Publicidad",null,null,null,null,{"$f":"'Formato 6 a)'!B109","v":0},{"$f":"'Formato 6 a)'!C109","v":0},{"$f":"'Formato 6 a)'!D109","v":0},{"$f":"'Formato 6 a)'!E109","v":0},{"$f":"'Formato 6 a)'!F109","v":0},{"$f":"'Formato 6 a)'!G109","v":0}]
["6,1,2,3,7,0,0",6,1,2,3,7,null,null,null,null,"Servicios de Traslado y Viáticos",null,null,null,null,{"$f":"'Formato 6 a)'!B110","v":0},{"$f":"'Formato 6 a)'!C110","v":0},{"$f":"'Formato 6 a)'!D110","v":0},{"$f":"'Formato 6 a)'!E110","v":0},{"$f":"'Formato 6 a)'!F110","v":0},{"$f":"'Formato 6 a)'!G110","v":0}]
["6,1,2,3,8,0,0",6,1,2,3,8,null,null,null,null,"Servicios Oficiales",null,null,null,null,{"$f":"'Formato 6 a)'!B111","v":0},{"$f":"'Formato 6 a)'!C111","v":0},{"$f":"'Formato 6 a)'!D111","v":0},{"$f":"'Formato 6 a)'!E111","v":0},{"$f":"'Formato 6 a)'!F111","v":0},{"$f":"'Formato 6 a)'!G111","v":0}]
["6,1,2,3,9,0,0",6,1,2,3,9,null,null,null,null,"Otros Servicios Generales",null,null,null,null,{"$f":"'Formato 6 a)'!B112","v":0},{"$f":"'Formato 6 a)'!C112","v":0},{"$f":"'Formato 6 a)'!D112","v":0},{"$f":"'Formato 6 a)'!E112","v":0},{"$f":"'Formato 6 a)'!F112","v":0},{"$f":"'Formato 6 a)'!G112","v":0}]
["6,1,2,4,0,0,0",6,1,2,4,null,null,null,null,"Transferencias, Asignaciones, Subsidios y Otras Ayudas",null,null,null,null,null,{"$f":"'Formato 6 a)'!B113","v":0},{"$f":"'Formato 6 a)'!C113","v":0},{"$f":"'Formato 6 a)'!D113","v":0},{"$f":"'Formato 6 a)'!E113","v":0},{"$f":"'Formato 6 a)'!F113","v":0},{"$f":"'Formato 6 a)'!G113","v":0}]
["6,1,2,4,1,0,0",6,1,2,4,1,null,null,null,null,"Transferencias Internas y Asignaciones al Sector Público",null,null,null,null,{"$f":"'Formato 6 a)'!B114","v":0},{"$f":"'Formato 6 a)'!C114","v":0},{"$f":"'Formato 6 a)'!D114","v":0},{"$f":"'Formato 6 a)'!E114","v":0},{"$f":"'Formato 6 a)'!F114","v":0},{"$f":"'Formato 6 a)'!G114","v":0}]
["6,1,2,4,2,0,0",6,1,2,4,2,null,null,null,null,"Transferencias al Resto del Sector Público",null,null,null,null,{"$f":"'Formato 6 a)'!B115","v":0},{"$f":"'Formato 6 a)'!C115","v":0},{"$f":"'Formato 6 a)'!D115","v":0},{"$f":"'Formato 6 a)'!E115","v":0},{"$f":"'Formato 6 a)'!F115","v":0},{"$f":"'Formato 6 a)'!G115","v":0}]
["6,1,2,4,3,0,0",6,1,2,4,3,null,null,null,null,"Subsidios y Subvenciones",null,null,null,null,{"$f":"'Formato 6 a)'!B116","v":0},{"$f":"'Formato 6 a)'!C116","v":0},{"$f":"'Formato 6 a)'!D116","v":0},{"$f":"'Formato 6 a)'!E116","v":0},{"$f":"'Formato 6 a)'!F116","v":0},{"$f":"'Formato 6 a)'!G116","v":0}]
["6,1,2,4,4,0,0",6,1,2,4,4,null,null,null,null,"Ayudas Sociales",null,null,null,null,{"$f":"'Formato 6 a)'!B117","v":0},{"$f":"'Formato 6 a)'!C117","v":0},{"$f":"'Formato 6 a)'!D117","v":0},{"$f":"'Formato 6 a)'!E117","v":0},{"$f":"'Formato 6 a)'!F117","v":0},{"$f":"'Formato 6 a)'!G117","v":0}]
["6,1,2,4,5,0,0",6,1,2,4,5,null,null,null,null,"Pensiones y Jubilaciones",null,null,null,null,{"$f":"'Formato 6 a)'!B118","v":0},{"$f":"'Formato 6 a)'!C118","v":0},{"$f":"'Formato 6 a)'!D118","v":0},{"$f":"'Formato 6 a)'!E118","v":0},{"$f":"'Formato 6 a)'!F118","v":0},{"$f":"'Formato 6 a)'!G118","v":0}]
["6,1,2,4,6,0,0",6,1,2,4,6,null,null,null,null,"Transferencias a Fideicomisos, Mandatos y Otros Análogos",null,null,null,null,{"$f":"'Formato 6 a)'!B119","v":0},{"$f":"'Formato 6 a)'!C119","v":0},{"$f":"'Formato 6 a)'!D119","v":0},{"$f":"'Formato 6 a)'!E119","v":0},{"$f":"'Formato 6 a)'!F119","v":0},{"$f":"'Formato 6 a)'!G119","v":0}]
["6,1,2,4,7,0,0",6,1,2,4,7,null,null,null,null,"Transferencias a la Seguridad Social",null,null,null,null,{"$f":"'Formato 6 a)'!B120","v":0},{"$f":"'Formato 6 a)'!C120","v":0},{"$f":"'Formato 6 a)'!D120","v":0},{"$f":"'Formato 6 a)'!E120","v":0},{"$f":"'Formato 6 a)'!F120","v":0},{"$f":"'Formato 6 a)'!G120","v":0}]
["6,1,2,4,8,0,0",6,1,2,4,8,null,null,null,null,"Donativos",null,null,null,null,{"$f":"'Formato 6 a)'!B121","v":0},{"$f":"'Formato 6 a)'!C121","v":0},{"$f":"'Formato 6 a)'!D121","v":0},{"$f":"'Formato 6 a)'!E121","v":0},{"$f":"'Formato 6 a)'!F121","v":0},{"$f":"'Formato 6 a)'!G121","v":0}]
["6,1,2,4,9,0,0",6,1,2,4,9,null,null,null,null,"Transferencias al Exterior",null,null,null,null,{"$f":"'Formato 6 a)'!B122","v":0},{"$f":"'Formato 6 a)'!C122","v":0},{"$f":"'Formato 6 a)'!D122","v":0},{"$f":"'Formato 6 a)'!E122","v":0},{"$f":"'Formato 6 a)'!F122","v":0},{"$f":"'Formato 6 a)'!G122","v":0}]
["6,1,2,5,0,0,0",6,1,2,5,null,null,null,null,"Bienes Muebles, Inmuebles e Intangibles",null,null,null,null,null,{"$f":"'Formato 6 a)'!B123","v":0},{"$f":"'Formato 6 a)'!C123","v":0},{"$f":"'Formato 6 a)'!D123","v":0},{"$f":"'Formato 6 a)'!E123","v":0},{"$f":"'Formato 6 a)'!F123","v":0},{"$f":"'Formato 6 a)'!G123","v":0}]
["6,1,2,5,1,0,0",6,1,2,5,1,null,null,null,null,"Mobiliario y Equipo de Administración",null,null,null,null,{"$f":"'Formato 6 a)'!B124","v":0},{"$f":"'Formato 6 a)'!C124","v":0},{"$f":"'Formato 6 a)'!D124","v":0},{"$f":"'Formato 6 a)'!E124","v":0},{"$f":"'Formato 6 a)'!F124","v":0},{"$f":"'Formato 6 a)'!G124","v":0}]
["6,1,2,5,2,0,0",6,1,2,5,2,null,null,null,null,"Mobiliario y Equipo Educacional y Recreativo",null,null,null,null,{"$f":"'Formato 6 a)'!B125","v":0},{"$f":"'Formato 6 a)'!C125","v":0},{"$f":"'Formato 6 a)'!D125","v":0},{"$f":"'Formato 6 a)'!E125","v":0},{"$f":"'Formato 6 a)'!F125","v":0},{"$f":"'Formato 6 a)'!G125","v":0}]
["6,1,2,5,3,0,0",6,1,2,5,3,null,null,null,null,"Equipo e Instrumental Médico y de Laboratorio",null,null,null,null,{"$f":"'Formato 6 a)'!B126","v":0},{"$f":"'Formato 6 a)'!C126","v":0},{"$f":"'Formato 6 a)'!D126","v":0},{"$f":"'Formato 6 a)'!E126","v":0},{"$f":"'Formato 6 a)'!F126","v":0},{"$f":"'Formato 6 a)'!G126","v":0}]
["6,1,2,5,4,0,0",6,1,2,5,4,null,null,null,null,"Vehículos y Equipo de Transporte",null,null,null,null,{"$f":"'Formato 6 a)'!B127","v":0},{"$f":"'Formato 6 a)'!C127","v":0},{"$f":"'Formato 6 a)'!D127","v":0},{"$f":"'Formato 6 a)'!E127","v":0},{"$f":"'Formato 6 a)'!F127","v":0},{"$f":"'Formato 6 a)'!G127","v":0}]
["6,1,2,5,5,0,0",6,1,2,5,5,null,null,null,null,"Equipo de Defensa y Seguridad",null,null,null,null,{"$f":"'Formato 6 a)'!B128","v":0},{"$f":"'Formato 6 a)'!C128","v":0},{"$f":"'Formato 6 a)'!D128","v":0},{"$f":"'Formato 6 a)'!E128","v":0},{"$f":"'Formato 6 a)'!F128","v":0},{"$f":"'Formato 6 a)'!G128","v":0}]
["6,1,2,5,6,0,0",6,1,2,5,6,null,null,null,null,"Maquinaria, Otros Equipos y Herramientas",null,null,null,null,{"$f":"'Formato 6 a)'!B129","v":0},{"$f":"'Formato 6 a)'!C129","v":0},{"$f":"'Formato 6 a)'!D129","v":0},{"$f":"'Formato 6 a)'!E129","v":0},{"$f":"'Formato 6 a)'!F129","v":0},{"$f":"'Formato 6 a)'!G129","v":0}]
["6,1,2,5,7,0,0",6,1,2,5,7,null,null,null,null,"Activos Biológicos",null,null,null,null,{"$f":"'Formato 6 a)'!B130","v":0},{"$f":"'Formato 6 a)'!C130","v":0},{"$f":"'Formato 6 a)'!D130","v":0},{"$f":"'Formato 6 a)'!E130","v":0},{"$f":"'Formato 6 a)'!F130","v":0},{"$f":"'Formato 6 a)'!G130","v":0}]
["6,1,2,5,8,0,0",6,1,2,5,8,null,null,null,null,"Bienes Inmuebles",null,null,null,null,{"$f":"'Formato 6 a)'!B131","v":0},{"$f":"'Formato 6 a)'!C131","v":0},{"$f":"'Formato 6 a)'!D131","v":0},{"$f":"'Formato 6 a)'!E131","v":0},{"$f":"'Formato 6 a)'!F131","v":0},{"$f":"'Formato 6 a)'!G131","v":0}]
["6,1,2,5,9,0,0",6,1,2,5,9,null,null,null,null,"Activos Intangibles",null,null,null,null,{"$f":"'Formato 6 a)'!B132","v":0},{"$f":"'Formato 6 a)'!C132","v":0},{"$f":"'Formato 6 a)'!D132","v":0},{"$f":"'Formato 6 a)'!E132","v":0},{"$f":"'Formato 6 a)'!F132","v":0},{"$f":"'Formato 6 a)'!G132","v":0}]
["6,1,2,6,0,0,0",6,1,2,6,null,null,null,null,"Inversión Pública",null,null,null,null,null,{"$f":"'Formato 6 a)'!B133","v":0},{"$f":"'Formato 6 a)'!C133","v":0},{"$f":"'Formato 6 a)'!D133","v":0},{"$f":"'Formato 6 a)'!E133","v":0},{"$f":"'Formato 6 a)'!F133","v":0},{"$f":"'Formato 6 a)'!G133","v":0}]
["6,1,2,6,1,0,0",6,1,2,6,1,null,null,null,null,"Obra Pública en Bienes de Dominio Público",null,null,null,null,{"$f":"'Formato 6 a)'!B134","v":0},{"$f":"'Formato 6 a)'!C134","v":0},{"$f":"'Formato 6 a)'!D134","v":0},{"$f":"'Formato 6 a)'!E134","v":0},{"$f":"'Formato 6 a)'!F134","v":0},{"$f":"'Formato 6 a)'!G134","v":0}]
["6,1,2,6,2,0,0",6,1,2,6,2,null,null,null,null,"Obra Pública en Bienes Propios",null,null,null,null,{"$f":"'Formato 6 a)'!B135","v":0},{"$f":"'Formato 6 a)'!C135","v":0},{"$f":"'Formato 6 a)'!D135","v":0},{"$f":"'Formato 6 a)'!E135","v":0},{"$f":"'Formato 6 a)'!F135","v":0},{"$f":"'Formato 6 a)'!G135","v":0}]
["6,1,2,6,3,0,0",6,1,2,6,3,null,null,null,null,"Proyectos Productivos y Acciones de Fomento",null,null,null,null,{"$f":"'Formato 6 a)'!B136","v":0},{"$f":"'Formato 6 a)'!C136","v":0},{"$f":"'Formato 6 a)'!D136","v":0},{"$f":"'Formato 6 a)'!E136","v":0},{"$f":"'Formato 6 a)'!F136","v":0},{"$f":"'Formato 6 a)'!G136","v":0}]
["6,1,2,7,0,0,0",6,1,2,7,null,null,null,null,"Inversiones Financieras y Otras Provisiones",null,null,null,null,null,{"$f":"'Formato 6 a)'!B137","v":0},{"$f":"'Formato 6 a)'!C137","v":0},{"$f":"'Formato 6 a)'!D137","v":0},{"$f":"'Formato 6 a)'!E137","v":0},{"$f":"'Formato 6 a)'!F137","v":0},{"$f":"'Formato 6 a)'!G137","v":0}]
["6,1,2,7,1,0,0",6,1,2,7,1,null,null,null,null,"Inversiones Para el Fomento de Actividades Productivas",null,null,null,null,{"$f":"'Formato 6 a)'!B138","v":0},{"$f":"'Formato 6 a)'!C138","v":0},{"$f":"'Formato 6 a)'!D138","v":0},{"$f":"'Formato 6 a)'!E138","v":0},{"$f":"'Formato 6 a)'!F138","v":0},{"$f":"'Formato 6 a)'!G138","v":0}]
["6,1,2,7,2,0,0",6,1,2,7,2,null,null,null,null,"Acciones y Participaciones de Capital",null,null,null,null,{"$f":"'Formato 6 a)'!B139","v":0},{"$f":"'Formato 6 a)'!C139","v":0},{"$f":"'Formato 6 a)'!D139","v":0},{"$f":"'Formato 6 a)'!E139","v":0},{"$f":"'Formato 6 a)'!F139","v":0},{"$f":"'Formato 6 a)'!G139","v":0}]
["6,1,2,7,3,0,0",6,1,2,7,3,null,null,null,null,"Compra de Títulos y Valores",null,null,null,null,{"$f":"'Formato 6 a)'!B140","v":0},{"$f":"'Formato 6 a)'!C140","v":0},{"$f":"'Formato 6 a)'!D140","v":0},{"$f":"'Formato 6 a)'!E140","v":0},{"$f":"'Formato 6 a)'!F140","v":0},{"$f":"'Formato 6 a)'!G140","v":0}]
["6,1,2,7,4,0,0",6,1,2,7,4,null,null,null,null,"Concesión de Préstamos",null,null,null,null,{"$f":"'Formato 6 a)'!B141","v":0},{"$f":"'Formato 6 a)'!C141","v":0},{"$f":"'Formato 6 a)'!D141","v":0},{"$f":"'Formato 6 a)'!E141","v":0},{"$f":"'Formato 6 a)'!F141","v":0},{"$f":"'Formato 6 a)'!G141","v":0}]
["6,1,2,7,5,0,0",6,1,2,7,5,null,null,null,null,"Inversiones en Fideicomisos, Mandatos y Otros Análogos",null,null,null,null,{"$f":"'Formato 6 a)'!B142","v":0},{"$f":"'Formato 6 a)'!C142","v":0},{"$f":"'Formato 6 a)'!D142","v":0},{"$f":"'Formato 6 a)'!E142","v":0},{"$f":"'Formato 6 a)'!F142","v":0},{"$f":"'Formato 6 a)'!G142","v":0}]
["6,1,2,7,5,1,0",6,1,2,7,5,1,null,null,null,null,"Fideicomiso de Desastres Naturales (Informativo)",null,null,null,{"$f":"'Formato 6 a)'!B143","v":0},{"$f":"'Formato 6 a)'!C143","v":0},{"$f":"'Formato 6 a)'!D143","v":0},{"$f":"'Formato 6 a)'!E143","v":0},{"$f":"'Formato 6 a)'!F143","v":0},{"$f":"'Formato 6 a)'!G143","v":0}]
["6,1,2,7,6,0,0",6,1,2,7,6,null,null,null,null,"Otras Inversiones Financieras",null,null,null,null,{"$f":"'Formato 6 a)'!B144","v":0},{"$f":"'Formato 6 a)'!C144","v":0},{"$f":"'Formato 6 a)'!D144","v":0},{"$f":"'Formato 6 a)'!E144","v":0},{"$f":"'Formato 6 a)'!F144","v":0},{"$f":"'Formato 6 a)'!G144","v":0}]
["6,1,2,7,7,0,0",6,1,2,7,7,null,null,null,null,"Provisiones para Contingencias y Otras Erogaciones Especiales",null,null,null,null,{"$f":"'Formato 6 a)'!B145","v":0},{"$f":"'Formato 6 a)'!C145","v":0},{"$f":"'Formato 6 a)'!D145","v":0},{"$f":"'Formato 6 a)'!E145","v":0},{"$f":"'Formato 6 a)'!F145","v":0},{"$f":"'Formato 6 a)'!G145","v":0}]
["6,1,2,8,0,0,0",6,1,2,8,null,null,null,null,"Participaciones y Aportaciones",null,null,null,null,null,{"$f":"'Formato 6 a)'!B146","v":0},{"$f":"'Formato 6 a)'!C146","v":0},{"$f":"'Formato 6 a)'!D146","v":0},{"$f":"'Formato 6 a)'!E146","v":0},{"$f":"'Formato 6 a)'!F146","v":0},{"$f":"'Formato 6 a)'!G146","v":0}]
["6,1,2,8,1,0,0",6,1,2,8,1,null,null,null,null,"Participaciones",null,null,null,null,{"$f":"'Formato 6 a)'!B147","v":0},{"$f":"'Formato 6 a)'!C147","v":0},{"$f":"'Formato 6 a)'!D147","v":0},{"$f":"'Formato 6 a)'!E147","v":0},{"$f":"'Formato 6 a)'!F147","v":0},{"$f":"'Formato 6 a)'!G147","v":0}]
["6,1,2,8,2,0,0",6,1,2,8,2,null,null,null,null,"Aportaciones",null,null,null,null,{"$f":"'Formato 6 a)'!B148","v":0},{"$f":"'Formato 6 a)'!C148","v":0},{"$f":"'Formato 6 a)'!D148","v":0},{"$f":"'Formato 6 a)'!E148","v":0},{"$f":"'Formato 6 a)'!F148","v":0},{"$f":"'Formato 6 a)'!G148","v":0}]
[{"$f":"IF(LEN(CLEAN(B141))=0,\"0\",B141)&\",\"&IF(LEN(CLEAN(C141))=0,\"0\",C141)&\",\"&IF(LEN(CLEAN(D141))=0,\"0\",D141)&\",\"&IF(LEN(CLEAN(E141))=0,\"0\",E141)&\",\"&IF(LEN(CLEAN(F141))=0,\"0\",F141)&\",\"&IF(LEN(CLEAN(G141))=0,\"0\",G141)&\",\"&IF(LEN(CLEAN(H141))=0,\"0\",H141)","v":"6,1,2,8,3,0,0"},6,1,2,8,3,null,null,null,null,"Convenios",null,null,null,null,{"$f":"'Formato 6 a)'!B149","v":0},{"$f":"'Formato 6 a)'!C149","v":0},{"$f":"'Formato 6 a)'!D149","v":0},{"$f":"'Formato 6 a)'!E149","v":0},{"$f":"'Formato 6 a)'!F149","v":0},{"$f":"'Formato 6 a)'!G149","v":0}]
["6,1,2,9,0,0,0",6,1,2,9,null,null,null,null,"Deuda Pública",null,null,null,null,null,{"$f":"'Formato 6 a)'!B150","v":0},{"$f":"'Formato 6 a)'!C150","v":0},{"$f":"'Formato 6 a)'!D150","v":0},{"$f":"'Formato 6 a)'!E150","v":0},{"$f":"'Formato 6 a)'!F150","v":0},{"$f":"'Formato 6 a)'!G150","v":0}]
["6,1,2,9,1,0,0",6,1,2,9,1,null,null,null,null,"Amortización de la Deuda Pública",null,null,null,null,{"$f":"'Formato 6 a)'!B151","v":0},{"$f":"'Formato 6 a)'!C151","v":0},{"$f":"'Formato 6 a)'!D151","v":0},{"$f":"'Formato 6 a)'!E151","v":0},{"$f":"'Formato 6 a)'!F151","v":0},{"$f":"'Formato 6 a)'!G151","v":0}]
["6,1,2,9,2,0,0",6,1,2,9,2,null,null,null,null,"Intereses de la Deuda Pública",null,null,null,null,{"$f":"'Formato 6 a)'!B152","v":0},{"$f":"'Formato 6 a)'!C152","v":0},{"$f":"'Formato 6 a)'!D152","v":0},{"$f":"'Formato 6 a)'!E152","v":0},{"$f":"'Formato 6 a)'!F152","v":0},{"$f":"'Formato 6 a)'!G152","v":0}]
["6,1,2,9,3,0,0",6,1,2,9,3,null,null,null,null,"Comisiones de la Deuda Pública",null,null,null,null,{"$f":"'Formato 6 a)'!B153","v":0},{"$f":"'Formato 6 a)'!C153","v":0},{"$f":"'Formato 6 a)'!D153","v":0},{"$f":"'Formato 6 a)'!E153","v":0},{"$f":"'Formato 6 a)'!F153","v":0},{"$f":"'Formato 6 a)'!G153","v":0}]
["6,1,2,9,4,0,0",6,1,2,9,4,null,null,null,null,"Gastos de la Deuda Pública",null,null,null,null,{"$f":"'Formato 6 a)'!B154","v":0},{"$f":"'Formato 6 a)'!C154","v":0},{"$f":"'Formato 6 a)'!D154","v":0},{"$f":"'Formato 6 a)'!E154","v":0},{"$f":"'Formato 6 a)'!F154","v":0},{"$f":"'Formato 6 a)'!G154","v":0}]
["6,1,2,9,5,0,0",6,1,2,9,5,null,null,null,null,"Costo por Coberturas",null,null,null,null,{"$f":"'Formato 6 a)'!B155","v":0},{"$f":"'Formato 6 a)'!C155","v":0},{"$f":"'Formato 6 a)'!D155","v":0},{"$f":"'Formato 6 a)'!E155","v":0},{"$f":"'Formato 6 a)'!F155","v":0},{"$f":"'Formato 6 a)'!G155","v":0}]
["6,1,2,9,6,0,0",6,1,2,9,6,null,null,null,null,"Apoyos Financieros",null,null,null,null,{"$f":"'Formato 6 a)'!B156","v":0},{"$f":"'Formato 6 a)'!C156","v":0},{"$f":"'Formato 6 a)'!D156","v":0},{"$f":"'Formato 6 a)'!E156","v":0},{"$f":"'Formato 6 a)'!F156","v":0},{"$f":"'Formato 6 a)'!G156","v":0}]
["6,1,2,9,7,0,0",6,1,2,9,7,null,null,null,null,"Adeudos de Ejercicios Fiscales Anteriores (ADEFAS)",null,null,null,null,{"$f":"'Formato 6 a)'!B157","v":0},{"$f":"'Formato 6 a)'!C157","v":0},{"$f":"'Formato 6 a)'!D157","v":0},{"$f":"'Formato 6 a)'!E157","v":0},{"$f":"'Formato 6 a)'!F157","v":0},{"$f":"'Formato 6 a)'!G157","v":0}]
["6,1,3,10,0,0,0",6,1,3,10,null,null,null,"Total de Egresos",null,null,null,null,null,null,{"$f":"'Formato 6 a)'!B159","v":5770900},{"$f":"'Formato 6 a)'!C159","v":-393973.02},{"$f":"'Formato 6 a)'!D159","v":5376926.9799999995},{"$f":"'Formato 6 a)'!E159","v":5172255.0299999993},{"$f":"'Formato 6 a)'!F159","v":5158488.0299999993},{"$f":"'Formato 6 a)'!G159","v":204671.94999999998}]

{"sheet":"Formato 6 b)","index":15,"n_rows":29,"n_cols":16384,"rows_kept":29,"cut":false,"hidden":false,"merged":[[5,0,5,6],[6,0,7,0],[6,1,6,5],[6,6,7,6],[0,0,0,6],[1,0,1,6],[2,0,2,6],[3,0,3,6],[4,0,4,6]]}
["Formato 6 b) Estado Analítico del Ejercicio del Presupuesto de Egresos Detallado - LDF \n                        (Clasificación Administrativa)"]
[{"$f":"ENTE_PUBLICO_A","v":"INSTITUTO SALMANTINO PARA LAS PERSONAS CON DISCAPACIDAD, Gobierno del Estado de Guanajuato (a)"}]
["Estado Analítico del Ejercicio del Presupuesto de Egresos Detallado - LDF"]
["Clasificación Administrativa"]
[{"$f":"TRIMESTRE","v":"Del 1 de enero al 31 de diciembre de 2020 (b)"}]
["(PESOS)"]
["Concepto (c)","Egresos",null,null,null,null,"Subejercicio (e)"]
[null,"Aprobado (d)","Ampliaciones/ (Reducciones)","Modificado","Devengado","Pagado"]
["I. Gasto No Etiquetado (I=A+B+C+D+E+F+G+H)",{"$f":"SUM(B10:GASTO_NE_FIN_01)","v":5770900},{"$f":"SUM(C10:GASTO_NE_FIN_02)","v":-393973.02},{"$f":"SUM(D10:GASTO_NE_FIN_03)","v":5376926.9800000004},{"$f":"SUM(E10:GASTO_NE_FIN_04)","v":5172255.03},{"$f":"SUM(F10:GASTO_NE_FIN_05)","v":5158488.03},{"$f":"SUM(G10:GASTO_NE_FIN_06)","v":204671.94999999972}]
[3112,5770900,null,5770900,5172255.03,5158488.03,{"$f":"D10-E10","v":598644.96999999974},13767,4559843.0600000005,584877.96999999974,-4546076.0600000005,3974965.0900000008,5130954.03,-8521041.1500000022,-1155988.9399999995,13651995.180000003,-7365052.2100000028,-14807984.120000003,21017047.390000008,7442931.9100000001,-35825031.510000013,13574115.480000008,43267963.420000017,-49399146.990000024,-29693847.940000009,92667110.410000041,-19705299.050000016,-122360958.35000005,112372409.46000005,102655659.30000004,-234733367.81000012,9716750.1600000113,337389027.11000013,-244450117.97000015,-327672276.95000011,581839145.08000028,83222158.979999959,-909511422.03000045,{"$f":"AJ10-AK10","v":498616986.10000032},992733581.01000047,-1408128408.1300008,-494116594.91000015,2400861989.1400013,-914011813.22000074,-2894978584.0500016,3314873802.360002,1980966770.8300009,-6209852386.4100037,1333907031.5300012,8190819157.2400045,-7543759417.9400043,-6856912125.7100029,15734578575.180008,-686847292.23000145,-22591490700.890011,16421425867.410009,21904643408.660011,-39012916568.300018,-5483217541.2500019,60917559976.96003,-33529699027.050018,-66400777518.21003,94447259004.01004,32871078491.160011,-160848036522.22006,61576180512.850029,193719115013.38007,-222424217035.0701,-132142934500.53003,416143332048.4502,{"$f":"BP10-BQ10","v":-90281282534.54007},{"$f":"BQ10-BR10","v":-548286266548.98022},506424614582.99023,458004984014.44019,-1054710881131.9705,48419630568.550049,1512715865146.4106,-1103130511700.5205,-1464296234577.8606,2615846376846.9312,361165722877.34009,-4080142611424.792,2254680653969.5908,4441308334302.1318,-6334823265394.3828,-2186627680332.541,10776131599696.516,-4148195585061.8418,-12962759280029.057,14924327184758.357,8814563694967.2148,-27887086464787.414,6109763489791.1426,36701650159754.625,-33996849954578.555,-30591886669963.484,70698500114333.188,-3404963284615.0703,-101290386784296.67,74103463398948.25,97885423499681.594,-175393850183244.94,-23781960100733.344,273279273682926.53,-151611890082511.59,-297061233783659.88,424891163765438.13,145449343701148.28,-721952397549098,279441820064289.84,867401741250246.25,-1001394217613387.9,-587959921185956.38,1868795958863634,-413434296427431.5,-2456755880049590.5,2282230255291065.5,2043321583622159,-4738986135340656,238908671668906.5,6782307718962815,-4977894807009562,-6543399047293908,1.1760202525972376E+16,1565504240284346,-1.8303601573266284E+16,1.019469828568803E+16,1.9869105813550632E+16,-2.8498299858954312E+16,-9674407527862602,4.8367405672504944E+16,-1.8823892331091712E+16,-5.8041813200367544E+16,6.7191298003596656E+16,3.9217920869275832E+16,{"$f":"EC10-ED10","v":-1.2523311120396419E+17},2.7973377134320824E+16,1.6445103207324003E+17,-1.5320648833828502E+17,-1.364776549389192E+17,3.1765752041152506E+17,-1.6728833399365824E+16,-4.5413517535044429E+17,3.3438635381089088E+17,4.3740634195107846E+17,-7.8852152916133517E+17,-1.0301998814018758E+17,1.2259278711124137E+18,-6.8550154102114765E+17,-1.3289478592526013E+18,1.9114294121335613E+18,6.434463182314537E+17,-3.2403772713861627E+18,1.2679830939021076E+18,3.8838235896176164E+18,-4.5083603652882703E+18,-2.6158404957155087E+18,8.3921839549058867E+18,-1.8925198695727616E+18,-1.1008024450621395E+19,1.0284703824478648E+19,9.1155045810486333E+18,-2.1292728275100041E+19,1.169199243430015E+18,3.0408232856148673E+19,-2.2461927518530056E+19,-2.9239033612718658E+19,5.2870160374678733E+19,6.7771060941886013E+18,-8.2109193987397386E+19,4.6093054280490131E+19,8.8886300081585979E+19,-1.2820224826788751E+20,-4.2793245801095848E+19,2.1708854834947349E+20,-8.5409002466791653E+19,-2.5988179415056935E+20,3.0249755081626511E+20,1.7447279168377769E+20,-5.6237934496683445E+20,1.2802475913248742E+20,7.3685213665061215E+20,-6.9040410409932187E+20,-6.0882737751812473E+20,1.427256240749934E+21,-8.1576726581197144E+19,-2.0360836182680587E+21,1.5088329673311312E+21,1.9545068916868616E+21,-3.5449165855991896E+21,-4.4567392435573044E+20,5.499423477286051E+21,-3.0992426612434592E+21,-5.9450974016417814E+21,8.5986661385295102E+21,2.8458547403983222E+21,-1.4543763540171293E+22,5.752811398131188E+21,1.7389618280569615E+22,{"$f":"GO10-GP10","v":-2.0296574938302481E+22},-1.1636806882438427E+22,3.7686193218872096E+22,-8.6597680558640537E+21,-4.9323000101310522E+22,4.6345961274736145E+22,4.0663232045446469E+22,-9.5668961376046676E+22,5.6827292292896763E+21,1.3633219342149315E+23,-1.0135169060533634E+23,-1.3064946419220349E+23,2.376838840268295E+23,2.9297773586867141E+22,-3.6833334821903298E+23,2.0838611043996236E+23,3.9763112180590016E+23,-5.7671945865899534E+23,-1.892450113659378E+23,9.7435058046489556E+23,-3.8747444729305754E+23,-1.1635955918308334E+24,1.3618250277579532E+24,7.7612114453777589E+23,-2.5254206195887869E+24,5.8570388322017734E+23,3.301541764126563E+24,-3.1111245028089641E+24,-2.7158378809063858E+24,6.4126662669355266E+24,-3.9528662190257838E+23,-9.1285041478419118E+24,6.8079528888381044E+24,8.7332175259393339E+24,-1.5936457036680016E+25,-1.9252646371012295E+24,2.466967456261935E+25,-1.4011192399578787E+25,-2.659493919972058E+25,3.8680866962198137E+25,1.2583746800141793E+25,-6.5275806161918716E+25,2.6097120162056344E+25,7.7859552962060509E+25,-9.1372926323975056E+25,-5.176243280000417E+25,1.6923247928603558E+26,-3.9610493523970886E+25,-2.2099491208603975E+26,2.0884297281000647E+26,1.8138441856206887E+26,-4.2983788489604622E+26,2.7458554247937602E+25,6.1122230345811509E+26,-4.5729643914398386E+26,-5.8376374921017752E+26,1.0685187426020989E+27,1.2646731006619366E+26,-1.6522824918122763E+27,9.4205143253590528E+26,1.77874980187847E+27,-2.5943339243481816E+27,-8.3669836934256471E+26,4.3730837262266513E+27,{"$f":"JA10-JB10","v":-1.7576355550056169E+27},-5.2097820955692158E+27,6.1307192812322685E+27,3.4521465405635986E+27,-1.1340501376801484E+28,2.6785727406686699E+27,1.4792647917365083E+28,-1.4019074117470155E+28,-1.2114075176696412E+28,2.8811722034835238E+28,-1.9049989407737435E+27,-4.0925797211531645E+28,3.0716720975608982E+28,3.9020798270757902E+28,-7.1642518187140631E+28,-8.3040772951489205E+27,1.1066331645789854E+29,-6.3338440891991707E+28,-1.1896739375304747E+29,1.7400175734989027E+29,5.5628952861055761E+28,-2.9296915110293773E+29,1.1837280448883451E+29,3.4859810396399348E+29,-4.1134195559177226E+29,-2.3022529947515895E+29,7.5994005955576566E+29,-1.811166561166133E+29,-9.9016535903092462E+29,9.4105671567237897E+29,8.0904870291431131E+29,-1.9312220747033037E+30,1.3200801275806766E+29,2.7402707776176149E+30,-2.0632300874613714E+30,-2.6082627648595472E+30,4.8035008650789863E+30,5.4503267739817586E+29,-7.411763629938533E+30,4.2584681876808104E+30,7.9567963073367088E+30,-1.1670231817619343E+31,-3.6983281196558984E+30,1.9627028124956052E+31,-7.9719036979634438E+30,-2.3325356244611948E+31,2.7598931822919498E+31,1.5353452546648504E+31,-5.0924288067531446E+31,1.2245479276270993E+31,6.6277740614179946E+31,-6.3169767343802435E+31,-5.4032261337908948E+31,1.2944750795798238E+32,-9.1375060058934865E+30,-1.8347976929589133E+32,1.3858501396387587E+32,1.7434226328999784E+32,-3.2206478325976721E+32,-3.5757249326121975E+31,4.9640704654976506E+32,-2.8630753393364526E+32,-5.3216429587588701E+32,7.8271458048341039E+32,{"$f":"LM10-LN10","v":2.4585676194224176E+32},-1.3148788763592975E+33,5.3685781854116863E+32,1.5607356383015393E+33,-1.8517366949004662E+33,-1.0238778197603707E+33,3.4124723332020055E+33,-8.278588751400955E+32,-4.4363501529623761E+33,4.240331208342101E+33,3.6084912778222806E+33,-8.6766813613044765E+33,6.3183993051982033E+32,1.2285172639126757E+34,-9.3085212918242975E+33,-1.1653332708606936E+34,2.1593693930951054E+34,2.3448114167826383E+33,-3.3247026639557987E+34,1.9248882514168416E+34,3.5591838056340626E+34,-5.2495909153726399E+34,-1.634295554217221E+34,8.8087747210067024E+34,-3.6152953611554189E+34,-1.0443070275223923E+35,1.2424070082162122E+35,6.8277749140685036E+34,-2.2867140357386045E+35,5.5962951680936181E+34,2.9694915271454548E+35,-2.8463435525479663E+35,-2.409862010336093E+35,5.8158350796934215E+35,-4.3648154221187326E+34,-8.2256970900295142E+35,6.2523166219052944E+35,7.7892155478176413E+35,-1.447801371193481E+36,-1.5368989259123469E+35,2.226722925975245E+36,-1.2941114786022463E+36,-2.3804128185664798E+36,3.5208344045774911E+36,1.0863013399642335E+36,-5.9012472231439716E+36,2.4345330646132575E+36,6.9875485631082046E+36,-8.3357802877572296E+36,-4.5530154984949471E+36,1.5323328850865434E+37,-3.7827647892622825E+36,-1.9876344349360381E+37,1.9106093640127717E+37,1.6093579560098098E+37,-3.8982437989488096E+37,3.0125140800296197E+36,5.5076017549586191E+37,-4.1994952069517718E+37,-5.2063503469556569E+37,9.7070969619103918E+37,1.0068551400038851E+37,-1.4913447308866049E+38,8.7002418219065067E+37,{"$f":"NY10-NZ10","v":1.5920302448869934E+38},-2.3613689130772554E+38,-7.2200606269634271E+37,3.9533991579642489E+38,-1.6393628503809126E+38,-4.6754052206605918E+38,5.5927620083451614E+38,3.0360423702796794E+38,-1.0268167229005753E+39,2.556719638065482E+38,1.3304209599285433E+39,-1.2824886867071236E+39,-1.0747489961219951E+39,2.6129096466356669E+39,-2.0773969058512847E+38,-3.687658642757662E+39,2.8206493372207953E+39,3.4799189521725335E+39,-6.5083079799784567E+39,-6.592696149517382E+38,9.9882269321509896E+39,-5.8490383650267179E+39,-1.0647496547102728E+40,1.5837265297177708E+40,4.7984581820760105E+39,-2.6484761844280434E+40,1.1038807115101697E+40,3.1283220026356442E+40,-3.7523568959382133E+40,-2.0244412911254745E+40,6.8806788985738575E+40,-1.7279156048127388E+40,-8.9051201896993317E+40,8.6085945033865965E+40,7.1772045848865926E+40,-1.7513714693085928E+41,1.4313899185000039E+40,2.469091927797252E+41,-1.8945104611585933E+41,-2.3259529359472515E+41,4.3636023889558457E+41,4.3144247478865819E+40,-6.6895553249030968E+41,3.9321599141671875E+41,7.120997799691755E+41,-1.0621715239070284E+42,-3.1888378855245675E+41,1.7742713038762041E+42,-7.4328773535457168E+41,-2.093155092428661E+42,2.5175590392307759E+42,1.3498673570740893E+42,-4.6107141316594369E+42,1.1676916821566866E+42,5.9605814887335261E+42,-5.7784058138161237E+42,-4.7928898065768393E+42,1.1738987302549651E+43,-9.8551600723928438E+41,-1.653187710912649E+43,1.2724503309788934E+43,1.5546361101887207E+43,-2.9256380418915424E+43,-2.821857792098273E+42,{"$f":"QK10-QL10","v":4.4802741520802631E+43},-2.6434522626817151E+43,-4.7624599312900904E+43,7.1237264147619783E+43,2.1190076686083753E+43,-1.1886186346052069E+44,5.004718746153603E+43,1.4005194014660444E+44,-1.6890905092205672E+44,-9.0004752685068411E+43,3.0896099106866118E+44,-7.8904298236988306E+43,-3.9896574375372961E+44,3.8786528930564944E+44,3.200614455167413E+44,-7.8683103305937905E+44,6.7803843788908143E+43,1.1068924785761204E+45,-8.5463487684828716E+44,-1.0390886347872123E+45,1.9615273554244075E+45,1.8445375793892514E+44,-3.0006159902116197E+45,1.7770735974854823E+45,3.185069748150545E+45,-4.7776895876971019E+45,-1.4079961506650627E+45,7.9627593358476475E+45,-3.3696934370320392E+45,-9.3707554865127109E+45,1.1332452772879687E+46,6.0010620494806717E+45,-2.0703208259392399E+46,5.3313907233990151E+45,2.6704270308873072E+46,-2.6034598982791414E+46,-2.1372879585474057E+46,5.2738869291664491E+46,-4.6617193973173572E+45,-7.4111748877138553E+46,5.7400588688981848E+46,6.9450029479821196E+46,-1.3151233756612041E+47,-1.2049440790839347E+46,2.009623670459416E+47,-1.1946289677528106E+47,-2.1301180783678094E+47,3.2042526382122266E+47,9.354891106149988E+46,-5.3343707165800356E+47,2.2687635275972278E+47,6.2698598271950344E+47,-7.6031342441772638E+47,-4.0010962995978062E+47,1.3872994071372298E+48,-3.6020379445794576E+47,-1.7874090370970105E+48,1.7475032015951756E+48,1.4272052426390647E+48,-3.534912238692186E+48,3.202979589561109E+47,4.9621174813312506E+48,-3.8552101976482968E+48,-4.6418195223751398E+48,{"$f":"SW10-SX10","v":8.8173276789795473E+48},7.8660932472684306E+47,-1.3459147201354688E+49,8.0307183542527043E+48,1.4245756526081531E+49,-2.1489865555607392E+49,-6.2150381718288266E+48,3.573562208168892E+49,-1.5274827383778566E+49,-4.1950660253517747E+49,5.1010449465467486E+49,2.6675832869739181E+49,-9.2961109718985233E+49,2.4334616595728304E+49,1.1963694258872442E+50,-1.1729572631471354E+50,-9.530232599299612E+49,2.3693266890343794E+50,-2.1993400321717417E+49,-3.3223499489643408E+50,2.5892606922515536E+50,3.1024159457471667E+50,-5.9116106412158948E+50,-5.1315525349561307E+49,9.0140265869630619E+50,-5.3984553877202818E+50,-9.5271818404586741E+50,1.4412481974683343E+51,4.1287264527383924E+50,-2.3939663815142017E+51,1.028375552194495E+51,2.806839026788041E+51,-3.422341933708697E+51,-1.7784634745935461E+51,6.2291809604967373E+51,-1.6438784591151509E+51,-8.0076444350902837E+51,7.8730594196118879E+51,6.3637659759751331E+51,-1.5880703854702172E+52,1.5092934436367548E+51,2.2244469830677305E+52,-1.7389997298338926E+52,-2.073517638704055E+52,3.9634467129016229E+52,3.3451790887016235E+51,-6.0369643516056773E+52,3.6289288040314605E+52,6.3714822604758391E+52,-9.6658931556371384E+52,-2.7425534564443786E+52,1.6037375416112978E+53,-6.9233396991927603E+52,-1.8779928872557356E+53,2.2960715115305736E+53,1.1856589173364595E+53,-4.1740643987863089E+53,1.110412594194114E+53,5.3597233161227687E+53,-5.2844769929804227E+53,-4.2493107219286548E+53,1.0644200309103191E+54,-1.0351662710517679E+53,-1.4893511031031846E+54,{"$f":"VI10-VJ10","v":1.1679366580154959E+54},1.3858344759980078E+54,-2.6572877611186806E+54,-2.1789781798251191E+53,4.0431222371166887E+54,-2.4393899431361685E+54,-4.2610200550992005E+54,6.4825121802528572E+54,1.821630111963032E+54,-1.0743532235352058E+55,4.6608820682898252E+54,1.256516234731509E+55,-1.5404414303641883E+55,-7.9042802790252644E+54,2.7969576650956975E+55,-7.5001340246166184E+54,-3.5873856929982241E+55,3.5469710675573592E+55,2.8373722905365624E+55,-7.1343567605555833E+55,7.0959877702079683E+54,9.9717290510921447E+55,-7.8439555375763807E+55,-9.2621302740713484E+55,1.7815684588668525E+56,1.4181747364949676E+55,-2.7077814862739872E+56,1.6397509852173558E+56,2.8495989599234841E+56,-4.3475324714913431E+56,-1.2098479747061284E+56,7.1971314314148273E+56,-3.137684496785215E+56,-8.4069794061209563E+56,1.0334815928200041E+57,5.2692949093357413E+56,-1.8741795334320996E+57,5.0655210188643001E+56,2.4011090243656736E+57,-2.3807316353185298E+57,-1.8945569224792434E+57,4.7818406596842033E+57,-4.8617471283928641E+56,-6.676397582163446E+57,5.2680153725234897E+57,6.1902228693241596E+57,-1.1944412954686936E+58,-9.2220749680066984E+56,1.8134635824011096E+58,-1.1022205457886265E+58,-1.9056843320811767E+58,2.9156841281897361E+58,8.0346378629255014E+57,-4.8213684602709125E+58,2.112220341897186E+58,5.6248322465634624E+58,-6.9335888021680988E+58,-3.5126119046662761E+58,1.255842104873156E+59,-3.4209768975018227E+58,-1.6071032953397837E+59,1.5979397946233383E+59,1.2650056055896015E+59,-3.205043089963122E+59,{"$f":"XU10-XV10","v":3.3293418903373681E+58},4.470048695552723E+59,-3.5379772789968588E+59,-4.1371145065189862E+59,8.0080259745495814E+59,5.9913722752212738E+58,-1.2145140481068568E+60,7.4088887470274544E+59,1.2744277708590695E+60,-1.9554029228096023E+60,-5.335388961563241E+59,3.2298306936686715E+60,-1.4218640266532782E+60,-3.7633695898249956E+60,4.65169472032195E+60,2.3415055631717174E+60,-8.4150643101469463E+60,2.3101891571502326E+60,1.0756569873318664E+61,-1.0725253467297179E+61,-8.4463807161684317E+60,2.1481823340615843E+61,-2.2788727511287469E+60,-2.9928204056784277E+61,2.3760696091744589E+61,2.764933130565553E+61,-5.3688900148528872E+61,-3.8886352139109409E+60,8.1338231454184403E+61,-4.9800264934617931E+61,-8.5226866668095349E+61,1.3113849638880233E+62,3.5426601733477418E+61,-2.1636536305689765E+62,9.5711894655324916E+61,2.5179196479037509E+62,-3.1207725771222255E+62,-1.5608007013505017E+62,5.6386922250259764E+62,-1.5599718757717237E+62,-7.1994929263764783E+62,7.1986641007976999E+62,5.6395210506047548E+62,-1.4398157027174177E+63,1.5591430501929451E+62,2.003767807777893E+63,-1.5957300077367123E+63,-1.8478535027585984E+63,3.5994978155146057E+63,2.521234950218861E+62,-5.4473513182732042E+63,3.34737432049272E+63,5.6994748132950899E+63,-8.7947256387659242E+63,-2.3521004928023699E+63,1.4494200452061016E+64,-6.4426251459635543E+63,-1.6846300944863387E+64,2.093682559802457E+64,1.0403675798899833E+64,-3.7783126542887957E+64,1.0533149799124737E+64,4.8186802341787789E+64,-4.8316276342012694E+64,{"$f":"AAG10-AAH10","v":-3.7653652542663052E+64},9.6503078683800483E+64,-1.0662623799349642E+64,-1.3415673122646354E+65,1.0716570248315013E+65,1.2349410742711391E+65,-2.413224337096137E+65,-1.6328404943963775E+64,3.6481654113672758E+65,-2.2499402876564994E+65,-3.8114494608069133E+65,5.8981056990237752E+65,1.5615091731504138E+65,-9.7095551598306876E+65,4.3365965258733614E+65,1.1271064332981101E+66,-1.404615168570405E+66,-6.93446780710774E+65,2.5317216018685151E+66,-7.1116838785963098E+65,-3.225168382579289E+66,3.2428899897281462E+66,2.513999994719658E+66,-6.4680583723074349E+66,7.2888999500848824E+65,8.9820583670270928E+66,-7.1969483673159231E+66,-8.2531683720186046E+66,1.6179006734343016E+67,1.0562200047026815E+66,-2.4432175106361621E+67,1.5122786729640333E+67,2.5488395111064304E+67,-3.9554961836001956E+67,-1.0365608381423971E+67,6.5043356947066266E+67,-2.9189353454577986E+67,-7.5408965328490231E+67,9.4232710401644258E+67,4.6219611873912245E+67,-1.6964167573013449E+68,4.8013098527732013E+67,2.1586128760404673E+68,-2.1765477425786651E+68,-1.6784818907631471E+68,4.3351606186191328E+68,-4.98065851815518E+67,-6.0136425093822799E+68,4.8332264704346503E+68,5.5155766575667624E+68,-1.084686897981693E+69,-6.8235018713211204E+67,1.6362445637383693E+69,-1.0164518792684818E+69,-1.7044795824515805E+69,2.6526964430068513E+69,6.8802770318309865E+68,-4.3571760254584321E+69,1.9646687398237528E+69,5.0452037286415306E+69,-6.3218447652821849E+69,-3.0805349888177778E+69,1.1367048493923716E+70,-3.2413097764644072E+69,{"$f":"ACS10-ACT10","v":-1.4447583482741495E+70},1.4608358270388123E+70,1.1206273706277087E+70,-2.9055941753129621E+70,3.4020845641110366E+69,4.0262215459406705E+70,-3.2458026317240658E+70,-3.6860130895295669E+70,7.2720241776647363E+70,4.4021045780550106E+69,-1.0958037267194303E+71,6.8318137198592353E+70,1.1398247724999803E+71,-1.7789850987053538E+71,-4.5664340051405677E+70,2.9188098712053341E+71,-1.3223416981912971E+71,-3.3754532717193907E+71,4.241151569396631E+71,2.0531115735280936E+71,-7.6166048411160216E+71,2.1880399958685374E+71,9.669716414644115E+71,-9.8046448369845592E+71,-7.4816764187755774E+71,1.9474361251628674E+72,-2.3229684182089819E+71,-2.6956037670404253E+72,2.1797329669837655E+72,2.4633069252195272E+72,-4.8753367340241908E+72,-2.8357395823576166E+71,7.3386436592437179E+72,-4.5917627757884291E+72,-7.6222176174794788E+72,1.1930406435032147E+73,3.0304548416910497E+72,-1.9552624052511626E+73,8.8999515933410973E+72,2.2583078894202677E+73,-2.8452575645852722E+73,-1.368312730086158E+73,5.1035654540055399E+73,-1.476944834499114E+73,-6.471878184091698E+73,6.5805102885046539E+73,4.994933349592584E+73,-1.3052388472596352E+74,1.5855769389120699E+73,1.8047321822188937E+74,-1.4637965411508421E+74,-1.6461744883276867E+74,3.2685287233697355E+74,1.823779471768446E+73,-4.9147032116974225E+74,3.0861507761928909E+74,5.0970811588742671E+74,-8.0008539878903134E+74,-2.0109303826813762E+74,1.3097935146764581E+75,-5.9899236052089372E+74,-1.5108865529445956E+75,1.9087858751973517E+75,9.1189419242370195E+74,{"$f":"AFE10-AFF10","v":-3.4196724281419472E+75},9.9689168277364973E+74,4.3315666205656492E+75,-4.416564110915597E+75,-3.3346749377919995E+75,8.7481307314812462E+75,-1.0818891731235975E+75,-1.2082805669273245E+76,9.8300199046048429E+75,1.1000916496149648E+76,-2.1912825573878088E+76,-1.1708965915448053E+75,3.2913742070027736E+76,-2.0741928982333282E+76,-3.4084638661572544E+76,5.3655671052361015E+76,1.3342709679239262E+76,-8.7740309713933559E+76,4.031296137312175E+76,1.0108301939317282E+77,-1.2805327108705532E+77,-6.0770058020051074E+76,2.2913629048022816E+77,-6.7283213067004248E+76,-2.8990634850027922E+77,2.9641950354723242E+77,2.2262313543327496E+77,-5.8632585204751164E+77,7.379636811395746E+76,8.089489874807866E+77,-6.601222201614691E+77,-7.3515261936682914E+77,1.4690712076422557E+78,7.5030399205360041E+76,-2.2042238270090847E+78,1.3940408084368957E+78,2.2792542262144448E+78,-3.5982646354459804E+78,-8.8521341777754912E+77,5.8775188616604248E+78,-2.7130512176684313E+78,-6.7627322794379739E+78,8.5905700793288561E+78,4.0496810617695426E+78,-1.5353302358766831E+79,4.5408890175593134E+78,1.9402983420536373E+79,-1.9894191376326145E+79,-1.4862094402977058E+79,3.9297174796862521E+79,-5.0320969733490868E+78,-5.4159269199839579E+79,4.4329271770211611E+79,4.9127172226490496E+79,-9.8488540970051184E+79,-4.7979004562788848E+78,1.4761571319654168E+80,-9.3690640513772299E+79,-1.5241361365282056E+80,2.41306353710314E+80,5.8722973139048265E+79,-3.9371996736313454E+80,1.8258338057126574E+80,4.5244294050218283E+80,{"$f":"AHQ10-AHR10","v":-5.7630334793440026E+80},-2.6985955993091712E+80,1.028746288436583E+81,-3.0644378800348313E+80,-1.2986058483675001E+81,1.3351900764400661E+81,9.9216206036401697E+80,-2.6337959248075664E+81,3.4302801607604915E+80,3.6259579851715832E+81,-2.9768239408836154E+81,-3.2829299690955343E+81,6.6027819260551986E+81,3.0610602821191889E+80,-9.885711895150732E+81,6.2966758978432797E+81,1.0191817923362652E+82,-1.6182387792994012E+82,-3.895142025519372E+81,2.6374205716356664E+82,-1.2287245767474641E+82,-3.0269347741876035E+82,3.8661451483831302E+82,1.7982101974401394E+82,-6.8930799225707338E+82,2.0679349509429908E+82,8.6912901200108738E+82,-8.9610148735137239E+82,-6.6233551690678837E+82,1.7652304993524598E+83,-2.3376597044458402E+82,-2.4275660162592481E+83,1.9989964697970438E+83,2.1938000458146641E+83,-4.4265624860562917E+83,-1.9480357601762034E+82,6.6203625318709561E+83,-4.2317589100386713E+83,-6.8151661078885759E+83,1.0852121441909628E+84,2.5834071978499045E+83,-1.7667287549798204E+84,8.2687142440597229E+83,2.0250694747648109E+84,-2.5936001793857929E+84,-1.1981980503588386E+84,4.6186696541506038E+84,-1.3954021290269543E+84,-5.8168677045094426E+84,6.0140717831775578E+84,4.4214655754824885E+84,-1.1830939487687001E+85,1.5926062076950693E+84,1.625240506316949E+85,-1.342354569538207E+85,-1.4659798855474421E+85,2.967595075855156E+85,1.2362531600923516E+84,-4.4335749614025981E+85,2.8439697598459208E+85,4.5572002774118329E+85,-7.2775447212485185E+85,-1.7132305175659121E+85,1.1834744998660351E+86,{"$f":"AKC10-AKD10","v":-5.5643142036826068E+85},-1.3547975516226263E+86,1.7399059202342957E+86,7.9836613125436564E+85,-3.094703471856922E+86,9.4153978897993004E+85,3.8930696031112876E+86,-4.036243260836852E+86,-2.9515298141313576E+86,7.9293128639481397E+86,-1.0847134467054944E+86,-1.0880842678079497E+87,9.0140263106536341E+86,9.7961292313740029E+86,-1.989486898873313E+87,-7.8210292072036874E+85,2.9690998220107133E+87,-1.911276606801276E+87,-3.0473101140827503E+87,4.8803764288119898E+87,1.1360335072814743E+87,-7.9276865428947405E+87,3.7443429215305155E+87,9.0637200501762144E+87,-1.1672029464425257E+88,-5.3193771286456984E+87,2.0735749514601469E+88,-6.3526523357795582E+87,-2.6055126643247169E+88,2.7088401850381027E+88,1.9702474307467611E+88,-5.31435284936282E+88,7.3859275429134162E+87,7.2846002801095815E+88,-6.0529456036541616E+88,-6.5460075258182398E+88,1.3337545883763745E+89,4.9306192216407822E+87,-1.9883553409581983E+89,1.2844483961599666E+89,2.0376615331746061E+89,-3.2728037371181646E+89,-7.5321313701463949E+88,5.3104652702927705E+89,-2.5195906001035252E+89,-6.06367840730741E+89,7.8300558703962956E+89,3.5440878072038848E+89,-1.3893734277703707E+90,4.2859680631924108E+89,1.7437822084907592E+90,-1.8179702340896116E+90,-1.3151854021715182E+90,3.5617524425803708E+90,-5.0278483191809346E+89,-4.876937844751889E+90,4.0645372744984643E+90,4.3741530128337955E+90,-8.9414751192503532E+90,-3.0961573833533127E+89,1.3315628132084148E+91,-8.631859380915022E+90,-1.3625243870419479E+91,2.194748751299917E+91,{"$f":"AMO10-AMP10","v":4.9933844895044572E+90},-3.5572731383418649E+91,1.6954103023494713E+91,4.0566115872923102E+91,-5.2526834406913362E+91,-2.361201284942839E+91,9.3092950279836464E+91,-2.8914821557484972E+91,-1.1670496312926486E+92,1.2200777183732144E+92,8.7790141571779882E+91,-2.387127349665863E+92,3.4217630265541561E+91,3.2650287653836622E+92,-2.7293036523212789E+92,-2.9228524627282465E+92,5.9943324177049411E+92,1.935488104069676E+91,-8.9171848804331876E+92,5.8007836072979735E+92,9.1107336908401552E+92,-1.4717968487731162E+93,-3.3099500835421817E+92,2.3828702178571315E+93,-1.1408018404188981E+93,-2.7138652262113495E+93,3.5236720582760298E+93,1.5730633857924514E+93,-6.2375372844873793E+93,1.9506086724835784E+93,7.8106006702798304E+93,-8.1881459569709579E+93,-5.8599919977962518E+93,1.5998746627250788E+94,-2.3281539591747061E+93,-2.1858738625047039E+94,1.8326900586425494E+94,1.9530584665872333E+94,-4.0185639211472534E+94,-1.2036840794468387E+93,5.9716223877344867E+94,-3.8981955132025691E+94,-6.0919907956791709E+94,9.8698179009370565E+94,2.1937952824766018E+94,-1.5961808696616229E+95,7.6760226184604547E+94,1.8155603979092831E+95,-2.3637831315076684E+95,-1.0479581360632376E+95,4.1793435294169514E+95,-1.3158249954444308E+95,-5.227301665480189E+95,5.4951685248613825E+95,3.9114766700357586E+95,-1.072247019034157E+96,1.5836918548256239E+95,1.4633946860377329E+96,-1.2306162045167194E+96,-1.3050255005551705E+96,2.6940108905544526E+96,7.4409296038451071E+94,-3.9990363911096228E+96,2.6196015945160015E+96,{"$f":"APA10-APB10","v":4.0734456871480739E+96},-6.6186379856256243E+96,-1.4538440926320724E+96,1.0692083672773698E+97,-5.1647938929935519E+96,-1.2145927765405771E+97,1.5856877565767249E+97,6.9811338724122187E+96,-2.8002805331173022E+97,8.8757436933550295E+96,3.4983939203585241E+97,-3.6878549024528047E+97,-2.6108195510230212E+97,7.1862488228113281E+97,-1.0770353514297836E+97,-9.7970683738343489E+97,8.2632841742411121E+97,8.720033022404565E+97,-1.8060352548075461E+98,-4.5674884816345293E+96,2.6780385570480026E+98,-1.7603603699912008E+98,-2.7237134418643479E+98,4.4383989270392031E+98,9.6335307187314708E+97,-7.1621123689035513E+98,3.4750458551660563E+98,8.1254654407766981E+98,-1.0637158224069608E+99,-4.6504195856106418E+98,1.8762623664846307E+99,-5.9867386384589659E+98,-2.3413043250456949E+99,2.4749362303305274E+99,1.7426304611997982E+99,-4.8162405553762227E+99,7.3230576913072924E+98,6.5588710165760204E+99,-5.5485463245069525E+99,-5.8265652474452907E+99,1.2107417341082973E+100,2.7801892293833822E+98,-1.7933982588528266E+100,1.1829398418144635E+100,1.8212001511466602E+100,-2.9763381006672902E+100,-6.3826030933219671E+99,4.7975382518139504E+100,-2.3380777913350937E+100,-5.4357985611461469E+100,7.1356160431490441E+100,3.0977207698110532E+100,-1.2571414604295191E+101,4.0378952733379909E+100,1.5669135374106244E+101,-1.6609309877633183E+101,-1.1631240100768253E+101,3.2278445251739428E+101,-4.9780697768649301E+100,-4.3909685352507679E+101,3.7256515028604359E+101,3.8931615575642748E+101,-8.1166200381112039E+101,-1.6751005470383886E+100,{"$f":"ARM10-ARN10","v":1.2009781595675479E+102},-7.949109983407365E+101,-1.2177291650379319E+102,1.9958891579082844E+102,4.2281816669719544E+101,-3.2136183229462161E+102,1.573070991211089E+102,3.6364364896434118E+102,-4.7866893141573051E+102,-2.0633654984323228E+102,8.4231258038007169E+102,-2.7233238157249823E+102,-1.048649130223304E+103,1.11464496195257E+103,7.7631674865080574E+102,-2.1632940921758742E+103,3.3832821330176428E+102,2.9396108408266798E+103,-2.5016223054776386E+103,-2.6012826275249155E+103,5.4412331463043184E+103,9.9660322047276886E+101,-8.0425157738292347E+103,5.3415728242570415E+103,8.1421760958765107E+103,-1.3384088598086276E+104,-2.8006032716194692E+103,2.1526264693962785E+104,-1.0583485326466807E+104,-2.4326867965582253E+104,3.2109750020429589E+104,1.3743382639115446E+104,-5.6436617986011842E+104,1.8366367381314143E+104,7.0180000625127291E+104,-7.4802985367325982E+104,-5.1813633243813151E+104,1.4498298599245329E+105,-2.2989352123512831E+104,-1.9679661923626645E+105,1.6797233811596612E+105,1.7380726711275362E+105,-3.6476895735223257E+105,-5.8349289967875029E+103,5.3857622446498614E+105,-3.5893402835544506E+105,-5.4441115346177369E+105,8.9751025282043115E+105,1.8547712510632863E+105,-1.4419214062822048E+106,7.1203312771410247E+105,1.6273985313885335E+106,-2.1539545339963073E+106,-9.1536540367443104E+105,3.7813530653848406E+106,-1.2385891303218763E+106,-4.6967184690592715E+106,5.0199421957067167E+106,3.4581293387373954E+106,-9.7166606647659881E+106,1.5618128569693213E+106,1.3174790003503384E+107,-1.1278473521735309E+107,-1.1612977146534063E+107,{"$f":"ATY10-ATZ10","v":2.4453263525238692E+107},3.3450362479875445E+105,-3.6066240671772755E+107,2.4118759900439938E+107,3.6400744296571513E+107,-6.018500057221269E+107,-1.2281984396131575E+107,9.6585744868784203E+107,-4.7903016176081111E+107,-1.0886772926491578E+108,1.444887610448653E+108,6.096471308883467E+107,-2.5335649030978109E+108,8.3524047956030631E+107,3.1432120339861578E+108,-3.3688053826581171E+108,-2.3079715544258516E+108,6.5120174166442749E+108,-1.0608338282322655E+108,-8.819988971070126E+108,7.5728512448765404E+108,7.7591551428378604E+108,-1.6392840215946667E+109,-1.8630389796132002E+107,2.4151995358784529E+109,-1.6206536317985347E+109,-2.4338299256745849E+109,4.0358531676769876E+109,8.1317629387605015E+108,-6.4696830933515729E+109,3.2226768738009375E+109,7.2828593872276231E+109,-9.6923599671525096E+109,-4.0601825134266856E+109,1.6975219354380132E+110,-5.632177453725824E+109,-2.1035401867806817E+110,2.2607396808105956E+110,1.5403224414080994E+110,-4.3642798675912773E+110,7.2041723940249623E+109,5.9046023089993764E+110,-5.0846971069937732E+110,-5.1841850695968805E+110,1.098929941599315E+111,9.9487962603107218E+108,-1.6173484485590029E+111,1.0889811453390042E+111,1.6272972448193137E+111,-2.7063295938980072E+111,-5.3831609948030949E+110,4.333626838717321E+111,-2.1680134944176979E+111,-4.8719429381976303E+111,6.5016403331350188E+111,2.7039294437799324E+111,-1.1373583271332648E+112,3.7977108893550864E+111,1.4077512715112581E+112,-1.5171294160687735E+112,-1.0279801825757494E+112,2.9248806875800314E+112,-4.8914923349302409E+111,-3.952860870155781E+112,{"$f":"AWK10-AWL10","v":3.4140299210730555E+112},3.4637116366627569E+112,-7.3668907912288365E+112,-4.968171558970144E+110,1.0830602427891593E+113,-7.3172090756391351E+112,-1.0880284143481294E+113,1.8147811503530728E+113,3.563075067842159E+112,-2.9028095647012022E+113,1.4584736435688569E+113,3.2591170714854177E+113,-4.3612832082700594E+113,-1.8006434279165609E+113,7.6204002797554771E+113,-2.5606397803534985E+113,-9.4210437076720383E+113,1.0181040060108975E+114,6.8604039273185401E+113,-1.9602083767781015E+114,3.3206361327904352E+113,2.6462487695099556E+114,-2.2922719900571449E+114,-2.3141851562309123E+114,4.9385207595671011E+114,2.1913166173767385E+112,-7.2527059157980139E+114,4.9166075933933337E+114,7.2746190819717818E+114,-1.2169313509191347E+115,-2.3580114885784481E+114,1.9443932591163129E+115,-9.8113020206128983E+114,-2.1801944079741578E+115,2.9255234611776027E+115,1.1990642059128679E+115,-5.10571786915176E+115,1.7264592552647348E+115,6.3047820750646284E+115,-6.8321771244164944E+115,-4.578322819799894E+115,1.3136959199481123E+116,-2.2538543046166004E+115,-1.7715282019281015E+116,1.5390813504097723E+116,1.5461427714664415E+116,-3.3106095523378736E+116,-7.0614210566691523E+113,4.8567523238043149E+116,-3.3035481312812045E+116,-4.8638137448609841E+116,8.1603004550855201E+116,1.5602656135797796E+116,-1.3024114199946505E+117,6.6000348415057405E+116,1.4584379813526286E+117,-1.9624149041452244E+117,-7.9843449720205454E+116,3.420852885497853E+117,-1.1639804069431699E+117,-4.2192873826999077E+117,4.5848332924410227E+117,3.0553069757567379E+117,-8.8041206751409298E+117,{"$f":"AYW10-AYX10","v":1.5295263166842848E+117},1.1859427650897668E+118,-1.0333646991825214E+118,-1.0329901334213384E+118,2.2193074642722885E+118,-3.7456576118299231E+114,-3.2522975976936267E+118,2.2196820300334715E+118,3.2519230319324437E+118,-5.4719796277270981E+118,-1.0322410018989722E+118,8.7239026596595427E+118,-4.4397386258281259E+118,-9.7561436615585149E+118,1.3163641285487669E+119,5.316405035730389E+118,-2.2919784947046185E+119,7.8472362497572796E+118,2.8236189982776572E+119,-3.0767021196803467E+119,-2.0388953733019291E+119,5.9003211179580039E+119,-1.0378067463784176E+119,-7.939216491259933E+119,6.9381278643364207E+119,6.9014097448815147E+119,-1.4877344355596355E+120,3.6718119454906023E+117,2.177875410047787E+120,-1.4914062475051261E+120,-2.1742035981022964E+120,3.6692816575529128E+120,6.8279735059717027E+119,-5.8434852556552095E+120,2.9864843069557426E+120,6.5262826062523792E+120,-8.8299695626109515E+120,-3.5397982992966366E+120,1.5356252168863331E+121,-5.2901712633143154E+120,-1.8896050468159967E+121,2.0646423432177646E+121,1.3605879204845651E+121,-3.9542473900337611E+121,7.0405442273319948E+120,5.314835310518326E+121,-4.6583018127669608E+121,-4.6107808877851263E+121,9.9731371232852876E+121,-4.7520924981834511E+119,-1.4583918011070414E+122,1.0020658048267121E+122,1.4536397086088578E+122,-2.4604576059337533E+122,-4.5157390378214572E+121,3.9140973145426108E+122,-2.0088837021516076E+122,-4.3656712183247565E+122,5.9229810166942184E+122,2.3567875161731489E+122,-1.0288652235018976E+123,3.5661935005210695E+122,1.2645439751192124E+123,-1.3854845735540045E+123,{"$f":"BBI10-BBJ10","v":-9.0792462506710544E+122},2.6500285486732169E+123,-4.7755994848689908E+122,-3.5579531737403223E+123,3.127588497160116E+123,3.0803932252534233E+123,-6.6855416709004383E+123,4.7195271906692719E+121,9.765934896153861E+123,-6.7327369428071316E+123,-9.7187396242471689E+123,1.6498671838960993E+124,2.9860026814400372E+123,-2.6217411463208161E+124,1.3512669157520955E+124,2.9203414144648196E+124,-3.9730080620729117E+124,-1.5690744987127241E+124,6.8933494765377313E+124,-2.4039335633601876E+124,-8.4624239752504554E+124,9.2972830398979199E+124,6.0584904118902678E+124,-1.7759707015148373E+125,3.238792628007652E+124,2.3818197427038641E+125,-2.0998499643156025E+125,-2.0579404799030989E+125,4.4816697070194667E+125,-4.190948441250362E+123,-6.5396101869225656E+125,4.5235791914319703E+125,6.497700702510062E+125,-1.1063189378354535E+126,-1.9741215110780917E+125,1.7560890080864596E+126,-9.0890678672764434E+125,-1.9535011591942687E+126,2.6649957948141038E+126,1.0445943724666243E+126,-4.6184969540083725E+126,1.6204014223474797E+126,5.6630913264749972E+126,-6.2388983763558515E+126,-4.0426899041275176E+126,1.190198970283085E+127,-2.196208472228334E+126,-1.5944679606958369E+127,1.4098198175059185E+127,1.3748471134730034E+127,-3.0042877782017554E+127,3.497270403291516E+125,4.3791348916747583E+127,-3.0392604822346706E+127,-4.3441621876418426E+127,7.4183953739094288E+127,1.3049017054071721E+127,-1.1762557561551271E+128,6.1134936685022567E+127,1.3067459266958444E+128,-1.7876051230053528E+128,-6.9539655984561868E+127,3.094351049701197E+128,-1.0922085631597341E+128,{"$f":"BDU10-BDV10","v":-3.789747609546816E+128},4.1865596128609315E+128,2.6975390463870819E+128,-7.9763072224077476E+128,1.4890205664738496E+128,1.067384626879483E+129,-9.4653277888815968E+128,-9.1848257023209806E+128,2.0139174057676427E+129,-2.8050208656061615E+127,-2.9323999759997404E+129,2.0419676144237043E+129,2.9043497673436785E+129,-4.974367590423445E+129,-8.6238215291997422E+128,7.8787173577671235E+129,-4.1119854375034711E+129,-8.7410995106870974E+129,1.1990702795270595E+130,4.6291140731836263E+129,-2.0731802305957691E+130,7.3615887220869683E+129,2.5360916379141315E+130,-2.8093391028044659E+130,-1.7999327657054346E+130,5.3454307407185979E+130,-1.0094063370990313E+130,-7.145363506424033E+130,6.3548370778176291E+130,6.1359571693250017E+130,-1.3500200584241662E+131,2.1887990849262742E+129,1.9636157753566664E+131,-1.371908049273429E+131,-1.9417277845074036E+131,3.3355238246300955E+131,5.6981973523397469E+130,-5.2772516091374996E+131,2.765704089396121E+131,5.8470713443714741E+131,-8.0429556985336206E+131,-3.081367254975353E+131,1.3890027042905094E+132,-4.9615884435582676E+131,-1.6971394297880446E+132,1.8851615486463361E+132,1.2009805854322179E+132,-3.5823009784343807E+132,6.8418096321411814E+131,4.7832815638665986E+132,-4.2664819416484991E+132,-4.0991006006524808E+132,9.0497635055150977E+132,-1.6738134099601835E+131,-1.3148864106167579E+133,9.2171448465111161E+132,1.2981482765171561E+133,-2.2366008952678693E+133,-3.7643379186604454E+132,3.5347491717850255E+133,-1.8601671034018247E+133,-3.9111829636510701E+133,5.3949162751868496E+133,2.0510158602492455E+133,{"$f":"BGG10-BGH10","v":-9.3060992388379203E+133},3.3439004149376042E+133,1.1357115099087165E+134,-1.2649999653775525E+134,-8.0132146841495606E+133,2.400711475286269E+134,-4.6367849696259644E+133,-3.2020329437012251E+134,2.8643899722488653E+134,2.7383544467386284E+134,-6.0664229159500899E+134,1.2603552551023682E+133,8.8047773626887192E+134,-6.1924584414603268E+134,-8.6787418371784832E+134,1.4997235804149047E+135,2.4862833957181564E+134,-2.367597764132753E+135,1.2510952408430891E+135,2.6162261037045686E+135,-3.6186930049758421E+135,-1.3651308628614794E+135,6.2349191086804103E+135,-2.2535621421143627E+135,-7.6000499715418901E+135,8.4884812507947727E+135,5.3464878294275277E+135,-1.6088531222336663E+136,3.1419934213672449E+135,2.1435019051764189E+136,-1.9230524643703908E+136,-1.8293025630396944E+136,4.0665543695468097E+136,-9.3749901330696342E+134,-5.8958569325865046E+136,4.160304270877506E+136,5.8021070312558083E+136,-1.0056161203464011E+137,-1.6418027603783023E+136,1.5858268234719819E+137,-8.4143584430857094E+136,-1.7500070995098121E+137,2.4272626677805531E+137,9.0857125520124118E+136,-4.1772697672903652E+137,1.5186914125793119E+137,5.0858410224916062E+137,-5.6959611798696774E+137,-3.5671496099122941E+137,1.0781802202361284E+138,-2.1288115699573833E+137,-1.4348951812273578E+138,1.2910613772318667E+138,1.2220140242316196E+138,-2.7259565584592245E+138,6.9047353000247085E+136,3.9479705826908438E+138,-2.7950039114594716E+138,-3.8789232296905967E+138,6.7429744941503157E+138,1.0839193182311251E+138,-1.0621897723840913E+139,5.6590551759191903E+138,1.1705817042072039E+139,{"$f":"BIS10-BIT10","v":-1.6280952899760105E+139},-6.0467618661528482E+138,2.7986769941832142E+139,-1.0234191033607257E+139,-3.4033531807984993E+139,3.8220960975439396E+139,2.3799340774377736E+139,-7.2254492783424389E+139,1.442162020106166E+139,9.6053833557802117E+139,-8.6676112984486046E+139,-8.163221335674046E+139,1.8272994654228816E+140,-5.0438996277455854E+138,-2.6436215989902864E+140,1.8777384617003375E+140,2.5931826027128306E+140,-4.5213600606906237E+140,-7.1544414101249311E+139,7.1145426634034539E+140,-3.8059159196781308E+140,-7.8299868044159476E+140,1.0920458583081585E+141,4.0240708847378168E+140,-1.8750445387497531E+141,6.8963876983437679E+140,2.2774516272235346E+141,-2.5646833085841298E+141,-1.5878128573891578E+141,4.8421349358076648E+141,-9.7687045119497207E+140,-6.4299477931968222E+141,5.8190053870026368E+141,5.4530773420018501E+141,-1.224895318019946E+142,3.6592804500078669E+140,1.7702030522201309E+142,-1.2614881225200246E+142,-1.7336102477200522E+142,3.0316911747401556E+142,4.7212212520002761E+141,-4.7653014224602078E+142,2.5595690495401279E+142,5.2374235476602349E+142,-7.3248704720003357E+142,-2.6778544981201069E+142,1.2562294019660572E+143,-4.6470159738802288E+142,-1.5240148517780679E+143,1.7209309993540802E+143,1.0593132543900451E+143,-3.2449458511321478E+143,6.6161774496403507E+142,4.3042591055221933E+143,-3.9065635960961829E+143,-3.6426413605581583E+143,8.2108227016183762E+143,-2.6392223553802463E+142,-1.1853464062176534E+144,8.4747449371564E+143,1.1589541826638508E+144,-2.0328208999332934E+144,-3.1147968894821081E+143,3.1917750825971438E+144,{"$f":"BLE10-BLF10","v":-1.7213412109850825E+144},-3.5032547715453546E+144,4.9131162935822267E+144,1.7819135605602721E+144,-8.416371065127582E+144,3.1312027330219543E+144,1.0198284625687854E+145,-1.1547573798149536E+145,-7.0670818926659002E+144,2.1745858423837389E+145,-4.4804919054836361E+144,-2.8812940316503291E+145,2.6226350329321027E+145,2.4332448411019653E+145,-5.5039290645824323E+145,1.8939019183013734E+144,7.9371739056843982E+145,-5.6933192564125697E+145,-7.7477837138542609E+145,1.3630493162096968E+146,2.0544644574416912E+145,-2.1378276875951231E+146,1.1576028704655277E+146,2.3432741333392922E+146,-3.2954305580606508E+146,-1.1856712628737646E+146,5.638704691399943E+146,-2.1097592951868862E+146,-6.8243759542737076E+146,7.7484639865868292E+146,4.7146166590868213E+146,-1.4572839940860537E+147,3.0338473275000079E+146,1.9287456599947356E+147,-1.7606687268360543E+147,-1.6253609272447348E+147,3.6894143868307899E+147,-1.3530779959131944E+146,-5.3147753140755248E+147,3.8247221864221094E+147,5.1794675144842053E+147,-9.1394975004976348E+147,-1.354745328062096E+147,1.4318965014981842E+148,-7.7847521724355389E+147,-1.5673710343043939E+148,2.2103717187417382E+148,7.8889581706084001E+147,-3.7777427530461321E+148,1.4214759016808983E+148,4.566638570106972E+148,-5.1992186547270304E+148,-3.1451626684260736E+148,9.7658572248340024E+148,-2.0540559863009568E+148,-1.2911019893260076E+149,1.1819913211134959E+149,1.0856963906959119E+149,-2.4730933104395035E+149,9.6294930417583992E+147,3.5587897011354154E+149,-2.5693882408570875E+149,-3.4624947707178314E+149,6.1281779419925034E+149,{"$f":"BNQ10-BNR10","v":8.9310652986074394E+148},-9.5906727127103357E+149,5.235071412131759E+149,1.048377924257108E+150,-1.4825744124842095E+150,-5.2487078304393211E+149,2.5309523367413177E+150,-9.5770362944027736E+149,-3.0558231197852496E+150,3.488655966181595E+150,2.0981194903449722E+150,-6.5444790859668446E+150,1.3905364758366228E+150,8.6425985763118176E+150,-7.9350155618034682E+150,-7.2520621004751948E+150,1.6577614138115286E+151,-6.8295346132827334E+149,-2.3829676238590482E+151,1.7260567599443561E+151,2.3146722777262207E+151,-4.1090243838034043E+151,-5.8861551778186467E+150,6.4236966615296256E+151,-3.5204088660215396E+151,-7.0123121793114896E+151,9.9441055275511657E+151,3.4919033132899501E+151,-1.6956417706862655E+152,6.4522022142612163E+151,2.0448321020152605E+152,-2.3408619921123874E+152,-1.3996118805891389E+152,4.3856940941276479E+152,-9.4125011152324854E+151,-5.785305974716787E+152,5.3269442056508962E+152,4.8440558631935387E+152,-1.1112250180367682E+153,4.8288834245735751E+151,1.5956306043561222E+153,-1.1595138522825039E+153,-1.5473417701103865E+153,2.7551444566386261E+153,3.8782791782788264E+152,-4.302486226749013E+153,2.3673165388107434E+153,4.6903141445768956E+153,-6.6698027655597564E+153,-2.3229976057661522E+153,1.1360116910136653E+154,-4.3468051597936042E+153,-1.3683114515902804E+154,1.5706922069930258E+154,9.3363093561091992E+153,-2.9390036585833065E+154,6.3706127138210584E+153,3.8726345941942261E+154,-3.576064929965412E+154,-3.2355733228121206E+154,7.4486995241596381E+154,-3.4049160715329147E+153,-1.0684272846971759E+155,7.7891911313129296E+154,{"$f":"BQC10-BQD10","v":1.0343781239818467E+155},-1.8473463978284688E+155,-2.5545901085055376E+154,2.8817245218103154E+155,-1.5918873869779149E+155,-3.1371835326608693E+155,4.4736119087882304E+155,1.5452961456829544E+155,-7.6107954414490992E+155,2.928315763105276E+155,9.1560915871320531E+155,-1.0539111204554376E+156,-6.2277758240267766E+155,1.9695202791686429E+156,-4.3113353805275991E+155,-2.5922978615713205E+156,2.4006538172214026E+156,2.1611643235185604E+156,-4.9929516787927235E+156,2.3948949370284216E+155,7.1541160023112847E+156,-5.2324411724955657E+156,-6.9146265086084433E+156,1.238655717480685E+157,1.6821853361128777E+156,-1.9301183683415293E+157,1.0704371838693971E+157,2.0983369019528171E+157,-3.0005555522109261E+157,-1.02789971808342E+157,5.0988924541637436E+157,-1.9726558341275061E+157,-6.1267921722471639E+157,7.0715482882912494E+157,4.1541363381196581E+157,-1.3198340460538412E+158,2.9174119501715913E+157,1.7352476798658069E+158,-1.6115752410710003E+158,-1.4435064848486478E+158,3.3468229209368075E+158,-1.6806875622235257E+157,-4.790329405785455E+158,3.51489167715916E+158,4.6222606495631029E+158,-8.3052210829446145E+158,-1.1073689724039429E+158,1.2927481732507717E+159,-7.1978521105406721E+158,-1.403485070491166E+159,2.012533384304839E+159,6.8369985943709877E+158,-3.4160184547960051E+159,1.3288335248677402E+159,4.0997183142331041E+159,-4.7448519796637451E+159,-2.7708847893653641E+159,8.8445702938968492E+159,-1.973967190298381E+159,-1.1615455083262213E+160,1.081853748419523E+160,9.6414878929638315E+159,-2.2433992567457441E+160,1.1770495912313987E+159,{"$f":"BSO10-BSP10","v":3.2075480460421274E+160},-2.361104215868884E+160,-3.0898430869189876E+160,5.5686522619110114E+160,7.2873887105010356E+159,-8.658495348829999E+160,4.8399133908609079E+160,9.3872342198801025E+160,-1.3498408739690906E+161,-4.5473208290191947E+160,2.288564295957101E+161,-8.9510879106717109E+160,-2.7432963788590203E+161,3.1836730870242718E+161,1.8481875877918492E+161,-5.9269694658832921E+161,1.3354854992324227E+161,7.7751570536751411E+161,-7.262454965115715E+161,-6.4396715544427182E+161,1.5037612018790856E+162,-8.2278341067299687E+160,-2.1477283573233572E+162,1.5860395429463852E+162,2.0654500162560574E+162,-3.7337679002697424E+162,-4.7941047330967224E+161,5.7992179165257999E+162,-3.2543574269600702E+162,-6.2786283898354721E+162,9.05357534348587E+162,3.0242709628754019E+162,-1.5332203733321342E+163,6.0293043806104681E+162,1.8356474696196746E+163,-2.1361508113931812E+163,-1.2327170315586278E+163,3.9717982810128558E+163,-9.0343377983455343E+162,-5.2045153125714837E+163,4.875232060847409E+163,4.3010815327369304E+163,-1.0079747373418893E+164,5.7415052811047863E+162,1.4380828906155824E+164,-1.0653897901529371E+164,-1.3806678378045346E+164,2.5034726807685194E+164,3.1527804765159744E+163,-3.884140518573054E+164,2.1881946331169219E+164,4.1994185662246516E+164,-6.0723351516899754E+164,-2.0112239331077297E+164,1.0271753717914627E+165,-4.0611112185822457E+164,-1.2282977651022357E+165,1.4332864936496873E+165,8.2218664324401115E+164,-2.6615842587519228E+165,6.1109985040567616E+164,3.483770901995934E+165,-3.272684109157599E+165,-2.8726710515902578E+165,{"$f":"BVA10-BVB10","v":6.756455011153533E+165},-4.0001305756734117E+164,-9.62912606274379E+165,7.1564680687208737E+165,9.2291130051764492E+165,-1.6785594131464662E+166,-2.0726449364555755E+165,2.6014707136641111E+166,-1.4712949195009087E+166,-2.8087352073096688E+166,4.0727656331650196E+166,1.3374402878087602E+166,-6.8815008404746878E+166,2.7353253453562596E+166,8.2189411282834485E+166,-9.6168261858309474E+166,-5.4836157829271889E+166,1.7835767314114396E+167,-4.1332104029037585E+166,-2.3319383097041585E+167,2.1968977717018154E+167,1.9186172694137826E+167,-4.5288360814059742E+167,2.7828050228803282E+166,6.4474533508197571E+167,-4.807116583694007E+167,-6.1691728485317242E+167,1.1254569934513764E+168,1.3620562648377172E+167,-1.7423742783045488E+168,9.8925136696760468E+167,1.8785799047883206E+168,-2.7316256452721535E+168,-8.8932853782071587E+167,4.6102055500604741E+168,-1.8422971074514376E+168,-5.4995340878811899E+168,6.4525026575119117E+168,3.6572369804297523E+168,-1.1952036745393102E+169,2.7952656770821594E+168,1.5609273725822854E+169,-1.4747302422475262E+169,-1.2814008048740694E+169,3.0356576148298112E+169,-1.9332943737345682E+168,-4.3170584197038806E+169,3.2289870522032677E+169,4.1237289823304241E+169,-7.5460454719071484E+169,-8.9474193012715641E+168,1.1669774454237572E+170,-6.6513035417799919E+169,-1.2564516384364728E+170,1.8321077996017564E+170,5.9132128425847356E+169,-3.0885594380382289E+170,1.2407865153432827E+170,3.6798807222967024E+170,-4.3293459533815117E+170,-2.4390942069534196E+170,8.0092266756782135E+170,-1.8902517464280921E+170,-1.0448320882631633E+171,{"$f":"BXM10-BXN10","v":9.899478422106305E+170},8.558069136203541E+170,-2.0347799304737938E+171,1.341409285902764E+170,2.8905868440941479E+171,-2.1689208590640699E+171,-2.7564459155038713E+171,5.0595077031582182E+171,5.875250564398013E+170,-7.8159536186620903E+171,4.4719826467184169E+171,8.4034786751018917E+171,-1.2287936265380507E+172,-3.9314960283834747E+171,2.0691414940482397E+172,-8.3564402369970326E+171,-2.462291096886587E+172,2.9047855177479428E+172,1.6266470731868839E+172,-5.3670766146345298E+172,1.2781384445610589E+172,6.9937236878214138E+172,-6.6452150591955894E+172,-5.7155852432603549E+172,1.3638938747017003E+173,-9.2962981593523449E+171,-1.9354523990277357E+173,1.4568568562952238E+173,1.8424894174342122E+173,-3.3923092553229593E+173,-3.8563256113898839E+172,5.2347986727571718E+173,-3.0066766941839712E+173,-5.6204312338961599E+173,8.241475366941143E+173,2.6137545397121887E+173,-1.3861906600837303E+174,5.6277208272289543E+173,1.6475661140549493E+174,-1.9489627428066258E+174,-1.0847940313320537E+174,3.5965288568615751E+174,-8.6416871147457209E+173,-4.6813228881936284E+174,4.4606975683361472E+174,3.8171541767190563E+174,-9.1420204565297756E+174,6.4354339161709088E+173,1.2959174633248831E+175,-9.7855638481468669E+174,-1.231563124163174E+175,2.2744738481395697E+175,2.5300673934848732E+174,-3.5060369723027437E+175,2.0214671087910823E+175,3.759043711651231E+175,-5.527504081093826E+175,-1.7375766028601487E+175,9.286547792745057E+175,-3.7899274782336773E+175,-1.1024124395605206E+176,1.3076475270978734E+176,7.2341969173715283E+175,-2.410059966658394E+176,{"$f":"BZY10-BZZ10","v":5.842278353607206E+175},3.133479658395547E+176,-2.9942878020191147E+176,-2.5492518230348265E+176,6.1277674604146617E+176,-4.4503597898428824E+175,-8.6770192834494882E+176,6.5728034393989494E+176,8.2319833044652005E+176,-1.5249822722848436E+177,-1.6591798650662511E+176,2.3481806027313639E+177,-1.3590642857782185E+177,-2.514098589237989E+177,3.7072448885095825E+177,1.1550343034597705E+177,-6.2213434777475719E+177,2.5522105850498119E+177,7.3763777812073429E+177,-8.773554062797383E+177,-4.824167196157531E+177,1.6149931844004726E+178,-3.949386866639852E+177,-2.0974099040162258E+178,2.0099318710644577E+178,1.7024712173522407E+178,-4.1073417750806835E+178,3.0746065371221704E+177,5.8098129924329238E+178,-4.4148024287929005E+178,-5.5023523387207067E+178,1.0224615421225825E+179,1.0875499099278062E+178,-1.572696775994653E+179,9.1370655112980181E+178,1.6814517669874337E+179,-2.4864033271244548E+179,-7.6774521585763192E+178,4.1678550941118886E+179,-1.7186581112668229E+179,-4.9356003099695205E+179,5.8865132053787121E+179,3.2169421987026976E+179,-1.0822113515348233E+180,2.6695710066760145E+179,1.4039055714050929E+180,-1.3491684522024248E+180,-1.1369484707374913E+180,2.7530740236075177E+180,-2.1221998146493349E+179,-3.890022494345009E+180,2.9652940050724512E+180,3.6778025128800756E+180,-6.8553164994174603E+180,-7.1250850780762435E+179,1.0533119012297535E+181,-6.1428079916098354E+180,-1.1245627520105159E+181,1.6675927003907371E+181,5.1028195284953238E+180,-2.7921554524012528E+181,1.1573107475412047E+181,3.302437405250785E+181,-3.9494661999424577E+181,{"$f":"CCK10-CCL10","v":-2.1451266577095801E+181},7.251903605193242E+181,-1.8043395422328776E+181,-9.3970302629028221E+181,9.0562431474261196E+181,7.5926907206699445E+181,-1.845327341032894E+182,1.463552426756175E+181,2.6045964130998886E+182,-1.9916825837085115E+182,-2.4582411704242711E+182,4.5962789968083998E+182,4.665585867157596E+181,-7.0545201672326707E+182,4.1297204100926402E+182,7.5210787539484303E+182,-1.1184240577325311E+183,-3.39135834385579E+182,1.8705319331273741E+183,-7.7928822334695209E+182,-2.209667767512953E+183,2.6498201564743263E+183,1.430379544166001E+183,-4.8594879239872793E+183,1.2194406123083253E+183,6.2898674681532799E+183,-6.0789285362956046E+183,-5.0704268558449546E+183,1.2368796004448885E+184,-1.00850168045065E+183,-1.7439222860293837E+184,1.3377297684899535E+184,1.6430721179843187E+184,-3.0816520545193372E+184,-3.0534234949436526E+183,4.7247241725036561E+184,-2.7763097050249717E+184,-5.0300665219980215E+184,7.5010338775286278E+184,2.2537568169730498E+184,-1.2531100399526649E+185,5.247277060555578E+184,1.47848572164997E+185,-1.7778377460082227E+185,-9.5375801559441212E+184,3.2563234676581927E+185,-8.2407973041381054E+184,-4.2100814832526051E+185,4.0804031980720032E+185,3.3860017528387945E+185,-8.2904846813246083E+185,6.9440144523320867E+184,1.1676486434163402E+186,-8.9848861265578163E+185,-1.0982084988930193E+186,2.0661372560721219E+186,1.9971988623723766E+185,-3.1643457549651411E+186,1.8664173698348842E+186,3.364065641202379E+186,-5.0307631248000253E+186,-1.4976482713674949E+186,8.3948287660024044E+186,-3.5331148534325305E+186,{"$f":"CEW10-CEX10","v":-9.8924770373698987E+186},1.1927943619434934E+187,6.3593621839373678E+186,-2.1820420656804831E+187,5.5685814354975666E+186,2.8179782840742201E+187,-2.7389002092302396E+187,-2.2611201405244636E+187,5.5568784933044597E+187,-4.7778006870577596E+186,-7.8179986338289241E+187,6.0346585620102356E+187,7.3402185651231481E+187,-1.385265719583916E+188,-1.3055600031129125E+187,2.1192875760962306E+188,-1.2547097192726247E+188,-2.2498435764075217E+188,3.3739972953688555E+188,9.95133857134897E+187,-5.6238408717763778E+188,2.3788634382339587E+188,6.6189747289112753E+188,-8.0027043100103365E+188,-4.2401112906773166E+188,1.4621679038921612E+189,-3.7625930193330199E+188,-1.8861790329598928E+189,1.8384272058254632E+189,1.5099197310265909E+189,-3.724606238785356E+189,3.2850747479887231E+188,5.2345259698119466E+189,-4.0531137135842283E+189,-4.9060184950130738E+189,9.2876396833961749E+189,8.529047814288455E+188,-1.4193658178409249E+190,8.4347349019673295E+189,1.5046562959838094E+190,-2.262839308037658E+190,-6.6118280578707648E+189,3.7674956040214676E+190,-1.6016565022505815E+190,-4.4286784098085439E+190,5.3691521062720494E+190,2.8270219075579622E+190,-9.7978305160805933E+190,2.5421301987140872E+190,1.2624852423638556E+191,-1.233996071479468E+191,-1.0082722224924469E+191,2.4964813138433238E+191,-2.2572384898702114E+190,-3.5047535363357711E+191,2.7222051628303451E+191,3.2790296873487498E+191,-6.2269586991661156E+191,-5.5682452451840463E+190,9.5059883865148653E+191,-5.6701341746477109E+191,-1.0062812911033271E+192,1.5176122561162576E+192,4.3926787363855597E+191,{"$f":"CHI10-CHJ10","v":-2.5238935472195844E+192},1.0783443824777015E+192,2.9631614208581401E+192,-3.6022379296972856E+192,-1.8848170383804386E+192,6.5653993505554258E+192,-1.717420891316847E+192,-8.4502163889358647E+192,8.2828202418722726E+192,6.7327954976190179E+192,-1.6733036630808137E+193,1.5500247442532547E+192,2.3465832128427155E+193,-1.8283061375061393E+193,-2.1915807384173901E+193,4.1748893503488548E+193,3.6327460091125085E+192,-6.3664700887662449E+193,3.811614749437604E+193,6.7297446896774958E+193,-1.0178084838203849E+194,-2.9181299402398918E+193,1.6907829527881346E+194,-7.2599548979639571E+193,-1.9825959468121239E+194,2.4167784425845303E+194,1.2566004570157283E+194,-4.3993743893966545E+194,1.160177985568802E+194,5.6559748464123824E+194,-5.5595523749654565E+194,-4.4957968608435804E+194,1.1215527221377839E+195,-1.063755514121876E+194,-1.5711324082221419E+195,1.2279282735499716E+195,1.4647568568099545E+195,-2.7990606817721136E+195,-2.3682858325998284E+194,4.263817538582068E+195,-2.5622320985121307E+195,-4.5006461218420509E+195,6.8260496370941987E+195,1.9384140233299201E+195,-1.1326695758936249E+196,4.8876356137642786E+195,1.3265109782266169E+196,-1.6214331372700529E+196,-8.3774741685018906E+195,2.94794411549667E+196,-7.8368572041986381E+195,-3.7856915323468594E+196,3.7316298359165339E+196,3.0020058119269955E+196,-7.5173213682633929E+196,7.2962402398953846E+195,1.0519327180190389E+197,-8.2469453922529313E+196,-9.7897031562008503E+196,1.876627257244332E+197,1.542757763947919E+196,-2.855597572864417E+197,1.7223514808495403E+197,3.0098733492592088E+197,{"$f":"CJU10-CJV10","v":-4.5779490537139573E+197},-1.2875218684096685E+197,7.5878224029731661E+197,-3.2904271853042888E+197,-8.8753442713828346E+197,1.0878249588277454E+198,5.5849170860785457E+197,-1.9753593859660289E+198,5.2933325021989085E+197,2.5338510945738835E+198,-2.5046926361859199E+198,-2.0045178443539927E+198,5.0385437307598034E+198,-5.0017479183192719E+197,-7.0430615751137962E+198,5.5387185225917306E+198,6.542886783281869E+198,-1.2581780097705526E+199,-1.0041682606901384E+198,1.9124666880987394E+199,-1.1577611837015387E+199,-2.012883514167753E+199,3.0702278718002783E+199,8.5512233046621425E+198,-5.0831113859680313E+199,2.2151055413340639E+199,5.9382337164342458E+199,-7.2982169273020952E+199,-3.7231281751001819E+199,1.3236450643736341E+200,-3.5750887522019133E+199,-1.6959578818836524E+200,1.6811539395938254E+200,1.338449006663461E+200,-3.3771118214774778E+200,3.4270493293036437E+199,4.715560828140939E+200,-3.719816754407842E+200,-4.3728558952105748E+200,8.435377582548781E+200,6.5303914080273281E+199,-1.2808233477759355E+201,7.7823384417460489E+200,1.3461272618562089E+201,-2.0590571919505404E+201,-5.6789341768160397E+200,3.405184453806749E+201,-1.4911637742689364E+201,-3.9730778714883527E+201,4.8963482280756851E+201,2.4819140972194165E+201,-8.8694260995640378E+201,2.4144341308562686E+201,1.1351340196783454E+202,-1.1283860230420306E+202,-8.9369060659271858E+201,2.2635200427203759E+202,-2.3469541644931207E+201,-3.1572106493130944E+202,2.4982154591696879E+202,2.9225152328637824E+202,-5.6554261084827819E+202,-4.2429977369409444E+201,8.5779413413465639E+202,{"$f":"CMG10-CMH10","v":-5.2311263347886875E+202},-9.0022411150406583E+202,1.3809067676135251E+203,3.7711147802519708E+202,-2.2811308791175908E+203,1.0037952895883281E+203,2.6582423571427879E+203,-3.284926168705919E+203,-1.6544470675544596E+203,5.9431685258487069E+203,-1.6304791011514594E+203,-7.5976155934031659E+203,7.573647627000167E+203,5.9671364922517065E+203,-1.5171263220403333E+204,1.6065111347484605E+203,2.1138399712655038E+204,-1.6777774355151795E+204,-1.9531888577906579E+204,3.7916174067806833E+204,2.7541142227547841E+203,-5.7448062645713411E+204,3.5162059845052049E+204,6.0202176868468196E+204,-9.2610122490765454E+204,-2.5040117023416147E+204,1.5281229935923365E+205,-6.7570005467349302E+204,-1.778524163826498E+205,2.2038230482658295E+205,1.102824109153005E+205,-3.9823472120923278E+205,1.1009989391128245E+205,5.0851713212453328E+205,-5.0833461512051523E+205,-3.9841723821325083E+205,1.0168517472450485E+206,-1.099173769072644E+205,-1.4152689854582994E+206,1.1267691241523128E+206,1.3053516085510349E+206,-2.5420381096106122E+206,-1.7858248439872211E+205,3.8473897181616472E+206,-2.3634556252118901E+206,-4.0259722025603689E+206,6.2108453433735376E+206,1.6625165773484788E+206,-1.0236817545933907E+207,4.5483287660250592E+206,1.1899334123282385E+207,-1.4785146311958967E+207,-7.3510053572573258E+206,2.6684480435241351E+207,-7.4341409547016414E+206,-3.4035485792498677E+207,3.4118621389942992E+207,2.6601344837797035E+207,-6.8154107182441669E+207,7.517276552145957E+206,9.4755452020238698E+207,-7.567138373458762E+207,-8.7238175468092747E+207,1.7042683575482632E+208,{"$f":"COS10-COT10","v":1.1566791733505127E+207},-2.5766501122291907E+208,1.5886004402132119E+208,2.6923180295642422E+208,-4.1652505524424028E+208,-1.1037175893510302E+208,6.8575685820066449E+208,-3.0615329630913723E+208,-7.9612861713576754E+208,9.9191015450980164E+208,4.8997532082663031E+208,-1.788038771645569E+209,5.0193483368317133E+208,2.2780140924721993E+209,-2.2899736053287403E+209,-1.776079258789028E+209,4.56798769780094E+209,-5.1389434653971235E+208,-6.3440669565899676E+209,5.0818820443406523E+209,5.8301726100502553E+209,-1.1425949000930619E+210,-7.4829056570960291E+208,1.7256121610980874E+210,-1.0677658435221016E+210,-1.8004412176690477E+210,2.7933780046201887E+210,7.3267537414694604E+209,-4.5938192222892367E+210,2.0607026304732427E+210,5.3264945964361833E+210,-6.6545218527624788E+210,-3.2657919659629406E+210,1.1981016449198662E+211,-3.3887298867995382E+210,-1.5246808415161602E+211,1.5369746335998201E+211,1.1858078528362063E+211,-3.0616554751159803E+211,3.5116678076361374E+210,4.2474633279521864E+211,-3.4128222558795938E+211,-3.8962965471885729E+211,7.6602855838317802E+211,4.8347429130897908E+210,-1.1556582131020354E+212,7.1768112925228011E+211,1.2040056422329333E+212,-1.8733393423543153E+212,-4.863245129806532E+211,3.0773449845872486E+212,-1.3870148293736621E+212,-3.5636694975679016E+212,4.4643598139609109E+212,2.1766546681942397E+212,-8.0280293115288126E+212,2.2877051457666712E+212,1.0204683979723052E+213,-1.0315734457295483E+213,-7.916978833956381E+212,2.0520418437018535E+213,-2.398755623339102E+212,-2.8437397270974919E+213,2.2919174060357637E+213,{"$f":"CRE10-CRF10","v":2.6038641647635817E+213},-5.1356571331332558E+213,-3.11946758727818E+212,7.7395212978968375E+213,-4.8237103744054381E+213,-8.0514680566246552E+213,1.2563231672302274E+214,3.2277576822192171E+213,-2.061469972892693E+214,9.3354739900830574E+213,2.3842457411146149E+214,-2.9950173719009989E+214,-1.4506983421063092E+214,5.3792631130156138E+214,-1.5443190297946898E+214,-6.8299614551219228E+214,6.9235821428103039E+214,5.2856424253272328E+214,-1.3753543597932226E+215,1.6379397174830711E+214,1.9039186023259457E+215,-1.5391483315415297E+215,-1.7401246305776384E+215,3.4430669338674752E+215,2.0097629903610877E+214,-5.1831915644451137E+215,3.2420906348313667E+215,5.3841678634812223E+215,-8.4252821992764803E+215,-2.1420772286498556E+215,1.3809450062757704E+216,-6.2832049706266247E+215,-1.595152729140756E+216,2.0092655033384328E+216,9.6683223207809365E+215,-3.6044182324791889E+216,1.0424332712603392E+216,4.5712504645572825E+216,-4.6468515037395283E+216,-3.5288171932969437E+216,9.2181019682968108E+216,-1.1180343104425847E+216,-1.2746919161593754E+217,1.0336136278739395E+217,1.1628884851151169E+217,-2.3083055440333149E+217,-1.2927485724117731E+216,3.4711940291484317E+217,-2.1790306867921377E+217,-3.6004688863896089E+217,5.6502247159405694E+217,1.4214381995974712E+217,-9.2506936023301779E+217,4.2287865163430982E+217,1.067213180192765E+218,-1.3479480118673276E+218,-6.4433452855845519E+217,2.4151611920600925E+218,-7.0361348330887236E+217,-3.0594957206185479E+218,3.1187746753689647E+218,2.3558822373096753E+218,-6.1782703959875126E+218,7.6289243805928934E+217,{"$f":"CTQ10-CTR10","v":8.5341526332971887E+218},-6.9411628340468019E+218,-7.7712601952378994E+218,1.5475315467343991E+219,8.3009736119109744E+217,-2.3246575662581891E+219,1.4645218106152895E+219,2.4076673023772987E+219,-3.7891793768734786E+219,-9.4314549176200927E+218,6.1968466792507773E+219,-2.8460338851114693E+219,-7.1399921710127859E+219,9.042880564362246E+219,4.2939582859013167E+219,-1.6182872735375032E+220,4.7489222784609293E+219,2.0476831021276349E+220,-2.0931795013835961E+220,-1.572790874281542E+220,4.140862603511231E+220,-5.2038862710205401E+219,-5.7136534777927725E+220,4.6612512306132852E+220,5.1932648506907183E+220,-1.0374904708406058E+221,-5.3201362007743303E+219,1.5568169559096777E+221,-9.8428910883286257E+220,-1.6100183179174209E+221,2.5411060647425403E+221,6.2572920908455833E+220,-4.1511243826599608E+221,1.9153768556579819E+221,4.7768535917445195E+221,-6.0665012383179431E+221,-2.8614767360865376E+221,1.0843354830062463E+222,-3.2050245022314056E+221,-1.3704831566149E+222,1.4048379332293869E+222,1.0499807063917594E+222,-2.7753210898442867E+222,3.5485722683762747E+221,3.8253017962360464E+222,-3.1301783166819143E+222,-3.4704445693984188E+222,6.9554801129179607E+222,3.4026625271650444E+221,-1.0425924682316379E+223,6.6152138602014563E+222,1.0766190935032884E+223,-1.7041138542517834E+223,-4.1509770748314276E+222,2.7807329477550717E+223,-1.2890161467686406E+223,-3.1958306552382146E+223,4.0697490945237123E+223,1.906814508469574E+223,-7.2655797497619268E+223,2.1629345860541382E+223,9.1723942582315009E+223,-9.428514335816064E+223,-7.0094596721773627E+223,{"$f":"CWC10-CWD10","v":1.8600908594047565E+224},-2.4190546636387014E+223,-2.5610368266224929E+224,2.1019963257686265E+224,2.3191313602586228E+224,-4.6630331523911198E+224,-2.171350344899963E+223,6.982164512649743E+224,-4.4458981179011235E+224,-7.1992995471397393E+224,1.1428062630550867E+225,2.7534014292386159E+224,-1.8627362177690604E+225,8.6746612013122507E+224,2.1380763606929222E+225,-2.7302023379002857E+225,-1.2706102405616971E+225,4.8682786985932078E+225,-1.4595920973385886E+225,-6.1388889391549048E+225,6.3278707959317959E+225,4.6792968418163161E+225,-1.2466759735086702E+226,1.6485739541154798E+225,1.7146056576903018E+226,-1.411533368920218E+226,-1.5497482622787537E+226,3.1261390266105201E+226,1.3821489335853564E+225,-4.6758872888892738E+226,2.9879241332519845E+226,4.81410218224781E+226,-7.6638114221412578E+226,-1.8261780489958255E+226,1.2477913604389068E+227,-5.8376333731454328E+226,-1.4304091653384893E+227,1.8315546977534501E+227,8.4664582802394599E+226,-3.2619638630919395E+227,9.8490886972950406E+226,4.1086096911158853E+227,-4.246872732821444E+227,-3.1237008213863812E+227,8.3554824239373285E+227,-1.1231719114350628E+227,-1.1479183245323709E+228,9.4786543353723917E+227,1.0356011333888646E+228,-2.0957837580696101E+228,-8.7735699851625446E+226,3.1313848914584744E+228,-2.0080480582179847E+228,-3.2191205913100998E+228,5.1394329496764587E+228,1.2110725330921152E+228,-8.3585535409865585E+228,3.9283604165843432E+228,9.569626074078674E+228,-1.2286913957570902E+229,-5.6412656574943308E+228,2.1856540031649577E+229,-6.6456483000765709E+228,-2.7497805689143908E+229,{"$f":"CYO10-CYP10","v":2.8502188331726148E+229},2.0852157389067337E+229,-5.5999994020870056E+229,7.6500309426588109E+228,7.6852151409937393E+229,-6.3650024963528867E+229,-6.9202120467278582E+229,1.4050217637346625E+230,5.5520955037497152E+228,-2.0970429684074481E+230,1.3495008086971652E+230,2.1525639234449453E+230,-3.4465437771046133E+230,-8.0306311474778012E+229,5.5991077005495587E+230,-2.6434806623568332E+230,-6.4021708152973388E+230,8.2425883629063919E+230,3.7586901529405056E+230,-1.4644759178203731E+231,4.4838982099658863E+230,1.8403449331144235E+231,-1.9128657388169616E+231,-1.391955112117835E+231,3.7532106719313851E+231,-5.2091062669912661E+230,-5.1451657840492198E+231,4.2741212986305114E+231,4.6242551573500935E+231,-9.4192870826797312E+231,-3.5013385871958213E+230,1.4043542240029825E+232,-9.0691532239601491E+231,-1.4393676098749405E+232,2.3112695463989974E+232,5.3245228747892564E+231,-3.7506371562739382E+232,1.7788172589200717E+232,4.2830894437528641E+232,-5.5294544151940099E+232,-2.5042721848327924E+232,9.8125438589468741E+232,-3.0251822303612176E+232,-1.2316816043779668E+233,1.2837726089308092E+233,9.29163381341845E+232,-2.5154542133087759E+233,3.5460922758896416E+232,3.4446175946506208E+233,-2.8700634408977402E+233,-3.0900083670616565E+233,6.314681035548361E+233,2.1994492616391634E+232,-9.4046894026100175E+233,6.0947361093844447E+233,9.6246343287739339E+233,-1.5499425511994462E+234,-3.5298982193894892E+233,2.5124059840768396E+234,-1.1969527292604973E+234,-2.8653958060157887E+234,3.7093587133373366E+234,1.6684430767552914E+234,-6.5747545193531253E+234,{"$f":"DBA10-DBB10","v":2.0409156365820451E+234},8.243197596108416E+234,-8.6156701559351711E+234,-6.2022819595263708E+234,1.6858867752043587E+235,-2.4133881964088003E+234,-2.3061149711569959E+235,1.9272255948452387E+235,2.0647761515161159E+235,-4.2333405660022345E+235,-1.3755055667087723E+234,6.2981167175183501E+235,-4.095790009331357E+235,-6.4356672741892277E+235,1.0393906726849707E+236,2.3398772648578706E+235,-1.6829574001038934E+236,8.0540294619918365E+235,1.9169451265896805E+236,-2.4883603463030769E+236,-1.111542180390497E+236,4.4053054728927574E+236,-1.3768181659125799E+236,-5.5168476532832545E+236,5.7821236388053373E+236,4.1400294873706746E+236,-1.1298971292088592E+237,1.6420941514346628E+236,1.5439000779459266E+237,-1.2941065443523255E+237,-1.3796906628024604E+237,2.8380066222982523E+237,8.5584118450134899E+235,-4.2176972851007126E+237,2.7524225038481176E+237,4.3032814035508474E+237,-6.9701197889488309E+237,-1.5508588997027298E+237,1.1273401192499678E+238,-5.4192608892461011E+237,-1.2824260092202408E+238,1.6692662081745779E+238,7.4049992029563069E+237,-2.9516922173948187E+238,9.2876628787894724E+237,3.6921921376904492E+238,-3.8804585052737663E+238,-2.7634258498115022E+238,7.5726506429642154E+238,-1.1170326554622641E+238,-1.0336076492775718E+239,8.6896832984264795E+238,9.2190438373134535E+238,-1.9025759791202198E+239,-5.2936053888697403E+237,2.8244803628515653E+239,-1.8496399252315225E+239,-2.8774164167402626E+239,4.6741202880830874E+239,1.02777649150874E+239,-7.55153670482335E+239,3.6463437965743473E+239,8.57931319633209E+239,-1.1197880501397697E+240,{"$f":"DDM10-DDN10","v":-4.9329693997577427E+239},1.9777193697729785E+240,-6.2649111016399546E+239,-2.4710163097487527E+240,2.6042104799369739E+240,1.8445251995847574E+240,-5.0752267896857266E+240,7.5968528035221656E+239,6.919751989270484E+240,-5.8349120700379436E+240,-6.1600667089182671E+240,1.2754664059308428E+241,3.2515463888032348E+239,-1.8914730768226695E+241,1.2429509420428104E+241,1.9239885407107017E+241,-3.1344240188654796E+241,-6.8103759866789125E+240,5.0584125595761812E+241,-2.4533864201975883E+241,-5.7394501582440728E+241,7.5117989797737693E+241,3.2860637380464848E+241,-1.3251249138017841E+242,4.2257352417272845E+241,1.6537312876064324E+242,-1.7476984379745125E+242,-1.231157763433704E+242,3.4014297255809452E+242,-5.1654067454080854E+241,-4.632587489014649E+242,3.9179704001217538E+242,4.1160468144738404E+242,-8.5505578891364032E+242,-1.9807641435208667E+241,1.2666604703610244E+243,-8.3524814747843165E+242,-1.286468111796233E+243,2.1019086178394562E+243,4.5121996431780133E+242,-3.3883767296356891E+243,1.6506886535216547E+243,3.8395966939534902E+243,-5.0390653831573439E+243,-2.1889080404318355E+243,8.8786620771108333E+243,-2.8501573427255084E+243,-1.1067570117542669E+244,1.1728819419836342E+244,8.2174127748171596E+243,-2.2796389537379011E+244,3.5114066450191829E+243,3.1013802312196171E+244,-2.6307796182398194E+244,-2.7502395667176988E+244,5.7321598494594359E+244,1.1945994847787938E+243,-8.4823994161771353E+244,5.6126999009815565E+244,8.6018593646550147E+244,-1.4095099317158691E+245,-2.9891594636734582E+244,2.2696958681813704E+245,-1.1105939853485232E+245,{"$f":"DFY10-DFZ10","v":-2.5686118145487165E+245},3.3802898535298939E+245,1.4580178292001932E+245,-5.9489016680786104E+245,1.9222720243297007E+245,7.4069194972788033E+245,-7.8711736924083113E+245,-5.4846474729491024E+245,1.5278093189687115E+246,-2.3865262194592089E+245,-2.0762740662636219E+246,1.7664619409146322E+246,1.8376214443177011E+246,-3.8427360071782538E+246,-7.1159503403068859E+244,5.6803574514959552E+246,-3.7715765037751849E+246,-5.7515169548990241E+246,9.4519339552711401E+246,1.9799404511238392E+246,-1.5203450910170163E+247,7.4719935041473009E+246,1.7183391361294003E+247,-2.2675444414317464E+247,-9.7113978571467025E+246,3.9858835775611467E+247,-1.2964046557170761E+247,-4.957023363275817E+247,5.2822882332782228E+247,3.6606187075587409E+247,-1.023931159655404E+248,1.621669525719482E+247,1.3899930304112782E+248,-1.1860981122273521E+248,-1.2278260778393299E+248,2.5760911426386302E+248,4.1727965611977816E+246,-3.8039172204779601E+248,2.5343631770266524E+248,3.8456451860899379E+248,-6.338280397504613E+248,-1.3112820090632855E+248,1.0183925583594551E+249,-5.0269983884413275E+248,-1.1495207592657835E+249,1.5210923972035877E+249,6.4682092042165079E+248,-2.6706131564693713E+249,8.7427147678193696E+248,3.3174340768910222E+249,-3.5448846332513081E+249,-2.4431626001090853E+249,6.8623187101423299E+249,-1.1017220331422228E+249,-9.3054813102514149E+249,7.964040743284552E+249,8.2037592771091913E+249,-1.7269522053535965E+250,-2.3971853382463929E+248,2.5473281330645156E+250,-1.7029803519711326E+250,-2.5712999864469796E+250,4.2503084850356482E+250,8.6831963447584698E+249,{"$f":"DIK10-DIL10","v":-6.8216084714826285E+250},3.3819888505598009E+250,7.6899281059584758E+250,-1.0203597322042429E+251,-4.3079392553986748E+250,1.7893525428000905E+251,-5.8956580666437546E+250,-2.220146468339958E+251,2.3789183494644661E+251,1.6305806616755827E+251,-4.5990648178044238E+251,7.4833768778888343E+250,6.229645479480006E+251,-5.3474025055933073E+251,-5.4813077916911226E+251,1.1577047985073312E+252,1.3390528609781529E+250,-1.7058355776764436E+252,1.1443142698975497E+252,1.7192261062862251E+252,-2.8501498475739933E+252,-5.7491183638867542E+251,4.569375953860218E+252,-2.2752380111853179E+252,-5.1442877902488938E+252,6.8446139650455354E+252,2.8690497790635759E+252,-1.1988901755294429E+253,3.9755641859819591E+252,1.4857951534358006E+253,-1.5964465941276388E+253,-1.0882387348376047E+253,3.0822417475634397E+253,-5.0820785929003418E+252,-4.170480482401044E+253,3.5904496068534739E+253,3.6622726231110099E+253,-7.7609300892545173E+253,-7.1823016257535959E+251,1.1423202712365528E+254,-7.6891070729969813E+253,-1.1495025728623064E+254,1.9112309785362509E+254,3.8059186556260824E+253,-3.0607335513985573E+254,1.5306391129736427E+254,3.4413254169611658E+254,-4.5913726643722002E+254,-1.9106863039875231E+254,8.032698081333366E+254,-2.6806863603846768E+254,-9.9433843853208884E+254,1.0713384441718043E+255,7.2626980249362115E+254,-2.0656768827038931E+255,3.4506864167818313E+254,2.7919466851975141E+255,-2.4107455243820763E+255,-2.4468780435193309E+255,5.2026922095795907E+255,3.6132519137254676E+253,-7.6495702530989213E+255,5.1665596904423361E+255,7.6857027722361751E+255,{"$f":"DKW10-DKX10","v":-1.2816129943541256E+256},-2.519143081793839E+255,2.0501832715777432E+256,-1.0296986861747418E+256,-2.302097579757127E+256,3.079881957752485E+256,1.2723988935823852E+256,-5.3819795375096116E+256,1.8074830641700998E+256,6.6543784310919975E+256,-7.1894626016797108E+256,-4.8468953669218976E+256,1.3843841032771708E+257,-2.3425672347578132E+256,-1.8690736399693605E+257,1.6186408267529522E+257,1.6348169164935791E+257,-3.4877144667223127E+257,-1.6176089740626923E+255,5.1225313832158921E+257,-3.4715383769816858E+257,-5.1387074729565185E+257,8.5940697601975785E+257,1.6671690959748327E+257,-1.3732777233154097E+258,6.9269006642227452E+257,1.539994632912893E+258,-2.0659677897376844E+258,-8.473045664906185E+257,3.6059624226505775E+258,-1.2186632232470659E+258,-4.453266989141196E+258,4.8246256458976434E+258,3.23460376589413E+258,-9.2778926350388394E+258,1.5900218800035134E+258,1.2512496400932969E+259,-1.0867914515042353E+259,-1.0922474520929456E+259,2.3380410915975322E+259,5.4560005887103295E+256,-3.4302885436904776E+259,2.3325850910088219E+259,3.435744544279188E+259,-5.7628736346992995E+259,-1.1031594532703661E+259,9.1986181789784882E+259,-4.6597141814289334E+259,-1.0301777632248855E+260,1.3858332360407423E+260,5.6420634508199215E+259,-2.4160109992656278E+260,8.2162689095875015E+259,2.9802173443476201E+260,-3.2376378902243778E+260,-2.1585904533888698E+260,6.2178552345719979E+260,-1.079047436835508E+260,-8.3764456879608671E+260,7.2969026714075059E+260,7.2973982511253591E+260,-1.5673348359368372E+261,-4.9557971785324549E+256,2.297074661049373E+261,{"$f":"DNI10-DNJ10","v":-1.5672852779650519E+261},-2.2971242190211583E+261,3.8643599390144249E+261,7.2983894105610645E+260,-6.1614841580355836E+261,3.1345209979583184E+261,6.8913230990916896E+261,-9.2960051559939025E+261,-3.7568021011333712E+261,1.6187328255085592E+262,-5.5392030548605317E+261,-1.9944130356218965E+262,2.1726531309946122E+262,1.4404927301358433E+262,-4.1670661666165083E+262,7.3216040085876891E+261,5.6075588967523514E+262,-4.8992265674752774E+262,-4.8753984958935824E+262,1.0506785464227628E+263,-2.3828071581695043E+260,-1.5382183960121211E+263,1.0530613535809322E+263,1.5358355888539517E+263,-2.5912797495930534E+263,-4.8277423527301944E+262,4.1271153384470048E+263,-2.1085055143200339E+263,-4.6098895737200242E+263,6.2356208527670382E+263,2.5013840593999903E+263,-1.0845510426487063E+264,3.7342367933670479E+263,1.3346894485887053E+264,-1.4579747219854112E+264,-9.6126576925200048E+263,2.7926641705741165E+264,-4.9670895273341071E+263,-3.753929939826117E+264,3.2893731233075274E+264,3.2572209870927065E+264,-7.0433030631336444E+264,3.2152136214820949E+262,1.0300524050226351E+265,-7.0754551993484654E+264,-1.0268371914011529E+265,1.7375979249574815E+265,3.1929167146630637E+264,-2.7644351163586345E+265,1.4183062534911753E+265,3.0837267878249407E+265,-4.1827413698498101E+265,-1.6654205343337655E+265,7.2664681576747515E+265,-2.5173208355160446E+265,-8.9318886920085166E+265,9.7837889931907965E+265,6.4145678564924717E+265,-1.8715677685199315E+266,3.3692211366983248E+265,2.5130245541691788E+266,-2.2084898821897639E+266,-2.1761024404993463E+266,4.7215144363589427E+266,{"$f":"DPU10-DPV10","v":-3.238744169041765E+264},-6.8976168768582884E+266,4.7539018780493604E+266,6.8652294351678702E+266,-1.1651518754907648E+267,-2.1113275571185098E+266,1.8516748190075518E+267,-9.5401911977891378E+266,-2.0628075747194029E+267,2.8056939387864658E+267,1.1087884549404891E+267,-4.8685015135058685E+267,1.6969054838459767E+267,5.9772899684463578E+267,-6.565406997351845E+267,-4.2803844846003813E+267,1.2542696965798204E+268,-2.2850225127514637E+267,-1.6823081450398586E+268,1.4827719478549667E+268,1.4538058937647123E+268,-3.1650800928948253E+268,2.8966054090254334E+266,4.6188859866595372E+268,-3.1940461469850796E+268,-4.5899199325692829E+268,7.8129321336446164E+268,1.3958737855842033E+268,-1.2402852066213899E+269,6.4170583480604128E+268,1.3798725851798101E+269,-1.8819910414274312E+269,-7.3816675037376887E+268,3.2618636266072414E+269,-1.1438242910536623E+269,-4.0000303769810104E+269,4.4056879176609035E+269,2.8562060859273482E+269,-8.4057182946419139E+269,1.5494818317335554E+269,1.1261924380569262E+270,-9.9552001263754693E+269,-9.7124425488357062E+269,2.1217124506944732E+270,-2.4275757753976312E+268,-3.0929567055780436E+270,2.1459882084484494E+270,3.0686809478240674E+270,-5.238944914026493E+270,-9.2269273937561799E+269,8.3076258618505604E+270,-4.316252174650875E+270,-9.2303186012261783E+270,1.2623878036501434E+271,4.9140664265753034E+270,-2.1854196637727613E+271,7.709811609926131E+270,2.6768263064302914E+271,-2.9564008247653746E+271,-1.9058451454376785E+271,5.633227131195666E+271,-1.0505556793276961E+271,-7.5390722766333437E+271,6.683782810523362E+271,{"$f":"DSG10-DSH10","v":6.4885165973056477E+271},-1.4222855087156705E+272,1.9526621321771436E+270,2.0711371684462353E+272,-1.4418121300374421E+272,-2.0516105471244641E+272,3.5129492984836777E+272,6.0979841708702197E+271,-5.5645598456081424E+272,2.9031508813966558E+272,6.1743582626951638E+272,-8.4677107270047988E+272,-3.271207381298508E+272,1.4642068989699963E+273,-5.1965033457062908E+272,-1.791327637099847E+273,1.9838572335406254E+273,1.2716773025292179E+273,-3.7751848706404724E+273,7.1217993101140753E+272,5.0468621731696902E+273,-4.4873648016518802E+273,-4.334682242158283E+273,9.5342269748215704E+273,-1.526825594935972E+272,-1.3868909216979853E+274,9.6869095343151676E+273,1.3716226657486256E+274,-2.3555818751295021E+274,-4.0293171231710885E+273,3.7272045408781275E+274,-1.9526501628123934E+274,-4.1301362531952366E+274,5.6798547036905209E+274,2.1774860903828431E+274,-9.8099909568857575E+274,3.5023686133076778E+274,1.1987477047268601E+275,-1.3312359570193435E+275,-8.4851084339609236E+274,2.5299836617462037E+275,-4.8272511362325117E+274,-3.3784945051422957E+275,3.0127087753694552E+275,2.8957693915190446E+275,-6.3912032805117509E+275,1.169393838504106E+274,9.2869726720307948E+275,-6.5081426643621621E+275,-9.1700332881803848E+275,1.5795115336392957E+276,2.6618906238182227E+275,-2.4965148624573342E+276,1.3133224712574734E+276,2.7627039248391562E+276,-3.8098373337148078E+276,-1.4493814535816828E+276,6.572541258553964E+276,-2.3604558801331248E+276,-8.0219227121356471E+276,8.9329971386870889E+276,5.6614668320025223E+276,-1.6954919850822735E+277,3.2715303066845666E+276,{"$f":"DUS10-DUT10","v":2.2616386682825258E+277},-2.0226450157507303E+277,-1.9344856376140691E+277,4.2842836840332557E+277,-8.8159378136661191E+275,-6.2187693216473251E+277,4.3724430621699169E+277,6.1306099435106639E+277,-1.0591212383817242E+278,-1.7581668813407471E+277,1.6721822327327908E+278,-8.8330455024764949E+277,-1.8479989208668655E+278,2.5554867829804402E+278,9.6469437061921597E+277,-4.4034857038473057E+278,1.5907924123612243E+278,5.3681800744665217E+278,-5.9942781162085306E+278,-3.7773876621052974E+278,1.1362458190675051E+279,-2.2168904541032332E+278,-1.5139845852780348E+279,1.3579348644778285E+279,1.2922955398677114E+279,-2.871919449755863E+279,6.5639324610117094E+277,4.1642149896235742E+279,-2.9375587743659804E+279,-4.0985756650134568E+279,7.1017737639895545E+279,1.1610168906474764E+279,-1.1200349429003011E+280,5.9407568733420781E+279,1.2361366319650488E+280,-1.7141106302345089E+280,-6.4206094463084097E+279,2.9502472621995577E+280,-1.072049685603668E+280,-3.5923082068303989E+280,4.0222969478032257E+280,2.5202585212267309E+280,-7.6146051546336246E+280,1.5020384265764948E+280,1.0134863675860356E+281,-9.1166435812101189E+280,-8.6328252492838615E+280,1.9251507257070475E+281,-4.838183319262574E+279,-2.7884332506354335E+281,1.9735325588996731E+281,2.7400514174428076E+281,-4.7619658095351065E+281,-7.6651885854313451E+280,7.5020172269779148E+281,-3.995446950991972E+281,-8.2685360855210486E+281,1.1497464177969887E+282,4.2730891345290766E+281,-1.9766000263490935E+282,7.2243750434408102E+281,2.4039089398020009E+282,-2.6990375306931743E+282,-1.6814714354579199E+282,{"$f":"DXE10-DXF10","v":5.1029464704951752E+282},-1.0175660952352544E+282,-6.7844179059530954E+282,6.1205125657304294E+282,5.7668518107178413E+282,-1.2904930471683524E+283,3.5366075501258805E+281,1.8671782282401365E+283,-1.3258591226696111E+283,-1.8318121527388778E+283,3.1930373509097476E+283,5.0595303006926673E+282,-5.0248495036486254E+283,2.6870843208404809E+283,5.5308025337178925E+283,-7.7119338244891054E+283,-2.8437182128774117E+283,1.3242736358206998E+284,-4.8682156116116937E+283,-1.608645457108441E+284,1.8110951969818691E+284,1.1218238959472716E+284,-3.4197406540903101E+284,6.892713010345975E+283,4.541564550037582E+284,-4.1090119551249076E+284,-3.8522932490029845E+284,8.6505765051624903E+284,-2.5671870612192308E+283,-1.2502869754165474E+285,8.9072952112844134E+284,1.2246151048043551E+285,-2.1410164965449888E+285,-3.3388558367591377E+284,3.3656316013493436E+285,-1.807130912869075E+285,-3.6995171850252574E+285,5.1727625142184189E+285,1.8923862721561824E+285,-8.8722796992436757E+285,3.2803762420622362E+285,1.0764665971399858E+286,-1.2152655941305912E+286,-7.4842897293376222E+285,2.2917321912705768E+286,-4.6683662119682898E+285,-3.0401611642043388E+286,2.7585688124674058E+286,2.5733245430075099E+286,-5.7987299766717446E+286,1.8524426945989595E+285,8.3720545196792536E+286,-5.9839742461316406E+286,-8.1868102502193585E+286,1.4356028765810895E+287,2.202836004087718E+286,-2.2542839016030254E+287,1.2153192761723178E+287,2.4745675020117971E+287,-3.4696031777753435E+287,-1.2592482258394793E+287,5.9441706797871406E+287,-2.2103549519358642E+287,-7.2034189056266195E+287,{"$f":"DZQ10-DZR10","v":8.1545256317230051E+287},4.9930639536907556E+287,-1.5357944537349625E+288,3.1614616780322495E+287,2.035100849104038E+288,-1.8519406215381873E+288,-1.7189546813008129E+288,3.8870414706422253E+288,-1.3298594023737434E+287,-5.6059961519430382E+288,4.0200274108795996E+288,5.4730102117056634E+288,-9.6260235628226373E+288,-1.4529828008260637E+288,1.5099033774528301E+289,-8.1730407619965731E+288,-1.6552016575354365E+289,2.3272074536524874E+289,8.3789758133577919E+288,-3.9824091111879241E+289,1.4893098723167082E+289,4.8203066925237033E+289,-5.4717189835046323E+289,-3.3309968202069951E+289,1.0292025676028336E+290,-2.1407221632976372E+289,-1.362302249623533E+290,1.2432747839325972E+290,1.1482300332937692E+290,-2.6055770335561302E+290,9.5044750638828015E+288,3.753807066849899E+290,-2.7006217841949582E+290,-3.658762316211071E+290,6.4544288510448572E+290,9.581405320161128E+289,-1.0113191167255928E+291,5.4962883190287444E+290,1.1071331699272041E+291,-1.5609479486284673E+291,-5.5750433802432966E+290,2.6680811185556716E+291,-1.0034436106041376E+291,-3.2255854565800014E+291,3.6715247291598091E+291,2.222141845975864E+291,-6.8971101857398105E+291,1.4493828831839451E+291,9.1192520317156745E+291,-8.3464930689237551E+291,-7.6698691485317299E+291,1.746574510063943E+292,-6.7662392039202516E+290,-2.5135614249171159E+292,1.8142369021031455E+292,2.4458990328779134E+292,-4.3277983270202619E+292,-6.3166213077476796E+291,6.7736973598981753E+292,-3.6961361962454939E+292,-7.4053594906729428E+292,1.046983355614367E+293,3.7092232944274489E+292,-1.7875193046816612E+293,{"$f":"ECC10-ECD10","v":6.7606102617162212E+292},2.1584416341244061E+293,-2.4635803308532835E+293,-1.482380607952784E+293,4.6220219649776896E+293,-9.8119972290049957E+292,-6.1044025729304734E+293,5.6032216878781894E+293,5.1232028500299737E+293,-1.1707624260808663E+294,4.8001883784821569E+292,1.6830827110838636E+294,-1.2187643098656878E+294,-1.635080827299042E+294,2.9018470209495516E+294,4.1631651743335416E+293,-4.5369278482485933E+294,2.4855305035161975E+294,4.9532443656819473E+294,-7.0224583517647908E+294,-2.4677138621657498E+294,1.1975702717446738E+295,-4.5547444895990411E+294,-1.4443416579612488E+295,1.6530447207045779E+295,9.8886720900134462E+294,-3.0973863786658267E+295,6.641775117032333E+294,4.0862535876671713E+295,-3.7615638903690598E+295,-3.4220760759639378E+295,7.8478174780362316E+295,-3.3948781440512197E+294,-1.126989355400017E+296,8.1873052924413535E+295,1.0930405739595048E+296,-1.9457198846441524E+296,-2.7431004471536948E+295,3.0387604586036572E+296,-1.6714098399287829E+296,-3.3130705033190271E+296,4.7101702985324401E+296,1.6416606633902441E+296,-8.0232408018514664E+296,3.068509635142196E+296,9.6649014652417102E+296,-1.1091750436993662E+297,-6.5963918300995146E+296,2.0756651902235372E+297,-4.4953586068941474E+296,-2.7353043732334884E+297,2.5252010509129521E+297,2.2857685125440735E+297,-5.2605054241464405E+297,2.394325383688786E+296,7.5462739366905134E+297,-5.4999379625153185E+297,-7.3068413983216354E+297,1.3046211899205832E+298,1.8069034358063169E+297,-2.0353053297527467E+298,1.1239308463399515E+298,2.2159956733333784E+298,-3.159236176092698E+298,{"$f":"EEO10-EEP10","v":-1.0920648269934269E+298},5.375231849426076E+298,-2.0671713490992711E+298,-6.4672966764195029E+298,7.4424031985253471E+298,4.4001253273202318E+298,-1.3909699874944851E+299,3.0422778712051153E+298,1.8309825202265084E+299,-1.6951977746149968E+299,-1.5267547331059968E+299,3.5261802948415055E+299,-1.6844304150899997E+298,-5.0529350279475026E+299,3.6946233363505053E+299,4.8844919864385028E+299,-8.7475583642980079E+299,-1.1898686500879975E+299,1.3632050350736509E+300,-7.5576897142100104E+299,-1.4821919000824508E+300,2.1189740064946518E+300,7.2642292866144977E+299,-3.6011659065771026E+300,1.3925510778332019E+300,4.3275888352385525E+300,-4.9937169844103045E+300,-2.9350377574053507E+300,9.3213058196488571E+300,-2.0586792270049539E+300,-1.2256343577054208E+301,1.137998504665381E+301,1.0197664350049254E+301,-2.3636328623708017E+301,1.1823206966045559E+300,3.383399297375727E+301,-2.4818649320312575E+301,-3.2651672277152713E+301,5.8652642294069845E+301,7.8330229568401385E+300,-9.1304314571222558E+301,5.0819619337229701E+301,9.9137337528062701E+301,-1.4212393390845226E+302,-4.8317718190833E+301,2.4126127143651498E+302,-9.380621571761926E+301,-2.89578989627348E+302,3.3506748715413426E+302,1.9577277390972872E+302,-6.2464647678148226E+302,1.3929471324440554E+302,8.2041925069121097E+302,-7.6394119002588779E+302,-6.8112453744680544E+302,1.5843604407170988E+303,-8.2816652579082358E+301,-2.2654849781639041E+303,1.6671770932961813E+303,2.1826683255848218E+303,-3.9326620714600853E+303,-5.1549123228864057E+302,6.1153303970449066E+303,-3.4171708391714448E+303,{"$f":"EHA10-EHB10","v":-6.6308216293335471E+303},9.5325012362163513E+303,3.2136507901621024E+303,-1.6163322865549897E+304,6.318850446054249E+303,1.9376973655712001E+304,-2.2482173311604145E+304,-1.3058123209657753E+304,4.1859146967316146E+304,-9.4240501019463919E+303,-5.4917270176973899E+304,5.1283197069262538E+304,4.5493220075027507E+304,-1.0620046724623645E+305,5.7899769942350307E+303,1.5169368732126395E+305,-1.1199044424047148E+305,-1.4590371032702892E+305,2.6368413156173543E+305,3.3913266086557446E+304,-4.0958784188876439E+305,2.2977086547517798E+305,4.4350110797532184E+305,-6.3935870736394234E+305,-2.1373024250014385E+305,1.0828598153392642E+306,-4.2562846486379845E+305,-1.2965900578394081E+306,1.5084882802030625E+306,8.7096159297560962E+305,-2.8050783380424705E+306,6.3752668722745284E+305,3.6760399310180798E+306,-3.4426050252699231E+306,-3.038513243790627E+306,7.1186449562880029E+306,-4.0409178147929607E+305,-1.015715820007863E+307,7.522736737767299E+306,9.7530664185993338E+306,-1.7679894937845929E+307,-2.2303296808320349E+306,2.7432961356445264E+307,-1.5449565257013894E+307,-2.9663291037277296E+307,4.2882526613459158E+307,1.4213725780263402E+307,-7.2545817650736459E+307,2.8668800833195756E+307,8.6759543430999862E+307,-1.0121461848393221E+308,-5.8090742597804111E+307,{"$error":"#NUM!"},-4.3123875886128099E+307,{"$error":"#NUM!"},{"$error":"#NUM!"},{"$error":"#NUM!"},{"$error":"#NUM!"},{"$error":"#NUM!"},{"$error":"#NUM!"},{"$error":"#NUM!"},{"$error":"#NUM!"},{"$error":"#NUM!"},{"$error":"#NUM!"},{"$f":"EJM10-EJN10","v":{"$error":"#NUM!"}},{"$error":"#NUM!"},{"$error":"#NUM!"},{"$error":"#NUM!"},{"$error":"#NUM!"},{"$error":"#NUM!"},{"$error":"#NUM!"},{"$error":"#NUM!"},{"$error":"#NUM!"},{"$error":"#NUM!"},{"$error":"#NUM!"},{"$error":"#NUM!"},{"$error":"#NUM!"},{"$error":"#NUM!"},{"$error":"#NUM!"},{"$error":"#NUM!"},{"$error":"#NUM!"},{"$error":"#NUM!"},{"$error":"#NUM!"},{"$error":"#NUM!"},{"$error":"#NUM!"},{"$error":"#NUM!"},{"$error":"#NUM!"},{"$error":"#NUM!"},{"$error":"#NUM!"},{"$error":"#NUM!"},{"$error":"#NUM!"},{"$error":"#NUM!"},{"$error":"#NUM!"},{"$error":"#NUM!"},{"$error":"#NUM!"},{"$error":"#NUM!"},{"$error":"#NUM!"},{"$error":"#NUM!"},{"$error":"#NUM!"},{"$error":"#NUM!"},{"$error":"#NUM!"},{"$error":"#NUM!"},{"$error":"#NUM!"},{"$error":"#NUM!"},{"$error":"#NUM!"},{"$error":"#NUM!"},{"$error":"#NUM!"},{"$error":"#NUM!"},{"$error":"#NUM!"},{"$error":"#NUM!"},{"$error":"#NUM!"},{"$error":"#NUM!"},{"$error":"#NUM!"},{"$error":"#NUM!"},{"$error":"#NUM!"},{"$error":"#NUM!"},{"$error":"#NUM!"},{"$error":"#NUM!"},{"$error":"#NUM!"},{"$error":"#NUM!"},{"$error":"#NUM!"},{"$error":"#NUM!"},{"$error":"#NUM!"},{"$error":"#NUM!"},{"$error":"#NUM!"},{"$error":"#NUM!"},{"$error":"#NUM!"},{"$error":"#NUM!"},{"$f":"ELY10-ELZ10","v":{"$error":"#NUM!"}},{"$error":"#NUM!"},{"$error":"#NUM!"},{"$error":"#NUM!"},{"$error":"#NUM!"},{"$error":"#NUM!"},{"$error":"#NUM!"},{"$error":"#NUM!"},{"$error":"#NUM!"},{"$error":"#NUM!"},{"$error":"#NUM!"},{"$error":"#NUM!"},{"$error":"#NUM!"},{"$error":"#NUM!"},{"$error":"#NUM!"},{"$error":"#NUM!"},{"$error":"#NUM!"},{"$error":"#NUM!"},{"$error":"#NUM!"},{"$error":"#NUM!"},{"$error":"#NUM!"},{"$error":"#NUM!"},{"$error":"#NUM!"},{"$error":"#NUM!"},{"$error":"#NUM!"},{"$error":"#NUM!"},{"$error":"#NUM!"},{"$error":"#NUM!"},{"$error":"#NUM!"},{"$error":"#NUM!"},{"$error":"#NUM!"},{"$error":"#NUM!"},{"$error":"#NUM!"},{"$error":"#NUM!"},{"$error":"#NUM!"},{"$error":"#NUM!"},{"$error":"#NUM!"},{"$error":"#NUM!"},{"$error":"#NUM!"},{"$error":"#NUM!"},{"$error":"#NUM!"},{"$error":"#NUM!"},{"$error":"#NUM!"},{"$error":"#NUM!"},{"$error":"#NUM!"},{"$error":"#NUM!"},{"$error":"#NUM!"},{"$error":"#NUM!"},{"$error":"#NUM!"},{"$error":"#NUM!"},{"$error":"#NUM!"},{"$error":"#NUM!"},{"$error":"#NUM!"},{"$error":"#NUM!"},{"$error":"#NUM!"},{"$error":"#NUM!"},{"$error":"#NUM!"},{"$error":"#NUM!"},{"$error":"#NUM!"},{"$error":"#NUM!"},{"$error":"#NUM!"},{"$error":"#NUM!"},{"$error":"#NUM!"},{"$error":"#NUM!"},{"$f":"EOK10-EOL10","v":{"$error":"#NUM!"}},{"$error":"#NUM!"},{"$error":"#NUM!"},{"$error":"#NUM!"},{"$error":"#NUM!"},{"$error":"#NUM!"},{"$error":"#NUM!"},{"$error":"#NUM!"},{"$error":"#NUM!"},{"$error":"#NUM!"},{"$error":"#NUM!"},{"$error":"#NUM!"},{"$error":"#NUM!"},{"$error":"#NUM!"},{"$error":"#NUM!"},{"$error":"#NUM!"},{"$error":"#NUM!"},{"$error":"#NUM!"},{"$error":"#NUM!"},{"$error":"#NUM!"},{"$error":"#NUM!"},{"$error":"#NUM!"},{"$error":"#NUM!"},{"$error":"#NUM!"},{"$error":"#NUM!"},{"$error":"#NUM!"},{"$error":"#NUM!"},{"$error":"#NUM!"},{"$error":"#NUM!"},{"$error":"#NUM!"},{"$error":"#NUM!"},{"$error":"#NUM!"},{"$error":"#NUM!"},{"$error":"#NUM!"},{"$error":"#NUM!"},{"$error":"#NUM!"},{"$error":"#NUM!"},{"$error":"#NUM!"},{"$error":"#NUM!"},{"$error":"#NUM!"},{"$error":"#NUM!"},{"$error":"#NUM!"},{"$error":"#NUM!"},{"$error":"#NUM!"},{"$error":"#NUM!"},{"$error":"#NUM!"},{"$error":"#NUM!"},{"$error":"#NUM!"},{"$error":"#NUM!"},{"$error":"#NUM!"},{"$error":"#NUM!"},{"$error":"#NUM!"},{"$error":"#NUM!"},{"$error":"#NUM!"},{"$error":"#NUM!"},{"$error":"#NUM!"},{"$error":"#NUM!"},{"$error":"#NUM!"},{"$error":"#NUM!"},{"$error":"#NUM!"},{"$error":"#NUM!"},{"$error":"#NUM!"},{"$error":"#NUM!"},{"$error":"#NUM!"},{"$f":"EQW10-EQX10","v":{"$error":"#NUM!"}},{"$error":"#NUM!"},{"$error":"#NUM!"},{"$error":"#NUM!"},{"$error":"#NUM!"},{"$error":"#NUM!"},{"$error":"#NUM!"},{"$error":"#NUM!"},{"$error":"#NUM!"},{"$error":"#NUM!"},{"$error":"#NUM!"},{"$error":"#NUM!"},{"$error":"#NUM!"},{"$error":"#NUM!"},{"$error":"#NUM!"},{"$error":"#NUM!"},{"$error":"#NUM!"},{"$error":"#NUM!"},{"$error":"#NUM!"},{"$error":"#NUM!"},{"$error":"#NUM!"},{"$error":"#NUM!"},{"$error":"#NUM!"},{"$error":"#NUM!"},{"$error":"#NUM!"},{"$error":"#NUM!"},{"$error":"#NUM!"},{"$error":"#NUM!"},{"$error":"#NUM!"},{"$error":"#NUM!"},{"$error":"#NUM!"},{"$error":"#NUM!"},{"$error":"#NUM!"},{"$error":"#NUM!"},{"$error":"#NUM!"},{"$error":"#NUM!"},{"$error":"#NUM!"},{"$error":"#NUM!"},{"$error":"#NUM!"},{"$error":"#NUM!"},{"$error":"#NUM!"},{"$error":"#NUM!"},{"$error":"#NUM!"},{"$error":"#NUM!"},{"$error":"#NUM!"},{"$error":"#NUM!"},{"$error":"#NUM!"},{"$error":"#NUM!"},{"$error":"#NUM!"},{"$error":"#NUM!"},{"$error":"#NUM!"},{"$error":"#NUM!"},{"$error":"#NUM!"},{"$error":"#NUM!"},{"$error":"#NUM!"},{"$error":"#NUM!"},{"$error":"#NUM!"},{"$error":"#NUM!"},{"$error":"#NUM!"},{"$error":"#NUM!"},{"$error":"#NUM!"},{"$error":"#NUM!"},{"$error":"#NUM!"},{"$error":"#NUM!"},{"$f":"ETI10-ETJ10","v":{"$error":"#NUM!"}},{"$error":"#NUM!"},{"$error":"#NUM!"},{"$error":"#NUM!"},{"$error":"#NUM!"},{"$error":"#NUM!"},{"$error":"#NUM!"},{"$error":"#NUM!"},{"$error":"#NUM!"},{"$error":"#NUM!"},{"$error":"#NUM!"},{"$error":"#NUM!"},{"$error":"#NUM!"},{"$error":"#NUM!"},{"$error":"#NUM!"},{"$error":"#NUM!"},{"$error":"#NUM!"},{"$error":"#NUM!"},{"$error":"#NUM!"},{"$error":"#NUM!"},{"$error":"#NUM!"},{"$error":"#NUM!"},{"$error":"#NUM!"},{"$error":"#NUM!"},{"$error":"#NUM!"},{"$error":"#NUM!"},{"$error":"#NUM!"},{"$error":"#NUM!"},{"$error":"#NUM!"},{"$error":"#NUM!"},{"$error":"#NUM!"},{"$error":"#NUM!"},{"$error":"#NUM!"},{"$error":"#NUM!"},{"$error":"#NUM!"},{"$error":"#NUM!"},{"$error":"#NUM!"},{"$error":"#NUM!"},{"$error":"#NUM!"},{"$error":"#NUM!"},{"$error":"#NUM!"},{"$error":"#NUM!"},{"$error":"#NUM!"},{"$error":"#NUM!"},{"$error":"#NUM!"},{"$error":"#NUM!"},{"$error":"#NUM!"},{"$error":"#NUM!"},{"$error":"#NUM!"},{"$error":"#NUM!"},{"$error":"#NUM!"},{"$error":"#NUM!"},{"$error":"#NUM!"},{"$error":"#NUM!"},{"$error":"#NUM!"},{"$error":"#NUM!"},{"$error":"#NUM!"},{"$error":"#NUM!"},{"$error":"#NUM!"},{"$error":"#NUM!"},{"$error":"#NUM!"},{"$error":"#NUM!"},{"$error":"#NUM!"},{"$error":"#NUM!"},{"$f":"EVU10-EVV10","v":{"$error":"#NUM!"}},{"$error":"#NUM!"},{"$error":"#NUM!"},{"$error":"#NUM!"},{"$error":"#NUM!"},{"$error":"#NUM!"},{"$error":"#NUM!"},{"$error":"#NUM!"},{"$error":"#NUM!"},{"$error":"#NUM!"},{"$error":"#NUM!"},{"$error":"#NUM!"},{"$error":"#NUM!"},{"$error":"#NUM!"},{"$error":"#NUM!"},{"$error":"#NUM!"},{"$error":"#NUM!"},{"$error":"#NUM!"},{"$error":"#NUM!"},{"$error":"#NUM!"},{"$error":"#NUM!"},{"$error":"#NUM!"},{"$error":"#NUM!"},{"$error":"#NUM!"},{"$error":"#NUM!"},{"$error":"#NUM!"},{"$error":"#NUM!"},{"$error":"#NUM!"},{"$error":"#NUM!"},{"$error":"#NUM!"},{"$error":"#NUM!"},{"$error":"#NUM!"},{"$error":"#NUM!"},{"$error":"#NUM!"},{"$error":"#NUM!"},{"$error":"#NUM!"},{"$error":"#NUM!"},{"$error":"#NUM!"},{"$error":"#NUM!"},{"$error":"#NUM!"},{"$error":"#NUM!"},{"$error":"#NUM!"},{"$error":"#NUM!"},{"$error":"#NUM!"},{"$error":"#NUM!"},{"$error":"#NUM!"},{"$error":"#NUM!"},{"$error":"#NUM!"},{"$error":"#NUM!"},{"$error":"#NUM!"},{"$error":"#NUM!"},{"$error":"#NUM!"},{"$error":"#NUM!"},{"$error":"#NUM!"},{"$error":"#NUM!"},{"$error":"#NUM!"},{"$error":"#NUM!"},{"$error":"#NUM!"},{"$error":"#NUM!"},{"$error":"#NUM!"},{"$error":"#NUM!"},{"$error":"#NUM!"},{"$error":"#NUM!"},{"$error":"#NUM!"},{"$f":"EYG10-EYH10","v":{"$error":"#NUM!"}},{"$error":"#NUM!"},{"$error":"#NUM!"},{"$error":"#NUM!"},{"$error":"#NUM!"},{"$error":"#NUM!"},{"$error":"#NUM!"},{"$error":"#NUM!"},{"$error":"#NUM!"},{"$error":"#NUM!"},{"$error":"#NUM!"},{"$error":"#NUM!"},{"$error":"#NUM!"},{"$error":"#NUM!"},{"$error":"#NUM!"},{"$error":"#NUM!"},{"$error":"#NUM!"},{"$error":"#NUM!"},{"$error":"#NUM!"},{"$error":"#NUM!"},{"$error":"#NUM!"},{"$error":"#NUM!"},{"$error":"#NUM!"},{"$error":"#NUM!"},{"$error":"#NUM!"},{"$error":"#NUM!"},{"$error":"#NUM!"},{"$error":"#NUM!"},{"$error":"#NUM!"},{"$error":"#NUM!"},{"$error":"#NUM!"},{"$error":"#NUM!"},{"$error":"#NUM!"},{"$error":"#NUM!"},{"$error":"#NUM!"},{"$error":"#NUM!"},{"$error":"#NUM!"},{"$error":"#NUM!"},{"$error":"#NUM!"},{"$error":"#NUM!"},{"$error":"#NUM!"},{"$error":"#NUM!"},{"$error":"#NUM!"},{"$error":"#NUM!"},{"$error":"#NUM!"},{"$error":"#NUM!"},{"$error":"#NUM!"},{"$error":"#NUM!"},{"$error":"#NUM!"},{"$error":"#NUM!"},{"$error":"#NUM!"},{"$error":"#NUM!"},{"$error":"#NUM!"},{"$error":"#NUM!"},{"$error":"#NUM!"},{"$error":"#NUM!"},{"$error":"#NUM!"},{"$error":"#NUM!"},{"$error":"#NUM!"},{"$error":"#NUM!"},{"$error":"#NUM!"},{"$error":"#NUM!"},{"$error":"#NUM!"},{"$error":"#NUM!"},{"$f":"FAS10-FAT10","v":{"$error":"#NUM!"}},{"$error":"#NUM!"},{"$error":"#NUM!"},{"$error":"#NUM!"},{"$error":"#NUM!"},{"$error":"#NUM!"},{"$error":"#NUM!"},{"$error":"#NUM!"},{"$error":"#NUM!"},{"$error":"#NUM!"},{"$error":"#NUM!"},{"$error":"#NUM!"},{"$error":"#NUM!"},{"$error":"#NUM!"},{"$error":"#NUM!"},{"$error":"#NUM!"},{"$error":"#NUM!"},{"$error":"#NUM!"},{"$error":"#NUM!"},{"$error":"#NUM!"},{"$error":"#NUM!"},{"$error":"#NUM!"},{"$error":"#NUM!"},{"$error":"#NUM!"},{"$error":"#NUM!"},{"$error":"#NUM!"},{"$error":"#NUM!"},{"$error":"#NUM!"},{"$error":"#NUM!"},{"$error":"#NUM!"},{"$error":"#NUM!"},{"$error":"#NUM!"},{"$error":"#NUM!"},{"$error":"#NUM!"},{"$error":"#NUM!"},{"$error":"#NUM!"},{"$error":"#NUM!"},{"$error":"#NUM!"},{"$error":"#NUM!"},{"$error":"#NUM!"},{"$error":"#NUM!"},{"$error":"#NUM!"},{"$error":"#NUM!"},{"$error":"#NUM!"},{"$error":"#NUM!"},{"$error":"#NUM!"},{"$error":"#NUM!"},{"$error":"#NUM!"},{"$error":"#NUM!"},{"$error":"#NUM!"},{"$error":"#NUM!"},{"$error":"#NUM!"},{"$error":"#NUM!"},{"$error":"#NUM!"},{"$error":"#NUM!"},{"$error":"#NUM!"},{"$error":"#NUM!"},{"$error":"#NUM!"},{"$error":"#NUM!"},{"$error":"#NUM!"},{"$error":"#NUM!"},{"$error":"#NUM!"},{"$error":"#NUM!"},{"$error":"#NUM!"},{"$f":"FDE10-FDF10","v":{"$error":"#NUM!"}},{"$error":"#NUM!"},{"$error":"#NUM!"},{"$error":"#NUM!"},{"$error":"#NUM!"},{"$error":"#NUM!"},{"$error":"#NUM!"},{"$error":"#NUM!"},{"$error":"#NUM!"},{"$error":"#NUM!"},{"$error":"#NUM!"},{"$error":"#NUM!"},{"$error":"#NUM!"},{"$error":"#NUM!"},{"$error":"#NUM!"},{"$error":"#NUM!"},{"$error":"#NUM!"},{"$error":"#NUM!"},{"$error":"#NUM!"},{"$error":"#NUM!"},{"$error":"#NUM!"},{"$error":"#NUM!"},{"$error":"#NUM!"},{"$error":"#NUM!"},{"$error":"#NUM!"},{"$error":"#NUM!"},{"$error":"#NUM!"},{"$error":"#NUM!"},{"$error":"#NUM!"},{"$error":"#NUM!"},{"$error":"#NUM!"},{"$error":"#NUM!"},{"$error":"#NUM!"},{"$error":"#NUM!"},{"$error":"#NUM!"},{"$error":"#NUM!"},{"$error":"#NUM!"},{"$error":"#NUM!"},{"$error":"#NUM!"},{"$error":"#NUM!"},{"$error":"#NUM!"},{"$error":"#NUM!"},{"$error":"#NUM!"},{"$error":"#NUM!"},{"$error":"#NUM!"},{"$error":"#NUM!"},{"$error":"#NUM!"},{"$error":"#NUM!"},{"$error":"#NUM!"},{"$error":"#NUM!"},{"$error":"#NUM!"},{"$error":"#NUM!"},{"$error":"#NUM!"},{"$error":"#NUM!"},{"$error":"#NUM!"},{"$error":"#NUM!"},{"$error":"#NUM!"},{"$error":"#NUM!"},{"$error":"#NUM!"},{"$error":"#NUM!"},{"$error":"#NUM!"},{"$error":"#NUM!"},{"$error":"#NUM!"},{"$error":"#NUM!"},{"$f":"FFQ10-FFR10","v":{"$error":"#NUM!"}},{"$error":"#NUM!"},{"$error":"#NUM!"},{"$error":"#NUM!"},{"$error":"#NUM!"},{"$error":"#NUM!"},{"$error":"#NUM!"},{"$error":"#NUM!"},{"$error":"#NUM!"},{"$error":"#NUM!"},{"$error":"#NUM!"},{"$error":"#NUM!"},{"$error":"#NUM!"},{"$error":"#NUM!"},{"$error":"#NUM!"},{"$error":"#NUM!"},{"$error":"#NUM!"},{"$error":"#NUM!"},{"$error":"#NUM!"},{"$error":"#NUM!"},{"$error":"#NUM!"},{"$error":"#NUM!"},{"$error":"#NUM!"},{"$error":"#NUM!"},{"$error":"#NUM!"},{"$error":"#NUM!"},{"$error":"#NUM!"},{"$error":"#NUM!"},{"$error":"#NUM!"},{"$error":"#NUM!"},{"$error":"#NUM!"},{"$error":"#NUM!"},{"$error":"#NUM!"},{"$error":"#NUM!"},{"$error":"#NUM!"},{"$error":"#NUM!"},{"$error":"#NUM!"},{"$error":"#NUM!"},{"$error":"#NUM!"},{"$error":"#NUM!"},{"$error":"#NUM!"},{"$error":"#NUM!"},{"$error":"#NUM!"},{"$error":"#NUM!"},{"$error":"#NUM!"},{"$error":"#NUM!"},{"$error":"#NUM!"},{"$error":"#NUM!"},{"$error":"#NUM!"},{"$error":"#NUM!"},{"$error":"#NUM!"},{"$error":"#NUM!"},{"$error":"#NUM!"},{"$error":"#NUM!"},{"$error":"#NUM!"},{"$error":"#NUM!"},{"$error":"#NUM!"},{"$error":"#NUM!"},{"$error":"#NUM!"},{"$error":"#NUM!"},{"$error":"#NUM!"},{"$error":"#NUM!"},{"$error":"#NUM!"},{"$error":"#NUM!"},{"$f":"FIC10-FID10","v":{"$error":"#NUM!"}},{"$error":"#NUM!"},{"$error":"#NUM!"},{"$error":"#NUM!"},{"$error":"#NUM!"},{"$error":"#NUM!"},{"$error":"#NUM!"},{"$error":"#NUM!"},{"$error":"#NUM!"},{"$error":"#NUM!"},{"$error":"#NUM!"},{"$error":"#NUM!"},{"$error":"#NUM!"},{"$error":"#NUM!"},{"$error":"#NUM!"},{"$error":"#NUM!"},{"$error":"#NUM!"},{"$error":"#NUM!"},{"$error":"#NUM!"},{"$error":"#NUM!"},{"$error":"#NUM!"},{"$error":"#NUM!"},{"$error":"#NUM!"},{"$error":"#NUM!"},{"$error":"#NUM!"},{"$error":"#NUM!"},{"$error":"#NUM!"},{"$error":"#NUM!"},{"$error":"#NUM!"},{"$error":"#NUM!"},{"$error":"#NUM!"},{"$error":"#NUM!"},{"$error":"#NUM!"},{"$error":"#NUM!"},{"$error":"#NUM!"},{"$error":"#NUM!"},{"$error":"#NUM!"},{"$error":"#NUM!"},{"$error":"#NUM!"},{"$error":"#NUM!"},{"$error":"#NUM!"},{"$error":"#NUM!"},{"$error":"#NUM!"},{"$error":"#NUM!"},{"$error":"#NUM!"},{"$error":"#NUM!"},{"$error":"#NUM!"},{"$error":"#NUM!"},{"$error":"#NUM!"},{"$error":"#NUM!"},{"$error":"#NUM!"},{"$error":"#NUM!"},{"$error":"#NUM!"},{"$error":"#NUM!"},{"$error":"#NUM!"},{"$error":"#NUM!"},{"$error":"#NUM!"},{"$error":"#NUM!"},{"$error":"#NUM!"},{"$error":"#NUM!"},{"$error":"#NUM!"},{"$error":"#NUM!"},{"$error":"#NUM!"},{"$error":"#NUM!"},{"$f":"FKO10-FKP10","v":{"$error":"#NUM!"}},{"$error":"#NUM!"},{"$error":"#NUM!"},{"$error":"#NUM!"},{"$error":"#NUM!"},{"$error":"#NUM!"},{"$error":"#NUM!"},{"$error":"#NUM!"},{"$error":"#NUM!"},{"$error":"#NUM!"},{"$error":"#NUM!"},{"$error":"#NUM!"},{"$error":"#NUM!"},{"$error":"#NUM!"},{"$error":"#NUM!"},{"$error":"#NUM!"},{"$error":"#NUM!"},{"$error":"#NUM!"},{"$error":"#NUM!"},{"$error":"#NUM!"},{"$error":"#NUM!"},{"$error":"#NUM!"},{"$error":"#NUM!"},{"$error":"#NUM!"},{"$error":"#NUM!"},{"$error":"#NUM!"},{"$error":"#NUM!"},{"$error":"#NUM!"},{"$error":"#NUM!"},{"$error":"#NUM!"},{"$error":"#NUM!"},{"$error":"#NUM!"},{"$error":"#NUM!"},{"$error":"#NUM!"},{"$error":"#NUM!"},{"$error":"#NUM!"},{"$error":"#NUM!"},{"$error":"#NUM!"},{"$error":"#NUM!"},{"$error":"#NUM!"},{"$error":"#NUM!"},{"$error":"#NUM!"},{"$error":"#NUM!"},{"$error":"#NUM!"},{"$error":"#NUM!"},{"$error":"#NUM!"},{"$error":"#NUM!"},{"$error":"#NUM!"},{"$error":"#NUM!"},{"$error":"#NUM!"},{"$error":"#NUM!"},{"$error":"#NUM!"},{"$error":"#NUM!"},{"$error":"#NUM!"},{"$error":"#NUM!"},{"$error":"#NUM!"},{"$error":"#NUM!"},{"$error":"#NUM!"},{"$error":"#NUM!"},{"$error":"#NUM!"},{"$error":"#NUM!"},{"$error":"#NUM!"},{"$error":"#NUM!"},{"$error":"#NUM!"},{"$f":"FNA10-FNB10","v":{"$error":"#NUM!"}},{"$error":"#NUM!"},{"$error":"#NUM!"},{"$error":"#NUM!"},{"$error":"#NUM!"},{"$error":"#NUM!"},{"$error":"#NUM!"},{"$error":"#NUM!"},{"$error":"#NUM!"},{"$error":"#NUM!"},{"$error":"#NUM!"},{"$error":"#NUM!"},{"$error":"#NUM!"},{"$error":"#NUM!"},{"$error":"#NUM!"},{"$error":"#NUM!"},{"$error":"#NUM!"},{"$error":"#NUM!"},{"$error":"#NUM!"},{"$error":"#NUM!"},{"$error":"#NUM!"},{"$error":"#NUM!"},{"$error":"#NUM!"},{"$error":"#NUM!"},{"$error":"#NUM!"},{"$error":"#NUM!"},{"$error":"#NUM!"},{"$error":"#NUM!"},{"$error":"#NUM!"},{"$error":"#NUM!"},{"$error":"#NUM!"},{"$error":"#NUM!"},{"$error":"#NUM!"},{"$error":"#NUM!"},{"$error":"#NUM!"},{"$error":"#NUM!"},{"$error":"#NUM!"},{"$error":"#NUM!"},{"$error":"#NUM!"},{"$error":"#NUM!"},{"$error":"#NUM!"},{"$error":"#NUM!"},{"$error":"#NUM!"},{"$error":"#NUM!"},{"$error":"#NUM!"},{"$error":"#NUM!"},{"$error":"#NUM!"},{"$error":"#NUM!"},{"$error":"#NUM!"},{"$error":"#NUM!"},{"$error":"#NUM!"},{"$error":"#NUM!"},{"$error":"#NUM!"},{"$error":"#NUM!"},{"$error":"#NUM!"},{"$error":"#NUM!"},{"$error":"#NUM!"},{"$error":"#NUM!"},{"$error":"#NUM!"},{"$error":"#NUM!"},{"$error":"#NUM!"},{"$error":"#NUM!"},{"$error":"#NUM!"},{"$error":"#NUM!"},{"$f":"FPM10-FPN10","v":{"$error":"#NUM!"}},{"$error":"#NUM!"},{"$error":"#NUM!"},{"$error":"#NUM!"},{"$error":"#NUM!"},{"$error":"#NUM!"},{"$error":"#NUM!"},{"$error":"#NUM!"},{"$error":"#NUM!"},{"$error":"#NUM!"},{"$error":"#NUM!"},{"$error":"#NUM!"},{"$error":"#NUM!"},{"$error":"#NUM!"},{"$error":"#NUM!"},{"$error":"#NUM!"},{"$error":"#NUM!"},{"$error":"#NUM!"},{"$error":"#NUM!"},{"$error":"#NUM!"},{"$error":"#NUM!"},{"$error":"#NUM!"},{"$error":"#NUM!"},{"$error":"#NUM!"},{"$error":"#NUM!"},{"$error":"#NUM!"},{"$error":"#NUM!"},{"$error":"#NUM!"},{"$error":"#NUM!"},{"$error":"#NUM!"},{"$error":"#NUM!"},{"$error":"#NUM!"},{"$error":"#NUM!"},{"$error":"#NUM!"},{"$error":"#NUM!"},{"$error":"#NUM!"},{"$error":"#NUM!"},{"$error":"#NUM!"},{"$error":"#NUM!"},{"$error":"#NUM!"},{"$error":"#NUM!"},{"$error":"#NUM!"},{"$error":"#NUM!"},{"$error":"#NUM!"},{"$error":"#NUM!"},{"$error":"#NUM!"},{"$error":"#NUM!"},{"$error":"#NUM!"},{"$error":"#NUM!"},{"$error":"#NUM!"},{"$error":"#NUM!"},{"$error":"#NUM!"},{"$error":"#NUM!"},{"$error":"#NUM!"},{"$error":"#NUM!"},{"$error":"#NUM!"},{"$error":"#NUM!"},{"$error":"#NUM!"},{"$error":"#NUM!"},{"$error":"#NUM!"},{"$error":"#NUM!"},{"$error":"#NUM!"},{"$error":"#NUM!"},{"$error":"#NUM!"},{"$f":"FRY10-FRZ10","v":{"$error":"#NUM!"}},{"$error":"#NUM!"},{"$error":"#NUM!"},{"$error":"#NUM!"},{"$error":"#NUM!"},{"$error":"#NUM!"},{"$error":"#NUM!"},{"$error":"#NUM!"},{"$error":"#NUM!"},{"$error":"#NUM!"},{"$error":"#NUM!"},{"$error":"#NUM!"},{"$error":"#NUM!"},{"$error":"#NUM!"},{"$error":"#NUM!"},{"$error":"#NUM!"},{"$error":"#NUM!"},{"$error":"#NUM!"},{"$error":"#NUM!"},{"$error":"#NUM!"},{"$error":"#NUM!"},{"$error":"#NUM!"},{"$error":"#NUM!"},{"$error":"#NUM!"},{"$error":"#NUM!"},{"$error":"#NUM!"},{"$error":"#NUM!"},{"$error":"#NUM!"},{"$error":"#NUM!"},{"$error":"#NUM!"},{"$error":"#NUM!"},{"$error":"#NUM!"},{"$error":"#NUM!"},{"$error":"#NUM!"},{"$error":"#NUM!"},{"$error":"#NUM!"},{"$error":"#NUM!"},{"$error":"#NUM!"},{"$error":"#NUM!"},{"$error":"#NUM!"},{"$error":"#NUM!"},{"$error":"#NUM!"},{"$error":"#NUM!"},{"$error":"#NUM!"},{"$error":"#NUM!"},{"$error":"#NUM!"},{"$error":"#NUM!"},{"$error":"#NUM!"},{"$error":"#NUM!"},{"$error":"#NUM!"},{"$error":"#NUM!"},{"$error":"#NUM!"},{"$error":"#NUM!"},{"$error":"#NUM!"},{"$error":"#NUM!"},{"$error":"#NUM!"},{"$error":"#NUM!"},{"$error":"#NUM!"},{"$error":"#NUM!"},{"$error":"#NUM!"},{"$error":"#NUM!"},{"$error":"#NUM!"},{"$error":"#NUM!"},{"$error":"#NUM!"},{"$f":"FUK10-FUL10","v":{"$error":"#NUM!"}},{"$error":"#NUM!"},{"$error":"#NUM!"},{"$error":"#NUM!"},{"$error":"#NUM!"},{"$error":"#NUM!"},{"$error":"#NUM!"},{"$error":"#NUM!"},{"$error":"#NUM!"},{"$error":"#NUM!"},{"$error":"#NUM!"},{"$error":"#NUM!"},{"$error":"#NUM!"},{"$error":"#NUM!"},{"$error":"#NUM!"},{"$error":"#NUM!"},{"$error":"#NUM!"},{"$error":"#NUM!"},{"$error":"#NUM!"},{"$error":"#NUM!"},{"$error":"#NUM!"},{"$error":"#NUM!"},{"$error":"#NUM!"},{"$error":"#NUM!"},{"$error":"#NUM!"},{"$error":"#NUM!"},{"$error":"#NUM!"},{"$error":"#NUM!"},{"$error":"#NUM!"},{"$error":"#NUM!"},{"$error":"#NUM!"},{"$error":"#NUM!"},{"$error":"#NUM!"},{"$error":"#NUM!"},{"$error":"#NUM!"},{"$error":"#NUM!"},{"$error":"#NUM!"},{"$error":"#NUM!"},{"$error":"#NUM!"},{"$error":"#NUM!"},{"$error":"#NUM!"},{"$error":"#NUM!"},{"$error":"#NUM!"},{"$error":"#NUM!"},{"$error":"#NUM!"},{"$error":"#NUM!"},{"$error":"#NUM!"},{"$error":"#NUM!"},{"$error":"#NUM!"},{"$error":"#NUM!"},{"$error":"#NUM!"},{"$error":"#NUM!"},{"$error":"#NUM!"},{"$error":"#NUM!"},{"$error":"#NUM!"},{"$error":"#NUM!"},{"$error":"#NUM!"},{"$error":"#NUM!"},{"$error":"#NUM!"},{"$error":"#NUM!"},{"$error":"#NUM!"},{"$error":"#NUM!"},{"$error":"#NUM!"},{"$error":"#NUM!"},{"$f":"FWW10-FWX10","v":{"$error":"#NUM!"}},{"$error":"#NUM!"},{"$error":"#NUM!"},{"$error":"#NUM!"},{"$error":"#NUM!"},{"$error":"#NUM!"},{"$error":"#NUM!"},{"$error":"#NUM!"},{"$error":"#NUM!"},{"$error":"#NUM!"},{"$error":"#NUM!"},{"$error":"#NUM!"},{"$error":"#NUM!"},{"$error":"#NUM!"},{"$error":"#NUM!"},{"$error":"#NUM!"},{"$error":"#NUM!"},{"$error":"#NUM!"},{"$error":"#NUM!"},{"$error":"#NUM!"},{"$error":"#NUM!"},{"$error":"#NUM!"},{"$error":"#NUM!"},{"$error":"#NUM!"},{"$error":"#NUM!"},{"$error":"#NUM!"},{"$error":"#NUM!"},{"$error":"#NUM!"},{"$error":"#NUM!"},{"$error":"#NUM!"},{"$error":"#NUM!"},{"$error":"#NUM!"},{"$error":"#NUM!"},{"$error":"#NUM!"},{"$error":"#NUM!"},{"$error":"#NUM!"},{"$error":"#NUM!"},{"$error":"#NUM!"},{"$error":"#NUM!"},{"$error":"#NUM!"},{"$error":"#NUM!"},{"$error":"#NUM!"},{"$error":"#NUM!"},{"$error":"#NUM!"},{"$error":"#NUM!"},{"$error":"#NUM!"},{"$error":"#NUM!"},{"$error":"#NUM!"},{"$error":"#NUM!"},{"$error":"#NUM!"},{"$error":"#NUM!"},{"$error":"#NUM!"},{"$error":"#NUM!"},{"$error":"#NUM!"},{"$error":"#NUM!"},{"$error":"#NUM!"},{"$error":"#NUM!"},{"$error":"#NUM!"},{"$error":"#NUM!"},{"$error":"#NUM!"},{"$error":"#NUM!"},{"$error":"#NUM!"},{"$error":"#NUM!"},{"$error":"#NUM!"},{"$f":"FZI10-FZJ10","v":{"$error":"#NUM!"}},{"$error":"#NUM!"},{"$error":"#NUM!"},{"$error":"#NUM!"},{"$error":"#NUM!"},{"$error":"#NUM!"},{"$error":"#NUM!"},{"$error":"#NUM!"},{"$error":"#NUM!"},{"$error":"#NUM!"},{"$error":"#NUM!"},{"$error":"#NUM!"},{"$error":"#NUM!"},{"$error":"#NUM!"},{"$error":"#NUM!"},{"$error":"#NUM!"},{"$error":"#NUM!"},{"$error":"#NUM!"},{"$error":"#NUM!"},{"$error":"#NUM!"},{"$error":"#NUM!"},{"$error":"#NUM!"},{"$error":"#NUM!"},{"$error":"#NUM!"},{"$error":"#NUM!"},{"$error":"#NUM!"},{"$error":"#NUM!"},{"$error":"#NUM!"},{"$error":"#NUM!"},{"$error":"#NUM!"},{"$error":"#NUM!"},{"$error":"#NUM!"},{"$error":"#NUM!"},{"$error":"#NUM!"},{"$error":"#NUM!"},{"$error":"#NUM!"},{"$error":"#NUM!"},{"$error":"#NUM!"},{"$error":"#NUM!"},{"$error":"#NUM!"},{"$error":"#NUM!"},{"$error":"#NUM!"},{"$error":"#NUM!"},{"$error":"#NUM!"},{"$error":"#NUM!"},{"$error":"#NUM!"},{"$error":"#NUM!"},{"$error":"#NUM!"},{"$error":"#NUM!"},{"$error":"#NUM!"},{"$error":"#NUM!"},{"$error":"#NUM!"},{"$error":"#NUM!"},{"$error":"#NUM!"},{"$error":"#NUM!"},{"$error":"#NUM!"},{"$error":"#NUM!"},{"$error":"#NUM!"},{"$error":"#NUM!"},{"$error":"#NUM!"},{"$error":"#NUM!"},{"$error":"#NUM!"},{"$error":"#NUM!"},{"$error":"#NUM!"},{"$f":"GBU10-GBV10","v":{"$error":"#NUM!"}},{"$error":"#NUM!"},{"$error":"#NUM!"},{"$error":"#NUM!"},{"$error":"#NUM!"},{"$error":"#NUM!"},{"$error":"#NUM!"},{"$error":"#NUM!"},{"$error":"#NUM!"},{"$error":"#NUM!"},{"$error":"#NUM!"},{"$error":"#NUM!"},{"$error":"#NUM!"},{"$error":"#NUM!"},{"$error":"#NUM!"},{"$error":"#NUM!"},{"$error":"#NUM!"},{"$error":"#NUM!"},{"$error":"#NUM!"},{"$error":"#NUM!"},{"$error":"#NUM!"},{"$error":"#NUM!"},{"$error":"#NUM!"},{"$error":"#NUM!"},{"$error":"#NUM!"},{"$error":"#NUM!"},{"$error":"#NUM!"},{"$error":"#NUM!"},{"$error":"#NUM!"},{"$error":"#NUM!"},{"$error":"#NUM!"},{"$error":"#NUM!"},{"$error":"#NUM!"},{"$error":"#NUM!"},{"$error":"#NUM!"},{"$error":"#NUM!"},{"$error":"#NUM!"},{"$error":"#NUM!"},{"$error":"#NUM!"},{"$error":"#NUM!"},{"$error":"#NUM!"},{"$error":"#NUM!"},{"$error":"#NUM!"},{"$error":"#NUM!"},{"$error":"#NUM!"},{"$error":"#NUM!"},{"$error":"#NUM!"},{"$error":"#NUM!"},{"$error":"#NUM!"},{"$error":"#NUM!"},{"$error":"#NUM!"},{"$error":"#NUM!"},{"$error":"#NUM!"},{"$error":"#NUM!"},{"$error":"#NUM!"},{"$error":"#NUM!"},{"$error":"#NUM!"},{"$error":"#NUM!"},{"$error":"#NUM!"},{"$error":"#NUM!"},{"$error":"#NUM!"},{"$error":"#NUM!"},{"$error":"#NUM!"},{"$error":"#NUM!"},{"$f":"GEG10-GEH10","v":{"$error":"#NUM!"}},{"$error":"#NUM!"},{"$error":"#NUM!"},{"$error":"#NUM!"},{"$error":"#NUM!"},{"$error":"#NUM!"},{"$error":"#NUM!"},{"$error":"#NUM!"},{"$error":"#NUM!"},{"$error":"#NUM!"},{"$error":"#NUM!"},{"$error":"#NUM!"},{"$error":"#NUM!"},{"$error":"#NUM!"},{"$error":"#NUM!"},{"$error":"#NUM!"},{"$error":"#NUM!"},{"$error":"#NUM!"},{"$error":"#NUM!"},{"$error":"#NUM!"},{"$error":"#NUM!"},{"$error":"#NUM!"},{"$error":"#NUM!"},{"$error":"#NUM!"},{"$error":"#NUM!"},{"$error":"#NUM!"},{"$error":"#NUM!"},{"$error":"#NUM!"},{"$error":"#NUM!"},{"$error":"#NUM!"},{"$error":"#NUM!"},{"$error":"#NUM!"},{"$error":"#NUM!"},{"$error":"#NUM!"},{"$error":"#NUM!"},{"$error":"#NUM!"},{"$error":"#NUM!"},{"$error":"#NUM!"},{"$error":"#NUM!"},{"$error":"#NUM!"},{"$error":"#NUM!"},{"$error":"#NUM!"},{"$error":"#NUM!"},{"$error":"#NUM!"},{"$error":"#NUM!"},{"$error":"#NUM!"},{"$error":"#NUM!"},{"$error":"#NUM!"},{"$error":"#NUM!"},{"$error":"#NUM!"},{"$error":"#NUM!"},{"$error":"#NUM!"},{"$error":"#NUM!"},{"$error":"#NUM!"},{"$error":"#NUM!"},{"$error":"#NUM!"},{"$error":"#NUM!"},{"$error":"#NUM!"},{"$error":"#NUM!"},{"$error":"#NUM!"},{"$error":"#NUM!"},{"$error":"#NUM!"},{"$error":"#NUM!"},{"$error":"#NUM!"},{"$f":"GGS10-GGT10","v":{"$error":"#NUM!"}},{"$error":"#NUM!"},{"$error":"#NUM!"},{"$error":"#NUM!"},{"$error":"#NUM!"},{"$error":"#NUM!"},{"$error":"#NUM!"},{"$error":"#NUM!"},{"$error":"#NUM!"},{"$error":"#NUM!"},{"$error":"#NUM!"},{"$error":"#NUM!"},{"$error":"#NUM!"},{"$error":"#NUM!"},{"$error":"#NUM!"},{"$error":"#NUM!"},{"$error":"#NUM!"},{"$error":"#NUM!"},{"$error":"#NUM!"},{"$error":"#NUM!"},{"$error":"#NUM!"},{"$error":"#NUM!"},{"$error":"#NUM!"},{"$error":"#NUM!"},{"$error":"#NUM!"},{"$error":"#NUM!"},{"$error":"#NUM!"},{"$error":"#NUM!"},{"$error":"#NUM!"},{"$error":"#NUM!"},{"$error":"#NUM!"},{"$error":"#NUM!"},{"$error":"#NUM!"},{"$error":"#NUM!"},{"$error":"#NUM!"},{"$error":"#NUM!"},{"$error":"#NUM!"},{"$error":"#NUM!"},{"$error":"#NUM!"},{"$error":"#NUM!"},{"$error":"#NUM!"},{"$error":"#NUM!"},{"$error":"#NUM!"},{"$error":"#NUM!"},{"$error":"#NUM!"},{"$error":"#NUM!"},{"$error":"#NUM!"},{"$error":"#NUM!"},{"$error":"#NUM!"},{"$error":"#NUM!"},{"$error":"#NUM!"},{"$error":"#NUM!"},{"$error":"#NUM!"},{"$error":"#NUM!"},{"$error":"#NUM!"},{"$error":"#NUM!"},{"$error":"#NUM!"},{"$error":"#NUM!"},{"$error":"#NUM!"},{"$error":"#NUM!"},{"$error":"#NUM!"},{"$error":"#NUM!"},{"$error":"#NUM!"},{"$error":"#NUM!"},{"$f":"GJE10-GJF10","v":{"$error":"#NUM!"}},{"$error":"#NUM!"},{"$error":"#NUM!"},{"$error":"#NUM!"},{"$error":"#NUM!"},{"$error":"#NUM!"},{"$error":"#NUM!"},{"$error":"#NUM!"},{"$error":"#NUM!"},{"$error":"#NUM!"},{"$error":"#NUM!"},{"$error":"#NUM!"},{"$error":"#NUM!"},{"$error":"#NUM!"},{"$error":"#NUM!"},{"$error":"#NUM!"},{"$error":"#NUM!"},{"$error":"#NUM!"},{"$error":"#NUM!"},{"$error":"#NUM!"},{"$error":"#NUM!"},{"$error":"#NUM!"},{"$error":"#NUM!"},{"$error":"#NUM!"},{"$error":"#NUM!"},{"$error":"#NUM!"},{"$error":"#NUM!"},{"$error":"#NUM!"},{"$error":"#NUM!"},{"$error":"#NUM!"},{"$error":"#NUM!"},{"$error":"#NUM!"},{"$error":"#NUM!"},{"$error":"#NUM!"},{"$error":"#NUM!"},{"$error":"#NUM!"},{"$error":"#NUM!"},{"$error":"#NUM!"},{"$error":"#NUM!"},{"$error":"#NUM!"},{"$error":"#NUM!"},{"$error":"#NUM!"},{"$error":"#NUM!"},{"$error":"#NUM!"},{"$error":"#NUM!"},{"$error":"#NUM!"},{"$error":"#NUM!"},{"$error":"#NUM!"},{"$error":"#NUM!"},{"$error":"#NUM!"},{"$error":"#NUM!"},{"$error":"#NUM!"},{"$error":"#NUM!"},{"$error":"#NUM!"},{"$error":"#NUM!"},{"$error":"#NUM!"},{"$error":"#NUM!"},{"$error":"#NUM!"},{"$error":"#NUM!"},{"$error":"#NUM!"},{"$error":"#NUM!"},{"$error":"#NUM!"},{"$error":"#NUM!"},{"$error":"#NUM!"},{"$f":"GLQ10-GLR10","v":{"$error":"#NUM!"}},{"$error":"#NUM!"},{"$error":"#NUM!"},{"$error":"#NUM!"},{"$error":"#NUM!"},{"$error":"#NUM!"},{"$error":"#NUM!"},{"$error":"#NUM!"},{"$error":"#NUM!"},{"$error":"#NUM!"},{"$error":"#NUM!"},{"$error":"#NUM!"},{"$error":"#NUM!"},{"$error":"#NUM!"},{"$error":"#NUM!"},{"$error":"#NUM!"},{"$error":"#NUM!"},{"$error":"#NUM!"},{"$error":"#NUM!"},{"$error":"#NUM!"},{"$error":"#NUM!"},{"$error":"#NUM!"},{"$error":"#NUM!"},{"$error":"#NUM!"},{"$error":"#NUM!"},{"$error":"#NUM!"},{"$error":"#NUM!"},{"$error":"#NUM!"},{"$error":"#NUM!"},{"$error":"#NUM!"},{"$error":"#NUM!"},{"$error":"#NUM!"},{"$error":"#NUM!"},{"$error":"#NUM!"},{"$error":"#NUM!"},{"$error":"#NUM!"},{"$error":"#NUM!"},{"$error":"#NUM!"},{"$error":"#NUM!"},{"$error":"#NUM!"},{"$error":"#NUM!"},{"$error":"#NUM!"},{"$error":"#NUM!"},{"$error":"#NUM!"},{"$error":"#NUM!"},{"$error":"#NUM!"},{"$error":"#NUM!"},{"$error":"#NUM!"},{"$error":"#NUM!"},{"$error":"#NUM!"},{"$error":"#NUM!"},{"$error":"#NUM!"},{"$error":"#NUM!"},{"$error":"#NUM!"},{"$error":"#NUM!"},{"$error":"#NUM!"},{"$error":"#NUM!"},{"$error":"#NUM!"},{"$error":"#NUM!"},{"$error":"#NUM!"},{"$error":"#NUM!"},{"$error":"#NUM!"},{"$error":"#NUM!"},{"$error":"#NUM!"},{"$f":"GOC10-GOD10","v":{"$error":"#NUM!"}},{"$error":"#NUM!"},{"$error":"#NUM!"},{"$error":"#NUM!"},{"$error":"#NUM!"},{"$error":"#NUM!"},{"$error":"#NUM!"},{"$error":"#NUM!"},{"$error":"#NUM!"},{"$error":"#NUM!"},{"$error":"#NUM!"},{"$error":"#NUM!"},{"$error":"#NUM!"},{"$error":"#NUM!"},{"$error":"#NUM!"},{"$error":"#NUM!"},{"$error":"#NUM!"},{"$error":"#NUM!"},{"$error":"#NUM!"},{"$error":"#NUM!"},{"$error":"#NUM!"},{"$error":"#NUM!"},{"$error":"#NUM!"},{"$error":"#NUM!"},{"$error":"#NUM!"},{"$error":"#NUM!"},{"$error":"#NUM!"},{"$error":"#NUM!"},{"$error":"#NUM!"},{"$error":"#NUM!"},{"$error":"#NUM!"},{"$error":"#NUM!"},{"$error":"#NUM!"},{"$error":"#NUM!"},{"$error":"#NUM!"},{"$error":"#NUM!"},{"$error":"#NUM!"},{"$error":"#NUM!"},{"$error":"#NUM!"},{"$error":"#NUM!"},{"$error":"#NUM!"},{"$error":"#NUM!"},{"$error":"#NUM!"},{"$error":"#NUM!"},{"$error":"#NUM!"},{"$error":"#NUM!"},{"$error":"#NUM!"},{"$error":"#NUM!"},{"$error":"#NUM!"},{"$error":"#NUM!"},{"$error":"#NUM!"},{"$error":"#NUM!"},{"$error":"#NUM!"},{"$error":"#NUM!"},{"$error":"#NUM!"},{"$error":"#NUM!"},{"$error":"#NUM!"},{"$error":"#NUM!"},{"$error":"#NUM!"},{"$error":"#NUM!"},{"$error":"#NUM!"},{"$error":"#NUM!"},{"$error":"#NUM!"},{"$error":"#NUM!"},{"$f":"GQO10-GQP10","v":{"$error":"#NUM!"}},{"$error":"#NUM!"},{"$error":"#NUM!"},{"$error":"#NUM!"},{"$error":"#NUM!"},{"$error":"#NUM!"},{"$error":"#NUM!"},{"$error":"#NUM!"},{"$error":"#NUM!"},{"$error":"#NUM!"},{"$error":"#NUM!"},{"$error":"#NUM!"},{"$error":"#NUM!"},{"$error":"#NUM!"},{"$error":"#NUM!"},{"$error":"#NUM!"},{"$error":"#NUM!"},{"$error":"#NUM!"},{"$error":"#NUM!"},{"$error":"#NUM!"},{"$error":"#NUM!"},{"$error":"#NUM!"},{"$error":"#NUM!"},{"$error":"#NUM!"},{"$error":"#NUM!"},{"$error":"#NUM!"},{"$error":"#NUM!"},{"$error":"#NUM!"},{"$error":"#NUM!"},{"$error":"#NUM!"},{"$error":"#NUM!"},{"$error":"#NUM!"},{"$error":"#NUM!"},{"$error":"#NUM!"},{"$error":"#NUM!"},{"$error":"#NUM!"},{"$error":"#NUM!"},{"$error":"#NUM!"},{"$error":"#NUM!"},{"$error":"#NUM!"},{"$error":"#NUM!"},{"$error":"#NUM!"},{"$error":"#NUM!"},{"$error":"#NUM!"},{"$error":"#NUM!"},{"$error":"#NUM!"},{"$error":"#NUM!"},{"$error":"#NUM!"},{"$error":"#NUM!"},{"$error":"#NUM!"},{"$error":"#NUM!"},{"$error":"#NUM!"},{"$error":"#NUM!"},{"$error":"#NUM!"},{"$error":"#NUM!"},{"$error":"#NUM!"},{"$error":"#NUM!"},{"$error":"#NUM!"},{"$error":"#NUM!"},{"$error":"#NUM!"},{"$error":"#NUM!"},{"$error":"#NUM!"},{"$error":"#NUM!"},{"$error":"#NUM!"},{"$f":"GTA10-GTB10","v":{"$error":"#NUM!"}},{"$error":"#NUM!"},{"$error":"#NUM!"},{"$error":"#NUM!"},{"$error":"#NUM!"},{"$error":"#NUM!"},{"$error":"#NUM!"},{"$error":"#NUM!"},{"$error":"#NUM!"},{"$error":"#NUM!"},{"$error":"#NUM!"},{"$error":"#NUM!"},{"$error":"#NUM!"},{"$error":"#NUM!"},{"$error":"#NUM!"},{"$error":"#NUM!"},{"$error":"#NUM!"},{"$error":"#NUM!"},{"$error":"#NUM!"},{"$error":"#NUM!"},{"$error":"#NUM!"},{"$error":"#NUM!"},{"$error":"#NUM!"},{"$error":"#NUM!"},{"$error":"#NUM!"},{"$error":"#NUM!"},{"$error":"#NUM!"},{"$error":"#NUM!"},{"$error":"#NUM!"},{"$error":"#NUM!"},{"$error":"#NUM!"},{"$error":"#NUM!"},{"$error":"#NUM!"},{"$error":"#NUM!"},{"$error":"#NUM!"},{"$error":"#NUM!"},{"$error":"#NUM!"},{"$error":"#NUM!"},{"$error":"#NUM!"},{"$error":"#NUM!"},{"$error":"#NUM!"},{"$error":"#NUM!"},{"$error":"#NUM!"},{"$error":"#NUM!"},{"$error":"#NUM!"},{"$error":"#NUM!"},{"$error":"#NUM!"},{"$error":"#NUM!"},{"$error":"#NUM!"},{"$error":"#NUM!"},{"$error":"#NUM!"},{"$error":"#NUM!"},{"$error":"#NUM!"},{"$error":"#NUM!"},{"$error":"#NUM!"},{"$error":"#NUM!"},{"$error":"#NUM!"},{"$error":"#NUM!"},{"$error":"#NUM!"},{"$error":"#NUM!"},{"$error":"#NUM!"},{"$error":"#NUM!"},{"$error":"#NUM!"},{"$error":"#NUM!"},{"$f":"GVM10-GVN10","v":{"$error":"#NUM!"}},{"$error":"#NUM!"},{"$error":"#NUM!"},{"$error":"#NUM!"},{"$error":"#NUM!"},{"$error":"#NUM!"},{"$error":"#NUM!"},{"$error":"#NUM!"},{"$error":"#NUM!"},{"$error":"#NUM!"},{"$error":"#NUM!"},{"$error":"#NUM!"},{"$error":"#NUM!"},{"$error":"#NUM!"},{"$error":"#NUM!"},{"$error":"#NUM!"},{"$error":"#NUM!"},{"$error":"#NUM!"},{"$error":"#NUM!"},{"$error":"#NUM!"},{"$error":"#NUM!"},{"$error":"#NUM!"},{"$error":"#NUM!"},{"$error":"#NUM!"},{"$error":"#NUM!"},{"$error":"#NUM!"},{"$error":"#NUM!"},{"$error":"#NUM!"},{"$error":"#NUM!"},{"$error":"#NUM!"},{"$error":"#NUM!"},{"$error":"#NUM!"},{"$error":"#NUM!"},{"$error":"#NUM!"},{"$error":"#NUM!"},{"$error":"#NUM!"},{"$error":"#NUM!"},{"$error":"#NUM!"},{"$error":"#NUM!"},{"$error":"#NUM!"},{"$error":"#NUM!"},{"$error":"#NUM!"},{"$error":"#NUM!"},{"$error":"#NUM!"},{"$error":"#NUM!"},{"$error":"#NUM!"},{"$error":"#NUM!"},{"$error":"#NUM!"},{"$error":"#NUM!"},{"$error":"#NUM!"},{"$error":"#NUM!"},{"$error":"#NUM!"},{"$error":"#NUM!"},{"$error":"#NUM!"},{"$error":"#NUM!"},{"$error":"#NUM!"},{"$error":"#NUM!"},{"$error":"#NUM!"},{"$error":"#NUM!"},{"$error":"#NUM!"},{"$error":"#NUM!"},{"$error":"#NUM!"},{"$error":"#NUM!"},{"$error":"#NUM!"},{"$f":"GXY10-GXZ10","v":{"$error":"#NUM!"}},{"$error":"#NUM!"},{"$error":"#NUM!"},{"$error":"#NUM!"},{"$error":"#NUM!"},{"$error":"#NUM!"},{"$error":"#NUM!"},{"$error":"#NUM!"},{"$error":"#NUM!"},{"$error":"#NUM!"},{"$error":"#NUM!"},{"$error":"#NUM!"},{"$error":"#NUM!"},{"$error":"#NUM!"},{"$error":"#NUM!"},{"$error":"#NUM!"},{"$error":"#NUM!"},{"$error":"#NUM!"},{"$error":"#NUM!"},{"$error":"#NUM!"},{"$error":"#NUM!"},{"$error":"#NUM!"},{"$error":"#NUM!"},{"$error":"#NUM!"},{"$error":"#NUM!"},{"$error":"#NUM!"},{"$error":"#NUM!"},{"$error":"#NUM!"},{"$error":"#NUM!"},{"$error":"#NUM!"},{"$error":"#NUM!"},{"$error":"#NUM!"},{"$error":"#NUM!"},{"$error":"#NUM!"},{"$error":"#NUM!"},{"$error":"#NUM!"},{"$error":"#NUM!"},{"$error":"#NUM!"},{"$error":"#NUM!"},{"$error":"#NUM!"},{"$error":"#NUM!"},{"$error":"#NUM!"},{"$error":"#NUM!"},{"$error":"#NUM!"},{"$error":"#NUM!"},{"$error":"#NUM!"},{"$error":"#NUM!"},{"$error":"#NUM!"},{"$error":"#NUM!"},{"$error":"#NUM!"},{"$error":"#NUM!"},{"$error":"#NUM!"},{"$error":"#NUM!"},{"$error":"#NUM!"},{"$error":"#NUM!"},{"$error":"#NUM!"},{"$error":"#NUM!"},{"$error":"#NUM!"},{"$error":"#NUM!"},{"$error":"#NUM!"},{"$error":"#NUM!"},{"$error":"#NUM!"},{"$error":"#NUM!"},{"$error":"#NUM!"},{"$f":"HAK10-HAL10","v":{"$error":"#NUM!"}},{"$error":"#NUM!"},{"$error":"#NUM!"},{"$error":"#NUM!"},{"$error":"#NUM!"},{"$error":"#NUM!"},{"$error":"#NUM!"},{"$error":"#NUM!"},{"$error":"#NUM!"},{"$error":"#NUM!"},{"$error":"#NUM!"},{"$error":"#NUM!"},{"$error":"#NUM!"},{"$error":"#NUM!"},{"$error":"#NUM!"},{"$error":"#NUM!"},{"$error":"#NUM!"},{"$error":"#NUM!"},{"$error":"#NUM!"},{"$error":"#NUM!"},{"$error":"#NUM!"},{"$error":"#NUM!"},{"$error":"#NUM!"},{"$error":"#NUM!"},{"$error":"#NUM!"},{"$error":"#NUM!"},{"$error":"#NUM!"},{"$error":"#NUM!"},{"$error":"#NUM!"},{"$error":"#NUM!"},{"$error":"#NUM!"},{"$error":"#NUM!"},{"$error":"#NUM!"},{"$error":"#NUM!"},{"$error":"#NUM!"},{"$error":"#NUM!"},{"$error":"#NUM!"},{"$error":"#NUM!"},{"$error":"#NUM!"},{"$error":"#NUM!"},{"$error":"#NUM!"},{"$error":"#NUM!"},{"$error":"#NUM!"},{"$error":"#NUM!"},{"$error":"#NUM!"},{"$error":"#NUM!"},{"$error":"#NUM!"},{"$error":"#NUM!"},{"$error":"#NUM!"},{"$error":"#NUM!"},{"$error":"#NUM!"},{"$error":"#NUM!"},{"$error":"#NUM!"},{"$error":"#NUM!"},{"$error":"#NUM!"},{"$error":"#NUM!"},{"$error":"#NUM!"},{"$error":"#NUM!"},{"$error":"#NUM!"},{"$error":"#NUM!"},{"$error":"#NUM!"},{"$error":"#NUM!"},{"$error":"#NUM!"},{"$error":"#NUM!"},{"$f":"HCW10-HCX10","v":{"$error":"#NUM!"}},{"$error":"#NUM!"},{"$error":"#NUM!"},{"$error":"#NUM!"},{"$error":"#NUM!"},{"$error":"#NUM!"},{"$error":"#NUM!"},{"$error":"#NUM!"},{"$error":"#NUM!"},{"$error":"#NUM!"},{"$error":"#NUM!"},{"$error":"#NUM!"},{"$error":"#NUM!"},{"$error":"#NUM!"},{"$error":"#NUM!"},{"$error":"#NUM!"},{"$error":"#NUM!"},{"$error":"#NUM!"},{"$error":"#NUM!"},{"$error":"#NUM!"},{"$error":"#NUM!"},{"$error":"#NUM!"},{"$error":"#NUM!"},{"$error":"#NUM!"},{"$error":"#NUM!"},{"$error":"#NUM!"},{"$error":"#NUM!"},{"$error":"#NUM!"},{"$error":"#NUM!"},{"$error":"#NUM!"},{"$error":"#NUM!"},{"$error":"#NUM!"},{"$error":"#NUM!"},{"$error":"#NUM!"},{"$error":"#NUM!"},{"$error":"#NUM!"},{"$error":"#NUM!"},{"$error":"#NUM!"},{"$error":"#NUM!"},{"$error":"#NUM!"},{"$error":"#NUM!"},{"$error":"#NUM!"},{"$error":"#NUM!"},{"$error":"#NUM!"},{"$error":"#NUM!"},{"$error":"#NUM!"},{"$error":"#NUM!"},{"$error":"#NUM!"},{"$error":"#NUM!"},{"$error":"#NUM!"},{"$error":"#NUM!"},{"$error":"#NUM!"},{"$error":"#NUM!"},{"$error":"#NUM!"},{"$error":"#NUM!"},{"$error":"#NUM!"},{"$error":"#NUM!"},{"$error":"#NUM!"},{"$error":"#NUM!"},{"$error":"#NUM!"},{"$error":"#NUM!"},{"$error":"#NUM!"},{"$error":"#NUM!"},{"$error":"#NUM!"},{"$f":"HFI10-HFJ10","v":{"$error":"#NUM!"}},{"$error":"#NUM!"},{"$error":"#NUM!"},{"$error":"#NUM!"},{"$error":"#NUM!"},{"$error":"#NUM!"},{"$error":"#NUM!"},{"$error":"#NUM!"},{"$error":"#NUM!"},{"$error":"#NUM!"},{"$error":"#NUM!"},{"$error":"#NUM!"},{"$error":"#NUM!"},{"$error":"#NUM!"},{"$error":"#NUM!"},{"$error":"#NUM!"},{"$error":"#NUM!"},{"$error":"#NUM!"},{"$error":"#NUM!"},{"$error":"#NUM!"},{"$error":"#NUM!"},{"$error":"#NUM!"},{"$error":"#NUM!"},{"$error":"#NUM!"},{"$error":"#NUM!"},{"$error":"#NUM!"},{"$error":"#NUM!"},{"$error":"#NUM!"},{"$error":"#NUM!"},{"$error":"#NUM!"},{"$error":"#NUM!"},{"$error":"#NUM!"},{"$error":"#NUM!"},{"$error":"#NUM!"},{"$error":"#NUM!"},{"$error":"#NUM!"},{"$error":"#NUM!"},{"$error":"#NUM!"},{"$error":"#NUM!"},{"$error":"#NUM!"},{"$error":"#NUM!"},{"$error":"#NUM!"},{"$error":"#NUM!"},{"$error":"#NUM!"},{"$error":"#NUM!"},{"$error":"#NUM!"},{"$error":"#NUM!"},{"$error":"#NUM!"},{"$error":"#NUM!"},{"$error":"#NUM!"},{"$error":"#NUM!"},{"$error":"#NUM!"},{"$error":"#NUM!"},{"$error":"#NUM!"},{"$error":"#NUM!"},{"$error":"#NUM!"},{"$error":"#NUM!"},{"$error":"#NUM!"},{"$error":"#NUM!"},{"$error":"#NUM!"},{"$error":"#NUM!"},{"$error":"#NUM!"},{"$error":"#NUM!"},{"$error":"#NUM!"},{"$f":"HHU10-HHV10","v":{"$error":"#NUM!"}},{"$error":"#NUM!"},{"$error":"#NUM!"},{"$error":"#NUM!"},{"$error":"#NUM!"},{"$error":"#NUM!"},{"$error":"#NUM!"},{"$error":"#NUM!"},{"$error":"#NUM!"},{"$error":"#NUM!"},{"$error":"#NUM!"},{"$error":"#NUM!"},{"$error":"#NUM!"},{"$error":"#NUM!"},{"$error":"#NUM!"},{"$error":"#NUM!"},{"$error":"#NUM!"},{"$error":"#NUM!"},{"$error":"#NUM!"},{"$error":"#NUM!"},{"$error":"#NUM!"},{"$error":"#NUM!"},{"$error":"#NUM!"},{"$error":"#NUM!"},{"$error":"#NUM!"},{"$error":"#NUM!"},{"$error":"#NUM!"},{"$error":"#NUM!"},{"$error":"#NUM!"},{"$error":"#NUM!"},{"$error":"#NUM!"},{"$error":"#NUM!"},{"$error":"#NUM!"},{"$error":"#NUM!"},{"$error":"#NUM!"},{"$error":"#NUM!"},{"$error":"#NUM!"},{"$error":"#NUM!"},{"$error":"#NUM!"},{"$error":"#NUM!"},{"$error":"#NUM!"},{"$error":"#NUM!"},{"$error":"#NUM!"},{"$error":"#NUM!"},{"$error":"#NUM!"},{"$error":"#NUM!"},{"$error":"#NUM!"},{"$error":"#NUM!"},{"$error":"#NUM!"},{"$error":"#NUM!"},{"$error":"#NUM!"},{"$error":"#NUM!"},{"$error":"#NUM!"},{"$error":"#NUM!"},{"$error":"#NUM!"},{"$error":"#NUM!"},{"$error":"#NUM!"},{"$error":"#NUM!"},{"$error":"#NUM!"},{"$error":"#NUM!"},{"$error":"#NUM!"},{"$error":"#NUM!"},{"$error":"#NUM!"},{"$error":"#NUM!"},{"$f":"HKG10-HKH10","v":{"$error":"#NUM!"}},{"$error":"#NUM!"},{"$error":"#NUM!"},{"$error":"#NUM!"},{"$error":"#NUM!"},{"$error":"#NUM!"},{"$error":"#NUM!"},{"$error":"#NUM!"},{"$error":"#NUM!"},{"$error":"#NUM!"},{"$error":"#NUM!"},{"$error":"#NUM!"},{"$error":"#NUM!"},{"$error":"#NUM!"},{"$error":"#NUM!"},{"$error":"#NUM!"},{"$error":"#NUM!"},{"$error":"#NUM!"},{"$error":"#NUM!"},{"$error":"#NUM!"},{"$error":"#NUM!"},{"$error":"#NUM!"},{"$error":"#NUM!"},{"$error":"#NUM!"},{"$error":"#NUM!"},{"$error":"#NUM!"},{"$error":"#NUM!"},{"$error":"#NUM!"},{"$error":"#NUM!"},{"$error":"#NUM!"},{"$error":"#NUM!"},{"$error":"#NUM!"},{"$error":"#NUM!"},{"$error":"#NUM!"},{"$error":"#NUM!"},{"$error":"#NUM!"},{"$error":"#NUM!"},{"$error":"#NUM!"},{"$error":"#NUM!"},{"$error":"#NUM!"},{"$error":"#NUM!"},{"$error":"#NUM!"},{"$error":"#NUM!"},{"$error":"#NUM!"},{"$error":"#NUM!"},{"$error":"#NUM!"},{"$error":"#NUM!"},{"$error":"#NUM!"},{"$error":"#NUM!"},{"$error":"#NUM!"},{"$error":"#NUM!"},{"$error":"#NUM!"},{"$error":"#NUM!"},{"$error":"#NUM!"},{"$error":"#NUM!"},{"$error":"#NUM!"},{"$error":"#NUM!"},{"$error":"#NUM!"},{"$error":"#NUM!"},{"$error":"#NUM!"},{"$error":"#NUM!"},{"$error":"#NUM!"},{"$error":"#NUM!"},{"$error":"#NUM!"},{"$f":"HMS10-HMT10","v":{"$error":"#NUM!"}},{"$error":"#NUM!"},{"$error":"#NUM!"},{"$error":"#NUM!"},{"$error":"#NUM!"},{"$error":"#NUM!"},{"$error":"#NUM!"},{"$error":"#NUM!"},{"$error":"#NUM!"},{"$error":"#NUM!"},{"$error":"#NUM!"},{"$error":"#NUM!"},{"$error":"#NUM!"},{"$error":"#NUM!"},{"$error":"#NUM!"},{"$error":"#NUM!"},{"$error":"#NUM!"},{"$error":"#NUM!"},{"$error":"#NUM!"},{"$error":"#NUM!"},{"$error":"#NUM!"},{"$error":"#NUM!"},{"$error":"#NUM!"},{"$error":"#NUM!"},{"$error":"#NUM!"},{"$error":"#NUM!"},{"$error":"#NUM!"},{"$error":"#NUM!"},{"$error":"#NUM!"},{"$error":"#NUM!"},{"$error":"#NUM!"},{"$error":"#NUM!"},{"$error":"#NUM!"},{"$error":"#NUM!"},{"$error":"#NUM!"},{"$error":"#NUM!"},{"$error":"#NUM!"},{"$error":"#NUM!"},{"$error":"#NUM!"},{"$error":"#NUM!"},{"$error":"#NUM!"},{"$error":"#NUM!"},{"$error":"#NUM!"},{"$error":"#NUM!"},{"$error":"#NUM!"},{"$error":"#NUM!"},{"$error":"#NUM!"},{"$error":"#NUM!"},{"$error":"#NUM!"},{"$error":"#NUM!"},{"$error":"#NUM!"},{"$error":"#NUM!"},{"$error":"#NUM!"},{"$error":"#NUM!"},{"$error":"#NUM!"},{"$error":"#NUM!"},{"$error":"#NUM!"},{"$error":"#NUM!"},{"$error":"#NUM!"},{"$error":"#NUM!"},{"$error":"#NUM!"},{"$error":"#NUM!"},{"$error":"#NUM!"},{"$error":"#NUM!"},{"$f":"HPE10-HPF10","v":{"$error":"#NUM!"}},{"$error":"#NUM!"},{"$error":"#NUM!"},{"$error":"#NUM!"},{"$error":"#NUM!"},{"$error":"#NUM!"},{"$error":"#NUM!"},{"$error":"#NUM!"},{"$error":"#NUM!"},{"$error":"#NUM!"},{"$error":"#NUM!"},{"$error":"#NUM!"},{"$error":"#NUM!"},{"$error":"#NUM!"},{"$error":"#NUM!"},{"$error":"#NUM!"},{"$error":"#NUM!"},{"$error":"#NUM!"},{"$error":"#NUM!"},{"$error":"#NUM!"},{"$error":"#NUM!"},{"$error":"#NUM!"},{"$error":"#NUM!"},{"$error":"#NUM!"},{"$error":"#NUM!"},{"$error":"#NUM!"},{"$error":"#NUM!"},{"$error":"#NUM!"},{"$error":"#NUM!"},{"$error":"#NUM!"},{"$error":"#NUM!"},{"$error":"#NUM!"},{"$error":"#NUM!"},{"$error":"#NUM!"},{"$error":"#NUM!"},{"$error":"#NUM!"},{"$error":"#NUM!"},{"$error":"#NUM!"},{"$error":"#NUM!"},{"$error":"#NUM!"},{"$error":"#NUM!"},{"$error":"#NUM!"},{"$error":"#NUM!"},{"$error":"#NUM!"},{"$error":"#NUM!"},{"$error":"#NUM!"},{"$error":"#NUM!"},{"$error":"#NUM!"},{"$error":"#NUM!"},{"$error":"#NUM!"},{"$error":"#NUM!"},{"$error":"#NUM!"},{"$error":"#NUM!"},{"$error":"#NUM!"},{"$error":"#NUM!"},{"$error":"#NUM!"},{"$error":"#NUM!"},{"$error":"#NUM!"},{"$error":"#NUM!"},{"$error":"#NUM!"},{"$error":"#NUM!"},{"$error":"#NUM!"},{"$error":"#NUM!"},{"$error":"#NUM!"},{"$f":"HRQ10-HRR10","v":{"$error":"#NUM!"}},{"$error":"#NUM!"},{"$error":"#NUM!"},{"$error":"#NUM!"},{"$error":"#NUM!"},{"$error":"#NUM!"},{"$error":"#NUM!"},{"$error":"#NUM!"},{"$error":"#NUM!"},{"$error":"#NUM!"},{"$error":"#NUM!"},{"$error":"#NUM!"},{"$error":"#NUM!"},{"$error":"#NUM!"},{"$error":"#NUM!"},{"$error":"#NUM!"},{"$error":"#NUM!"},{"$error":"#NUM!"},{"$error":"#NUM!"},{"$error":"#NUM!"},{"$error":"#NUM!"},{"$error":"#NUM!"},{"$error":"#NUM!"},{"$error":"#NUM!"},{"$error":"#NUM!"},{"$error":"#NUM!"},{"$error":"#NUM!"},{"$error":"#NUM!"},{"$error":"#NUM!"},{"$error":"#NUM!"},{"$error":"#NUM!"},{"$error":"#NUM!"},{"$error":"#NUM!"},{"$error":"#NUM!"},{"$error":"#NUM!"},{"$error":"#NUM!"},{"$error":"#NUM!"},{"$error":"#NUM!"},{"$error":"#NUM!"},{"$error":"#NUM!"},{"$error":"#NUM!"},{"$error":"#NUM!"},{"$error":"#NUM!"},{"$error":"#NUM!"},{"$error":"#NUM!"},{"$error":"#NUM!"},{"$error":"#NUM!"},{"$error":"#NUM!"},{"$error":"#NUM!"},{"$error":"#NUM!"},{"$error":"#NUM!"},{"$error":"#NUM!"},{"$error":"#NUM!"},{"$error":"#NUM!"},{"$error":"#NUM!"},{"$error":"#NUM!"},{"$error":"#NUM!"},{"$error":"#NUM!"},{"$error":"#NUM!"},{"$error":"#NUM!"},{"$error":"#NUM!"},{"$error":"#NUM!"},{"$error":"#NUM!"},{"$error":"#NUM!"},{"$f":"HUC10-HUD10","v":{"$error":"#NUM!"}},{"$error":"#NUM!"},{"$error":"#NUM!"},{"$error":"#NUM!"},{"$error":"#NUM!"},{"$error":"#NUM!"},{"$error":"#NUM!"},{"$error":"#NUM!"},{"$error":"#NUM!"},{"$error":"#NUM!"},{"$error":"#NUM!"},{"$error":"#NUM!"},{"$error":"#NUM!"},{"$error":"#NUM!"},{"$error":"#NUM!"},{"$error":"#NUM!"},{"$error":"#NUM!"},{"$error":"#NUM!"},{"$error":"#NUM!"},{"$error":"#NUM!"},{"$error":"#NUM!"},{"$error":"#NUM!"},{"$error":"#NUM!"},{"$error":"#NUM!"},{"$error":"#NUM!"},{"$error":"#NUM!"},{"$error":"#NUM!"},{"$error":"#NUM!"},{"$error":"#NUM!"},{"$error":"#NUM!"},{"$error":"#NUM!"},{"$error":"#NUM!"},{"$error":"#NUM!"},{"$error":"#NUM!"},{"$error":"#NUM!"},{"$error":"#NUM!"},{"$error":"#NUM!"},{"$error":"#NUM!"},{"$error":"#NUM!"},{"$error":"#NUM!"},{"$error":"#NUM!"},{"$error":"#NUM!"},{"$error":"#NUM!"},{"$error":"#NUM!"},{"$error":"#NUM!"},{"$error":"#NUM!"},{"$error":"#NUM!"},{"$error":"#NUM!"},{"$error":"#NUM!"},{"$error":"#NUM!"},{"$error":"#NUM!"},{"$error":"#NUM!"},{"$error":"#NUM!"},{"$error":"#NUM!"},{"$error":"#NUM!"},{"$error":"#NUM!"},{"$error":"#NUM!"},{"$error":"#NUM!"},{"$error":"#NUM!"},{"$error":"#NUM!"},{"$error":"#NUM!"},{"$error":"#NUM!"},{"$error":"#NUM!"},{"$error":"#NUM!"},{"$f":"HWO10-HWP10","v":{"$error":"#NUM!"}},{"$error":"#NUM!"},{"$error":"#NUM!"},{"$error":"#NUM!"},{"$error":"#NUM!"},{"$error":"#NUM!"},{"$error":"#NUM!"},{"$error":"#NUM!"},{"$error":"#NUM!"},{"$error":"#NUM!"},{"$error":"#NUM!"},{"$error":"#NUM!"},{"$error":"#NUM!"},{"$error":"#NUM!"},{"$error":"#NUM!"},{"$error":"#NUM!"},{"$error":"#NUM!"},{"$error":"#NUM!"},{"$error":"#NUM!"},{"$error":"#NUM!"},{"$error":"#NUM!"},{"$error":"#NUM!"},{"$error":"#NUM!"},{"$error":"#NUM!"},{"$error":"#NUM!"},{"$error":"#NUM!"},{"$error":"#NUM!"},{"$error":"#NUM!"},{"$error":"#NUM!"},{"$error":"#NUM!"},{"$error":"#NUM!"},{"$error":"#NUM!"},{"$error":"#NUM!"},{"$error":"#NUM!"},{"$error":"#NUM!"},{"$error":"#NUM!"},{"$error":"#NUM!"},{"$error":"#NUM!"},{"$error":"#NUM!"},{"$error":"#NUM!"},{"$error":"#NUM!"},{"$error":"#NUM!"},{"$error":"#NUM!"},{"$error":"#NUM!"},{"$error":"#NUM!"},{"$error":"#NUM!"},{"$error":"#NUM!"},{"$error":"#NUM!"},{"$error":"#NUM!"},{"$error":"#NUM!"},{"$error":"#NUM!"},{"$error":"#NUM!"},{"$error":"#NUM!"},{"$error":"#NUM!"},{"$error":"#NUM!"},{"$error":"#NUM!"},{"$error":"#NUM!"},{"$error":"#NUM!"},{"$error":"#NUM!"},{"$error":"#NUM!"},{"$error":"#NUM!"},{"$error":"#NUM!"},{"$error":"#NUM!"},{"$error":"#NUM!"},{"$f":"HZA10-HZB10","v":{"$error":"#NUM!"}},{"$error":"#NUM!"},{"$error":"#NUM!"},{"$error":"#NUM!"},{"$error":"#NUM!"},{"$error":"#NUM!"},{"$error":"#NUM!"},{"$error":"#NUM!"},{"$error":"#NUM!"},{"$error":"#NUM!"},{"$error":"#NUM!"},{"$error":"#NUM!"},{"$error":"#NUM!"},{"$error":"#NUM!"},{"$error":"#NUM!"},{"$error":"#NUM!"},{"$error":"#NUM!"},{"$error":"#NUM!"},{"$error":"#NUM!"},{"$error":"#NUM!"},{"$error":"#NUM!"},{"$error":"#NUM!"},{"$error":"#NUM!"},{"$error":"#NUM!"},{"$error":"#NUM!"},{"$error":"#NUM!"},{"$error":"#NUM!"},{"$error":"#NUM!"},{"$error":"#NUM!"},{"$error":"#NUM!"},{"$error":"#NUM!"},{"$error":"#NUM!"},{"$error":"#NUM!"},{"$error":"#NUM!"},{"$error":"#NUM!"},{"$error":"#NUM!"},{"$error":"#NUM!"},{"$error":"#NUM!"},{"$error":"#NUM!"},{"$error":"#NUM!"},{"$error":"#NUM!"},{"$error":"#NUM!"},{"$error":"#NUM!"},{"$error":"#NUM!"},{"$error":"#NUM!"},{"$error":"#NUM!"},{"$error":"#NUM!"},{"$error":"#NUM!"},{"$error":"#NUM!"},{"$error":"#NUM!"},{"$error":"#NUM!"},{"$error":"#NUM!"},{"$error":"#NUM!"},{"$error":"#NUM!"},{"$error":"#NUM!"},{"$error":"#NUM!"},{"$error":"#NUM!"},{"$error":"#NUM!"},{"$error":"#NUM!"},{"$error":"#NUM!"},{"$error":"#NUM!"},{"$error":"#NUM!"},{"$error":"#NUM!"},{"$error":"#NUM!"},{"$f":"IBM10-IBN10","v":{"$error":"#NUM!"}},{"$error":"#NUM!"},{"$error":"#NUM!"},{"$error":"#NUM!"},{"$error":"#NUM!"},{"$error":"#NUM!"},{"$error":"#NUM!"},{"$error":"#NUM!"},{"$error":"#NUM!"},{"$error":"#NUM!"},{"$error":"#NUM!"},{"$error":"#NUM!"},{"$error":"#NUM!"},{"$error":"#NUM!"},{"$error":"#NUM!"},{"$error":"#NUM!"},{"$error":"#NUM!"},{"$error":"#NUM!"},{"$error":"#NUM!"},{"$error":"#NUM!"},{"$error":"#NUM!"},{"$error":"#NUM!"},{"$error":"#NUM!"},{"$error":"#NUM!"},{"$error":"#NUM!"},{"$error":"#NUM!"},{"$error":"#NUM!"},{"$error":"#NUM!"},{"$error":"#NUM!"},{"$error":"#NUM!"},{"$error":"#NUM!"},{"$error":"#NUM!"},{"$error":"#NUM!"},{"$error":"#NUM!"},{"$error":"#NUM!"},{"$error":"#NUM!"},{"$error":"#NUM!"},{"$error":"#NUM!"},{"$error":"#NUM!"},{"$error":"#NUM!"},{"$error":"#NUM!"},{"$error":"#NUM!"},{"$error":"#NUM!"},{"$error":"#NUM!"},{"$error":"#NUM!"},{"$error":"#NUM!"},{"$error":"#NUM!"},{"$error":"#NUM!"},{"$error":"#NUM!"},{"$error":"#NUM!"},{"$error":"#NUM!"},{"$error":"#NUM!"},{"$error":"#NUM!"},{"$error":"#NUM!"},{"$error":"#NUM!"},{"$error":"#NUM!"},{"$error":"#NUM!"},{"$error":"#NUM!"},{"$error":"#NUM!"},{"$error":"#NUM!"},{"$error":"#NUM!"},{"$error":"#NUM!"},{"$error":"#NUM!"},{"$error":"#NUM!"},{"$f":"IDY10-IDZ10","v":{"$error":"#NUM!"}},{"$error":"#NUM!"},{"$error":"#NUM!"},{"$error":"#NUM!"},{"$error":"#NUM!"},{"$error":"#NUM!"},{"$error":"#NUM!"},{"$error":"#NUM!"},{"$error":"#NUM!"},{"$error":"#NUM!"},{"$error":"#NUM!"},{"$error":"#NUM!"},{"$error":"#NUM!"},{"$error":"#NUM!"},{"$error":"#NUM!"},{"$error":"#NUM!"},{"$error":"#NUM!"},{"$error":"#NUM!"},{"$error":"#NUM!"},{"$error":"#NUM!"},{"$error":"#NUM!"},{"$error":"#NUM!"},{"$error":"#NUM!"},{"$error":"#NUM!"},{"$error":"#NUM!"},{"$error":"#NUM!"},{"$error":"#NUM!"},{"$error":"#NUM!"},{"$error":"#NUM!"},{"$error":"#NUM!"},{"$error":"#NUM!"},{"$error":"#NUM!"},{"$error":"#NUM!"},{"$error":"#NUM!"},{"$error":"#NUM!"},{"$error":"#NUM!"},{"$error":"#NUM!"},{"$error":"#NUM!"},{"$error":"#NUM!"},{"$error":"#NUM!"},{"$error":"#NUM!"},{"$error":"#NUM!"},{"$error":"#NUM!"},{"$error":"#NUM!"},{"$error":"#NUM!"},{"$error":"#NUM!"},{"$error":"#NUM!"},{"$error":"#NUM!"},{"$error":"#NUM!"},{"$error":"#NUM!"},{"$error":"#NUM!"},{"$error":"#NUM!"},{"$error":"#NUM!"},{"$error":"#NUM!"},{"$error":"#NUM!"},{"$error":"#NUM!"},{"$error":"#NUM!"},{"$error":"#NUM!"},{"$error":"#NUM!"},{"$error":"#NUM!"},{"$error":"#NUM!"},{"$error":"#NUM!"},{"$error":"#NUM!"},{"$error":"#NUM!"},{"$f":"IGK10-IGL10","v":{"$error":"#NUM!"}},{"$error":"#NUM!"},{"$error":"#NUM!"},{"$error":"#NUM!"},{"$error":"#NUM!"},{"$error":"#NUM!"},{"$error":"#NUM!"},{"$error":"#NUM!"},{"$error":"#NUM!"},{"$error":"#NUM!"},{"$error":"#NUM!"},{"$error":"#NUM!"},{"$error":"#NUM!"},{"$error":"#NUM!"},{"$error":"#NUM!"},{"$error":"#NUM!"},{"$error":"#NUM!"},{"$error":"#NUM!"},{"$error":"#NUM!"},{"$error":"#NUM!"},{"$error":"#NUM!"},{"$error":"#NUM!"},{"$error":"#NUM!"},{"$error":"#NUM!"},{"$error":"#NUM!"},{"$error":"#NUM!"},{"$error":"#NUM!"},{"$error":"#NUM!"},{"$error":"#NUM!"},{"$error":"#NUM!"},{"$error":"#NUM!"},{"$error":"#NUM!"},{"$error":"#NUM!"},{"$error":"#NUM!"},{"$error":"#NUM!"},{"$error":"#NUM!"},{"$error":"#NUM!"},{"$error":"#NUM!"},{"$error":"#NUM!"},{"$error":"#NUM!"},{"$error":"#NUM!"},{"$error":"#NUM!"},{"$error":"#NUM!"},{"$error":"#NUM!"},{"$error":"#NUM!"},{"$error":"#NUM!"},{"$error":"#NUM!"},{"$error":"#NUM!"},{"$error":"#NUM!"},{"$error":"#NUM!"},{"$error":"#NUM!"},{"$error":"#NUM!"},{"$error":"#NUM!"},{"$error":"#NUM!"},{"$error":"#NUM!"},{"$error":"#NUM!"},{"$error":"#NUM!"},{"$error":"#NUM!"},{"$error":"#NUM!"},{"$error":"#NUM!"},{"$error":"#NUM!"},{"$error":"#NUM!"},{"$error":"#NUM!"},{"$error":"#NUM!"},{"$f":"IIW10-IIX10","v":{"$error":"#NUM!"}},{"$error":"#NUM!"},{"$error":"#NUM!"},{"$error":"#NUM!"},{"$error":"#NUM!"},{"$error":"#NUM!"},{"$error":"#NUM!"},{"$error":"#NUM!"},{"$error":"#NUM!"},{"$error":"#NUM!"},{"$error":"#NUM!"},{"$error":"#NUM!"},{"$error":"#NUM!"},{"$error":"#NUM!"},{"$error":"#NUM!"},{"$error":"#NUM!"},{"$error":"#NUM!"},{"$error":"#NUM!"},{"$error":"#NUM!"},{"$error":"#NUM!"},{"$error":"#NUM!"},{"$error":"#NUM!"},{"$error":"#NUM!"},{"$error":"#NUM!"},{"$error":"#NUM!"},{"$error":"#NUM!"},{"$error":"#NUM!"},{"$error":"#NUM!"},{"$error":"#NUM!"},{"$error":"#NUM!"},{"$error":"#NUM!"},{"$error":"#NUM!"},{"$error":"#NUM!"},{"$error":"#NUM!"},{"$error":"#NUM!"},{"$error":"#NUM!"},{"$error":"#NUM!"},{"$error":"#NUM!"},{"$error":"#NUM!"},{"$error":"#NUM!"},{"$error":"#NUM!"},{"$error":"#NUM!"},{"$error":"#NUM!"},{"$error":"#NUM!"},{"$error":"#NUM!"},{"$error":"#NUM!"},{"$error":"#NUM!"},{"$error":"#NUM!"},{"$error":"#NUM!"},{"$error":"#NUM!"},{"$error":"#NUM!"},{"$error":"#NUM!"},{"$error":"#NUM!"},{"$error":"#NUM!"},{"$error":"#NUM!"},{"$error":"#NUM!"},{"$error":"#NUM!"},{"$error":"#NUM!"},{"$error":"#NUM!"},{"$error":"#NUM!"},{"$error":"#NUM!"},{"$error":"#NUM!"},{"$error":"#NUM!"},{"$error":"#NUM!"},{"$f":"ILI10-ILJ10","v":{"$error":"#NUM!"}},{"$error":"#NUM!"},{"$error":"#NUM!"},{"$error":"#NUM!"},{"$error":"#NUM!"},{"$error":"#NUM!"},{"$error":"#NUM!"},{"$error":"#NUM!"},{"$error":"#NUM!"},{"$error":"#NUM!"},{"$error":"#NUM!"},{"$error":"#NUM!"},{"$error":"#NUM!"},{"$error":"#NUM!"},{"$error":"#NUM!"},{"$error":"#NUM!"},{"$error":"#NUM!"},{"$error":"#NUM!"},{"$error":"#NUM!"},{"$error":"#NUM!"},{"$error":"#NUM!"},{"$error":"#NUM!"},{"$error":"#NUM!"},{"$error":"#NUM!"},{"$error":"#NUM!"},{"$error":"#NUM!"},{"$error":"#NUM!"},{"$error":"#NUM!"},{"$error":"#NUM!"},{"$error":"#NUM!"},{"$error":"#NUM!"},{"$error":"#NUM!"},{"$error":"#NUM!"},{"$error":"#NUM!"},{"$error":"#NUM!"},{"$error":"#NUM!"},{"$error":"#NUM!"},{"$error":"#NUM!"},{"$error":"#NUM!"},{"$error":"#NUM!"},{"$error":"#NUM!"},{"$error":"#NUM!"},{"$error":"#NUM!"},{"$error":"#NUM!"},{"$error":"#NUM!"},{"$error":"#NUM!"},{"$error":"#NUM!"},{"$error":"#NUM!"},{"$error":"#NUM!"},{"$error":"#NUM!"},{"$error":"#NUM!"},{"$error":"#NUM!"},{"$error":"#NUM!"},{"$error":"#NUM!"},{"$error":"#NUM!"},{"$error":"#NUM!"},{"$error":"#NUM!"},{"$error":"#NUM!"},{"$error":"#NUM!"},{"$error":"#NUM!"},{"$error":"#NUM!"},{"$error":"#NUM!"},{"$error":"#NUM!"},{"$error":"#NUM!"},{"$f":"INU10-INV10","v":{"$error":"#NUM!"}},{"$error":"#NUM!"},{"$error":"#NUM!"},{"$error":"#NUM!"},{"$error":"#NUM!"},{"$error":"#NUM!"},{"$error":"#NUM!"},{"$error":"#NUM!"},{"$error":"#NUM!"},{"$error":"#NUM!"},{"$error":"#NUM!"},{"$error":"#NUM!"},{"$error":"#NUM!"},{"$error":"#NUM!"},{"$error":"#NUM!"},{"$error":"#NUM!"},{"$error":"#NUM!"},{"$error":"#NUM!"},{"$error":"#NUM!"},{"$error":"#NUM!"},{"$error":"#NUM!"},{"$error":"#NUM!"},{"$error":"#NUM!"},{"$error":"#NUM!"},{"$error":"#NUM!"},{"$error":"#NUM!"},{"$error":"#NUM!"},{"$error":"#NUM!"},{"$error":"#NUM!"},{"$error":"#NUM!"},{"$error":"#NUM!"},{"$error":"#NUM!"},{"$error":"#NUM!"},{"$error":"#NUM!"},{"$error":"#NUM!"},{"$error":"#NUM!"},{"$error":"#NUM!"},{"$error":"#NUM!"},{"$error":"#NUM!"},{"$error":"#NUM!"},{"$error":"#NUM!"},{"$error":"#NUM!"},{"$error":"#NUM!"},{"$error":"#NUM!"},{"$error":"#NUM!"},{"$error":"#NUM!"},{"$error":"#NUM!"},{"$error":"#NUM!"},{"$error":"#NUM!"},{"$error":"#NUM!"},{"$error":"#NUM!"},{"$error":"#NUM!"},{"$error":"#NUM!"},{"$error":"#NUM!"},{"$error":"#NUM!"},{"$error":"#NUM!"},{"$error":"#NUM!"},{"$error":"#NUM!"},{"$error":"#NUM!"},{"$error":"#NUM!"},{"$error":"#NUM!"},{"$error":"#NUM!"},{"$error":"#NUM!"},{"$error":"#NUM!"},{"$f":"IQG10-IQH10","v":{"$error":"#NUM!"}},{"$error":"#NUM!"},{"$error":"#NUM!"},{"$error":"#NUM!"},{"$error":"#NUM!"},{"$error":"#NUM!"},{"$error":"#NUM!"},{"$error":"#NUM!"},{"$error":"#NUM!"},{"$error":"#NUM!"},{"$error":"#NUM!"},{"$error":"#NUM!"},{"$error":"#NUM!"},{"$error":"#NUM!"},{"$error":"#NUM!"},{"$error":"#NUM!"},{"$error":"#NUM!"},{"$error":"#NUM!"},{"$error":"#NUM!"},{"$error":"#NUM!"},{"$error":"#NUM!"},{"$error":"#NUM!"},{"$error":"#NUM!"},{"$error":"#NUM!"},{"$error":"#NUM!"},{"$error":"#NUM!"},{"$error":"#NUM!"},{"$error":"#NUM!"},{"$error":"#NUM!"},{"$error":"#NUM!"},{"$error":"#NUM!"},{"$error":"#NUM!"},{"$error":"#NUM!"},{"$error":"#NUM!"},{"$error":"#NUM!"},{"$error":"#NUM!"},{"$error":"#NUM!"},{"$error":"#NUM!"},{"$error":"#NUM!"},{"$error":"#NUM!"},{"$error":"#NUM!"},{"$error":"#NUM!"},{"$error":"#NUM!"},{"$error":"#NUM!"},{"$error":"#NUM!"},{"$error":"#NUM!"},{"$error":"#NUM!"},{"$error":"#NUM!"},{"$error":"#NUM!"},{"$error":"#NUM!"},{"$error":"#NUM!"},{"$error":"#NUM!"},{"$error":"#NUM!"},{"$error":"#NUM!"},{"$error":"#NUM!"},{"$error":"#NUM!"},{"$error":"#NUM!"},{"$error":"#NUM!"},{"$error":"#NUM!"},{"$error":"#NUM!"},{"$error":"#NUM!"},{"$error":"#NUM!"},{"$error":"#NUM!"},{"$error":"#NUM!"},{"$f":"ISS10-IST10","v":{"$error":"#NUM!"}},{"$error":"#NUM!"},{"$error":"#NUM!"},{"$error":"#NUM!"},{"$error":"#NUM!"},{"$error":"#NUM!"},{"$error":"#NUM!"},{"$error":"#NUM!"},{"$error":"#NUM!"},{"$error":"#NUM!"},{"$error":"#NUM!"},{"$error":"#NUM!"},{"$error":"#NUM!"},{"$error":"#NUM!"},{"$error":"#NUM!"},{"$error":"#NUM!"},{"$error":"#NUM!"},{"$error":"#NUM!"},{"$error":"#NUM!"},{"$error":"#NUM!"},{"$error":"#NUM!"},{"$error":"#NUM!"},{"$error":"#NUM!"},{"$error":"#NUM!"},{"$error":"#NUM!"},{"$error":"#NUM!"},{"$error":"#NUM!"},{"$error":"#NUM!"},{"$error":"#NUM!"},{"$error":"#NUM!"},{"$error":"#NUM!"},{"$error":"#NUM!"},{"$error":"#NUM!"},{"$error":"#NUM!"},{"$error":"#NUM!"},{"$error":"#NUM!"},{"$error":"#NUM!"},{"$error":"#NUM!"},{"$error":"#NUM!"},{"$error":"#NUM!"},{"$error":"#NUM!"},{"$error":"#NUM!"},{"$error":"#NUM!"},{"$error":"#NUM!"},{"$error":"#NUM!"},{"$error":"#NUM!"},{"$error":"#NUM!"},{"$error":"#NUM!"},{"$error":"#NUM!"},{"$error":"#NUM!"},{"$error":"#NUM!"},{"$error":"#NUM!"},{"$error":"#NUM!"},{"$error":"#NUM!"},{"$error":"#NUM!"},{"$error":"#NUM!"},{"$error":"#NUM!"},{"$error":"#NUM!"},{"$error":"#NUM!"},{"$error":"#NUM!"},{"$error":"#NUM!"},{"$error":"#NUM!"},{"$error":"#NUM!"},{"$error":"#NUM!"},{"$f":"IVE10-IVF10","v":{"$error":"#NUM!"}},{"$error":"#NUM!"},{"$error":"#NUM!"},{"$error":"#NUM!"},{"$error":"#NUM!"},{"$error":"#NUM!"},{"$error":"#NUM!"},{"$error":"#NUM!"},{"$error":"#NUM!"},{"$error":"#NUM!"},{"$error":"#NUM!"},{"$error":"#NUM!"},{"$error":"#NUM!"},{"$error":"#NUM!"},{"$error":"#NUM!"},{"$error":"#NUM!"},{"$error":"#NUM!"},{"$error":"#NUM!"},{"$error":"#NUM!"},{"$error":"#NUM!"},{"$error":"#NUM!"},{"$error":"#NUM!"},{"$error":"#NUM!"},{"$error":"#NUM!"},{"$error":"#NUM!"},{"$error":"#NUM!"},{"$error":"#NUM!"},{"$error":"#NUM!"},{"$error":"#NUM!"},{"$error":"#NUM!"},{"$error":"#NUM!"},{"$error":"#NUM!"},{"$error":"#NUM!"},{"$error":"#NUM!"},{"$error":"#NUM!"},{"$error":"#NUM!"},{"$error":"#NUM!"},{"$error":"#NUM!"},{"$error":"#NUM!"},{"$error":"#NUM!"},{"$error":"#NUM!"},{"$error":"#NUM!"},{"$error":"#NUM!"},{"$error":"#NUM!"},{"$error":"#NUM!"},{"$error":"#NUM!"},{"$error":"#NUM!"},{"$error":"#NUM!"},{"$error":"#NUM!"},{"$error":"#NUM!"},{"$error":"#NUM!"},{"$error":"#NUM!"},{"$error":"#NUM!"},{"$error":"#NUM!"},{"$error":"#NUM!"},{"$error":"#NUM!"},{"$error":"#NUM!"},{"$error":"#NUM!"},{"$error":"#NUM!"},{"$error":"#NUM!"},{"$error":"#NUM!"},{"$error":"#NUM!"},{"$error":"#NUM!"},{"$error":"#NUM!"},{"$f":"IXQ10-IXR10","v":{"$error":"#NUM!"}},{"$error":"#NUM!"},{"$error":"#NUM!"},{"$error":"#NUM!"},{"$error":"#NUM!"},{"$error":"#NUM!"},{"$error":"#NUM!"},{"$error":"#NUM!"},{"$error":"#NUM!"},{"$error":"#NUM!"},{"$error":"#NUM!"},{"$error":"#NUM!"},{"$error":"#NUM!"},{"$error":"#NUM!"},{"$error":"#NUM!"},{"$error":"#NUM!"},{"$error":"#NUM!"},{"$error":"#NUM!"},{"$error":"#NUM!"},{"$error":"#NUM!"},{"$error":"#NUM!"},{"$error":"#NUM!"},{"$error":"#NUM!"},{"$error":"#NUM!"},{"$error":"#NUM!"},{"$error":"#NUM!"},{"$error":"#NUM!"},{"$error":"#NUM!"},{"$error":"#NUM!"},{"$error":"#NUM!"},{"$error":"#NUM!"},{"$error":"#NUM!"},{"$error":"#NUM!"},{"$error":"#NUM!"},{"$error":"#NUM!"},{"$error":"#NUM!"},{"$error":"#NUM!"},{"$error":"#NUM!"},{"$error":"#NUM!"},{"$error":"#NUM!"},{"$error":"#NUM!"},{"$error":"#NUM!"},{"$error":"#NUM!"},{"$error":"#NUM!"},{"$error":"#NUM!"},{"$error":"#NUM!"},{"$error":"#NUM!"},{"$error":"#NUM!"},{"$error":"#NUM!"},{"$error":"#NUM!"},{"$error":"#NUM!"},{"$error":"#NUM!"},{"$error":"#NUM!"},{"$error":"#NUM!"},{"$error":"#NUM!"},{"$error":"#NUM!"},{"$error":"#NUM!"},{"$error":"#NUM!"},{"$error":"#NUM!"},{"$error":"#NUM!"},{"$error":"#NUM!"},{"$error":"#NUM!"},{"$error":"#NUM!"},{"$error":"#NUM!"},{"$f":"JAC10-JAD10","v":{"$error":"#NUM!"}},{"$error":"#NUM!"},{"$error":"#NUM!"},{"$error":"#NUM!"},{"$error":"#NUM!"},{"$error":"#NUM!"},{"$error":"#NUM!"},{"$error":"#NUM!"},{"$error":"#NUM!"},{"$error":"#NUM!"},{"$error":"#NUM!"},{"$error":"#NUM!"},{"$error":"#NUM!"},{"$error":"#NUM!"},{"$error":"#NUM!"},{"$error":"#NUM!"},{"$error":"#NUM!"},{"$error":"#NUM!"},{"$error":"#NUM!"},{"$error":"#NUM!"},{"$error":"#NUM!"},{"$error":"#NUM!"},{"$error":"#NUM!"},{"$error":"#NUM!"},{"$error":"#NUM!"},{"$error":"#NUM!"},{"$error":"#NUM!"},{"$error":"#NUM!"},{"$error":"#NUM!"},{"$error":"#NUM!"},{"$error":"#NUM!"},{"$error":"#NUM!"},{"$error":"#NUM!"},{"$error":"#NUM!"},{"$error":"#NUM!"},{"$error":"#NUM!"},{"$error":"#NUM!"},{"$error":"#NUM!"},{"$error":"#NUM!"},{"$error":"#NUM!"},{"$error":"#NUM!"},{"$error":"#NUM!"},{"$error":"#NUM!"},{"$error":"#NUM!"},{"$error":"#NUM!"},{"$error":"#NUM!"},{"$error":"#NUM!"},{"$error":"#NUM!"},{"$error":"#NUM!"},{"$error":"#NUM!"},{"$error":"#NUM!"},{"$error":"#NUM!"},{"$error":"#NUM!"},{"$error":"#NUM!"},{"$error":"#NUM!"},{"$error":"#NUM!"},{"$error":"#NUM!"},{"$error":"#NUM!"},{"$error":"#NUM!"},{"$error":"#NUM!"},{"$error":"#NUM!"},{"$error":"#NUM!"},{"$error":"#NUM!"},{"$error":"#NUM!"},{"$f":"JCO10-JCP10","v":{"$error":"#NUM!"}},{"$error":"#NUM!"},{"$error":"#NUM!"},{"$error":"#NUM!"},{"$error":"#NUM!"},{"$error":"#NUM!"},{"$error":"#NUM!"},{"$error":"#NUM!"},{"$error":"#NUM!"},{"$error":"#NUM!"},{"$error":"#NUM!"},{"$error":"#NUM!"},{"$error":"#NUM!"},{"$error":"#NUM!"},{"$error":"#NUM!"},{"$error":"#NUM!"},{"$error":"#NUM!"},{"$error":"#NUM!"},{"$error":"#NUM!"},{"$error":"#NUM!"},{"$error":"#NUM!"},{"$error":"#NUM!"},{"$error":"#NUM!"},{"$error":"#NUM!"},{"$error":"#NUM!"},{"$error":"#NUM!"},{"$error":"#NUM!"},{"$error":"#NUM!"},{"$error":"#NUM!"},{"$error":"#NUM!"},{"$error":"#NUM!"},{"$error":"#NUM!"},{"$error":"#NUM!"},{"$error":"#NUM!"},{"$error":"#NUM!"},{"$error":"#NUM!"},{"$error":"#NUM!"},{"$error":"#NUM!"},{"$error":"#NUM!"},{"$error":"#NUM!"},{"$error":"#NUM!"},{"$error":"#NUM!"},{"$error":"#NUM!"},{"$error":"#NUM!"},{"$error":"#NUM!"},{"$error":"#NUM!"},{"$error":"#NUM!"},{"$error":"#NUM!"},{"$error":"#NUM!"},{"$error":"#NUM!"},{"$error":"#NUM!"},{"$error":"#NUM!"},{"$error":"#NUM!"},{"$error":"#NUM!"},{"$error":"#NUM!"},{"$error":"#NUM!"},{"$error":"#NUM!"},{"$error":"#NUM!"},{"$error":"#NUM!"},{"$error":"#NUM!"},{"$error":"#NUM!"},{"$error":"#NUM!"},{"$error":"#NUM!"},{"$error":"#NUM!"},{"$f":"JFA10-JFB10","v":{"$error":"#NUM!"}},{"$error":"#NUM!"},{"$error":"#NUM!"},{"$error":"#NUM!"},{"$error":"#NUM!"},{"$error":"#NUM!"},{"$error":"#NUM!"},{"$error":"#NUM!"},{"$error":"#NUM!"},{"$error":"#NUM!"},{"$error":"#NUM!"},{"$error":"#NUM!"},{"$error":"#NUM!"},{"$error":"#NUM!"},{"$error":"#NUM!"},{"$error":"#NUM!"},{"$error":"#NUM!"},{"$error":"#NUM!"},{"$error":"#NUM!"},{"$error":"#NUM!"},{"$error":"#NUM!"},{"$error":"#NUM!"},{"$error":"#NUM!"},{"$error":"#NUM!"},{"$error":"#NUM!"},{"$error":"#NUM!"},{"$error":"#NUM!"},{"$error":"#NUM!"},{"$error":"#NUM!"},{"$error":"#NUM!"},{"$error":"#NUM!"},{"$error":"#NUM!"},{"$error":"#NUM!"},{"$error":"#NUM!"},{"$error":"#NUM!"},{"$error":"#NUM!"},{"$error":"#NUM!"},{"$error":"#NUM!"},{"$error":"#NUM!"},{"$error":"#NUM!"},{"$error":"#NUM!"},{"$error":"#NUM!"},{"$error":"#NUM!"},{"$error":"#NUM!"},{"$error":"#NUM!"},{"$error":"#NUM!"},{"$error":"#NUM!"},{"$error":"#NUM!"},{"$error":"#NUM!"},{"$error":"#NUM!"},{"$error":"#NUM!"},{"$error":"#NUM!"},{"$error":"#NUM!"},{"$error":"#NUM!"},{"$error":"#NUM!"},{"$error":"#NUM!"},{"$error":"#NUM!"},{"$error":"#NUM!"},{"$error":"#NUM!"},{"$error":"#NUM!"},{"$error":"#NUM!"},{"$error":"#NUM!"},{"$error":"#NUM!"},{"$error":"#NUM!"},{"$f":"JHM10-JHN10","v":{"$error":"#NUM!"}},{"$error":"#NUM!"},{"$error":"#NUM!"},{"$error":"#NUM!"},{"$error":"#NUM!"},{"$error":"#NUM!"},{"$error":"#NUM!"},{"$error":"#NUM!"},{"$error":"#NUM!"},{"$error":"#NUM!"},{"$error":"#NUM!"},{"$error":"#NUM!"},{"$error":"#NUM!"},{"$error":"#NUM!"},{"$error":"#NUM!"},{"$error":"#NUM!"},{"$error":"#NUM!"},{"$error":"#NUM!"},{"$error":"#NUM!"},{"$error":"#NUM!"},{"$error":"#NUM!"},{"$error":"#NUM!"},{"$error":"#NUM!"},{"$error":"#NUM!"},{"$error":"#NUM!"},{"$error":"#NUM!"},{"$error":"#NUM!"},{"$error":"#NUM!"},{"$error":"#NUM!"},{"$error":"#NUM!"},{"$error":"#NUM!"},{"$error":"#NUM!"},{"$error":"#NUM!"},{"$error":"#NUM!"},{"$error":"#NUM!"},{"$error":"#NUM!"},{"$error":"#NUM!"},{"$error":"#NUM!"},{"$error":"#NUM!"},{"$error":"#NUM!"},{"$error":"#NUM!"},{"$error":"#NUM!"},{"$error":"#NUM!"},{"$error":"#NUM!"},{"$error":"#NUM!"},{"$error":"#NUM!"},{"$error":"#NUM!"},{"$error":"#NUM!"},{"$error":"#NUM!"},{"$error":"#NUM!"},{"$error":"#NUM!"},{"$error":"#NUM!"},{"$error":"#NUM!"},{"$error":"#NUM!"},{"$error":"#NUM!"},{"$error":"#NUM!"},{"$error":"#NUM!"},{"$error":"#NUM!"},{"$error":"#NUM!"},{"$error":"#NUM!"},{"$error":"#NUM!"},{"$error":"#NUM!"},{"$error":"#NUM!"},{"$error":"#NUM!"},{"$f":"JJY10-JJZ10","v":{"$error":"#NUM!"}},{"$error":"#NUM!"},{"$error":"#NUM!"},{"$error":"#NUM!"},{"$error":"#NUM!"},{"$error":"#NUM!"},{"$error":"#NUM!"},{"$error":"#NUM!"},{"$error":"#NUM!"},{"$error":"#NUM!"},{"$error":"#NUM!"},{"$error":"#NUM!"},{"$error":"#NUM!"},{"$error":"#NUM!"},{"$error":"#NUM!"},{"$error":"#NUM!"},{"$error":"#NUM!"},{"$error":"#NUM!"},{"$error":"#NUM!"},{"$error":"#NUM!"},{"$error":"#NUM!"},{"$error":"#NUM!"},{"$error":"#NUM!"},{"$error":"#NUM!"},{"$error":"#NUM!"},{"$error":"#NUM!"},{"$error":"#NUM!"},{"$error":"#NUM!"},{"$error":"#NUM!"},{"$error":"#NUM!"},{"$error":"#NUM!"},{"$error":"#NUM!"},{"$error":"#NUM!"},{"$error":"#NUM!"},{"$error":"#NUM!"},{"$error":"#NUM!"},{"$error":"#NUM!"},{"$error":"#NUM!"},{"$error":"#NUM!"},{"$error":"#NUM!"},{"$error":"#NUM!"},{"$error":"#NUM!"},{"$error":"#NUM!"},{"$error":"#NUM!"},{"$error":"#NUM!"},{"$error":"#NUM!"},{"$error":"#NUM!"},{"$error":"#NUM!"},{"$error":"#NUM!"},{"$error":"#NUM!"},{"$error":"#NUM!"},{"$error":"#NUM!"},{"$error":"#NUM!"},{"$error":"#NUM!"},{"$error":"#NUM!"},{"$error":"#NUM!"},{"$error":"#NUM!"},{"$error":"#NUM!"},{"$error":"#NUM!"},{"$error":"#NUM!"},{"$error":"#NUM!"},{"$error":"#NUM!"},{"$error":"#NUM!"},{"$error":"#NUM!"},{"$f":"JMK10-JML10","v":{"$error":"#NUM!"}},{"$error":"#NUM!"},{"$error":"#NUM!"},{"$error":"#NUM!"},{"$error":"#NUM!"},{"$error":"#NUM!"},{"$error":"#NUM!"},{"$error":"#NUM!"},{"$error":"#NUM!"},{"$error":"#NUM!"},{"$error":"#NUM!"},{"$error":"#NUM!"},{"$error":"#NUM!"},{"$error":"#NUM!"},{"$error":"#NUM!"},{"$error":"#NUM!"},{"$error":"#NUM!"},{"$error":"#NUM!"},{"$error":"#NUM!"},{"$error":"#NUM!"},{"$error":"#NUM!"},{"$error":"#NUM!"},{"$error":"#NUM!"},{"$error":"#NUM!"},{"$error":"#NUM!"},{"$error":"#NUM!"},{"$error":"#NUM!"},{"$error":"#NUM!"},{"$error":"#NUM!"},{"$error":"#NUM!"},{"$error":"#NUM!"},{"$error":"#NUM!"},{"$error":"#NUM!"},{"$error":"#NUM!"},{"$error":"#NUM!"},{"$error":"#NUM!"},{"$error":"#NUM!"},{"$error":"#NUM!"},{"$error":"#NUM!"},{"$error":"#NUM!"},{"$error":"#NUM!"},{"$error":"#NUM!"},{"$error":"#NUM!"},{"$error":"#NUM!"},{"$error":"#NUM!"},{"$error":"#NUM!"},{"$error":"#NUM!"},{"$error":"#NUM!"},{"$error":"#NUM!"},{"$error":"#NUM!"},{"$error":"#NUM!"},{"$error":"#NUM!"},{"$error":"#NUM!"},{"$error":"#NUM!"},{"$error":"#NUM!"},{"$error":"#NUM!"},{"$error":"#NUM!"},{"$error":"#NUM!"},{"$error":"#NUM!"},{"$error":"#NUM!"},{"$error":"#NUM!"},{"$error":"#NUM!"},{"$error":"#NUM!"},{"$error":"#NUM!"},{"$f":"JOW10-JOX10","v":{"$error":"#NUM!"}},{"$error":"#NUM!"},{"$error":"#NUM!"},{"$error":"#NUM!"},{"$error":"#NUM!"},{"$error":"#NUM!"},{"$error":"#NUM!"},{"$error":"#NUM!"},{"$error":"#NUM!"},{"$error":"#NUM!"},{"$error":"#NUM!"},{"$error":"#NUM!"},{"$error":"#NUM!"},{"$error":"#NUM!"},{"$error":"#NUM!"},{"$error":"#NUM!"},{"$error":"#NUM!"},{"$error":"#NUM!"},{"$error":"#NUM!"},{"$error":"#NUM!"},{"$error":"#NUM!"},{"$error":"#NUM!"},{"$error":"#NUM!"},{"$error":"#NUM!"},{"$error":"#NUM!"},{"$error":"#NUM!"},{"$error":"#NUM!"},{"$error":"#NUM!"},{"$error":"#NUM!"},{"$error":"#NUM!"},{"$error":"#NUM!"},{"$error":"#NUM!"},{"$error":"#NUM!"},{"$error":"#NUM!"},{"$error":"#NUM!"},{"$error":"#NUM!"},{"$error":"#NUM!"},{"$error":"#NUM!"},{"$error":"#NUM!"},{"$error":"#NUM!"},{"$error":"#NUM!"},{"$error":"#NUM!"},{"$error":"#NUM!"},{"$error":"#NUM!"},{"$error":"#NUM!"},{"$error":"#NUM!"},{"$error":"#NUM!"},{"$error":"#NUM!"},{"$error":"#NUM!"},{"$error":"#NUM!"},{"$error":"#NUM!"},{"$error":"#NUM!"},{"$error":"#NUM!"},{"$error":"#NUM!"},{"$error":"#NUM!"},{"$error":"#NUM!"},{"$error":"#NUM!"},{"$error":"#NUM!"},{"$error":"#NUM!"},{"$error":"#NUM!"},{"$error":"#NUM!"},{"$error":"#NUM!"},{"$error":"#NUM!"},{"$error":"#NUM!"},{"$f":"JRI10-JRJ10","v":{"$error":"#NUM!"}},{"$error":"#NUM!"},{"$error":"#NUM!"},{"$error":"#NUM!"},{"$error":"#NUM!"},{"$error":"#NUM!"},{"$error":"#NUM!"},{"$error":"#NUM!"},{"$error":"#NUM!"},{"$error":"#NUM!"},{"$error":"#NUM!"},{"$error":"#NUM!"},{"$error":"#NUM!"},{"$error":"#NUM!"},{"$error":"#NUM!"},{"$error":"#NUM!"},{"$error":"#NUM!"},{"$error":"#NUM!"},{"$error":"#NUM!"},{"$error":"#NUM!"},{"$error":"#NUM!"},{"$error":"#NUM!"},{"$error":"#NUM!"},{"$error":"#NUM!"},{"$error":"#NUM!"},{"$error":"#NUM!"},{"$error":"#NUM!"},{"$error":"#NUM!"},{"$error":"#NUM!"},{"$error":"#NUM!"},{"$error":"#NUM!"},{"$error":"#NUM!"},{"$error":"#NUM!"},{"$error":"#NUM!"},{"$error":"#NUM!"},{"$error":"#NUM!"},{"$error":"#NUM!"},{"$error":"#NUM!"},{"$error":"#NUM!"},{"$error":"#NUM!"},{"$error":"#NUM!"},{"$error":"#NUM!"},{"$error":"#NUM!"},{"$error":"#NUM!"},{"$error":"#NUM!"},{"$error":"#NUM!"},{"$error":"#NUM!"},{"$error":"#NUM!"},{"$error":"#NUM!"},{"$error":"#NUM!"},{"$error":"#NUM!"},{"$error":"#NUM!"},{"$error":"#NUM!"},{"$error":"#NUM!"},{"$error":"#NUM!"},{"$error":"#NUM!"},{"$error":"#NUM!"},{"$error":"#NUM!"},{"$error":"#NUM!"},{"$error":"#NUM!"},{"$error":"#NUM!"},{"$error":"#NUM!"},{"$error":"#NUM!"},{"$error":"#NUM!"},{"$f":"JTU10-JTV10","v":{"$error":"#NUM!"}},{"$error":"#NUM!"},{"$error":"#NUM!"},{"$error":"#NUM!"},{"$error":"#NUM!"},{"$error":"#NUM!"},{"$error":"#NUM!"},{"$error":"#NUM!"},{"$error":"#NUM!"},{"$error":"#NUM!"},{"$error":"#NUM!"},{"$error":"#NUM!"},{"$error":"#NUM!"},{"$error":"#NUM!"},{"$error":"#NUM!"},{"$error":"#NUM!"},{"$error":"#NUM!"},{"$error":"#NUM!"},{"$error":"#NUM!"},{"$error":"#NUM!"},{"$error":"#NUM!"},{"$error":"#NUM!"},{"$error":"#NUM!"},{"$error":"#NUM!"},{"$error":"#NUM!"},{"$error":"#NUM!"},{"$error":"#NUM!"},{"$error":"#NUM!"},{"$error":"#NUM!"},{"$error":"#NUM!"},{"$error":"#NUM!"},{"$error":"#NUM!"},{"$error":"#NUM!"},{"$error":"#NUM!"},{"$error":"#NUM!"},{"$error":"#NUM!"},{"$error":"#NUM!"},{"$error":"#NUM!"},{"$error":"#NUM!"},{"$error":"#NUM!"},{"$error":"#NUM!"},{"$error":"#NUM!"},{"$error":"#NUM!"},{"$error":"#NUM!"},{"$error":"#NUM!"},{"$error":"#NUM!"},{"$error":"#NUM!"},{"$error":"#NUM!"},{"$error":"#NUM!"},{"$error":"#NUM!"},{"$error":"#NUM!"},{"$error":"#NUM!"},{"$error":"#NUM!"},{"$error":"#NUM!"},{"$error":"#NUM!"},{"$error":"#NUM!"},{"$error":"#NUM!"},{"$error":"#NUM!"},{"$error":"#NUM!"},{"$error":"#NUM!"},{"$error":"#NUM!"},{"$error":"#NUM!"},{"$error":"#NUM!"},{"$error":"#NUM!"},{"$f":"JWG10-JWH10","v":{"$error":"#NUM!"}},{"$error":"#NUM!"},{"$error":"#NUM!"},{"$error":"#NUM!"},{"$error":"#NUM!"},{"$error":"#NUM!"},{"$error":"#NUM!"},{"$error":"#NUM!"},{"$error":"#NUM!"},{"$error":"#NUM!"},{"$error":"#NUM!"},{"$error":"#NUM!"},{"$error":"#NUM!"},{"$error":"#NUM!"},{"$error":"#NUM!"},{"$error":"#NUM!"},{"$error":"#NUM!"},{"$error":"#NUM!"},{"$error":"#NUM!"},{"$error":"#NUM!"},{"$error":"#NUM!"},{"$error":"#NUM!"},{"$error":"#NUM!"},{"$error":"#NUM!"},{"$error":"#NUM!"},{"$error":"#NUM!"},{"$error":"#NUM!"},{"$error":"#NUM!"},{"$error":"#NUM!"},{"$error":"#NUM!"},{"$error":"#NUM!"},{"$error":"#NUM!"},{"$error":"#NUM!"},{"$error":"#NUM!"},{"$error":"#NUM!"},{"$error":"#NUM!"},{"$error":"#NUM!"},{"$error":"#NUM!"},{"$error":"#NUM!"},{"$error":"#NUM!"},{"$error":"#NUM!"},{"$error":"#NUM!"},{"$error":"#NUM!"},{"$error":"#NUM!"},{"$error":"#NUM!"},{"$error":"#NUM!"},{"$error":"#NUM!"},{"$error":"#NUM!"},{"$error":"#NUM!"},{"$error":"#NUM!"},{"$error":"#NUM!"},{"$error":"#NUM!"},{"$error":"#NUM!"},{"$error":"#NUM!"},{"$error":"#NUM!"},{"$error":"#NUM!"},{"$error":"#NUM!"},{"$error":"#NUM!"},{"$error":"#NUM!"},{"$error":"#NUM!"},{"$error":"#NUM!"},{"$error":"#NUM!"},{"$error":"#NUM!"},{"$error":"#NUM!"},{"$f":"JYS10-JYT10","v":{"$error":"#NUM!"}},{"$error":"#NUM!"},{"$error":"#NUM!"},{"$error":"#NUM!"},{"$error":"#NUM!"},{"$error":"#NUM!"},{"$error":"#NUM!"},{"$error":"#NUM!"},{"$error":"#NUM!"},{"$error":"#NUM!"},{"$error":"#NUM!"},{"$error":"#NUM!"},{"$error":"#NUM!"},{"$error":"#NUM!"},{"$error":"#NUM!"},{"$error":"#NUM!"},{"$error":"#NUM!"},{"$error":"#NUM!"},{"$error":"#NUM!"},{"$error":"#NUM!"},{"$error":"#NUM!"},{"$error":"#NUM!"},{"$error":"#NUM!"},{"$error":"#NUM!"},{"$error":"#NUM!"},{"$error":"#NUM!"},{"$error":"#NUM!"},{"$error":"#NUM!"},{"$error":"#NUM!"},{"$error":"#NUM!"},{"$error":"#NUM!"},{"$error":"#NUM!"},{"$error":"#NUM!"},{"$error":"#NUM!"},{"$error":"#NUM!"},{"$error":"#NUM!"},{"$error":"#NUM!"},{"$error":"#NUM!"},{"$error":"#NUM!"},{"$error":"#NUM!"},{"$error":"#NUM!"},{"$error":"#NUM!"},{"$error":"#NUM!"},{"$error":"#NUM!"},{"$error":"#NUM!"},{"$error":"#NUM!"},{"$error":"#NUM!"},{"$error":"#NUM!"},{"$error":"#NUM!"},{"$error":"#NUM!"},{"$error":"#NUM!"},{"$error":"#NUM!"},{"$error":"#NUM!"},{"$error":"#NUM!"},{"$error":"#NUM!"},{"$error":"#NUM!"},{"$error":"#NUM!"},{"$error":"#NUM!"},{"$error":"#NUM!"},{"$error":"#NUM!"},{"$error":"#NUM!"},{"$error":"#NUM!"},{"$error":"#NUM!"},{"$error":"#NUM!"},{"$f":"KBE10-KBF10","v":{"$error":"#NUM!"}},{"$error":"#NUM!"},{"$error":"#NUM!"},{"$error":"#NUM!"},{"$error":"#NUM!"},{"$error":"#NUM!"},{"$error":"#NUM!"},{"$error":"#NUM!"},{"$error":"#NUM!"},{"$error":"#NUM!"},{"$error":"#NUM!"},{"$error":"#NUM!"},{"$error":"#NUM!"},{"$error":"#NUM!"},{"$error":"#NUM!"},{"$error":"#NUM!"},{"$error":"#NUM!"},{"$error":"#NUM!"},{"$error":"#NUM!"},{"$error":"#NUM!"},{"$error":"#NUM!"},{"$error":"#NUM!"},{"$error":"#NUM!"},{"$error":"#NUM!"},{"$error":"#NUM!"},{"$error":"#NUM!"},{"$error":"#NUM!"},{"$error":"#NUM!"},{"$error":"#NUM!"},{"$error":"#NUM!"},{"$error":"#NUM!"},{"$error":"#NUM!"},{"$error":"#NUM!"},{"$error":"#NUM!"},{"$error":"#NUM!"},{"$error":"#NUM!"},{"$error":"#NUM!"},{"$error":"#NUM!"},{"$error":"#NUM!"},{"$error":"#NUM!"},{"$error":"#NUM!"},{"$error":"#NUM!"},{"$error":"#NUM!"},{"$error":"#NUM!"},{"$error":"#NUM!"},{"$error":"#NUM!"},{"$error":"#NUM!"},{"$error":"#NUM!"},{"$error":"#NUM!"},{"$error":"#NUM!"},{"$error":"#NUM!"},{"$error":"#NUM!"},{"$error":"#NUM!"},{"$error":"#NUM!"},{"$error":"#NUM!"},{"$error":"#NUM!"},{"$error":"#NUM!"},{"$error":"#NUM!"},{"$error":"#NUM!"},{"$error":"#NUM!"},{"$error":"#NUM!"},{"$error":"#NUM!"},{"$error":"#NUM!"},{"$error":"#NUM!"},{"$f":"KDQ10-KDR10","v":{"$error":"#NUM!"}},{"$error":"#NUM!"},{"$error":"#NUM!"},{"$error":"#NUM!"},{"$error":"#NUM!"},{"$error":"#NUM!"},{"$error":"#NUM!"},{"$error":"#NUM!"},{"$error":"#NUM!"},{"$error":"#NUM!"},{"$error":"#NUM!"},{"$error":"#NUM!"},{"$error":"#NUM!"},{"$error":"#NUM!"},{"$error":"#NUM!"},{"$error":"#NUM!"},{"$error":"#NUM!"},{"$error":"#NUM!"},{"$error":"#NUM!"},{"$error":"#NUM!"},{"$error":"#NUM!"},{"$error":"#NUM!"},{"$error":"#NUM!"},{"$error":"#NUM!"},{"$error":"#NUM!"},{"$error":"#NUM!"},{"$error":"#NUM!"},{"$error":"#NUM!"},{"$error":"#NUM!"},{"$error":"#NUM!"},{"$error":"#NUM!"},{"$error":"#NUM!"},{"$error":"#NUM!"},{"$error":"#NUM!"},{"$error":"#NUM!"},{"$error":"#NUM!"},{"$error":"#NUM!"},{"$error":"#NUM!"},{"$error":"#NUM!"},{"$error":"#NUM!"},{"$error":"#NUM!"},{"$error":"#NUM!"},{"$error":"#NUM!"},{"$error":"#NUM!"},{"$error":"#NUM!"},{"$error":"#NUM!"},{"$error":"#NUM!"},{"$error":"#NUM!"},{"$error":"#NUM!"},{"$error":"#NUM!"},{"$error":"#NUM!"},{"$error":"#NUM!"},{"$error":"#NUM!"},{"$error":"#NUM!"},{"$error":"#NUM!"},{"$error":"#NUM!"},{"$error":"#NUM!"},{"$error":"#NUM!"},{"$error":"#NUM!"},{"$error":"#NUM!"},{"$error":"#NUM!"},{"$error":"#NUM!"},{"$error":"#NUM!"},{"$error":"#NUM!"},{"$f":"KGC10-KGD10","v":{"$error":"#NUM!"}},{"$error":"#NUM!"},{"$error":"#NUM!"},{"$error":"#NUM!"},{"$error":"#NUM!"},{"$error":"#NUM!"},{"$error":"#NUM!"},{"$error":"#NUM!"},{"$error":"#NUM!"},{"$error":"#NUM!"},{"$error":"#NUM!"},{"$error":"#NUM!"},{"$error":"#NUM!"},{"$error":"#NUM!"},{"$error":"#NUM!"},{"$error":"#NUM!"},{"$error":"#NUM!"},{"$error":"#NUM!"},{"$error":"#NUM!"},{"$error":"#NUM!"},{"$error":"#NUM!"},{"$error":"#NUM!"},{"$error":"#NUM!"},{"$error":"#NUM!"},{"$error":"#NUM!"},{"$error":"#NUM!"},{"$error":"#NUM!"},{"$error":"#NUM!"},{"$error":"#NUM!"},{"$error":"#NUM!"},{"$error":"#NUM!"},{"$error":"#NUM!"},{"$error":"#NUM!"},{"$error":"#NUM!"},{"$error":"#NUM!"},{"$error":"#NUM!"},{"$error":"#NUM!"},{"$error":"#NUM!"},{"$error":"#NUM!"},{"$error":"#NUM!"},{"$error":"#NUM!"},{"$error":"#NUM!"},{"$error":"#NUM!"},{"$error":"#NUM!"},{"$error":"#NUM!"},{"$error":"#NUM!"},{"$error":"#NUM!"},{"$error":"#NUM!"},{"$error":"#NUM!"},{"$error":"#NUM!"},{"$error":"#NUM!"},{"$error":"#NUM!"},{"$error":"#NUM!"},{"$error":"#NUM!"},{"$error":"#NUM!"},{"$error":"#NUM!"},{"$error":"#NUM!"},{"$error":"#NUM!"},{"$error":"#NUM!"},{"$error":"#NUM!"},{"$error":"#NUM!"},{"$error":"#NUM!"},{"$error":"#NUM!"},{"$error":"#NUM!"},{"$f":"KIO10-KIP10","v":{"$error":"#NUM!"}},{"$error":"#NUM!"},{"$error":"#NUM!"},{"$error":"#NUM!"},{"$error":"#NUM!"},{"$error":"#NUM!"},{"$error":"#NUM!"},{"$error":"#NUM!"},{"$error":"#NUM!"},{"$error":"#NUM!"},{"$error":"#NUM!"},{"$error":"#NUM!"},{"$error":"#NUM!"},{"$error":"#NUM!"},{"$error":"#NUM!"},{"$error":"#NUM!"},{"$error":"#NUM!"},{"$error":"#NUM!"},{"$error":"#NUM!"},{"$error":"#NUM!"},{"$error":"#NUM!"},{"$error":"#NUM!"},{"$error":"#NUM!"},{"$error":"#NUM!"},{"$error":"#NUM!"},{"$error":"#NUM!"},{"$error":"#NUM!"},{"$error":"#NUM!"},{"$error":"#NUM!"},{"$error":"#NUM!"},{"$error":"#NUM!"},{"$error":"#NUM!"},{"$error":"#NUM!"},{"$error":"#NUM!"},{"$error":"#NUM!"},{"$error":"#NUM!"},{"$error":"#NUM!"},{"$error":"#NUM!"},{"$error":"#NUM!"},{"$error":"#NUM!"},{"$error":"#NUM!"},{"$error":"#NUM!"},{"$error":"#NUM!"},{"$error":"#NUM!"},{"$error":"#NUM!"},{"$error":"#NUM!"},{"$error":"#NUM!"},{"$error":"#NUM!"},{"$error":"#NUM!"},{"$error":"#NUM!"},{"$error":"#NUM!"},{"$error":"#NUM!"},{"$error":"#NUM!"},{"$error":"#NUM!"},{"$error":"#NUM!"},{"$error":"#NUM!"},{"$error":"#NUM!"},{"$error":"#NUM!"},{"$error":"#NUM!"},{"$error":"#NUM!"},{"$error":"#NUM!"},{"$error":"#NUM!"},{"$error":"#NUM!"},{"$error":"#NUM!"},{"$f":"KLA10-KLB10","v":{"$error":"#NUM!"}},{"$error":"#NUM!"},{"$error":"#NUM!"},{"$error":"#NUM!"},{"$error":"#NUM!"},{"$error":"#NUM!"},{"$error":"#NUM!"},{"$error":"#NUM!"},{"$error":"#NUM!"},{"$error":"#NUM!"},{"$error":"#NUM!"},{"$error":"#NUM!"},{"$error":"#NUM!"},{"$error":"#NUM!"},{"$error":"#NUM!"},{"$error":"#NUM!"},{"$error":"#NUM!"},{"$error":"#NUM!"},{"$error":"#NUM!"},{"$error":"#NUM!"},{"$error":"#NUM!"},{"$error":"#NUM!"},{"$error":"#NUM!"},{"$error":"#NUM!"},{"$error":"#NUM!"},{"$error":"#NUM!"},{"$error":"#NUM!"},{"$error":"#NUM!"},{"$error":"#NUM!"},{"$error":"#NUM!"},{"$error":"#NUM!"},{"$error":"#NUM!"},{"$error":"#NUM!"},{"$error":"#NUM!"},{"$error":"#NUM!"},{"$error":"#NUM!"},{"$error":"#NUM!"},{"$error":"#NUM!"},{"$error":"#NUM!"},{"$error":"#NUM!"},{"$error":"#NUM!"},{"$error":"#NUM!"},{"$error":"#NUM!"},{"$error":"#NUM!"},{"$error":"#NUM!"},{"$error":"#NUM!"},{"$error":"#NUM!"},{"$error":"#NUM!"},{"$error":"#NUM!"},{"$error":"#NUM!"},{"$error":"#NUM!"},{"$error":"#NUM!"},{"$error":"#NUM!"},{"$error":"#NUM!"},{"$error":"#NUM!"},{"$error":"#NUM!"},{"$error":"#NUM!"},{"$error":"#NUM!"},{"$error":"#NUM!"},{"$error":"#NUM!"},{"$error":"#NUM!"},{"$error":"#NUM!"},{"$error":"#NUM!"},{"$error":"#NUM!"},{"$f":"KNM10-KNN10","v":{"$error":"#NUM!"}},{"$error":"#NUM!"},{"$error":"#NUM!"},{"$error":"#NUM!"},{"$error":"#NUM!"},{"$error":"#NUM!"},{"$error":"#NUM!"},{"$error":"#NUM!"},{"$error":"#NUM!"},{"$error":"#NUM!"},{"$error":"#NUM!"},{"$error":"#NUM!"},{"$error":"#NUM!"},{"$error":"#NUM!"},{"$error":"#NUM!"},{"$error":"#NUM!"},{"$error":"#NUM!"},{"$error":"#NUM!"},{"$error":"#NUM!"},{"$error":"#NUM!"},{"$error":"#NUM!"},{"$error":"#NUM!"},{"$error":"#NUM!"},{"$error":"#NUM!"},{"$error":"#NUM!"},{"$error":"#NUM!"},{"$error":"#NUM!"},{"$error":"#NUM!"},{"$error":"#NUM!"},{"$error":"#NUM!"},{"$error":"#NUM!"},{"$error":"#NUM!"},{"$error":"#NUM!"},{"$error":"#NUM!"},{"$error":"#NUM!"},{"$error":"#NUM!"},{"$error":"#NUM!"},{"$error":"#NUM!"},{"$error":"#NUM!"},{"$error":"#NUM!"},{"$error":"#NUM!"},{"$error":"#NUM!"},{"$error":"#NUM!"},{"$error":"#NUM!"},{"$error":"#NUM!"},{"$error":"#NUM!"},{"$error":"#NUM!"},{"$error":"#NUM!"},{"$error":"#NUM!"},{"$error":"#NUM!"},{"$error":"#NUM!"},{"$error":"#NUM!"},{"$error":"#NUM!"},{"$error":"#NUM!"},{"$error":"#NUM!"},{"$error":"#NUM!"},{"$error":"#NUM!"},{"$error":"#NUM!"},{"$error":"#NUM!"},{"$error":"#NUM!"},{"$error":"#NUM!"},{"$error":"#NUM!"},{"$error":"#NUM!"},{"$error":"#NUM!"},{"$f":"KPY10-KPZ10","v":{"$error":"#NUM!"}},{"$error":"#NUM!"},{"$error":"#NUM!"},{"$error":"#NUM!"},{"$error":"#NUM!"},{"$error":"#NUM!"},{"$error":"#NUM!"},{"$error":"#NUM!"},{"$error":"#NUM!"},{"$error":"#NUM!"},{"$error":"#NUM!"},{"$error":"#NUM!"},{"$error":"#NUM!"},{"$error":"#NUM!"},{"$error":"#NUM!"},{"$error":"#NUM!"},{"$error":"#NUM!"},{"$error":"#NUM!"},{"$error":"#NUM!"},{"$error":"#NUM!"},{"$error":"#NUM!"},{"$error":"#NUM!"},{"$error":"#NUM!"},{"$error":"#NUM!"},{"$error":"#NUM!"},{"$error":"#NUM!"},{"$error":"#NUM!"},{"$error":"#NUM!"},{"$error":"#NUM!"},{"$error":"#NUM!"},{"$error":"#NUM!"},{"$error":"#NUM!"},{"$error":"#NUM!"},{"$error":"#NUM!"},{"$error":"#NUM!"},{"$error":"#NUM!"},{"$error":"#NUM!"},{"$error":"#NUM!"},{"$error":"#NUM!"},{"$error":"#NUM!"},{"$error":"#NUM!"},{"$error":"#NUM!"},{"$error":"#NUM!"},{"$error":"#NUM!"},{"$error":"#NUM!"},{"$error":"#NUM!"},{"$error":"#NUM!"},{"$error":"#NUM!"},{"$error":"#NUM!"},{"$error":"#NUM!"},{"$error":"#NUM!"},{"$error":"#NUM!"},{"$error":"#NUM!"},{"$error":"#NUM!"},{"$error":"#NUM!"},{"$error":"#NUM!"},{"$error":"#NUM!"},{"$error":"#NUM!"},{"$error":"#NUM!"},{"$error":"#NUM!"},{"$error":"#NUM!"},{"$error":"#NUM!"},{"$error":"#NUM!"},{"$error":"#NUM!"},{"$f":"KSK10-KSL10","v":{"$error":"#NUM!"}},{"$error":"#NUM!"},{"$error":"#NUM!"},{"$error":"#NUM!"},{"$error":"#NUM!"},{"$error":"#NUM!"},{"$error":"#NUM!"},{"$error":"#NUM!"},{"$error":"#NUM!"},{"$error":"#NUM!"},{"$error":"#NUM!"},{"$error":"#NUM!"},{"$error":"#NUM!"},{"$error":"#NUM!"},{"$error":"#NUM!"},{"$error":"#NUM!"},{"$error":"#NUM!"},{"$error":"#NUM!"},{"$error":"#NUM!"},{"$error":"#NUM!"},{"$error":"#NUM!"},{"$error":"#NUM!"},{"$error":"#NUM!"},{"$error":"#NUM!"},{"$error":"#NUM!"},{"$error":"#NUM!"},{"$error":"#NUM!"},{"$error":"#NUM!"},{"$error":"#NUM!"},{"$error":"#NUM!"},{"$error":"#NUM!"},{"$error":"#NUM!"},{"$error":"#NUM!"},{"$error":"#NUM!"},{"$error":"#NUM!"},{"$error":"#NUM!"},{"$error":"#NUM!"},{"$error":"#NUM!"},{"$error":"#NUM!"},{"$error":"#NUM!"},{"$error":"#NUM!"},{"$error":"#NUM!"},{"$error":"#NUM!"},{"$error":"#NUM!"},{"$error":"#NUM!"},{"$error":"#NUM!"},{"$error":"#NUM!"},{"$error":"#NUM!"},{"$error":"#NUM!"},{"$error":"#NUM!"},{"$error":"#NUM!"},{"$error":"#NUM!"},{"$error":"#NUM!"},{"$error":"#NUM!"},{"$error":"#NUM!"},{"$error":"#NUM!"},{"$error":"#NUM!"},{"$error":"#NUM!"},{"$error":"#NUM!"},{"$error":"#NUM!"},{"$error":"#NUM!"},{"$error":"#NUM!"},{"$error":"#NUM!"},{"$error":"#NUM!"},{"$f":"KUW10-KUX10","v":{"$error":"#NUM!"}},{"$error":"#NUM!"},{"$error":"#NUM!"},{"$error":"#NUM!"},{"$error":"#NUM!"},{"$error":"#NUM!"},{"$error":"#NUM!"},{"$error":"#NUM!"},{"$error":"#NUM!"},{"$error":"#NUM!"},{"$error":"#NUM!"},{"$error":"#NUM!"},{"$error":"#NUM!"},{"$error":"#NUM!"},{"$error":"#NUM!"},{"$error":"#NUM!"},{"$error":"#NUM!"},{"$error":"#NUM!"},{"$error":"#NUM!"},{"$error":"#NUM!"},{"$error":"#NUM!"},{"$error":"#NUM!"},{"$error":"#NUM!"},{"$error":"#NUM!"},{"$error":"#NUM!"},{"$error":"#NUM!"},{"$error":"#NUM!"},{"$error":"#NUM!"},{"$error":"#NUM!"},{"$error":"#NUM!"},{"$error":"#NUM!"},{"$error":"#NUM!"},{"$error":"#NUM!"},{"$error":"#NUM!"},{"$error":"#NUM!"},{"$error":"#NUM!"},{"$error":"#NUM!"},{"$error":"#NUM!"},{"$error":"#NUM!"},{"$error":"#NUM!"},{"$error":"#NUM!"},{"$error":"#NUM!"},{"$error":"#NUM!"},{"$error":"#NUM!"},{"$error":"#NUM!"},{"$error":"#NUM!"},{"$error":"#NUM!"},{"$error":"#NUM!"},{"$error":"#NUM!"},{"$error":"#NUM!"},{"$error":"#NUM!"},{"$error":"#NUM!"},{"$error":"#NUM!"},{"$error":"#NUM!"},{"$error":"#NUM!"},{"$error":"#NUM!"},{"$error":"#NUM!"},{"$error":"#NUM!"},{"$error":"#NUM!"},{"$error":"#NUM!"},{"$error":"#NUM!"},{"$error":"#NUM!"},{"$error":"#NUM!"},{"$error":"#NUM!"},{"$f":"KXI10-KXJ10","v":{"$error":"#NUM!"}},{"$error":"#NUM!"},{"$error":"#NUM!"},{"$error":"#NUM!"},{"$error":"#NUM!"},{"$error":"#NUM!"},{"$error":"#NUM!"},{"$error":"#NUM!"},{"$error":"#NUM!"},{"$error":"#NUM!"},{"$error":"#NUM!"},{"$error":"#NUM!"},{"$error":"#NUM!"},{"$error":"#NUM!"},{"$error":"#NUM!"},{"$error":"#NUM!"},{"$error":"#NUM!"},{"$error":"#NUM!"},{"$error":"#NUM!"},{"$error":"#NUM!"},{"$error":"#NUM!"},{"$error":"#NUM!"},{"$error":"#NUM!"},{"$error":"#NUM!"},{"$error":"#NUM!"},{"$error":"#NUM!"},{"$error":"#NUM!"},{"$error":"#NUM!"},{"$error":"#NUM!"},{"$error":"#NUM!"},{"$error":"#NUM!"},{"$error":"#NUM!"},{"$error":"#NUM!"},{"$error":"#NUM!"},{"$error":"#NUM!"},{"$error":"#NUM!"},{"$error":"#NUM!"},{"$error":"#NUM!"},{"$error":"#NUM!"},{"$error":"#NUM!"},{"$error":"#NUM!"},{"$error":"#NUM!"},{"$error":"#NUM!"},{"$error":"#NUM!"},{"$error":"#NUM!"},{"$error":"#NUM!"},{"$error":"#NUM!"},{"$error":"#NUM!"},{"$error":"#NUM!"},{"$error":"#NUM!"},{"$error":"#NUM!"},{"$error":"#NUM!"},{"$error":"#NUM!"},{"$error":"#NUM!"},{"$error":"#NUM!"},{"$error":"#NUM!"},{"$error":"#NUM!"},{"$error":"#NUM!"},{"$error":"#NUM!"},{"$error":"#NUM!"},{"$error":"#NUM!"},{"$error":"#NUM!"},{"$error":"#NUM!"},{"$error":"#NUM!"},{"$f":"KZU10-KZV10","v":{"$error":"#NUM!"}},{"$error":"#NUM!"},{"$error":"#NUM!"},{"$error":"#NUM!"},{"$error":"#NUM!"},{"$error":"#NUM!"},{"$error":"#NUM!"},{"$error":"#NUM!"},{"$error":"#NUM!"},{"$error":"#NUM!"},{"$error":"#NUM!"},{"$error":"#NUM!"},{"$error":"#NUM!"},{"$error":"#NUM!"},{"$error":"#NUM!"},{"$error":"#NUM!"},{"$error":"#NUM!"},{"$error":"#NUM!"},{"$error":"#NUM!"},{"$error":"#NUM!"},{"$error":"#NUM!"},{"$error":"#NUM!"},{"$error":"#NUM!"},{"$error":"#NUM!"},{"$error":"#NUM!"},{"$error":"#NUM!"},{"$error":"#NUM!"},{"$error":"#NUM!"},{"$error":"#NUM!"},{"$error":"#NUM!"},{"$error":"#NUM!"},{"$error":"#NUM!"},{"$error":"#NUM!"},{"$error":"#NUM!"},{"$error":"#NUM!"},{"$error":"#NUM!"},{"$error":"#NUM!"},{"$error":"#NUM!"},{"$error":"#NUM!"},{"$error":"#NUM!"},{"$error":"#NUM!"},{"$error":"#NUM!"},{"$error":"#NUM!"},{"$error":"#NUM!"},{"$error":"#NUM!"},{"$error":"#NUM!"},{"$error":"#NUM!"},{"$error":"#NUM!"},{"$error":"#NUM!"},{"$error":"#NUM!"},{"$error":"#NUM!"},{"$error":"#NUM!"},{"$error":"#NUM!"},{"$error":"#NUM!"},{"$error":"#NUM!"},{"$error":"#NUM!"},{"$error":"#NUM!"},{"$error":"#NUM!"},{"$error":"#NUM!"},{"$error":"#NUM!"},{"$error":"#NUM!"},{"$error":"#NUM!"},{"$error":"#NUM!"},{"$error":"#NUM!"},{"$f":"LCG10-LCH10","v":{"$error":"#NUM!"}},{"$error":"#NUM!"},{"$error":"#NUM!"},{"$error":"#NUM!"},{"$error":"#NUM!"},{"$error":"#NUM!"},{"$error":"#NUM!"},{"$error":"#NUM!"},{"$error":"#NUM!"},{"$error":"#NUM!"},{"$error":"#NUM!"},{"$error":"#NUM!"},{"$error":"#NUM!"},{"$error":"#NUM!"},{"$error":"#NUM!"},{"$error":"#NUM!"},{"$error":"#NUM!"},{"$error":"#NUM!"},{"$error":"#NUM!"},{"$error":"#NUM!"},{"$error":"#NUM!"},{"$error":"#NUM!"},{"$error":"#NUM!"},{"$error":"#NUM!"},{"$error":"#NUM!"},{"$error":"#NUM!"},{"$error":"#NUM!"},{"$error":"#NUM!"},{"$error":"#NUM!"},{"$error":"#NUM!"},{"$error":"#NUM!"},{"$error":"#NUM!"},{"$error":"#NUM!"},{"$error":"#NUM!"},{"$error":"#NUM!"},{"$error":"#NUM!"},{"$error":"#NUM!"},{"$error":"#NUM!"},{"$error":"#NUM!"},{"$error":"#NUM!"},{"$error":"#NUM!"},{"$error":"#NUM!"},{"$error":"#NUM!"},{"$error":"#NUM!"},{"$error":"#NUM!"},{"$error":"#NUM!"},{"$error":"#NUM!"},{"$error":"#NUM!"},{"$error":"#NUM!"},{"$error":"#NUM!"},{"$error":"#NUM!"},{"$error":"#NUM!"},{"$error":"#NUM!"},{"$error":"#NUM!"},{"$error":"#NUM!"},{"$error":"#NUM!"},{"$error":"#NUM!"},{"$error":"#NUM!"},{"$error":"#NUM!"},{"$error":"#NUM!"},{"$error":"#NUM!"},{"$error":"#NUM!"},{"$error":"#NUM!"},{"$error":"#NUM!"},{"$f":"LES10-LET10","v":{"$error":"#NUM!"}},{"$error":"#NUM!"},{"$error":"#NUM!"},{"$error":"#NUM!"},{"$error":"#NUM!"},{"$error":"#NUM!"},{"$error":"#NUM!"},{"$error":"#NUM!"},{"$error":"#NUM!"},{"$error":"#NUM!"},{"$error":"#NUM!"},{"$error":"#NUM!"},{"$error":"#NUM!"},{"$error":"#NUM!"},{"$error":"#NUM!"},{"$error":"#NUM!"},{"$error":"#NUM!"},{"$error":"#NUM!"},{"$error":"#NUM!"},{"$error":"#NUM!"},{"$error":"#NUM!"},{"$error":"#NUM!"},{"$error":"#NUM!"},{"$error":"#NUM!"},{"$error":"#NUM!"},{"$error":"#NUM!"},{"$error":"#NUM!"},{"$error":"#NUM!"},{"$error":"#NUM!"},{"$error":"#NUM!"},{"$error":"#NUM!"},{"$error":"#NUM!"},{"$error":"#NUM!"},{"$error":"#NUM!"},{"$error":"#NUM!"},{"$error":"#NUM!"},{"$error":"#NUM!"},{"$error":"#NUM!"},{"$error":"#NUM!"},{"$error":"#NUM!"},{"$error":"#NUM!"},{"$error":"#NUM!"},{"$error":"#NUM!"},{"$error":"#NUM!"},{"$error":"#NUM!"},{"$error":"#NUM!"},{"$error":"#NUM!"},{"$error":"#NUM!"},{"$error":"#NUM!"},{"$error":"#NUM!"},{"$error":"#NUM!"},{"$error":"#NUM!"},{"$error":"#NUM!"},{"$error":"#NUM!"},{"$error":"#NUM!"},{"$error":"#NUM!"},{"$error":"#NUM!"},{"$error":"#NUM!"},{"$error":"#NUM!"},{"$error":"#NUM!"},{"$error":"#NUM!"},{"$error":"#NUM!"},{"$error":"#NUM!"},{"$error":"#NUM!"},{"$f":"LHE10-LHF10","v":{"$error":"#NUM!"}},{"$error":"#NUM!"},{"$error":"#NUM!"},{"$error":"#NUM!"},{"$error":"#NUM!"},{"$error":"#NUM!"},{"$error":"#NUM!"},{"$error":"#NUM!"},{"$error":"#NUM!"},{"$error":"#NUM!"},{"$error":"#NUM!"},{"$error":"#NUM!"},{"$error":"#NUM!"},{"$error":"#NUM!"},{"$error":"#NUM!"},{"$error":"#NUM!"},{"$error":"#NUM!"},{"$error":"#NUM!"},{"$error":"#NUM!"},{"$error":"#NUM!"},{"$error":"#NUM!"},{"$error":"#NUM!"},{"$error":"#NUM!"},{"$error":"#NUM!"},{"$error":"#NUM!"},{"$error":"#NUM!"},{"$error":"#NUM!"},{"$error":"#NUM!"},{"$error":"#NUM!"},{"$error":"#NUM!"},{"$error":"#NUM!"},{"$error":"#NUM!"},{"$error":"#NUM!"},{"$error":"#NUM!"},{"$error":"#NUM!"},{"$error":"#NUM!"},{"$error":"#NUM!"},{"$error":"#NUM!"},{"$error":"#NUM!"},{"$error":"#NUM!"},{"$error":"#NUM!"},{"$error":"#NUM!"},{"$error":"#NUM!"},{"$error":"#NUM!"},{"$error":"#NUM!"},{"$error":"#NUM!"},{"$error":"#NUM!"},{"$error":"#NUM!"},{"$error":"#NUM!"},{"$error":"#NUM!"},{"$error":"#NUM!"},{"$error":"#NUM!"},{"$error":"#NUM!"},{"$error":"#NUM!"},{"$error":"#NUM!"},{"$error":"#NUM!"},{"$error":"#NUM!"},{"$error":"#NUM!"},{"$error":"#NUM!"},{"$error":"#NUM!"},{"$error":"#NUM!"},{"$error":"#NUM!"},{"$error":"#NUM!"},{"$error":"#NUM!"},{"$f":"LJQ10-LJR10","v":{"$error":"#NUM!"}},{"$error":"#NUM!"},{"$error":"#NUM!"},{"$error":"#NUM!"},{"$error":"#NUM!"},{"$error":"#NUM!"},{"$error":"#NUM!"},{"$error":"#NUM!"},{"$error":"#NUM!"},{"$error":"#NUM!"},{"$error":"#NUM!"},{"$error":"#NUM!"},{"$error":"#NUM!"},{"$error":"#NUM!"},{"$error":"#NUM!"},{"$error":"#NUM!"},{"$error":"#NUM!"},{"$error":"#NUM!"},{"$error":"#NUM!"},{"$error":"#NUM!"},{"$error":"#NUM!"},{"$error":"#NUM!"},{"$error":"#NUM!"},{"$error":"#NUM!"},{"$error":"#NUM!"},{"$error":"#NUM!"},{"$error":"#NUM!"},{"$error":"#NUM!"},{"$error":"#NUM!"},{"$error":"#NUM!"},{"$error":"#NUM!"},{"$error":"#NUM!"},{"$error":"#NUM!"},{"$error":"#NUM!"},{"$error":"#NUM!"},{"$error":"#NUM!"},{"$error":"#NUM!"},{"$error":"#NUM!"},{"$error":"#NUM!"},{"$error":"#NUM!"},{"$error":"#NUM!"},{"$error":"#NUM!"},{"$error":"#NUM!"},{"$error":"#NUM!"},{"$error":"#NUM!"},{"$error":"#NUM!"},{"$error":"#NUM!"},{"$error":"#NUM!"},{"$error":"#NUM!"},{"$error":"#NUM!"},{"$error":"#NUM!"},{"$error":"#NUM!"},{"$error":"#NUM!"},{"$error":"#NUM!"},{"$error":"#NUM!"},{"$error":"#NUM!"},{"$error":"#NUM!"},{"$error":"#NUM!"},{"$error":"#NUM!"},{"$error":"#NUM!"},{"$error":"#NUM!"},{"$error":"#NUM!"},{"$error":"#NUM!"},{"$error":"#NUM!"},{"$f":"LMC10-LMD10","v":{"$error":"#NUM!"}},{"$error":"#NUM!"},{"$error":"#NUM!"},{"$error":"#NUM!"},{"$error":"#NUM!"},{"$error":"#NUM!"},{"$error":"#NUM!"},{"$error":"#NUM!"},{"$error":"#NUM!"},{"$error":"#NUM!"},{"$error":"#NUM!"},{"$error":"#NUM!"},{"$error":"#NUM!"},{"$error":"#NUM!"},{"$error":"#NUM!"},{"$error":"#NUM!"},{"$error":"#NUM!"},{"$error":"#NUM!"},{"$error":"#NUM!"},{"$error":"#NUM!"},{"$error":"#NUM!"},{"$error":"#NUM!"},{"$error":"#NUM!"},{"$error":"#NUM!"},{"$error":"#NUM!"},{"$error":"#NUM!"},{"$error":"#NUM!"},{"$error":"#NUM!"},{"$error":"#NUM!"},{"$error":"#NUM!"},{"$error":"#NUM!"},{"$error":"#NUM!"},{"$error":"#NUM!"},{"$error":"#NUM!"},{"$error":"#NUM!"},{"$error":"#NUM!"},{"$error":"#NUM!"},{"$error":"#NUM!"},{"$error":"#NUM!"},{"$error":"#NUM!"},{"$error":"#NUM!"},{"$error":"#NUM!"},{"$error":"#NUM!"},{"$error":"#NUM!"},{"$error":"#NUM!"},{"$error":"#NUM!"},{"$error":"#NUM!"},{"$error":"#NUM!"},{"$error":"#NUM!"},{"$error":"#NUM!"},{"$error":"#NUM!"},{"$error":"#NUM!"},{"$error":"#NUM!"},{"$error":"#NUM!"},{"$error":"#NUM!"},{"$error":"#NUM!"},{"$error":"#NUM!"},{"$error":"#NUM!"},{"$error":"#NUM!"},{"$error":"#NUM!"},{"$error":"#NUM!"},{"$error":"#NUM!"},{"$error":"#NUM!"},{"$error":"#NUM!"},{"$f":"LOO10-LOP10","v":{"$error":"#NUM!"}},{"$error":"#NUM!"},{"$error":"#NUM!"},{"$error":"#NUM!"},{"$error":"#NUM!"},{"$error":"#NUM!"},{"$error":"#NUM!"},{"$error":"#NUM!"},{"$error":"#NUM!"},{"$error":"#NUM!"},{"$error":"#NUM!"},{"$error":"#NUM!"},{"$error":"#NUM!"},{"$error":"#NUM!"},{"$error":"#NUM!"},{"$error":"#NUM!"},{"$error":"#NUM!"},{"$error":"#NUM!"},{"$error":"#NUM!"},{"$error":"#NUM!"},{"$error":"#NUM!"},{"$error":"#NUM!"},{"$error":"#NUM!"},{"$error":"#NUM!"},{"$error":"#NUM!"},{"$error":"#NUM!"},{"$error":"#NUM!"},{"$error":"#NUM!"},{"$error":"#NUM!"},{"$error":"#NUM!"},{"$error":"#NUM!"},{"$error":"#NUM!"},{"$error":"#NUM!"},{"$error":"#NUM!"},{"$error":"#NUM!"},{"$error":"#NUM!"},{"$error":"#NUM!"},{"$error":"#NUM!"},{"$error":"#NUM!"},{"$error":"#NUM!"},{"$error":"#NUM!"},{"$error":"#NUM!"},{"$error":"#NUM!"},{"$error":"#NUM!"},{"$error":"#NUM!"},{"$error":"#NUM!"},{"$error":"#NUM!"},{"$error":"#NUM!"},{"$error":"#NUM!"},{"$error":"#NUM!"},{"$error":"#NUM!"},{"$error":"#NUM!"},{"$error":"#NUM!"},{"$error":"#NUM!"},{"$error":"#NUM!"},{"$error":"#NUM!"},{"$error":"#NUM!"},{"$error":"#NUM!"},{"$error":"#NUM!"},{"$error":"#NUM!"},{"$error":"#NUM!"},{"$error":"#NUM!"},{"$error":"#NUM!"},{"$error":"#NUM!"},{"$f":"LRA10-LRB10","v":{"$error":"#NUM!"}},{"$error":"#NUM!"},{"$error":"#NUM!"},{"$error":"#NUM!"},{"$error":"#NUM!"},{"$error":"#NUM!"},{"$error":"#NUM!"},{"$error":"#NUM!"},{"$error":"#NUM!"},{"$error":"#NUM!"},{"$error":"#NUM!"},{"$error":"#NUM!"},{"$error":"#NUM!"},{"$error":"#NUM!"},{"$error":"#NUM!"},{"$error":"#NUM!"},{"$error":"#NUM!"},{"$error":"#NUM!"},{"$error":"#NUM!"},{"$error":"#NUM!"},{"$error":"#NUM!"},{"$error":"#NUM!"},{"$error":"#NUM!"},{"$error":"#NUM!"},{"$error":"#NUM!"},{"$error":"#NUM!"},{"$error":"#NUM!"},{"$error":"#NUM!"},{"$error":"#NUM!"},{"$error":"#NUM!"},{"$error":"#NUM!"},{"$error":"#NUM!"},{"$error":"#NUM!"},{"$error":"#NUM!"},{"$error":"#NUM!"},{"$error":"#NUM!"},{"$error":"#NUM!"},{"$error":"#NUM!"},{"$error":"#NUM!"},{"$error":"#NUM!"},{"$error":"#NUM!"},{"$error":"#NUM!"},{"$error":"#NUM!"},{"$error":"#NUM!"},{"$error":"#NUM!"},{"$error":"#NUM!"},{"$error":"#NUM!"},{"$error":"#NUM!"},{"$error":"#NUM!"},{"$error":"#NUM!"},{"$error":"#NUM!"},{"$error":"#NUM!"},{"$error":"#NUM!"},{"$error":"#NUM!"},{"$error":"#NUM!"},{"$error":"#NUM!"},{"$error":"#NUM!"},{"$error":"#NUM!"},{"$error":"#NUM!"},{"$error":"#NUM!"},{"$error":"#NUM!"},{"$error":"#NUM!"},{"$error":"#NUM!"},{"$error":"#NUM!"},{"$f":"LTM10-LTN10","v":{"$error":"#NUM!"}},{"$error":"#NUM!"},{"$error":"#NUM!"},{"$error":"#NUM!"},{"$error":"#NUM!"},{"$error":"#NUM!"},{"$error":"#NUM!"},{"$error":"#NUM!"},{"$error":"#NUM!"},{"$error":"#NUM!"},{"$error":"#NUM!"},{"$error":"#NUM!"},{"$error":"#NUM!"},{"$error":"#NUM!"},{"$error":"#NUM!"},{"$error":"#NUM!"},{"$error":"#NUM!"},{"$error":"#NUM!"},{"$error":"#NUM!"},{"$error":"#NUM!"},{"$error":"#NUM!"},{"$error":"#NUM!"},{"$error":"#NUM!"},{"$error":"#NUM!"},{"$error":"#NUM!"},{"$error":"#NUM!"},{"$error":"#NUM!"},{"$error":"#NUM!"},{"$error":"#NUM!"},{"$error":"#NUM!"},{"$error":"#NUM!"},{"$error":"#NUM!"},{"$error":"#NUM!"},{"$error":"#NUM!"},{"$error":"#NUM!"},{"$error":"#NUM!"},{"$error":"#NUM!"},{"$error":"#NUM!"},{"$error":"#NUM!"},{"$error":"#NUM!"},{"$error":"#NUM!"},{"$error":"#NUM!"},{"$error":"#NUM!"},{"$error":"#NUM!"},{"$error":"#NUM!"},{"$error":"#NUM!"},{"$error":"#NUM!"},{"$error":"#NUM!"},{"$error":"#NUM!"},{"$error":"#NUM!"},{"$error":"#NUM!"},{"$error":"#NUM!"},{"$error":"#NUM!"},{"$error":"#NUM!"},{"$error":"#NUM!"},{"$error":"#NUM!"},{"$error":"#NUM!"},{"$error":"#NUM!"},{"$error":"#NUM!"},{"$error":"#NUM!"},{"$error":"#NUM!"},{"$error":"#NUM!"},{"$error":"#NUM!"},{"$error":"#NUM!"},{"$f":"LVY10-LVZ10","v":{"$error":"#NUM!"}},{"$error":"#NUM!"},{"$error":"#NUM!"},{"$error":"#NUM!"},{"$error":"#NUM!"},{"$error":"#NUM!"},{"$error":"#NUM!"},{"$error":"#NUM!"},{"$error":"#NUM!"},{"$error":"#NUM!"},{"$error":"#NUM!"},{"$error":"#NUM!"},{"$error":"#NUM!"},{"$error":"#NUM!"},{"$error":"#NUM!"},{"$error":"#NUM!"},{"$error":"#NUM!"},{"$error":"#NUM!"},{"$error":"#NUM!"},{"$error":"#NUM!"},{"$error":"#NUM!"},{"$error":"#NUM!"},{"$error":"#NUM!"},{"$error":"#NUM!"},{"$error":"#NUM!"},{"$error":"#NUM!"},{"$error":"#NUM!"},{"$error":"#NUM!"},{"$error":"#NUM!"},{"$error":"#NUM!"},{"$error":"#NUM!"},{"$error":"#NUM!"},{"$error":"#NUM!"},{"$error":"#NUM!"},{"$error":"#NUM!"},{"$error":"#NUM!"},{"$error":"#NUM!"},{"$error":"#NUM!"},{"$error":"#NUM!"},{"$error":"#NUM!"},{"$error":"#NUM!"},{"$error":"#NUM!"},{"$error":"#NUM!"},{"$error":"#NUM!"},{"$error":"#NUM!"},{"$error":"#NUM!"},{"$error":"#NUM!"},{"$error":"#NUM!"},{"$error":"#NUM!"},{"$error":"#NUM!"},{"$error":"#NUM!"},{"$error":"#NUM!"},{"$error":"#NUM!"},{"$error":"#NUM!"},{"$error":"#NUM!"},{"$error":"#NUM!"},{"$error":"#NUM!"},{"$error":"#NUM!"},{"$error":"#NUM!"},{"$error":"#NUM!"},{"$error":"#NUM!"},{"$error":"#NUM!"},{"$error":"#NUM!"},{"$error":"#NUM!"},{"$f":"LYK10-LYL10","v":{"$error":"#NUM!"}},{"$error":"#NUM!"},{"$error":"#NUM!"},{"$error":"#NUM!"},{"$error":"#NUM!"},{"$error":"#NUM!"},{"$error":"#NUM!"},{"$error":"#NUM!"},{"$error":"#NUM!"},{"$error":"#NUM!"},{"$error":"#NUM!"},{"$error":"#NUM!"},{"$error":"#NUM!"},{"$error":"#NUM!"},{"$error":"#NUM!"},{"$error":"#NUM!"},{"$error":"#NUM!"},{"$error":"#NUM!"},{"$error":"#NUM!"},{"$error":"#NUM!"},{"$error":"#NUM!"},{"$error":"#NUM!"},{"$error":"#NUM!"},{"$error":"#NUM!"},{"$error":"#NUM!"},{"$error":"#NUM!"},{"$error":"#NUM!"},{"$error":"#NUM!"},{"$error":"#NUM!"},{"$error":"#NUM!"},{"$error":"#NUM!"},{"$error":"#NUM!"},{"$error":"#NUM!"},{"$error":"#NUM!"},{"$error":"#NUM!"},{"$error":"#NUM!"},{"$error":"#NUM!"},{"$error":"#NUM!"},{"$error":"#NUM!"},{"$error":"#NUM!"},{"$error":"#NUM!"},{"$error":"#NUM!"},{"$error":"#NUM!"},{"$error":"#NUM!"},{"$error":"#NUM!"},{"$error":"#NUM!"},{"$error":"#NUM!"},{"$error":"#NUM!"},{"$error":"#NUM!"},{"$error":"#NUM!"},{"$error":"#NUM!"},{"$error":"#NUM!"},{"$error":"#NUM!"},{"$error":"#NUM!"},{"$error":"#NUM!"},{"$error":"#NUM!"},{"$error":"#NUM!"},{"$error":"#NUM!"},{"$error":"#NUM!"},{"$error":"#NUM!"},{"$error":"#NUM!"},{"$error":"#NUM!"},{"$error":"#NUM!"},{"$error":"#NUM!"},{"$f":"MAW10-MAX10","v":{"$error":"#NUM!"}},{"$error":"#NUM!"},{"$error":"#NUM!"},{"$error":"#NUM!"},{"$error":"#NUM!"},{"$error":"#NUM!"},{"$error":"#NUM!"},{"$error":"#NUM!"},{"$error":"#NUM!"},{"$error":"#NUM!"},{"$error":"#NUM!"},{"$error":"#NUM!"},{"$error":"#NUM!"},{"$error":"#NUM!"},{"$error":"#NUM!"},{"$error":"#NUM!"},{"$error":"#NUM!"},{"$error":"#NUM!"},{"$error":"#NUM!"},{"$error":"#NUM!"},{"$error":"#NUM!"},{"$error":"#NUM!"},{"$error":"#NUM!"},{"$error":"#NUM!"},{"$error":"#NUM!"},{"$error":"#NUM!"},{"$error":"#NUM!"},{"$error":"#NUM!"},{"$error":"#NUM!"},{"$error":"#NUM!"},{"$error":"#NUM!"},{"$error":"#NUM!"},{"$error":"#NUM!"},{"$error":"#NUM!"},{"$error":"#NUM!"},{"$error":"#NUM!"},{"$error":"#NUM!"},{"$error":"#NUM!"},{"$error":"#NUM!"},{"$error":"#NUM!"},{"$error":"#NUM!"},{"$error":"#NUM!"},{"$error":"#NUM!"},{"$error":"#NUM!"},{"$error":"#NUM!"},{"$error":"#NUM!"},{"$error":"#NUM!"},{"$error":"#NUM!"},{"$error":"#NUM!"},{"$error":"#NUM!"},{"$error":"#NUM!"},{"$error":"#NUM!"},{"$error":"#NUM!"},{"$error":"#NUM!"},{"$error":"#NUM!"},{"$error":"#NUM!"},{"$error":"#NUM!"},{"$error":"#NUM!"},{"$error":"#NUM!"},{"$error":"#NUM!"},{"$error":"#NUM!"},{"$error":"#NUM!"},{"$error":"#NUM!"},{"$error":"#NUM!"},{"$f":"MDI10-MDJ10","v":{"$error":"#NUM!"}},{"$error":"#NUM!"},{"$error":"#NUM!"},{"$error":"#NUM!"},{"$error":"#NUM!"},{"$error":"#NUM!"},{"$error":"#NUM!"},{"$error":"#NUM!"},{"$error":"#NUM!"},{"$error":"#NUM!"},{"$error":"#NUM!"},{"$error":"#NUM!"},{"$error":"#NUM!"},{"$error":"#NUM!"},{"$error":"#NUM!"},{"$error":"#NUM!"},{"$error":"#NUM!"},{"$error":"#NUM!"},{"$error":"#NUM!"},{"$error":"#NUM!"},{"$error":"#NUM!"},{"$error":"#NUM!"},{"$error":"#NUM!"},{"$error":"#NUM!"},{"$error":"#NUM!"},{"$error":"#NUM!"},{"$error":"#NUM!"},{"$error":"#NUM!"},{"$error":"#NUM!"},{"$error":"#NUM!"},{"$error":"#NUM!"},{"$error":"#NUM!"},{"$error":"#NUM!"},{"$error":"#NUM!"},{"$error":"#NUM!"},{"$error":"#NUM!"},{"$error":"#NUM!"},{"$error":"#NUM!"},{"$error":"#NUM!"},{"$error":"#NUM!"},{"$error":"#NUM!"},{"$error":"#NUM!"},{"$error":"#NUM!"},{"$error":"#NUM!"},{"$error":"#NUM!"},{"$error":"#NUM!"},{"$error":"#NUM!"},{"$error":"#NUM!"},{"$error":"#NUM!"},{"$error":"#NUM!"},{"$error":"#NUM!"},{"$error":"#NUM!"},{"$error":"#NUM!"},{"$error":"#NUM!"},{"$error":"#NUM!"},{"$error":"#NUM!"},{"$error":"#NUM!"},{"$error":"#NUM!"},{"$error":"#NUM!"},{"$error":"#NUM!"},{"$error":"#NUM!"},{"$error":"#NUM!"},{"$error":"#NUM!"},{"$error":"#NUM!"},{"$f":"MFU10-MFV10","v":{"$error":"#NUM!"}},{"$error":"#NUM!"},{"$error":"#NUM!"},{"$error":"#NUM!"},{"$error":"#NUM!"},{"$error":"#NUM!"},{"$error":"#NUM!"},{"$error":"#NUM!"},{"$error":"#NUM!"},{"$error":"#NUM!"},{"$error":"#NUM!"},{"$error":"#NUM!"},{"$error":"#NUM!"},{"$error":"#NUM!"},{"$error":"#NUM!"},{"$error":"#NUM!"},{"$error":"#NUM!"},{"$error":"#NUM!"},{"$error":"#NUM!"},{"$error":"#NUM!"},{"$error":"#NUM!"},{"$error":"#NUM!"},{"$error":"#NUM!"},{"$error":"#NUM!"},{"$error":"#NUM!"},{"$error":"#NUM!"},{"$error":"#NUM!"},{"$error":"#NUM!"},{"$error":"#NUM!"},{"$error":"#NUM!"},{"$error":"#NUM!"},{"$error":"#NUM!"},{"$error":"#NUM!"},{"$error":"#NUM!"},{"$error":"#NUM!"},{"$error":"#NUM!"},{"$error":"#NUM!"},{"$error":"#NUM!"},{"$error":"#NUM!"},{"$error":"#NUM!"},{"$error":"#NUM!"},{"$error":"#NUM!"},{"$error":"#NUM!"},{"$error":"#NUM!"},{"$error":"#NUM!"},{"$error":"#NUM!"},{"$error":"#NUM!"},{"$error":"#NUM!"},{"$error":"#NUM!"},{"$error":"#NUM!"},{"$error":"#NUM!"},{"$error":"#NUM!"},{"$error":"#NUM!"},{"$error":"#NUM!"},{"$error":"#NUM!"},{"$error":"#NUM!"},{"$error":"#NUM!"},{"$error":"#NUM!"},{"$error":"#NUM!"},{"$error":"#NUM!"},{"$error":"#NUM!"},{"$error":"#NUM!"},{"$error":"#NUM!"},{"$error":"#NUM!"},{"$f":"MIG10-MIH10","v":{"$error":"#NUM!"}},{"$error":"#NUM!"},{"$error":"#NUM!"},{"$error":"#NUM!"},{"$error":"#NUM!"},{"$error":"#NUM!"},{"$error":"#NUM!"},{"$error":"#NUM!"},{"$error":"#NUM!"},{"$error":"#NUM!"},{"$error":"#NUM!"},{"$error":"#NUM!"},{"$error":"#NUM!"},{"$error":"#NUM!"},{"$error":"#NUM!"},{"$error":"#NUM!"},{"$error":"#NUM!"},{"$error":"#NUM!"},{"$error":"#NUM!"},{"$error":"#NUM!"},{"$error":"#NUM!"},{"$error":"#NUM!"},{"$error":"#NUM!"},{"$error":"#NUM!"},{"$error":"#NUM!"},{"$error":"#NUM!"},{"$error":"#NUM!"},{"$error":"#NUM!"},{"$error":"#NUM!"},{"$error":"#NUM!"},{"$error":"#NUM!"},{"$error":"#NUM!"},{"$error":"#NUM!"},{"$error":"#NUM!"},{"$error":"#NUM!"},{"$error":"#NUM!"},{"$error":"#NUM!"},{"$error":"#NUM!"},{"$error":"#NUM!"},{"$error":"#NUM!"},{"$error":"#NUM!"},{"$error":"#NUM!"},{"$error":"#NUM!"},{"$error":"#NUM!"},{"$error":"#NUM!"},{"$error":"#NUM!"},{"$error":"#NUM!"},{"$error":"#NUM!"},{"$error":"#NUM!"},{"$error":"#NUM!"},{"$error":"#NUM!"},{"$error":"#NUM!"},{"$error":"#NUM!"},{"$error":"#NUM!"},{"$error":"#NUM!"},{"$error":"#NUM!"},{"$error":"#NUM!"},{"$error":"#NUM!"},{"$error":"#NUM!"},{"$error":"#NUM!"},{"$error":"#NUM!"},{"$error":"#NUM!"},{"$error":"#NUM!"},{"$error":"#NUM!"},{"$f":"MKS10-MKT10","v":{"$error":"#NUM!"}},{"$error":"#NUM!"},{"$error":"#NUM!"},{"$error":"#NUM!"},{"$error":"#NUM!"},{"$error":"#NUM!"},{"$error":"#NUM!"},{"$error":"#NUM!"},{"$error":"#NUM!"},{"$error":"#NUM!"},{"$error":"#NUM!"},{"$error":"#NUM!"},{"$error":"#NUM!"},{"$error":"#NUM!"},{"$error":"#NUM!"},{"$error":"#NUM!"},{"$error":"#NUM!"},{"$error":"#NUM!"},{"$error":"#NUM!"},{"$error":"#NUM!"},{"$error":"#NUM!"},{"$error":"#NUM!"},{"$error":"#NUM!"},{"$error":"#NUM!"},{"$error":"#NUM!"},{"$error":"#NUM!"},{"$error":"#NUM!"},{"$error":"#NUM!"},{"$error":"#NUM!"},{"$error":"#NUM!"},{"$error":"#NUM!"},{"$error":"#NUM!"},{"$error":"#NUM!"},{"$error":"#NUM!"},{"$error":"#NUM!"},{"$error":"#NUM!"},{"$error":"#NUM!"},{"$error":"#NUM!"},{"$error":"#NUM!"},{"$error":"#NUM!"},{"$error":"#NUM!"},{"$error":"#NUM!"},{"$error":"#NUM!"},{"$error":"#NUM!"},{"$error":"#NUM!"},{"$error":"#NUM!"},{"$error":"#NUM!"},{"$error":"#NUM!"},{"$error":"#NUM!"},{"$error":"#NUM!"},{"$error":"#NUM!"},{"$error":"#NUM!"},{"$error":"#NUM!"},{"$error":"#NUM!"},{"$error":"#NUM!"},{"$error":"#NUM!"},{"$error":"#NUM!"},{"$error":"#NUM!"},{"$error":"#NUM!"},{"$error":"#NUM!"},{"$error":"#NUM!"},{"$error":"#NUM!"},{"$error":"#NUM!"},{"$error":"#NUM!"},{"$f":"MNE10-MNF10","v":{"$error":"#NUM!"}},{"$error":"#NUM!"},{"$error":"#NUM!"},{"$error":"#NUM!"},{"$error":"#NUM!"},{"$error":"#NUM!"},{"$error":"#NUM!"},{"$error":"#NUM!"},{"$error":"#NUM!"},{"$error":"#NUM!"},{"$error":"#NUM!"},{"$error":"#NUM!"},{"$error":"#NUM!"},{"$error":"#NUM!"},{"$error":"#NUM!"},{"$error":"#NUM!"},{"$error":"#NUM!"},{"$error":"#NUM!"},{"$error":"#NUM!"},{"$error":"#NUM!"},{"$error":"#NUM!"},{"$error":"#NUM!"},{"$error":"#NUM!"},{"$error":"#NUM!"},{"$error":"#NUM!"},{"$error":"#NUM!"},{"$error":"#NUM!"},{"$error":"#NUM!"},{"$error":"#NUM!"},{"$error":"#NUM!"},{"$error":"#NUM!"},{"$error":"#NUM!"},{"$error":"#NUM!"},{"$error":"#NUM!"},{"$error":"#NUM!"},{"$error":"#NUM!"},{"$error":"#NUM!"},{"$error":"#NUM!"},{"$error":"#NUM!"},{"$error":"#NUM!"},{"$error":"#NUM!"},{"$error":"#NUM!"},{"$error":"#NUM!"},{"$error":"#NUM!"},{"$error":"#NUM!"},{"$error":"#NUM!"},{"$error":"#NUM!"},{"$error":"#NUM!"},{"$error":"#NUM!"},{"$error":"#NUM!"},{"$error":"#NUM!"},{"$error":"#NUM!"},{"$error":"#NUM!"},{"$error":"#NUM!"},{"$error":"#NUM!"},{"$error":"#NUM!"},{"$error":"#NUM!"},{"$error":"#NUM!"},{"$error":"#NUM!"},{"$error":"#NUM!"},{"$error":"#NUM!"},{"$error":"#NUM!"},{"$error":"#NUM!"},{"$error":"#NUM!"},{"$f":"MPQ10-MPR10","v":{"$error":"#NUM!"}},{"$error":"#NUM!"},{"$error":"#NUM!"},{"$error":"#NUM!"},{"$error":"#NUM!"},{"$error":"#NUM!"},{"$error":"#NUM!"},{"$error":"#NUM!"},{"$error":"#NUM!"},{"$error":"#NUM!"},{"$error":"#NUM!"},{"$error":"#NUM!"},{"$error":"#NUM!"},{"$error":"#NUM!"},{"$error":"#NUM!"},{"$error":"#NUM!"},{"$error":"#NUM!"},{"$error":"#NUM!"},{"$error":"#NUM!"},{"$error":"#NUM!"},{"$error":"#NUM!"},{"$error":"#NUM!"},{"$error":"#NUM!"},{"$error":"#NUM!"},{"$error":"#NUM!"},{"$error":"#NUM!"},{"$error":"#NUM!"},{"$error":"#NUM!"},{"$error":"#NUM!"},{"$error":"#NUM!"},{"$error":"#NUM!"},{"$error":"#NUM!"},{"$error":"#NUM!"},{"$error":"#NUM!"},{"$error":"#NUM!"},{"$error":"#NUM!"},{"$error":"#NUM!"},{"$error":"#NUM!"},{"$error":"#NUM!"},{"$error":"#NUM!"},{"$error":"#NUM!"},{"$error":"#NUM!"},{"$error":"#NUM!"},{"$error":"#NUM!"},{"$error":"#NUM!"},{"$error":"#NUM!"},{"$error":"#NUM!"},{"$error":"#NUM!"},{"$error":"#NUM!"},{"$error":"#NUM!"},{"$error":"#NUM!"},{"$error":"#NUM!"},{"$error":"#NUM!"},{"$error":"#NUM!"},{"$error":"#NUM!"},{"$error":"#NUM!"},{"$error":"#NUM!"},{"$error":"#NUM!"},{"$error":"#NUM!"},{"$error":"#NUM!"},{"$error":"#NUM!"},{"$error":"#NUM!"},{"$error":"#NUM!"},{"$error":"#NUM!"},{"$f":"MSC10-MSD10","v":{"$error":"#NUM!"}},{"$error":"#NUM!"},{"$error":"#NUM!"},{"$error":"#NUM!"},{"$error":"#NUM!"},{"$error":"#NUM!"},{"$error":"#NUM!"},{"$error":"#NUM!"},{"$error":"#NUM!"},{"$error":"#NUM!"},{"$error":"#NUM!"},{"$error":"#NUM!"},{"$error":"#NUM!"},{"$error":"#NUM!"},{"$error":"#NUM!"},{"$error":"#NUM!"},{"$error":"#NUM!"},{"$error":"#NUM!"},{"$error":"#NUM!"},{"$error":"#NUM!"},{"$error":"#NUM!"},{"$error":"#NUM!"},{"$error":"#NUM!"},{"$error":"#NUM!"},{"$error":"#NUM!"},{"$error":"#NUM!"},{"$error":"#NUM!"},{"$error":"#NUM!"},{"$error":"#NUM!"},{"$error":"#NUM!"},{"$error":"#NUM!"},{"$error":"#NUM!"},{"$error":"#NUM!"},{"$error":"#NUM!"},{"$error":"#NUM!"},{"$error":"#NUM!"},{"$error":"#NUM!"},{"$error":"#NUM!"},{"$error":"#NUM!"},{"$error":"#NUM!"},{"$error":"#NUM!"},{"$error":"#NUM!"},{"$error":"#NUM!"},{"$error":"#NUM!"},{"$error":"#NUM!"},{"$error":"#NUM!"},{"$error":"#NUM!"},{"$error":"#NUM!"},{"$error":"#NUM!"},{"$error":"#NUM!"},{"$error":"#NUM!"},{"$error":"#NUM!"},{"$error":"#NUM!"},{"$error":"#NUM!"},{"$error":"#NUM!"},{"$error":"#NUM!"},{"$error":"#NUM!"},{"$error":"#NUM!"},{"$error":"#NUM!"},{"$error":"#NUM!"},{"$error":"#NUM!"},{"$error":"#NUM!"},{"$error":"#NUM!"},{"$error":"#NUM!"},{"$f":"MUO10-MUP10","v":{"$error":"#NUM!"}},{"$error":"#NUM!"},{"$error":"#NUM!"},{"$error":"#NUM!"},{"$error":"#NUM!"},{"$error":"#NUM!"},{"$error":"#NUM!"},{"$error":"#NUM!"},{"$error":"#NUM!"},{"$error":"#NUM!"},{"$error":"#NUM!"},{"$error":"#NUM!"},{"$error":"#NUM!"},{"$error":"#NUM!"},{"$error":"#NUM!"},{"$error":"#NUM!"},{"$error":"#NUM!"},{"$error":"#NUM!"},{"$error":"#NUM!"},{"$error":"#NUM!"},{"$error":"#NUM!"},{"$error":"#NUM!"},{"$error":"#NUM!"},{"$error":"#NUM!"},{"$error":"#NUM!"},{"$error":"#NUM!"},{"$error":"#NUM!"},{"$error":"#NUM!"},{"$error":"#NUM!"},{"$error":"#NUM!"},{"$error":"#NUM!"},{"$error":"#NUM!"},{"$error":"#NUM!"},{"$error":"#NUM!"},{"$error":"#NUM!"},{"$error":"#NUM!"},{"$error":"#NUM!"},{"$error":"#NUM!"},{"$error":"#NUM!"},{"$error":"#NUM!"},{"$error":"#NUM!"},{"$error":"#NUM!"},{"$error":"#NUM!"},{"$error":"#NUM!"},{"$error":"#NUM!"},{"$error":"#NUM!"},{"$error":"#NUM!"},{"$error":"#NUM!"},{"$error":"#NUM!"},{"$error":"#NUM!"},{"$error":"#NUM!"},{"$error":"#NUM!"},{"$error":"#NUM!"},{"$error":"#NUM!"},{"$error":"#NUM!"},{"$error":"#NUM!"},{"$error":"#NUM!"},{"$error":"#NUM!"},{"$error":"#NUM!"},{"$error":"#NUM!"},{"$error":"#NUM!"},{"$error":"#NUM!"},{"$error":"#NUM!"},{"$error":"#NUM!"},{"$f":"MXA10-MXB10","v":{"$error":"#NUM!"}},{"$error":"#NUM!"},{"$error":"#NUM!"},{"$error":"#NUM!"},{"$error":"#NUM!"},{"$error":"#NUM!"},{"$error":"#NUM!"},{"$error":"#NUM!"},{"$error":"#NUM!"},{"$error":"#NUM!"},{"$error":"#NUM!"},{"$error":"#NUM!"},{"$error":"#NUM!"},{"$error":"#NUM!"},{"$error":"#NUM!"},{"$error":"#NUM!"},{"$error":"#NUM!"},{"$error":"#NUM!"},{"$error":"#NUM!"},{"$error":"#NUM!"},{"$error":"#NUM!"},{"$error":"#NUM!"},{"$error":"#NUM!"},{"$error":"#NUM!"},{"$error":"#NUM!"},{"$error":"#NUM!"},{"$error":"#NUM!"},{"$error":"#NUM!"},{"$error":"#NUM!"},{"$error":"#NUM!"},{"$error":"#NUM!"},{"$error":"#NUM!"},{"$error":"#NUM!"},{"$error":"#NUM!"},{"$error":"#NUM!"},{"$error":"#NUM!"},{"$error":"#NUM!"},{"$error":"#NUM!"},{"$error":"#NUM!"},{"$error":"#NUM!"},{"$error":"#NUM!"},{"$error":"#NUM!"},{"$error":"#NUM!"},{"$error":"#NUM!"},{"$error":"#NUM!"},{"$error":"#NUM!"},{"$error":"#NUM!"},{"$error":"#NUM!"},{"$error":"#NUM!"},{"$error":"#NUM!"},{"$error":"#NUM!"},{"$error":"#NUM!"},{"$error":"#NUM!"},{"$error":"#NUM!"},{"$error":"#NUM!"},{"$error":"#NUM!"},{"$error":"#NUM!"},{"$error":"#NUM!"},{"$error":"#NUM!"},{"$error":"#NUM!"},{"$error":"#NUM!"},{"$error":"#NUM!"},{"$error":"#NUM!"},{"$error":"#NUM!"},{"$f":"MZM10-MZN10","v":{"$error":"#NUM!"}},{"$error":"#NUM!"},{"$error":"#NUM!"},{"$error":"#NUM!"},{"$error":"#NUM!"},{"$error":"#NUM!"},{"$error":"#NUM!"},{"$error":"#NUM!"},{"$error":"#NUM!"},{"$error":"#NUM!"},{"$error":"#NUM!"},{"$error":"#NUM!"},{"$error":"#NUM!"},{"$error":"#NUM!"},{"$error":"#NUM!"},{"$error":"#NUM!"},{"$error":"#NUM!"},{"$error":"#NUM!"},{"$error":"#NUM!"},{"$error":"#NUM!"},{"$error":"#NUM!"},{"$error":"#NUM!"},{"$error":"#NUM!"},{"$error":"#NUM!"},{"$error":"#NUM!"},{"$error":"#NUM!"},{"$error":"#NUM!"},{"$error":"#NUM!"},{"$error":"#NUM!"},{"$error":"#NUM!"},{"$error":"#NUM!"},{"$error":"#NUM!"},{"$error":"#NUM!"},{"$error":"#NUM!"},{"$error":"#NUM!"},{"$error":"#NUM!"},{"$error":"#NUM!"},{"$error":"#NUM!"},{"$error":"#NUM!"},{"$error":"#NUM!"},{"$error":"#NUM!"},{"$error":"#NUM!"},{"$error":"#NUM!"},{"$error":"#NUM!"},{"$error":"#NUM!"},{"$error":"#NUM!"},{"$error":"#NUM!"},{"$error":"#NUM!"},{"$error":"#NUM!"},{"$error":"#NUM!"},{"$error":"#NUM!"},{"$error":"#NUM!"},{"$error":"#NUM!"},{"$error":"#NUM!"},{"$error":"#NUM!"},{"$error":"#NUM!"},{"$error":"#NUM!"},{"$error":"#NUM!"},{"$error":"#NUM!"},{"$error":"#NUM!"},{"$error":"#NUM!"},{"$error":"#NUM!"},{"$error":"#NUM!"},{"$error":"#NUM!"},{"$f":"NBY10-NBZ10","v":{"$error":"#NUM!"}},{"$error":"#NUM!"},{"$error":"#NUM!"},{"$error":"#NUM!"},{"$error":"#NUM!"},{"$error":"#NUM!"},{"$error":"#NUM!"},{"$error":"#NUM!"},{"$error":"#NUM!"},{"$error":"#NUM!"},{"$error":"#NUM!"},{"$error":"#NUM!"},{"$error":"#NUM!"},{"$error":"#NUM!"},{"$error":"#NUM!"},{"$error":"#NUM!"},{"$error":"#NUM!"},{"$error":"#NUM!"},{"$error":"#NUM!"},{"$error":"#NUM!"},{"$error":"#NUM!"},{"$error":"#NUM!"},{"$error":"#NUM!"},{"$error":"#NUM!"},{"$error":"#NUM!"},{"$error":"#NUM!"},{"$error":"#NUM!"},{"$error":"#NUM!"},{"$error":"#NUM!"},{"$error":"#NUM!"},{"$error":"#NUM!"},{"$error":"#NUM!"},{"$error":"#NUM!"},{"$error":"#NUM!"},{"$error":"#NUM!"},{"$error":"#NUM!"},{"$error":"#NUM!"},{"$error":"#NUM!"},{"$error":"#NUM!"},{"$error":"#NUM!"},{"$error":"#NUM!"},{"$error":"#NUM!"},{"$error":"#NUM!"},{"$error":"#NUM!"},{"$error":"#NUM!"},{"$error":"#NUM!"},{"$error":"#NUM!"},{"$error":"#NUM!"},{"$error":"#NUM!"},{"$error":"#NUM!"},{"$error":"#NUM!"},{"$error":"#NUM!"},{"$error":"#NUM!"},{"$error":"#NUM!"},{"$error":"#NUM!"},{"$error":"#NUM!"},{"$error":"#NUM!"},{"$error":"#NUM!"},{"$error":"#NUM!"},{"$error":"#NUM!"},{"$error":"#NUM!"},{"$error":"#NUM!"},{"$error":"#NUM!"},{"$error":"#NUM!"},{"$f":"NEK10-NEL10","v":{"$error":"#NUM!"}},{"$error":"#NUM!"},{"$error":"#NUM!"},{"$error":"#NUM!"},{"$error":"#NUM!"},{"$error":"#NUM!"},{"$error":"#NUM!"},{"$error":"#NUM!"},{"$error":"#NUM!"},{"$error":"#NUM!"},{"$error":"#NUM!"},{"$error":"#NUM!"},{"$error":"#NUM!"},{"$error":"#NUM!"},{"$error":"#NUM!"},{"$error":"#NUM!"},{"$error":"#NUM!"},{"$error":"#NUM!"},{"$error":"#NUM!"},{"$error":"#NUM!"},{"$error":"#NUM!"},{"$error":"#NUM!"},{"$error":"#NUM!"},{"$error":"#NUM!"},{"$error":"#NUM!"},{"$error":"#NUM!"},{"$error":"#NUM!"},{"$error":"#NUM!"},{"$error":"#NUM!"},{"$error":"#NUM!"},{"$error":"#NUM!"},{"$error":"#NUM!"},{"$error":"#NUM!"},{"$error":"#NUM!"},{"$error":"#NUM!"},{"$error":"#NUM!"},{"$error":"#NUM!"},{"$error":"#NUM!"},{"$error":"#NUM!"},{"$error":"#NUM!"},{"$error":"#NUM!"},{"$error":"#NUM!"},{"$error":"#NUM!"},{"$error":"#NUM!"},{"$error":"#NUM!"},{"$error":"#NUM!"},{"$error":"#NUM!"},{"$error":"#NUM!"},{"$error":"#NUM!"},{"$error":"#NUM!"},{"$error":"#NUM!"},{"$error":"#NUM!"},{"$error":"#NUM!"},{"$error":"#NUM!"},{"$error":"#NUM!"},{"$error":"#NUM!"},{"$error":"#NUM!"},{"$error":"#NUM!"},{"$error":"#NUM!"},{"$error":"#NUM!"},{"$error":"#NUM!"},{"$error":"#NUM!"},{"$error":"#NUM!"},{"$error":"#NUM!"},{"$f":"NGW10-NGX10","v":{"$error":"#NUM!"}},{"$error":"#NUM!"},{"$error":"#NUM!"},{"$error":"#NUM!"},{"$error":"#NUM!"},{"$error":"#NUM!"},{"$error":"#NUM!"},{"$error":"#NUM!"},{"$error":"#NUM!"},{"$error":"#NUM!"},{"$error":"#NUM!"},{"$error":"#NUM!"},{"$error":"#NUM!"},{"$error":"#NUM!"},{"$error":"#NUM!"},{"$error":"#NUM!"},{"$error":"#NUM!"},{"$error":"#NUM!"},{"$error":"#NUM!"},{"$error":"#NUM!"},{"$error":"#NUM!"},{"$error":"#NUM!"},{"$error":"#NUM!"},{"$error":"#NUM!"},{"$error":"#NUM!"},{"$error":"#NUM!"},{"$error":"#NUM!"},{"$error":"#NUM!"},{"$error":"#NUM!"},{"$error":"#NUM!"},{"$error":"#NUM!"},{"$error":"#NUM!"},{"$error":"#NUM!"},{"$error":"#NUM!"},{"$error":"#NUM!"},{"$error":"#NUM!"},{"$error":"#NUM!"},{"$error":"#NUM!"},{"$error":"#NUM!"},{"$error":"#NUM!"},{"$error":"#NUM!"},{"$error":"#NUM!"},{"$error":"#NUM!"},{"$error":"#NUM!"},{"$error":"#NUM!"},{"$error":"#NUM!"},{"$error":"#NUM!"},{"$error":"#NUM!"},{"$error":"#NUM!"},{"$error":"#NUM!"},{"$error":"#NUM!"},{"$error":"#NUM!"},{"$error":"#NUM!"},{"$error":"#NUM!"},{"$error":"#NUM!"},{"$error":"#NUM!"},{"$error":"#NUM!"},{"$error":"#NUM!"},{"$error":"#NUM!"},{"$error":"#NUM!"},{"$error":"#NUM!"},{"$error":"#NUM!"},{"$error":"#NUM!"},{"$error":"#NUM!"},{"$f":"NJI10-NJJ10","v":{"$error":"#NUM!"}},{"$error":"#NUM!"},{"$error":"#NUM!"},{"$error":"#NUM!"},{"$error":"#NUM!"},{"$error":"#NUM!"},{"$error":"#NUM!"},{"$error":"#NUM!"},{"$error":"#NUM!"},{"$error":"#NUM!"},{"$error":"#NUM!"},{"$error":"#NUM!"},{"$error":"#NUM!"},{"$error":"#NUM!"},{"$error":"#NUM!"},{"$error":"#NUM!"},{"$error":"#NUM!"},{"$error":"#NUM!"},{"$error":"#NUM!"},{"$error":"#NUM!"},{"$error":"#NUM!"},{"$error":"#NUM!"},{"$error":"#NUM!"},{"$error":"#NUM!"},{"$error":"#NUM!"},{"$error":"#NUM!"},{"$error":"#NUM!"},{"$error":"#NUM!"},{"$error":"#NUM!"},{"$error":"#NUM!"},{"$error":"#NUM!"},{"$error":"#NUM!"},{"$error":"#NUM!"},{"$error":"#NUM!"},{"$error":"#NUM!"},{"$error":"#NUM!"},{"$error":"#NUM!"},{"$error":"#NUM!"},{"$error":"#NUM!"},{"$error":"#NUM!"},{"$error":"#NUM!"},{"$error":"#NUM!"},{"$error":"#NUM!"},{"$error":"#NUM!"},{"$error":"#NUM!"},{"$error":"#NUM!"},{"$error":"#NUM!"},{"$error":"#NUM!"},{"$error":"#NUM!"},{"$error":"#NUM!"},{"$error":"#NUM!"},{"$error":"#NUM!"},{"$error":"#NUM!"},{"$error":"#NUM!"},{"$error":"#NUM!"},{"$error":"#NUM!"},{"$error":"#NUM!"},{"$error":"#NUM!"},{"$error":"#NUM!"},{"$error":"#NUM!"},{"$error":"#NUM!"},{"$error":"#NUM!"},{"$error":"#NUM!"},{"$error":"#NUM!"},{"$f":"NLU10-NLV10","v":{"$error":"#NUM!"}},{"$error":"#NUM!"},{"$error":"#NUM!"},{"$error":"#NUM!"},{"$error":"#NUM!"},{"$error":"#NUM!"},{"$error":"#NUM!"},{"$error":"#NUM!"},{"$error":"#NUM!"},{"$error":"#NUM!"},{"$error":"#NUM!"},{"$error":"#NUM!"},{"$error":"#NUM!"},{"$error":"#NUM!"},{"$error":"#NUM!"},{"$error":"#NUM!"},{"$error":"#NUM!"},{"$error":"#NUM!"},{"$error":"#NUM!"},{"$error":"#NUM!"},{"$error":"#NUM!"},{"$error":"#NUM!"},{"$error":"#NUM!"},{"$error":"#NUM!"},{"$error":"#NUM!"},{"$error":"#NUM!"},{"$error":"#NUM!"},{"$error":"#NUM!"},{"$error":"#NUM!"},{"$error":"#NUM!"},{"$error":"#NUM!"},{"$error":"#NUM!"},{"$error":"#NUM!"},{"$error":"#NUM!"},{"$error":"#NUM!"},{"$error":"#NUM!"},{"$error":"#NUM!"},{"$error":"#NUM!"},{"$error":"#NUM!"},{"$error":"#NUM!"},{"$error":"#NUM!"},{"$error":"#NUM!"},{"$error":"#NUM!"},{"$error":"#NUM!"},{"$error":"#NUM!"},{"$error":"#NUM!"},{"$error":"#NUM!"},{"$error":"#NUM!"},{"$error":"#NUM!"},{"$error":"#NUM!"},{"$error":"#NUM!"},{"$error":"#NUM!"},{"$error":"#NUM!"},{"$error":"#NUM!"},{"$error":"#NUM!"},{"$error":"#NUM!"},{"$error":"#NUM!"},{"$error":"#NUM!"},{"$error":"#NUM!"},{"$error":"#NUM!"},{"$error":"#NUM!"},{"$error":"#NUM!"},{"$error":"#NUM!"},{"$error":"#NUM!"},{"$f":"NOG10-NOH10","v":{"$error":"#NUM!"}},{"$error":"#NUM!"},{"$error":"#NUM!"},{"$error":"#NUM!"},{"$error":"#NUM!"},{"$error":"#NUM!"},{"$error":"#NUM!"},{"$error":"#NUM!"},{"$error":"#NUM!"},{"$error":"#NUM!"},{"$error":"#NUM!"},{"$error":"#NUM!"},{"$error":"#NUM!"},{"$error":"#NUM!"},{"$error":"#NUM!"},{"$error":"#NUM!"},{"$error":"#NUM!"},{"$error":"#NUM!"},{"$error":"#NUM!"},{"$error":"#NUM!"},{"$error":"#NUM!"},{"$error":"#NUM!"},{"$error":"#NUM!"},{"$error":"#NUM!"},{"$error":"#NUM!"},{"$error":"#NUM!"},{"$error":"#NUM!"},{"$error":"#NUM!"},{"$error":"#NUM!"},{"$error":"#NUM!"},{"$error":"#NUM!"},{"$error":"#NUM!"},{"$error":"#NUM!"},{"$error":"#NUM!"},{"$error":"#NUM!"},{"$error":"#NUM!"},{"$error":"#NUM!"},{"$error":"#NUM!"},{"$error":"#NUM!"},{"$error":"#NUM!"},{"$error":"#NUM!"},{"$error":"#NUM!"},{"$error":"#NUM!"},{"$error":"#NUM!"},{"$error":"#NUM!"},{"$error":"#NUM!"},{"$error":"#NUM!"},{"$error":"#NUM!"},{"$error":"#NUM!"},{"$error":"#NUM!"},{"$error":"#NUM!"},{"$error":"#NUM!"},{"$error":"#NUM!"},{"$error":"#NUM!"},{"$error":"#NUM!"},{"$error":"#NUM!"},{"$error":"#NUM!"},{"$error":"#NUM!"},{"$error":"#NUM!"},{"$error":"#NUM!"},{"$error":"#NUM!"},{"$error":"#NUM!"},{"$error":"#NUM!"},{"$error":"#NUM!"},{"$f":"NQS10-NQT10","v":{"$error":"#NUM!"}},{"$error":"#NUM!"},{"$error":"#NUM!"},{"$error":"#NUM!"},{"$error":"#NUM!"},{"$error":"#NUM!"},{"$error":"#NUM!"},{"$error":"#NUM!"},{"$error":"#NUM!"},{"$error":"#NUM!"},{"$error":"#NUM!"},{"$error":"#NUM!"},{"$error":"#NUM!"},{"$error":"#NUM!"},{"$error":"#NUM!"},{"$error":"#NUM!"},{"$error":"#NUM!"},{"$error":"#NUM!"},{"$error":"#NUM!"},{"$error":"#NUM!"},{"$error":"#NUM!"},{"$error":"#NUM!"},{"$error":"#NUM!"},{"$error":"#NUM!"},{"$error":"#NUM!"},{"$error":"#NUM!"},{"$error":"#NUM!"},{"$error":"#NUM!"},{"$error":"#NUM!"},{"$error":"#NUM!"},{"$error":"#NUM!"},{"$error":"#NUM!"},{"$error":"#NUM!"},{"$error":"#NUM!"},{"$error":"#NUM!"},{"$error":"#NUM!"},{"$error":"#NUM!"},{"$error":"#NUM!"},{"$error":"#NUM!"},{"$error":"#NUM!"},{"$error":"#NUM!"},{"$error":"#NUM!"},{"$error":"#NUM!"},{"$error":"#NUM!"},{"$error":"#NUM!"},{"$error":"#NUM!"},{"$error":"#NUM!"},{"$error":"#NUM!"},{"$error":"#NUM!"},{"$error":"#NUM!"},{"$error":"#NUM!"},{"$error":"#NUM!"},{"$error":"#NUM!"},{"$error":"#NUM!"},{"$error":"#NUM!"},{"$error":"#NUM!"},{"$error":"#NUM!"},{"$error":"#NUM!"},{"$error":"#NUM!"},{"$error":"#NUM!"},{"$error":"#NUM!"},{"$error":"#NUM!"},{"$error":"#NUM!"},{"$error":"#NUM!"},{"$f":"NTE10-NTF10","v":{"$error":"#NUM!"}},{"$error":"#NUM!"},{"$error":"#NUM!"},{"$error":"#NUM!"},{"$error":"#NUM!"},{"$error":"#NUM!"},{"$error":"#NUM!"},{"$error":"#NUM!"},{"$error":"#NUM!"},{"$error":"#NUM!"},{"$error":"#NUM!"},{"$error":"#NUM!"},{"$error":"#NUM!"},{"$error":"#NUM!"},{"$error":"#NUM!"},{"$error":"#NUM!"},{"$error":"#NUM!"},{"$error":"#NUM!"},{"$error":"#NUM!"},{"$error":"#NUM!"},{"$error":"#NUM!"},{"$error":"#NUM!"},{"$error":"#NUM!"},{"$error":"#NUM!"},{"$error":"#NUM!"},{"$error":"#NUM!"},{"$error":"#NUM!"},{"$error":"#NUM!"},{"$error":"#NUM!"},{"$error":"#NUM!"},{"$error":"#NUM!"},{"$error":"#NUM!"},{"$error":"#NUM!"},{"$error":"#NUM!"},{"$error":"#NUM!"},{"$error":"#NUM!"},{"$error":"#NUM!"},{"$error":"#NUM!"},{"$error":"#NUM!"},{"$error":"#NUM!"},{"$error":"#NUM!"},{"$error":"#NUM!"},{"$error":"#NUM!"},{"$error":"#NUM!"},{"$error":"#NUM!"},{"$error":"#NUM!"},{"$error":"#NUM!"},{"$error":"#NUM!"},{"$error":"#NUM!"},{"$error":"#NUM!"},{"$error":"#NUM!"},{"$error":"#NUM!"},{"$error":"#NUM!"},{"$error":"#NUM!"},{"$error":"#NUM!"},{"$error":"#NUM!"},{"$error":"#NUM!"},{"$error":"#NUM!"},{"$error":"#NUM!"},{"$error":"#NUM!"},{"$error":"#NUM!"},{"$error":"#NUM!"},{"$error":"#NUM!"},{"$error":"#NUM!"},{"$f":"NVQ10-NVR10","v":{"$error":"#NUM!"}},{"$error":"#NUM!"},{"$error":"#NUM!"},{"$error":"#NUM!"},{"$error":"#NUM!"},{"$error":"#NUM!"},{"$error":"#NUM!"},{"$error":"#NUM!"},{"$error":"#NUM!"},{"$error":"#NUM!"},{"$error":"#NUM!"},{"$error":"#NUM!"},{"$error":"#NUM!"},{"$error":"#NUM!"},{"$error":"#NUM!"},{"$error":"#NUM!"},{"$error":"#NUM!"},{"$error":"#NUM!"},{"$error":"#NUM!"},{"$error":"#NUM!"},{"$error":"#NUM!"},{"$error":"#NUM!"},{"$error":"#NUM!"},{"$error":"#NUM!"},{"$error":"#NUM!"},{"$error":"#NUM!"},{"$error":"#NUM!"},{"$error":"#NUM!"},{"$error":"#NUM!"},{"$error":"#NUM!"},{"$error":"#NUM!"},{"$error":"#NUM!"},{"$error":"#NUM!"},{"$error":"#NUM!"},{"$error":"#NUM!"},{"$error":"#NUM!"},{"$error":"#NUM!"},{"$error":"#NUM!"},{"$error":"#NUM!"},{"$error":"#NUM!"},{"$error":"#NUM!"},{"$error":"#NUM!"},{"$error":"#NUM!"},{"$error":"#NUM!"},{"$error":"#NUM!"},{"$error":"#NUM!"},{"$error":"#NUM!"},{"$error":"#NUM!"},{"$error":"#NUM!"},{"$error":"#NUM!"},{"$error":"#NUM!"},{"$error":"#NUM!"},{"$error":"#NUM!"},{"$error":"#NUM!"},{"$error":"#NUM!"},{"$error":"#NUM!"},{"$error":"#NUM!"},{"$error":"#NUM!"},{"$error":"#NUM!"},{"$error":"#NUM!"},{"$error":"#NUM!"},{"$error":"#NUM!"},{"$error":"#NUM!"},{"$error":"#NUM!"},{"$f":"NYC10-NYD10","v":{"$error":"#NUM!"}},{"$error":"#NUM!"},{"$error":"#NUM!"},{"$error":"#NUM!"},{"$error":"#NUM!"},{"$error":"#NUM!"},{"$error":"#NUM!"},{"$error":"#NUM!"},{"$error":"#NUM!"},{"$error":"#NUM!"},{"$error":"#NUM!"},{"$error":"#NUM!"},{"$error":"#NUM!"},{"$error":"#NUM!"},{"$error":"#NUM!"},{"$error":"#NUM!"},{"$error":"#NUM!"},{"$error":"#NUM!"},{"$error":"#NUM!"},{"$error":"#NUM!"},{"$error":"#NUM!"},{"$error":"#NUM!"},{"$error":"#NUM!"},{"$error":"#NUM!"},{"$error":"#NUM!"},{"$error":"#NUM!"},{"$error":"#NUM!"},{"$error":"#NUM!"},{"$error":"#NUM!"},{"$error":"#NUM!"},{"$error":"#NUM!"},{"$error":"#NUM!"},{"$error":"#NUM!"},{"$error":"#NUM!"},{"$error":"#NUM!"},{"$error":"#NUM!"},{"$error":"#NUM!"},{"$error":"#NUM!"},{"$error":"#NUM!"},{"$error":"#NUM!"},{"$error":"#NUM!"},{"$error":"#NUM!"},{"$error":"#NUM!"},{"$error":"#NUM!"},{"$error":"#NUM!"},{"$error":"#NUM!"},{"$error":"#NUM!"},{"$error":"#NUM!"},{"$error":"#NUM!"},{"$error":"#NUM!"},{"$error":"#NUM!"},{"$error":"#NUM!"},{"$error":"#NUM!"},{"$error":"#NUM!"},{"$error":"#NUM!"},{"$error":"#NUM!"},{"$error":"#NUM!"},{"$error":"#NUM!"},{"$error":"#NUM!"},{"$error":"#NUM!"},{"$error":"#NUM!"},{"$error":"#NUM!"},{"$error":"#NUM!"},{"$error":"#NUM!"},{"$f":"OAO10-OAP10","v":{"$error":"#NUM!"}},{"$error":"#NUM!"},{"$error":"#NUM!"},{"$error":"#NUM!"},{"$error":"#NUM!"},{"$error":"#NUM!"},{"$error":"#NUM!"},{"$error":"#NUM!"},{"$error":"#NUM!"},{"$error":"#NUM!"},{"$error":"#NUM!"},{"$error":"#NUM!"},{"$error":"#NUM!"},{"$error":"#NUM!"},{"$error":"#NUM!"},{"$error":"#NUM!"},{"$error":"#NUM!"},{"$error":"#NUM!"},{"$error":"#NUM!"},{"$error":"#NUM!"},{"$error":"#NUM!"},{"$error":"#NUM!"},{"$error":"#NUM!"},{"$error":"#NUM!"},{"$error":"#NUM!"},{"$error":"#NUM!"},{"$error":"#NUM!"},{"$error":"#NUM!"},{"$error":"#NUM!"},{"$error":"#NUM!"},{"$error":"#NUM!"},{"$error":"#NUM!"},{"$error":"#NUM!"},{"$error":"#NUM!"},{"$error":"#NUM!"},{"$error":"#NUM!"},{"$error":"#NUM!"},{"$error":"#NUM!"},{"$error":"#NUM!"},{"$error":"#NUM!"},{"$error":"#NUM!"},{"$error":"#NUM!"},{"$error":"#NUM!"},{"$error":"#NUM!"},{"$error":"#NUM!"},{"$error":"#NUM!"},{"$error":"#NUM!"},{"$error":"#NUM!"},{"$error":"#NUM!"},{"$error":"#NUM!"},{"$error":"#NUM!"},{"$error":"#NUM!"},{"$error":"#NUM!"},{"$error":"#NUM!"},{"$error":"#NUM!"},{"$error":"#NUM!"},{"$error":"#NUM!"},{"$error":"#NUM!"},{"$error":"#NUM!"},{"$error":"#NUM!"},{"$error":"#NUM!"},{"$error":"#NUM!"},{"$error":"#NUM!"},{"$error":"#NUM!"},{"$f":"ODA10-ODB10","v":{"$error":"#NUM!"}},{"$error":"#NUM!"},{"$error":"#NUM!"},{"$error":"#NUM!"},{"$error":"#NUM!"},{"$error":"#NUM!"},{"$error":"#NUM!"},{"$error":"#NUM!"},{"$error":"#NUM!"},{"$error":"#NUM!"},{"$error":"#NUM!"},{"$error":"#NUM!"},{"$error":"#NUM!"},{"$error":"#NUM!"},{"$error":"#NUM!"},{"$error":"#NUM!"},{"$error":"#NUM!"},{"$error":"#NUM!"},{"$error":"#NUM!"},{"$error":"#NUM!"},{"$error":"#NUM!"},{"$error":"#NUM!"},{"$error":"#NUM!"},{"$error":"#NUM!"},{"$error":"#NUM!"},{"$error":"#NUM!"},{"$error":"#NUM!"},{"$error":"#NUM!"},{"$error":"#NUM!"},{"$error":"#NUM!"},{"$error":"#NUM!"},{"$error":"#NUM!"},{"$error":"#NUM!"},{"$error":"#NUM!"},{"$error":"#NUM!"},{"$error":"#NUM!"},{"$error":"#NUM!"},{"$error":"#NUM!"},{"$error":"#NUM!"},{"$error":"#NUM!"},{"$error":"#NUM!"},{"$error":"#NUM!"},{"$error":"#NUM!"},{"$error":"#NUM!"},{"$error":"#NUM!"},{"$error":"#NUM!"},{"$error":"#NUM!"},{"$error":"#NUM!"},{"$error":"#NUM!"},{"$error":"#NUM!"},{"$error":"#NUM!"},{"$error":"#NUM!"},{"$error":"#NUM!"},{"$error":"#NUM!"},{"$error":"#NUM!"},{"$error":"#NUM!"},{"$error":"#NUM!"},{"$error":"#NUM!"},{"$error":"#NUM!"},{"$error":"#NUM!"},{"$error":"#NUM!"},{"$error":"#NUM!"},{"$error":"#NUM!"},{"$error":"#NUM!"},{"$f":"OFM10-OFN10","v":{"$error":"#NUM!"}},{"$error":"#NUM!"},{"$error":"#NUM!"},{"$error":"#NUM!"},{"$error":"#NUM!"},{"$error":"#NUM!"},{"$error":"#NUM!"},{"$error":"#NUM!"},{"$error":"#NUM!"},{"$error":"#NUM!"},{"$error":"#NUM!"},{"$error":"#NUM!"},{"$error":"#NUM!"},{"$error":"#NUM!"},{"$error":"#NUM!"},{"$error":"#NUM!"},{"$error":"#NUM!"},{"$error":"#NUM!"},{"$error":"#NUM!"},{"$error":"#NUM!"},{"$error":"#NUM!"},{"$error":"#NUM!"},{"$error":"#NUM!"},{"$error":"#NUM!"},{"$error":"#NUM!"},{"$error":"#NUM!"},{"$error":"#NUM!"},{"$error":"#NUM!"},{"$error":"#NUM!"},{"$error":"#NUM!"},{"$error":"#NUM!"},{"$error":"#NUM!"},{"$error":"#NUM!"},{"$error":"#NUM!"},{"$error":"#NUM!"},{"$error":"#NUM!"},{"$error":"#NUM!"},{"$error":"#NUM!"},{"$error":"#NUM!"},{"$error":"#NUM!"},{"$error":"#NUM!"},{"$error":"#NUM!"},{"$error":"#NUM!"},{"$error":"#NUM!"},{"$error":"#NUM!"},{"$error":"#NUM!"},{"$error":"#NUM!"},{"$error":"#NUM!"},{"$error":"#NUM!"},{"$error":"#NUM!"},{"$error":"#NUM!"},{"$error":"#NUM!"},{"$error":"#NUM!"},{"$error":"#NUM!"},{"$error":"#NUM!"},{"$error":"#NUM!"},{"$error":"#NUM!"},{"$error":"#NUM!"},{"$error":"#NUM!"},{"$error":"#NUM!"},{"$error":"#NUM!"},{"$error":"#NUM!"},{"$error":"#NUM!"},{"$error":"#NUM!"},{"$f":"OHY10-OHZ10","v":{"$error":"#NUM!"}},{"$error":"#NUM!"},{"$error":"#NUM!"},{"$error":"#NUM!"},{"$error":"#NUM!"},{"$error":"#NUM!"},{"$error":"#NUM!"},{"$error":"#NUM!"},{"$error":"#NUM!"},{"$error":"#NUM!"},{"$error":"#NUM!"},{"$error":"#NUM!"},{"$error":"#NUM!"},{"$error":"#NUM!"},{"$error":"#NUM!"},{"$error":"#NUM!"},{"$error":"#NUM!"},{"$error":"#NUM!"},{"$error":"#NUM!"},{"$error":"#NUM!"},{"$error":"#NUM!"},{"$error":"#NUM!"},{"$error":"#NUM!"},{"$error":"#NUM!"},{"$error":"#NUM!"},{"$error":"#NUM!"},{"$error":"#NUM!"},{"$error":"#NUM!"},{"$error":"#NUM!"},{"$error":"#NUM!"},{"$error":"#NUM!"},{"$error":"#NUM!"},{"$error":"#NUM!"},{"$error":"#NUM!"},{"$error":"#NUM!"},{"$error":"#NUM!"},{"$error":"#NUM!"},{"$error":"#NUM!"},{"$error":"#NUM!"},{"$error":"#NUM!"},{"$error":"#NUM!"},{"$error":"#NUM!"},{"$error":"#NUM!"},{"$error":"#NUM!"},{"$error":"#NUM!"},{"$error":"#NUM!"},{"$error":"#NUM!"},{"$error":"#NUM!"},{"$error":"#NUM!"},{"$error":"#NUM!"},{"$error":"#NUM!"},{"$error":"#NUM!"},{"$error":"#NUM!"},{"$error":"#NUM!"},{"$error":"#NUM!"},{"$error":"#NUM!"},{"$error":"#NUM!"},{"$error":"#NUM!"},{"$error":"#NUM!"},{"$error":"#NUM!"},{"$error":"#NUM!"},{"$error":"#NUM!"},{"$error":"#NUM!"},{"$error":"#NUM!"},{"$f":"OKK10-OKL10","v":{"$error":"#NUM!"}},{"$error":"#NUM!"},{"$error":"#NUM!"},{"$error":"#NUM!"},{"$error":"#NUM!"},{"$error":"#NUM!"},{"$error":"#NUM!"},{"$error":"#NUM!"},{"$error":"#NUM!"},{"$error":"#NUM!"},{"$error":"#NUM!"},{"$error":"#NUM!"},{"$error":"#NUM!"},{"$error":"#NUM!"},{"$error":"#NUM!"},{"$error":"#NUM!"},{"$error":"#NUM!"},{"$error":"#NUM!"},{"$error":"#NUM!"},{"$error":"#NUM!"},{"$error":"#NUM!"},{"$error":"#NUM!"},{"$error":"#NUM!"},{"$error":"#NUM!"},{"$error":"#NUM!"},{"$error":"#NUM!"},{"$error":"#NUM!"},{"$error":"#NUM!"},{"$error":"#NUM!"},{"$error":"#NUM!"},{"$error":"#NUM!"},{"$error":"#NUM!"},{"$error":"#NUM!"},{"$error":"#NUM!"},{"$error":"#NUM!"},{"$error":"#NUM!"},{"$error":"#NUM!"},{"$error":"#NUM!"},{"$error":"#NUM!"},{"$error":"#NUM!"},{"$error":"#NUM!"},{"$error":"#NUM!"},{"$error":"#NUM!"},{"$error":"#NUM!"},{"$error":"#NUM!"},{"$error":"#NUM!"},{"$error":"#NUM!"},{"$error":"#NUM!"},{"$error":"#NUM!"},{"$error":"#NUM!"},{"$error":"#NUM!"},{"$error":"#NUM!"},{"$error":"#NUM!"},{"$error":"#NUM!"},{"$error":"#NUM!"},{"$error":"#NUM!"},{"$error":"#NUM!"},{"$error":"#NUM!"},{"$error":"#NUM!"},{"$error":"#NUM!"},{"$error":"#NUM!"},{"$error":"#NUM!"},{"$error":"#NUM!"},{"$error":"#NUM!"},{"$f":"OMW10-OMX10","v":{"$error":"#NUM!"}},{"$error":"#NUM!"},{"$error":"#NUM!"},{"$error":"#NUM!"},{"$error":"#NUM!"},{"$error":"#NUM!"},{"$error":"#NUM!"},{"$error":"#NUM!"},{"$error":"#NUM!"},{"$error":"#NUM!"},{"$error":"#NUM!"},{"$error":"#NUM!"},{"$error":"#NUM!"},{"$error":"#NUM!"},{"$error":"#NUM!"},{"$error":"#NUM!"},{"$error":"#NUM!"},{"$error":"#NUM!"},{"$error":"#NUM!"},{"$error":"#NUM!"},{"$error":"#NUM!"},{"$error":"#NUM!"},{"$error":"#NUM!"},{"$error":"#NUM!"},{"$error":"#NUM!"},{"$error":"#NUM!"},{"$error":"#NUM!"},{"$error":"#NUM!"},{"$error":"#NUM!"},{"$error":"#NUM!"},{"$error":"#NUM!"},{"$error":"#NUM!"},{"$error":"#NUM!"},{"$error":"#NUM!"},{"$error":"#NUM!"},{"$error":"#NUM!"},{"$error":"#NUM!"},{"$error":"#NUM!"},{"$error":"#NUM!"},{"$error":"#NUM!"},{"$error":"#NUM!"},{"$error":"#NUM!"},{"$error":"#NUM!"},{"$error":"#NUM!"},{"$error":"#NUM!"},{"$error":"#NUM!"},{"$error":"#NUM!"},{"$error":"#NUM!"},{"$error":"#NUM!"},{"$error":"#NUM!"},{"$error":"#NUM!"},{"$error":"#NUM!"},{"$error":"#NUM!"},{"$error":"#NUM!"},{"$error":"#NUM!"},{"$error":"#NUM!"},{"$error":"#NUM!"},{"$error":"#NUM!"},{"$error":"#NUM!"},{"$error":"#NUM!"},{"$error":"#NUM!"},{"$error":"#NUM!"},{"$error":"#NUM!"},{"$error":"#NUM!"},{"$f":"OPI10-OPJ10","v":{"$error":"#NUM!"}},{"$error":"#NUM!"},{"$error":"#NUM!"},{"$error":"#NUM!"},{"$error":"#NUM!"},{"$error":"#NUM!"},{"$error":"#NUM!"},{"$error":"#NUM!"},{"$error":"#NUM!"},{"$error":"#NUM!"},{"$error":"#NUM!"},{"$error":"#NUM!"},{"$error":"#NUM!"},{"$error":"#NUM!"},{"$error":"#NUM!"},{"$error":"#NUM!"},{"$error":"#NUM!"},{"$error":"#NUM!"},{"$error":"#NUM!"},{"$error":"#NUM!"},{"$error":"#NUM!"},{"$error":"#NUM!"},{"$error":"#NUM!"},{"$error":"#NUM!"},{"$error":"#NUM!"},{"$error":"#NUM!"},{"$error":"#NUM!"},{"$error":"#NUM!"},{"$error":"#NUM!"},{"$error":"#NUM!"},{"$error":"#NUM!"},{"$error":"#NUM!"},{"$error":"#NUM!"},{"$error":"#NUM!"},{"$error":"#NUM!"},{"$error":"#NUM!"},{"$error":"#NUM!"},{"$error":"#NUM!"},{"$error":"#NUM!"},{"$error":"#NUM!"},{"$error":"#NUM!"},{"$error":"#NUM!"},{"$error":"#NUM!"},{"$error":"#NUM!"},{"$error":"#NUM!"},{"$error":"#NUM!"},{"$error":"#NUM!"},{"$error":"#NUM!"},{"$error":"#NUM!"},{"$error":"#NUM!"},{"$error":"#NUM!"},{"$error":"#NUM!"},{"$error":"#NUM!"},{"$error":"#NUM!"},{"$error":"#NUM!"},{"$error":"#NUM!"},{"$error":"#NUM!"},{"$error":"#NUM!"},{"$error":"#NUM!"},{"$error":"#NUM!"},{"$error":"#NUM!"},{"$error":"#NUM!"},{"$error":"#NUM!"},{"$error":"#NUM!"},{"$f":"ORU10-ORV10","v":{"$error":"#NUM!"}},{"$error":"#NUM!"},{"$error":"#NUM!"},{"$error":"#NUM!"},{"$error":"#NUM!"},{"$error":"#NUM!"},{"$error":"#NUM!"},{"$error":"#NUM!"},{"$error":"#NUM!"},{"$error":"#NUM!"},{"$error":"#NUM!"},{"$error":"#NUM!"},{"$error":"#NUM!"},{"$error":"#NUM!"},{"$error":"#NUM!"},{"$error":"#NUM!"},{"$error":"#NUM!"},{"$error":"#NUM!"},{"$error":"#NUM!"},{"$error":"#NUM!"},{"$error":"#NUM!"},{"$error":"#NUM!"},{"$error":"#NUM!"},{"$error":"#NUM!"},{"$error":"#NUM!"},{"$error":"#NUM!"},{"$error":"#NUM!"},{"$error":"#NUM!"},{"$error":"#NUM!"},{"$error":"#NUM!"},{"$error":"#NUM!"},{"$error":"#NUM!"},{"$error":"#NUM!"},{"$error":"#NUM!"},{"$error":"#NUM!"},{"$error":"#NUM!"},{"$error":"#NUM!"},{"$error":"#NUM!"},{"$error":"#NUM!"},{"$error":"#NUM!"},{"$error":"#NUM!"},{"$error":"#NUM!"},{"$error":"#NUM!"},{"$error":"#NUM!"},{"$error":"#NUM!"},{"$error":"#NUM!"},{"$error":"#NUM!"},{"$error":"#NUM!"},{"$error":"#NUM!"},{"$error":"#NUM!"},{"$error":"#NUM!"},{"$error":"#NUM!"},{"$error":"#NUM!"},{"$error":"#NUM!"},{"$error":"#NUM!"},{"$error":"#NUM!"},{"$error":"#NUM!"},{"$error":"#NUM!"},{"$error":"#NUM!"},{"$error":"#NUM!"},{"$error":"#NUM!"},{"$error":"#NUM!"},{"$error":"#NUM!"},{"$error":"#NUM!"},{"$f":"OUG10-OUH10","v":{"$error":"#NUM!"}},{"$error":"#NUM!"},{"$error":"#NUM!"},{"$error":"#NUM!"},{"$error":"#NUM!"},{"$error":"#NUM!"},{"$error":"#NUM!"},{"$error":"#NUM!"},{"$error":"#NUM!"},{"$error":"#NUM!"},{"$error":"#NUM!"},{"$error":"#NUM!"},{"$error":"#NUM!"},{"$error":"#NUM!"},{"$error":"#NUM!"},{"$error":"#NUM!"},{"$error":"#NUM!"},{"$error":"#NUM!"},{"$error":"#NUM!"},{"$error":"#NUM!"},{"$error":"#NUM!"},{"$error":"#NUM!"},{"$error":"#NUM!"},{"$error":"#NUM!"},{"$error":"#NUM!"},{"$error":"#NUM!"},{"$error":"#NUM!"},{"$error":"#NUM!"},{"$error":"#NUM!"},{"$error":"#NUM!"},{"$error":"#NUM!"},{"$error":"#NUM!"},{"$error":"#NUM!"},{"$error":"#NUM!"},{"$error":"#NUM!"},{"$error":"#NUM!"},{"$error":"#NUM!"},{"$error":"#NUM!"},{"$error":"#NUM!"},{"$error":"#NUM!"},{"$error":"#NUM!"},{"$error":"#NUM!"},{"$error":"#NUM!"},{"$error":"#NUM!"},{"$error":"#NUM!"},{"$error":"#NUM!"},{"$error":"#NUM!"},{"$error":"#NUM!"},{"$error":"#NUM!"},{"$error":"#NUM!"},{"$error":"#NUM!"},{"$error":"#NUM!"},{"$error":"#NUM!"},{"$error":"#NUM!"},{"$error":"#NUM!"},{"$error":"#NUM!"},{"$error":"#NUM!"},{"$error":"#NUM!"},{"$error":"#NUM!"},{"$error":"#NUM!"},{"$error":"#NUM!"},{"$error":"#NUM!"},{"$error":"#NUM!"},{"$error":"#NUM!"},{"$f":"OWS10-OWT10","v":{"$error":"#NUM!"}},{"$error":"#NUM!"},{"$error":"#NUM!"},{"$error":"#NUM!"},{"$error":"#NUM!"},{"$error":"#NUM!"},{"$error":"#NUM!"},{"$error":"#NUM!"},{"$error":"#NUM!"},{"$error":"#NUM!"},{"$error":"#NUM!"},{"$error":"#NUM!"},{"$error":"#NUM!"},{"$error":"#NUM!"},{"$error":"#NUM!"},{"$error":"#NUM!"},{"$error":"#NUM!"},{"$error":"#NUM!"},{"$error":"#NUM!"},{"$error":"#NUM!"},{"$error":"#NUM!"},{"$error":"#NUM!"},{"$error":"#NUM!"},{"$error":"#NUM!"},{"$error":"#NUM!"},{"$error":"#NUM!"},{"$error":"#NUM!"},{"$error":"#NUM!"},{"$error":"#NUM!"},{"$error":"#NUM!"},{"$error":"#NUM!"},{"$error":"#NUM!"},{"$error":"#NUM!"},{"$error":"#NUM!"},{"$error":"#NUM!"},{"$error":"#NUM!"},{"$error":"#NUM!"},{"$error":"#NUM!"},{"$error":"#NUM!"},{"$error":"#NUM!"},{"$error":"#NUM!"},{"$error":"#NUM!"},{"$error":"#NUM!"},{"$error":"#NUM!"},{"$error":"#NUM!"},{"$error":"#NUM!"},{"$error":"#NUM!"},{"$error":"#NUM!"},{"$error":"#NUM!"},{"$error":"#NUM!"},{"$error":"#NUM!"},{"$error":"#NUM!"},{"$error":"#NUM!"},{"$error":"#NUM!"},{"$error":"#NUM!"},{"$error":"#NUM!"},{"$error":"#NUM!"},{"$error":"#NUM!"},{"$error":"#NUM!"},{"$error":"#NUM!"},{"$error":"#NUM!"},{"$error":"#NUM!"},{"$error":"#NUM!"},{"$error":"#NUM!"},{"$f":"OZE10-OZF10","v":{"$error":"#NUM!"}},{"$error":"#NUM!"},{"$error":"#NUM!"},{"$error":"#NUM!"},{"$error":"#NUM!"},{"$error":"#NUM!"},{"$error":"#NUM!"},{"$error":"#NUM!"},{"$error":"#NUM!"},{"$error":"#NUM!"},{"$error":"#NUM!"},{"$error":"#NUM!"},{"$error":"#NUM!"},{"$error":"#NUM!"},{"$error":"#NUM!"},{"$error":"#NUM!"},{"$error":"#NUM!"},{"$error":"#NUM!"},{"$error":"#NUM!"},{"$error":"#NUM!"},{"$error":"#NUM!"},{"$error":"#NUM!"},{"$error":"#NUM!"},{"$error":"#NUM!"},{"$error":"#NUM!"},{"$error":"#NUM!"},{"$error":"#NUM!"},{"$error":"#NUM!"},{"$error":"#NUM!"},{"$error":"#NUM!"},{"$error":"#NUM!"},{"$error":"#NUM!"},{"$error":"#NUM!"},{"$error":"#NUM!"},{"$error":"#NUM!"},{"$error":"#NUM!"},{"$error":"#NUM!"},{"$error":"#NUM!"},{"$error":"#NUM!"},{"$error":"#NUM!"},{"$error":"#NUM!"},{"$error":"#NUM!"},{"$error":"#NUM!"},{"$error":"#NUM!"},{"$error":"#NUM!"},{"$error":"#NUM!"},{"$error":"#NUM!"},{"$error":"#NUM!"},{"$error":"#NUM!"},{"$error":"#NUM!"},{"$error":"#NUM!"},{"$error":"#NUM!"},{"$error":"#NUM!"},{"$error":"#NUM!"},{"$error":"#NUM!"},{"$error":"#NUM!"},{"$error":"#NUM!"},{"$error":"#NUM!"},{"$error":"#NUM!"},{"$error":"#NUM!"},{"$error":"#NUM!"},{"$error":"#NUM!"},{"$error":"#NUM!"},{"$error":"#NUM!"},{"$f":"PBQ10-PBR10","v":{"$error":"#NUM!"}},{"$error":"#NUM!"},{"$error":"#NUM!"},{"$error":"#NUM!"},{"$error":"#NUM!"},{"$error":"#NUM!"},{"$error":"#NUM!"},{"$error":"#NUM!"},{"$error":"#NUM!"},{"$error":"#NUM!"},{"$error":"#NUM!"},{"$error":"#NUM!"},{"$error":"#NUM!"},{"$error":"#NUM!"},{"$error":"#NUM!"},{"$error":"#NUM!"},{"$error":"#NUM!"},{"$error":"#NUM!"},{"$error":"#NUM!"},{"$error":"#NUM!"},{"$error":"#NUM!"},{"$error":"#NUM!"},{"$error":"#NUM!"},{"$error":"#NUM!"},{"$error":"#NUM!"},{"$error":"#NUM!"},{"$error":"#NUM!"},{"$error":"#NUM!"},{"$error":"#NUM!"},{"$error":"#NUM!"},{"$error":"#NUM!"},{"$error":"#NUM!"},{"$error":"#NUM!"},{"$error":"#NUM!"},{"$error":"#NUM!"},{"$error":"#NUM!"},{"$error":"#NUM!"},{"$error":"#NUM!"},{"$error":"#NUM!"},{"$error":"#NUM!"},{"$error":"#NUM!"},{"$error":"#NUM!"},{"$error":"#NUM!"},{"$error":"#NUM!"},{"$error":"#NUM!"},{"$error":"#NUM!"},{"$error":"#NUM!"},{"$error":"#NUM!"},{"$error":"#NUM!"},{"$error":"#NUM!"},{"$error":"#NUM!"},{"$error":"#NUM!"},{"$error":"#NUM!"},{"$error":"#NUM!"},{"$error":"#NUM!"},{"$error":"#NUM!"},{"$error":"#NUM!"},{"$error":"#NUM!"},{"$error":"#NUM!"},{"$error":"#NUM!"},{"$error":"#NUM!"},{"$error":"#NUM!"},{"$error":"#NUM!"},{"$error":"#NUM!"},{"$f":"PEC10-PED10","v":{"$error":"#NUM!"}},{"$error":"#NUM!"},{"$error":"#NUM!"},{"$error":"#NUM!"},{"$error":"#NUM!"},{"$error":"#NUM!"},{"$error":"#NUM!"},{"$error":"#NUM!"},{"$error":"#NUM!"},{"$error":"#NUM!"},{"$error":"#NUM!"},{"$error":"#NUM!"},{"$error":"#NUM!"},{"$error":"#NUM!"},{"$error":"#NUM!"},{"$error":"#NUM!"},{"$error":"#NUM!"},{"$error":"#NUM!"},{"$error":"#NUM!"},{"$error":"#NUM!"},{"$error":"#NUM!"},{"$error":"#NUM!"},{"$error":"#NUM!"},{"$error":"#NUM!"},{"$error":"#NUM!"},{"$error":"#NUM!"},{"$error":"#NUM!"},{"$error":"#NUM!"},{"$error":"#NUM!"},{"$error":"#NUM!"},{"$error":"#NUM!"},{"$error":"#NUM!"},{"$error":"#NUM!"},{"$error":"#NUM!"},{"$error":"#NUM!"},{"$error":"#NUM!"},{"$error":"#NUM!"},{"$error":"#NUM!"},{"$error":"#NUM!"},{"$error":"#NUM!"},{"$error":"#NUM!"},{"$error":"#NUM!"},{"$error":"#NUM!"},{"$error":"#NUM!"},{"$error":"#NUM!"},{"$error":"#NUM!"},{"$error":"#NUM!"},{"$error":"#NUM!"},{"$error":"#NUM!"},{"$error":"#NUM!"},{"$error":"#NUM!"},{"$error":"#NUM!"},{"$error":"#NUM!"},{"$error":"#NUM!"},{"$error":"#NUM!"},{"$error":"#NUM!"},{"$error":"#NUM!"},{"$error":"#NUM!"},{"$error":"#NUM!"},{"$error":"#NUM!"},{"$error":"#NUM!"},{"$error":"#NUM!"},{"$error":"#NUM!"},{"$error":"#NUM!"},{"$f":"PGO10-PGP10","v":{"$error":"#NUM!"}},{"$error":"#NUM!"},{"$error":"#NUM!"},{"$error":"#NUM!"},{"$error":"#NUM!"},{"$error":"#NUM!"},{"$error":"#NUM!"},{"$error":"#NUM!"},{"$error":"#NUM!"},{"$error":"#NUM!"},{"$error":"#NUM!"},{"$error":"#NUM!"},{"$error":"#NUM!"},{"$error":"#NUM!"},{"$error":"#NUM!"},{"$error":"#NUM!"},{"$error":"#NUM!"},{"$error":"#NUM!"},{"$error":"#NUM!"},{"$error":"#NUM!"},{"$error":"#NUM!"},{"$error":"#NUM!"},{"$error":"#NUM!"},{"$error":"#NUM!"},{"$error":"#NUM!"},{"$error":"#NUM!"},{"$error":"#NUM!"},{"$error":"#NUM!"},{"$error":"#NUM!"},{"$error":"#NUM!"},{"$error":"#NUM!"},{"$error":"#NUM!"},{"$error":"#NUM!"},{"$error":"#NUM!"},{"$error":"#NUM!"},{"$error":"#NUM!"},{"$error":"#NUM!"},{"$error":"#NUM!"},{"$error":"#NUM!"},{"$error":"#NUM!"},{"$error":"#NUM!"},{"$error":"#NUM!"},{"$error":"#NUM!"},{"$error":"#NUM!"},{"$error":"#NUM!"},{"$error":"#NUM!"},{"$error":"#NUM!"},{"$error":"#NUM!"},{"$error":"#NUM!"},{"$error":"#NUM!"},{"$error":"#NUM!"},{"$error":"#NUM!"},{"$error":"#NUM!"},{"$error":"#NUM!"},{"$error":"#NUM!"},{"$error":"#NUM!"},{"$error":"#NUM!"},{"$error":"#NUM!"},{"$error":"#NUM!"},{"$error":"#NUM!"},{"$error":"#NUM!"},{"$error":"#NUM!"},{"$error":"#NUM!"},{"$error":"#NUM!"},{"$f":"PJA10-PJB10","v":{"$error":"#NUM!"}},{"$error":"#NUM!"},{"$error":"#NUM!"},{"$error":"#NUM!"},{"$error":"#NUM!"},{"$error":"#NUM!"},{"$error":"#NUM!"},{"$error":"#NUM!"},{"$error":"#NUM!"},{"$error":"#NUM!"},{"$error":"#NUM!"},{"$error":"#NUM!"},{"$error":"#NUM!"},{"$error":"#NUM!"},{"$error":"#NUM!"},{"$error":"#NUM!"},{"$error":"#NUM!"},{"$error":"#NUM!"},{"$error":"#NUM!"},{"$error":"#NUM!"},{"$error":"#NUM!"},{"$error":"#NUM!"},{"$error":"#NUM!"},{"$error":"#NUM!"},{"$error":"#NUM!"},{"$error":"#NUM!"},{"$error":"#NUM!"},{"$error":"#NUM!"},{"$error":"#NUM!"},{"$error":"#NUM!"},{"$error":"#NUM!"},{"$error":"#NUM!"},{"$error":"#NUM!"},{"$error":"#NUM!"},{"$error":"#NUM!"},{"$error":"#NUM!"},{"$error":"#NUM!"},{"$error":"#NUM!"},{"$error":"#NUM!"},{"$error":"#NUM!"},{"$error":"#NUM!"},{"$error":"#NUM!"},{"$error":"#NUM!"},{"$error":"#NUM!"},{"$error":"#NUM!"},{"$error":"#NUM!"},{"$error":"#NUM!"},{"$error":"#NUM!"},{"$error":"#NUM!"},{"$error":"#NUM!"},{"$error":"#NUM!"},{"$error":"#NUM!"},{"$error":"#NUM!"},{"$error":"#NUM!"},{"$error":"#NUM!"},{"$error":"#NUM!"},{"$error":"#NUM!"},{"$error":"#NUM!"},{"$error":"#NUM!"},{"$error":"#NUM!"},{"$error":"#NUM!"},{"$error":"#NUM!"},{"$error":"#NUM!"},{"$error":"#NUM!"},{"$f":"PLM10-PLN10","v":{"$error":"#NUM!"}},{"$error":"#NUM!"},{"$error":"#NUM!"},{"$error":"#NUM!"},{"$error":"#NUM!"},{"$error":"#NUM!"},{"$error":"#NUM!"},{"$error":"#NUM!"},{"$error":"#NUM!"},{"$error":"#NUM!"},{"$error":"#NUM!"},{"$error":"#NUM!"},{"$error":"#NUM!"},{"$error":"#NUM!"},{"$error":"#NUM!"},{"$error":"#NUM!"},{"$error":"#NUM!"},{"$error":"#NUM!"},{"$error":"#NUM!"},{"$error":"#NUM!"},{"$error":"#NUM!"},{"$error":"#NUM!"},{"$error":"#NUM!"},{"$error":"#NUM!"},{"$error":"#NUM!"},{"$error":"#NUM!"},{"$error":"#NUM!"},{"$error":"#NUM!"},{"$error":"#NUM!"},{"$error":"#NUM!"},{"$error":"#NUM!"},{"$error":"#NUM!"},{"$error":"#NUM!"},{"$error":"#NUM!"},{"$error":"#NUM!"},{"$error":"#NUM!"},{"$error":"#NUM!"},{"$error":"#NUM!"},{"$error":"#NUM!"},{"$error":"#NUM!"},{"$error":"#NUM!"},{"$error":"#NUM!"},{"$error":"#NUM!"},{"$error":"#NUM!"},{"$error":"#NUM!"},{"$error":"#NUM!"},{"$error":"#NUM!"},{"$error":"#NUM!"},{"$error":"#NUM!"},{"$error":"#NUM!"},{"$error":"#NUM!"},{"$error":"#NUM!"},{"$error":"#NUM!"},{"$error":"#NUM!"},{"$error":"#NUM!"},{"$error":"#NUM!"},{"$error":"#NUM!"},{"$error":"#NUM!"},{"$error":"#NUM!"},{"$error":"#NUM!"},{"$error":"#NUM!"},{"$error":"#NUM!"},{"$error":"#NUM!"},{"$error":"#NUM!"},{"$f":"PNY10-PNZ10","v":{"$error":"#NUM!"}},{"$error":"#NUM!"},{"$error":"#NUM!"},{"$error":"#NUM!"},{"$error":"#NUM!"},{"$error":"#NUM!"},{"$error":"#NUM!"},{"$error":"#NUM!"},{"$error":"#NUM!"},{"$error":"#NUM!"},{"$error":"#NUM!"},{"$error":"#NUM!"},{"$error":"#NUM!"},{"$error":"#NUM!"},{"$error":"#NUM!"},{"$error":"#NUM!"},{"$error":"#NUM!"},{"$error":"#NUM!"},{"$error":"#NUM!"},{"$error":"#NUM!"},{"$error":"#NUM!"},{"$error":"#NUM!"},{"$error":"#NUM!"},{"$error":"#NUM!"},{"$error":"#NUM!"},{"$error":"#NUM!"},{"$error":"#NUM!"},{"$error":"#NUM!"},{"$error":"#NUM!"},{"$error":"#NUM!"},{"$error":"#NUM!"},{"$error":"#NUM!"},{"$error":"#NUM!"},{"$error":"#NUM!"},{"$error":"#NUM!"},{"$error":"#NUM!"},{"$error":"#NUM!"},{"$error":"#NUM!"},{"$error":"#NUM!"},{"$error":"#NUM!"},{"$error":"#NUM!"},{"$error":"#NUM!"},{"$error":"#NUM!"},{"$error":"#NUM!"},{"$error":"#NUM!"},{"$error":"#NUM!"},{"$error":"#NUM!"},{"$error":"#NUM!"},{"$error":"#NUM!"},{"$error":"#NUM!"},{"$error":"#NUM!"},{"$error":"#NUM!"},{"$error":"#NUM!"},{"$error":"#NUM!"},{"$error":"#NUM!"},{"$error":"#NUM!"},{"$error":"#NUM!"},{"$error":"#NUM!"},{"$error":"#NUM!"},{"$error":"#NUM!"},{"$error":"#NUM!"},{"$error":"#NUM!"},{"$error":"#NUM!"},{"$error":"#NUM!"},{"$f":"PQK10-PQL10","v":{"$error":"#NUM!"}},{"$error":"#NUM!"},{"$error":"#NUM!"},{"$error":"#NUM!"},{"$error":"#NUM!"},{"$error":"#NUM!"},{"$error":"#NUM!"},{"$error":"#NUM!"},{"$error":"#NUM!"},{"$error":"#NUM!"},{"$error":"#NUM!"},{"$error":"#NUM!"},{"$error":"#NUM!"},{"$error":"#NUM!"},{"$error":"#NUM!"},{"$error":"#NUM!"},{"$error":"#NUM!"},{"$error":"#NUM!"},{"$error":"#NUM!"},{"$error":"#NUM!"},{"$error":"#NUM!"},{"$error":"#NUM!"},{"$error":"#NUM!"},{"$error":"#NUM!"},{"$error":"#NUM!"},{"$error":"#NUM!"},{"$error":"#NUM!"},{"$error":"#NUM!"},{"$error":"#NUM!"},{"$error":"#NUM!"},{"$error":"#NUM!"},{"$error":"#NUM!"},{"$error":"#NUM!"},{"$error":"#NUM!"},{"$error":"#NUM!"},{"$error":"#NUM!"},{"$error":"#NUM!"},{"$error":"#NUM!"},{"$error":"#NUM!"},{"$error":"#NUM!"},{"$error":"#NUM!"},{"$error":"#NUM!"},{"$error":"#NUM!"},{"$error":"#NUM!"},{"$error":"#NUM!"},{"$error":"#NUM!"},{"$error":"#NUM!"},{"$error":"#NUM!"},{"$error":"#NUM!"},{"$error":"#NUM!"},{"$error":"#NUM!"},{"$error":"#NUM!"},{"$error":"#NUM!"},{"$error":"#NUM!"},{"$error":"#NUM!"},{"$error":"#NUM!"},{"$error":"#NUM!"},{"$error":"#NUM!"},{"$error":"#NUM!"},{"$error":"#NUM!"},{"$error":"#NUM!"},{"$error":"#NUM!"},{"$error":"#NUM!"},{"$error":"#NUM!"},{"$f":"PSW10-PSX10","v":{"$error":"#NUM!"}},{"$error":"#NUM!"},{"$error":"#NUM!"},{"$error":"#NUM!"},{"$error":"#NUM!"},{"$error":"#NUM!"},{"$error":"#NUM!"},{"$error":"#NUM!"},{"$error":"#NUM!"},{"$error":"#NUM!"},{"$error":"#NUM!"},{"$error":"#NUM!"},{"$error":"#NUM!"},{"$error":"#NUM!"},{"$error":"#NUM!"},{"$error":"#NUM!"},{"$error":"#NUM!"},{"$error":"#NUM!"},{"$error":"#NUM!"},{"$error":"#NUM!"},{"$error":"#NUM!"},{"$error":"#NUM!"},{"$error":"#NUM!"},{"$error":"#NUM!"},{"$error":"#NUM!"},{"$error":"#NUM!"},{"$error":"#NUM!"},{"$error":"#NUM!"},{"$error":"#NUM!"},{"$error":"#NUM!"},{"$error":"#NUM!"},{"$error":"#NUM!"},{"$error":"#NUM!"},{"$error":"#NUM!"},{"$error":"#NUM!"},{"$error":"#NUM!"},{"$error":"#NUM!"},{"$error":"#NUM!"},{"$error":"#NUM!"},{"$error":"#NUM!"},{"$error":"#NUM!"},{"$error":"#NUM!"},{"$error":"#NUM!"},{"$error":"#NUM!"},{"$error":"#NUM!"},{"$error":"#NUM!"},{"$error":"#NUM!"},{"$error":"#NUM!"},{"$error":"#NUM!"},{"$error":"#NUM!"},{"$error":"#NUM!"},{"$error":"#NUM!"},{"$error":"#NUM!"},{"$error":"#NUM!"},{"$error":"#NUM!"},{"$error":"#NUM!"},{"$error":"#NUM!"},{"$error":"#NUM!"},{"$error":"#NUM!"},{"$error":"#NUM!"},{"$error":"#NUM!"},{"$error":"#NUM!"},{"$error":"#NUM!"},{"$error":"#NUM!"},{"$f":"PVI10-PVJ10","v":{"$error":"#NUM!"}},{"$error":"#NUM!"},{"$error":"#NUM!"},{"$error":"#NUM!"},{"$error":"#NUM!"},{"$error":"#NUM!"},{"$error":"#NUM!"},{"$error":"#NUM!"},{"$error":"#NUM!"},{"$error":"#NUM!"},{"$error":"#NUM!"},{"$error":"#NUM!"},{"$error":"#NUM!"},{"$error":"#NUM!"},{"$error":"#NUM!"},{"$error":"#NUM!"},{"$error":"#NUM!"},{"$error":"#NUM!"},{"$error":"#NUM!"},{"$error":"#NUM!"},{"$error":"#NUM!"},{"$error":"#NUM!"},{"$error":"#NUM!"},{"$error":"#NUM!"},{"$error":"#NUM!"},{"$error":"#NUM!"},{"$error":"#NUM!"},{"$error":"#NUM!"},{"$error":"#NUM!"},{"$error":"#NUM!"},{"$error":"#NUM!"},{"$error":"#NUM!"},{"$error":"#NUM!"},{"$error":"#NUM!"},{"$error":"#NUM!"},{"$error":"#NUM!"},{"$error":"#NUM!"},{"$error":"#NUM!"},{"$error":"#NUM!"},{"$error":"#NUM!"},{"$error":"#NUM!"},{"$error":"#NUM!"},{"$error":"#NUM!"},{"$error":"#NUM!"},{"$error":"#NUM!"},{"$error":"#NUM!"},{"$error":"#NUM!"},{"$error":"#NUM!"},{"$error":"#NUM!"},{"$error":"#NUM!"},{"$error":"#NUM!"},{"$error":"#NUM!"},{"$error":"#NUM!"},{"$error":"#NUM!"},{"$error":"#NUM!"},{"$error":"#NUM!"},{"$error":"#NUM!"},{"$error":"#NUM!"},{"$error":"#NUM!"},{"$error":"#NUM!"},{"$error":"#NUM!"},{"$error":"#NUM!"},{"$error":"#NUM!"},{"$error":"#NUM!"},{"$f":"PXU10-PXV10","v":{"$error":"#NUM!"}},{"$error":"#NUM!"},{"$error":"#NUM!"},{"$error":"#NUM!"},{"$error":"#NUM!"},{"$error":"#NUM!"},{"$error":"#NUM!"},{"$error":"#NUM!"},{"$error":"#NUM!"},{"$error":"#NUM!"},{"$error":"#NUM!"},{"$error":"#NUM!"},{"$error":"#NUM!"},{"$error":"#NUM!"},{"$error":"#NUM!"},{"$error":"#NUM!"},{"$error":"#NUM!"},{"$error":"#NUM!"},{"$error":"#NUM!"},{"$error":"#NUM!"},{"$error":"#NUM!"},{"$error":"#NUM!"},{"$error":"#NUM!"},{"$error":"#NUM!"},{"$error":"#NUM!"},{"$error":"#NUM!"},{"$error":"#NUM!"},{"$error":"#NUM!"},{"$error":"#NUM!"},{"$error":"#NUM!"},{"$error":"#NUM!"},{"$error":"#NUM!"},{"$error":"#NUM!"},{"$error":"#NUM!"},{"$error":"#NUM!"},{"$error":"#NUM!"},{"$error":"#NUM!"},{"$error":"#NUM!"},{"$error":"#NUM!"},{"$error":"#NUM!"},{"$error":"#NUM!"},{"$error":"#NUM!"},{"$error":"#NUM!"},{"$error":"#NUM!"},{"$error":"#NUM!"},{"$error":"#NUM!"},{"$error":"#NUM!"},{"$error":"#NUM!"},{"$error":"#NUM!"},{"$error":"#NUM!"},{"$error":"#NUM!"},{"$error":"#NUM!"},{"$error":"#NUM!"},{"$error":"#NUM!"},{"$error":"#NUM!"},{"$error":"#NUM!"},{"$error":"#NUM!"},{"$error":"#NUM!"},{"$error":"#NUM!"},{"$error":"#NUM!"},{"$error":"#NUM!"},{"$error":"#NUM!"},{"$error":"#NUM!"},{"$error":"#NUM!"},{"$f":"QAG10-QAH10","v":{"$error":"#NUM!"}},{"$error":"#NUM!"},{"$error":"#NUM!"},{"$error":"#NUM!"},{"$error":"#NUM!"},{"$error":"#NUM!"},{"$error":"#NUM!"},{"$error":"#NUM!"},{"$error":"#NUM!"},{"$error":"#NUM!"},{"$error":"#NUM!"},{"$error":"#NUM!"},{"$error":"#NUM!"},{"$error":"#NUM!"},{"$error":"#NUM!"},{"$error":"#NUM!"},{"$error":"#NUM!"},{"$error":"#NUM!"},{"$error":"#NUM!"},{"$error":"#NUM!"},{"$error":"#NUM!"},{"$error":"#NUM!"},{"$error":"#NUM!"},{"$error":"#NUM!"},{"$error":"#NUM!"},{"$error":"#NUM!"},{"$error":"#NUM!"},{"$error":"#NUM!"},{"$error":"#NUM!"},{"$error":"#NUM!"},{"$error":"#NUM!"},{"$error":"#NUM!"},{"$error":"#NUM!"},{"$error":"#NUM!"},{"$error":"#NUM!"},{"$error":"#NUM!"},{"$error":"#NUM!"},{"$error":"#NUM!"},{"$error":"#NUM!"},{"$error":"#NUM!"},{"$error":"#NUM!"},{"$error":"#NUM!"},{"$error":"#NUM!"},{"$error":"#NUM!"},{"$error":"#NUM!"},{"$error":"#NUM!"},{"$error":"#NUM!"},{"$error":"#NUM!"},{"$error":"#NUM!"},{"$error":"#NUM!"},{"$error":"#NUM!"},{"$error":"#NUM!"},{"$error":"#NUM!"},{"$error":"#NUM!"},{"$error":"#NUM!"},{"$error":"#NUM!"},{"$error":"#NUM!"},{"$error":"#NUM!"},{"$error":"#NUM!"},{"$error":"#NUM!"},{"$error":"#NUM!"},{"$error":"#NUM!"},{"$error":"#NUM!"},{"$error":"#NUM!"},{"$f":"QCS10-QCT10","v":{"$error":"#NUM!"}},{"$error":"#NUM!"},{"$error":"#NUM!"},{"$error":"#NUM!"},{"$error":"#NUM!"},{"$error":"#NUM!"},{"$error":"#NUM!"},{"$error":"#NUM!"},{"$error":"#NUM!"},{"$error":"#NUM!"},{"$error":"#NUM!"},{"$error":"#NUM!"},{"$error":"#NUM!"},{"$error":"#NUM!"},{"$error":"#NUM!"},{"$error":"#NUM!"},{"$error":"#NUM!"},{"$error":"#NUM!"},{"$error":"#NUM!"},{"$error":"#NUM!"},{"$error":"#NUM!"},{"$error":"#NUM!"},{"$error":"#NUM!"},{"$error":"#NUM!"},{"$error":"#NUM!"},{"$error":"#NUM!"},{"$error":"#NUM!"},{"$error":"#NUM!"},{"$error":"#NUM!"},{"$error":"#NUM!"},{"$error":"#NUM!"},{"$error":"#NUM!"},{"$error":"#NUM!"},{"$error":"#NUM!"},{"$error":"#NUM!"},{"$error":"#NUM!"},{"$error":"#NUM!"},{"$error":"#NUM!"},{"$error":"#NUM!"},{"$error":"#NUM!"},{"$error":"#NUM!"},{"$error":"#NUM!"},{"$error":"#NUM!"},{"$error":"#NUM!"},{"$error":"#NUM!"},{"$error":"#NUM!"},{"$error":"#NUM!"},{"$error":"#NUM!"},{"$error":"#NUM!"},{"$error":"#NUM!"},{"$error":"#NUM!"},{"$error":"#NUM!"},{"$error":"#NUM!"},{"$error":"#NUM!"},{"$error":"#NUM!"},{"$error":"#NUM!"},{"$error":"#NUM!"},{"$error":"#NUM!"},{"$error":"#NUM!"},{"$error":"#NUM!"},{"$error":"#NUM!"},{"$error":"#NUM!"},{"$error":"#NUM!"},{"$error":"#NUM!"},{"$f":"QFE10-QFF10","v":{"$error":"#NUM!"}},{"$error":"#NUM!"},{"$error":"#NUM!"},{"$error":"#NUM!"},{"$error":"#NUM!"},{"$error":"#NUM!"},{"$error":"#NUM!"},{"$error":"#NUM!"},{"$error":"#NUM!"},{"$error":"#NUM!"},{"$error":"#NUM!"},{"$error":"#NUM!"},{"$error":"#NUM!"},{"$error":"#NUM!"},{"$error":"#NUM!"},{"$error":"#NUM!"},{"$error":"#NUM!"},{"$error":"#NUM!"},{"$error":"#NUM!"},{"$error":"#NUM!"},{"$error":"#NUM!"},{"$error":"#NUM!"},{"$error":"#NUM!"},{"$error":"#NUM!"},{"$error":"#NUM!"},{"$error":"#NUM!"},{"$error":"#NUM!"},{"$error":"#NUM!"},{"$error":"#NUM!"},{"$error":"#NUM!"},{"$error":"#NUM!"},{"$error":"#NUM!"},{"$error":"#NUM!"},{"$error":"#NUM!"},{"$error":"#NUM!"},{"$error":"#NUM!"},{"$error":"#NUM!"},{"$error":"#NUM!"},{"$error":"#NUM!"},{"$error":"#NUM!"},{"$error":"#NUM!"},{"$error":"#NUM!"},{"$error":"#NUM!"},{"$error":"#NUM!"},{"$error":"#NUM!"},{"$error":"#NUM!"},{"$error":"#NUM!"},{"$error":"#NUM!"},{"$error":"#NUM!"},{"$error":"#NUM!"},{"$error":"#NUM!"},{"$error":"#NUM!"},{"$error":"#NUM!"},{"$error":"#NUM!"},{"$error":"#NUM!"},{"$error":"#NUM!"},{"$error":"#NUM!"},{"$error":"#NUM!"},{"$error":"#NUM!"},{"$error":"#NUM!"},{"$error":"#NUM!"},{"$error":"#NUM!"},{"$error":"#NUM!"},{"$error":"#NUM!"},{"$f":"QHQ10-QHR10","v":{"$error":"#NUM!"}},{"$error":"#NUM!"},{"$error":"#NUM!"},{"$error":"#NUM!"},{"$error":"#NUM!"},{"$error":"#NUM!"},{"$error":"#NUM!"},{"$error":"#NUM!"},{"$error":"#NUM!"},{"$error":"#NUM!"},{"$error":"#NUM!"},{"$error":"#NUM!"},{"$error":"#NUM!"},{"$error":"#NUM!"},{"$error":"#NUM!"},{"$error":"#NUM!"},{"$error":"#NUM!"},{"$error":"#NUM!"},{"$error":"#NUM!"},{"$error":"#NUM!"},{"$error":"#NUM!"},{"$error":"#NUM!"},{"$error":"#NUM!"},{"$error":"#NUM!"},{"$error":"#NUM!"},{"$error":"#NUM!"},{"$error":"#NUM!"},{"$error":"#NUM!"},{"$error":"#NUM!"},{"$error":"#NUM!"},{"$error":"#NUM!"},{"$error":"#NUM!"},{"$error":"#NUM!"},{"$error":"#NUM!"},{"$error":"#NUM!"},{"$error":"#NUM!"},{"$error":"#NUM!"},{"$error":"#NUM!"},{"$error":"#NUM!"},{"$error":"#NUM!"},{"$error":"#NUM!"},{"$error":"#NUM!"},{"$error":"#NUM!"},{"$error":"#NUM!"},{"$error":"#NUM!"},{"$error":"#NUM!"},{"$error":"#NUM!"},{"$error":"#NUM!"},{"$error":"#NUM!"},{"$error":"#NUM!"},{"$error":"#NUM!"},{"$error":"#NUM!"},{"$error":"#NUM!"},{"$error":"#NUM!"},{"$error":"#NUM!"},{"$error":"#NUM!"},{"$error":"#NUM!"},{"$error":"#NUM!"},{"$error":"#NUM!"},{"$error":"#NUM!"},{"$error":"#NUM!"},{"$error":"#NUM!"},{"$error":"#NUM!"},{"$error":"#NUM!"},{"$f":"QKC10-QKD10","v":{"$error":"#NUM!"}},{"$error":"#NUM!"},{"$error":"#NUM!"},{"$error":"#NUM!"},{"$error":"#NUM!"},{"$error":"#NUM!"},{"$error":"#NUM!"},{"$error":"#NUM!"},{"$error":"#NUM!"},{"$error":"#NUM!"},{"$error":"#NUM!"},{"$error":"#NUM!"},{"$error":"#NUM!"},{"$error":"#NUM!"},{"$error":"#NUM!"},{"$error":"#NUM!"},{"$error":"#NUM!"},{"$error":"#NUM!"},{"$error":"#NUM!"},{"$error":"#NUM!"},{"$error":"#NUM!"},{"$error":"#NUM!"},{"$error":"#NUM!"},{"$error":"#NUM!"},{"$error":"#NUM!"},{"$error":"#NUM!"},{"$error":"#NUM!"},{"$error":"#NUM!"},{"$error":"#NUM!"},{"$error":"#NUM!"},{"$error":"#NUM!"},{"$error":"#NUM!"},{"$error":"#NUM!"},{"$error":"#NUM!"},{"$error":"#NUM!"},{"$error":"#NUM!"},{"$error":"#NUM!"},{"$error":"#NUM!"},{"$error":"#NUM!"},{"$error":"#NUM!"},{"$error":"#NUM!"},{"$error":"#NUM!"},{"$error":"#NUM!"},{"$error":"#NUM!"},{"$error":"#NUM!"},{"$error":"#NUM!"},{"$error":"#NUM!"},{"$error":"#NUM!"},{"$error":"#NUM!"},{"$error":"#NUM!"},{"$error":"#NUM!"},{"$error":"#NUM!"},{"$error":"#NUM!"},{"$error":"#NUM!"},{"$error":"#NUM!"},{"$error":"#NUM!"},{"$error":"#NUM!"},{"$error":"#NUM!"},{"$error":"#NUM!"},{"$error":"#NUM!"},{"$error":"#NUM!"},{"$error":"#NUM!"},{"$error":"#NUM!"},{"$error":"#NUM!"},{"$f":"QMO10-QMP10","v":{"$error":"#NUM!"}},{"$error":"#NUM!"},{"$error":"#NUM!"},{"$error":"#NUM!"},{"$error":"#NUM!"},{"$error":"#NUM!"},{"$error":"#NUM!"},{"$error":"#NUM!"},{"$error":"#NUM!"},{"$error":"#NUM!"},{"$error":"#NUM!"},{"$error":"#NUM!"},{"$error":"#NUM!"},{"$error":"#NUM!"},{"$error":"#NUM!"},{"$error":"#NUM!"},{"$error":"#NUM!"},{"$error":"#NUM!"},{"$error":"#NUM!"},{"$error":"#NUM!"},{"$error":"#NUM!"},{"$error":"#NUM!"},{"$error":"#NUM!"},{"$error":"#NUM!"},{"$error":"#NUM!"},{"$error":"#NUM!"},{"$error":"#NUM!"},{"$error":"#NUM!"},{"$error":"#NUM!"},{"$error":"#NUM!"},{"$error":"#NUM!"},{"$error":"#NUM!"},{"$error":"#NUM!"},{"$error":"#NUM!"},{"$error":"#NUM!"},{"$error":"#NUM!"},{"$error":"#NUM!"},{"$error":"#NUM!"},{"$error":"#NUM!"},{"$error":"#NUM!"},{"$error":"#NUM!"},{"$error":"#NUM!"},{"$error":"#NUM!"},{"$error":"#NUM!"},{"$error":"#NUM!"},{"$error":"#NUM!"},{"$error":"#NUM!"},{"$error":"#NUM!"},{"$error":"#NUM!"},{"$error":"#NUM!"},{"$error":"#NUM!"},{"$error":"#NUM!"},{"$error":"#NUM!"},{"$error":"#NUM!"},{"$error":"#NUM!"},{"$error":"#NUM!"},{"$error":"#NUM!"},{"$error":"#NUM!"},{"$error":"#NUM!"},{"$error":"#NUM!"},{"$error":"#NUM!"},{"$error":"#NUM!"},{"$error":"#NUM!"},{"$error":"#NUM!"},{"$f":"QPA10-QPB10","v":{"$error":"#NUM!"}},{"$error":"#NUM!"},{"$error":"#NUM!"},{"$error":"#NUM!"},{"$error":"#NUM!"},{"$error":"#NUM!"},{"$error":"#NUM!"},{"$error":"#NUM!"},{"$error":"#NUM!"},{"$error":"#NUM!"},{"$error":"#NUM!"},{"$error":"#NUM!"},{"$error":"#NUM!"},{"$error":"#NUM!"},{"$error":"#NUM!"},{"$error":"#NUM!"},{"$error":"#NUM!"},{"$error":"#NUM!"},{"$error":"#NUM!"},{"$error":"#NUM!"},{"$error":"#NUM!"},{"$error":"#NUM!"},{"$error":"#NUM!"},{"$error":"#NUM!"},{"$error":"#NUM!"},{"$error":"#NUM!"},{"$error":"#NUM!"},{"$error":"#NUM!"},{"$error":"#NUM!"},{"$error":"#NUM!"},{"$error":"#NUM!"},{"$error":"#NUM!"},{"$error":"#NUM!"},{"$error":"#NUM!"},{"$error":"#NUM!"},{"$error":"#NUM!"},{"$error":"#NUM!"},{"$error":"#NUM!"},{"$error":"#NUM!"},{"$error":"#NUM!"},{"$error":"#NUM!"},{"$error":"#NUM!"},{"$error":"#NUM!"},{"$error":"#NUM!"},{"$error":"#NUM!"},{"$error":"#NUM!"},{"$error":"#NUM!"},{"$error":"#NUM!"},{"$error":"#NUM!"},{"$error":"#NUM!"},{"$error":"#NUM!"},{"$error":"#NUM!"},{"$error":"#NUM!"},{"$error":"#NUM!"},{"$error":"#NUM!"},{"$error":"#NUM!"},{"$error":"#NUM!"},{"$error":"#NUM!"},{"$error":"#NUM!"},{"$error":"#NUM!"},{"$error":"#NUM!"},{"$error":"#NUM!"},{"$error":"#NUM!"},{"$error":"#NUM!"},{"$f":"QRM10-QRN10","v":{"$error":"#NUM!"}},{"$error":"#NUM!"},{"$error":"#NUM!"},{"$error":"#NUM!"},{"$error":"#NUM!"},{"$error":"#NUM!"},{"$error":"#NUM!"},{"$error":"#NUM!"},{"$error":"#NUM!"},{"$error":"#NUM!"},{"$error":"#NUM!"},{"$error":"#NUM!"},{"$error":"#NUM!"},{"$error":"#NUM!"},{"$error":"#NUM!"},{"$error":"#NUM!"},{"$error":"#NUM!"},{"$error":"#NUM!"},{"$error":"#NUM!"},{"$error":"#NUM!"},{"$error":"#NUM!"},{"$error":"#NUM!"},{"$error":"#NUM!"},{"$error":"#NUM!"},{"$error":"#NUM!"},{"$error":"#NUM!"},{"$error":"#NUM!"},{"$error":"#NUM!"},{"$error":"#NUM!"},{"$error":"#NUM!"},{"$error":"#NUM!"},{"$error":"#NUM!"},{"$error":"#NUM!"},{"$error":"#NUM!"},{"$error":"#NUM!"},{"$error":"#NUM!"},{"$error":"#NUM!"},{"$error":"#NUM!"},{"$error":"#NUM!"},{"$error":"#NUM!"},{"$error":"#NUM!"},{"$error":"#NUM!"},{"$error":"#NUM!"},{"$error":"#NUM!"},{"$error":"#NUM!"},{"$error":"#NUM!"},{"$error":"#NUM!"},{"$error":"#NUM!"},{"$error":"#NUM!"},{"$error":"#NUM!"},{"$error":"#NUM!"},{"$error":"#NUM!"},{"$error":"#NUM!"},{"$error":"#NUM!"},{"$error":"#NUM!"},{"$error":"#NUM!"},{"$error":"#NUM!"},{"$error":"#NUM!"},{"$error":"#NUM!"},{"$error":"#NUM!"},{"$error":"#NUM!"},{"$error":"#NUM!"},{"$error":"#NUM!"},{"$error":"#NUM!"},{"$f":"QTY10-QTZ10","v":{"$error":"#NUM!"}},{"$error":"#NUM!"},{"$error":"#NUM!"},{"$error":"#NUM!"},{"$error":"#NUM!"},{"$error":"#NUM!"},{"$error":"#NUM!"},{"$error":"#NUM!"},{"$error":"#NUM!"},{"$error":"#NUM!"},{"$error":"#NUM!"},{"$error":"#NUM!"},{"$error":"#NUM!"},{"$error":"#NUM!"},{"$error":"#NUM!"},{"$error":"#NUM!"},{"$error":"#NUM!"},{"$error":"#NUM!"},{"$error":"#NUM!"},{"$error":"#NUM!"},{"$error":"#NUM!"},{"$error":"#NUM!"},{"$error":"#NUM!"},{"$error":"#NUM!"},{"$error":"#NUM!"},{"$error":"#NUM!"},{"$error":"#NUM!"},{"$error":"#NUM!"},{"$error":"#NUM!"},{"$error":"#NUM!"},{"$error":"#NUM!"},{"$error":"#NUM!"},{"$error":"#NUM!"},{"$error":"#NUM!"},{"$error":"#NUM!"},{"$error":"#NUM!"},{"$error":"#NUM!"},{"$error":"#NUM!"},{"$error":"#NUM!"},{"$error":"#NUM!"},{"$error":"#NUM!"},{"$error":"#NUM!"},{"$error":"#NUM!"},{"$error":"#NUM!"},{"$error":"#NUM!"},{"$error":"#NUM!"},{"$error":"#NUM!"},{"$error":"#NUM!"},{"$error":"#NUM!"},{"$error":"#NUM!"},{"$error":"#NUM!"},{"$error":"#NUM!"},{"$error":"#NUM!"},{"$error":"#NUM!"},{"$error":"#NUM!"},{"$error":"#NUM!"},{"$error":"#NUM!"},{"$error":"#NUM!"},{"$error":"#NUM!"},{"$error":"#NUM!"},{"$error":"#NUM!"},{"$error":"#NUM!"},{"$error":"#NUM!"},{"$error":"#NUM!"},{"$f":"QWK10-QWL10","v":{"$error":"#NUM!"}},{"$error":"#NUM!"},{"$error":"#NUM!"},{"$error":"#NUM!"},{"$error":"#NUM!"},{"$error":"#NUM!"},{"$error":"#NUM!"},{"$error":"#NUM!"},{"$error":"#NUM!"},{"$error":"#NUM!"},{"$error":"#NUM!"},{"$error":"#NUM!"},{"$error":"#NUM!"},{"$error":"#NUM!"},{"$error":"#NUM!"},{"$error":"#NUM!"},{"$error":"#NUM!"},{"$error":"#NUM!"},{"$error":"#NUM!"},{"$error":"#NUM!"},{"$error":"#NUM!"},{"$error":"#NUM!"},{"$error":"#NUM!"},{"$error":"#NUM!"},{"$error":"#NUM!"},{"$error":"#NUM!"},{"$error":"#NUM!"},{"$error":"#NUM!"},{"$error":"#NUM!"},{"$error":"#NUM!"},{"$error":"#NUM!"},{"$error":"#NUM!"},{"$error":"#NUM!"},{"$error":"#NUM!"},{"$error":"#NUM!"},{"$error":"#NUM!"},{"$error":"#NUM!"},{"$error":"#NUM!"},{"$error":"#NUM!"},{"$error":"#NUM!"},{"$error":"#NUM!"},{"$error":"#NUM!"},{"$error":"#NUM!"},{"$error":"#NUM!"},{"$error":"#NUM!"},{"$error":"#NUM!"},{"$error":"#NUM!"},{"$error":"#NUM!"},{"$error":"#NUM!"},{"$error":"#NUM!"},{"$error":"#NUM!"},{"$error":"#NUM!"},{"$error":"#NUM!"},{"$error":"#NUM!"},{"$error":"#NUM!"},{"$error":"#NUM!"},{"$error":"#NUM!"},{"$error":"#NUM!"},{"$error":"#NUM!"},{"$error":"#NUM!"},{"$error":"#NUM!"},{"$error":"#NUM!"},{"$error":"#NUM!"},{"$error":"#NUM!"},{"$f":"QYW10-QYX10","v":{"$error":"#NUM!"}},{"$error":"#NUM!"},{"$error":"#NUM!"},{"$error":"#NUM!"},{"$error":"#NUM!"},{"$error":"#NUM!"},{"$error":"#NUM!"},{"$error":"#NUM!"},{"$error":"#NUM!"},{"$error":"#NUM!"},{"$error":"#NUM!"},{"$error":"#NUM!"},{"$error":"#NUM!"},{"$error":"#NUM!"},{"$error":"#NUM!"},{"$error":"#NUM!"},{"$error":"#NUM!"},{"$error":"#NUM!"},{"$error":"#NUM!"},{"$error":"#NUM!"},{"$error":"#NUM!"},{"$error":"#NUM!"},{"$error":"#NUM!"},{"$error":"#NUM!"},{"$error":"#NUM!"},{"$error":"#NUM!"},{"$error":"#NUM!"},{"$error":"#NUM!"},{"$error":"#NUM!"},{"$error":"#NUM!"},{"$error":"#NUM!"},{"$error":"#NUM!"},{"$error":"#NUM!"},{"$error":"#NUM!"},{"$error":"#NUM!"},{"$error":"#NUM!"},{"$error":"#NUM!"},{"$error":"#NUM!"},{"$error":"#NUM!"},{"$error":"#NUM!"},{"$error":"#NUM!"},{"$error":"#NUM!"},{"$error":"#NUM!"},{"$error":"#NUM!"},{"$error":"#NUM!"},{"$error":"#NUM!"},{"$error":"#NUM!"},{"$error":"#NUM!"},{"$error":"#NUM!"},{"$error":"#NUM!"},{"$error":"#NUM!"},{"$error":"#NUM!"},{"$error":"#NUM!"},{"$error":"#NUM!"},{"$error":"#NUM!"},{"$error":"#NUM!"},{"$error":"#NUM!"},{"$error":"#NUM!"},{"$error":"#NUM!"},{"$error":"#NUM!"},{"$error":"#NUM!"},{"$error":"#NUM!"},{"$error":"#NUM!"},{"$error":"#NUM!"},{"$f":"RBI10-RBJ10","v":{"$error":"#NUM!"}},{"$error":"#NUM!"},{"$error":"#NUM!"},{"$error":"#NUM!"},{"$error":"#NUM!"},{"$error":"#NUM!"},{"$error":"#NUM!"},{"$error":"#NUM!"},{"$error":"#NUM!"},{"$error":"#NUM!"},{"$error":"#NUM!"},{"$error":"#NUM!"},{"$error":"#NUM!"},{"$error":"#NUM!"},{"$error":"#NUM!"},{"$error":"#NUM!"},{"$error":"#NUM!"},{"$error":"#NUM!"},{"$error":"#NUM!"},{"$error":"#NUM!"},{"$error":"#NUM!"},{"$error":"#NUM!"},{"$error":"#NUM!"},{"$error":"#NUM!"},{"$error":"#NUM!"},{"$error":"#NUM!"},{"$error":"#NUM!"},{"$error":"#NUM!"},{"$error":"#NUM!"},{"$error":"#NUM!"},{"$error":"#NUM!"},{"$error":"#NUM!"},{"$error":"#NUM!"},{"$error":"#NUM!"},{"$error":"#NUM!"},{"$error":"#NUM!"},{"$error":"#NUM!"},{"$error":"#NUM!"},{"$error":"#NUM!"},{"$error":"#NUM!"},{"$error":"#NUM!"},{"$error":"#NUM!"},{"$error":"#NUM!"},{"$error":"#NUM!"},{"$error":"#NUM!"},{"$error":"#NUM!"},{"$error":"#NUM!"},{"$error":"#NUM!"},{"$error":"#NUM!"},{"$error":"#NUM!"},{"$error":"#NUM!"},{"$error":"#NUM!"},{"$error":"#NUM!"},{"$error":"#NUM!"},{"$error":"#NUM!"},{"$error":"#NUM!"},{"$error":"#NUM!"},{"$error":"#NUM!"},{"$error":"#NUM!"},{"$error":"#NUM!"},{"$error":"#NUM!"},{"$error":"#NUM!"},{"$error":"#NUM!"},{"$error":"#NUM!"},{"$f":"RDU10-RDV10","v":{"$error":"#NUM!"}},{"$error":"#NUM!"},{"$error":"#NUM!"},{"$error":"#NUM!"},{"$error":"#NUM!"},{"$error":"#NUM!"},{"$error":"#NUM!"},{"$error":"#NUM!"},{"$error":"#NUM!"},{"$error":"#NUM!"},{"$error":"#NUM!"},{"$error":"#NUM!"},{"$error":"#NUM!"},{"$error":"#NUM!"},{"$error":"#NUM!"},{"$error":"#NUM!"},{"$error":"#NUM!"},{"$error":"#NUM!"},{"$error":"#NUM!"},{"$error":"#NUM!"},{"$error":"#NUM!"},{"$error":"#NUM!"},{"$error":"#NUM!"},{"$error":"#NUM!"},{"$error":"#NUM!"},{"$error":"#NUM!"},{"$error":"#NUM!"},{"$error":"#NUM!"},{"$error":"#NUM!"},{"$error":"#NUM!"},{"$error":"#NUM!"},{"$error":"#NUM!"},{"$error":"#NUM!"},{"$error":"#NUM!"},{"$error":"#NUM!"},{"$error":"#NUM!"},{"$error":"#NUM!"},{"$error":"#NUM!"},{"$error":"#NUM!"},{"$error":"#NUM!"},{"$error":"#NUM!"},{"$error":"#NUM!"},{"$error":"#NUM!"},{"$error":"#NUM!"},{"$error":"#NUM!"},{"$error":"#NUM!"},{"$error":"#NUM!"},{"$error":"#NUM!"},{"$error":"#NUM!"},{"$error":"#NUM!"},{"$error":"#NUM!"},{"$error":"#NUM!"},{"$error":"#NUM!"},{"$error":"#NUM!"},{"$error":"#NUM!"},{"$error":"#NUM!"},{"$error":"#NUM!"},{"$error":"#NUM!"},{"$error":"#NUM!"},{"$error":"#NUM!"},{"$error":"#NUM!"},{"$error":"#NUM!"},{"$error":"#NUM!"},{"$error":"#NUM!"},{"$f":"RGG10-RGH10","v":{"$error":"#NUM!"}},{"$error":"#NUM!"},{"$error":"#NUM!"},{"$error":"#NUM!"},{"$error":"#NUM!"},{"$error":"#NUM!"},{"$error":"#NUM!"},{"$error":"#NUM!"},{"$error":"#NUM!"},{"$error":"#NUM!"},{"$error":"#NUM!"},{"$error":"#NUM!"},{"$error":"#NUM!"},{"$error":"#NUM!"},{"$error":"#NUM!"},{"$error":"#NUM!"},{"$error":"#NUM!"},{"$error":"#NUM!"},{"$error":"#NUM!"},{"$error":"#NUM!"},{"$error":"#NUM!"},{"$error":"#NUM!"},{"$error":"#NUM!"},{"$error":"#NUM!"},{"$error":"#NUM!"},{"$error":"#NUM!"},{"$error":"#NUM!"},{"$error":"#NUM!"},{"$error":"#NUM!"},{"$error":"#NUM!"},{"$error":"#NUM!"},{"$error":"#NUM!"},{"$error":"#NUM!"},{"$error":"#NUM!"},{"$error":"#NUM!"},{"$error":"#NUM!"},{"$error":"#NUM!"},{"$error":"#NUM!"},{"$error":"#NUM!"},{"$error":"#NUM!"},{"$error":"#NUM!"},{"$error":"#NUM!"},{"$error":"#NUM!"},{"$error":"#NUM!"},{"$error":"#NUM!"},{"$error":"#NUM!"},{"$error":"#NUM!"},{"$error":"#NUM!"},{"$error":"#NUM!"},{"$error":"#NUM!"},{"$error":"#NUM!"},{"$error":"#NUM!"},{"$error":"#NUM!"},{"$error":"#NUM!"},{"$error":"#NUM!"},{"$error":"#NUM!"},{"$error":"#NUM!"},{"$error":"#NUM!"},{"$error":"#NUM!"},{"$error":"#NUM!"},{"$error":"#NUM!"},{"$error":"#NUM!"},{"$error":"#NUM!"},{"$error":"#NUM!"},{"$f":"RIS10-RIT10","v":{"$error":"#NUM!"}},{"$error":"#NUM!"},{"$error":"#NUM!"},{"$error":"#NUM!"},{"$error":"#NUM!"},{"$error":"#NUM!"},{"$error":"#NUM!"},{"$error":"#NUM!"},{"$error":"#NUM!"},{"$error":"#NUM!"},{"$error":"#NUM!"},{"$error":"#NUM!"},{"$error":"#NUM!"},{"$error":"#NUM!"},{"$error":"#NUM!"},{"$error":"#NUM!"},{"$error":"#NUM!"},{"$error":"#NUM!"},{"$error":"#NUM!"},{"$error":"#NUM!"},{"$error":"#NUM!"},{"$error":"#NUM!"},{"$error":"#NUM!"},{"$error":"#NUM!"},{"$error":"#NUM!"},{"$error":"#NUM!"},{"$error":"#NUM!"},{"$error":"#NUM!"},{"$error":"#NUM!"},{"$error":"#NUM!"},{"$error":"#NUM!"},{"$error":"#NUM!"},{"$error":"#NUM!"},{"$error":"#NUM!"},{"$error":"#NUM!"},{"$error":"#NUM!"},{"$error":"#NUM!"},{"$error":"#NUM!"},{"$error":"#NUM!"},{"$error":"#NUM!"},{"$error":"#NUM!"},{"$error":"#NUM!"},{"$error":"#NUM!"},{"$error":"#NUM!"},{"$error":"#NUM!"},{"$error":"#NUM!"},{"$error":"#NUM!"},{"$error":"#NUM!"},{"$error":"#NUM!"},{"$error":"#NUM!"},{"$error":"#NUM!"},{"$error":"#NUM!"},{"$error":"#NUM!"},{"$error":"#NUM!"},{"$error":"#NUM!"},{"$error":"#NUM!"},{"$error":"#NUM!"},{"$error":"#NUM!"},{"$error":"#NUM!"},{"$error":"#NUM!"},{"$error":"#NUM!"},{"$error":"#NUM!"},{"$error":"#NUM!"},{"$error":"#NUM!"},{"$f":"RLE10-RLF10","v":{"$error":"#NUM!"}},{"$error":"#NUM!"},{"$error":"#NUM!"},{"$error":"#NUM!"},{"$error":"#NUM!"},{"$error":"#NUM!"},{"$error":"#NUM!"},{"$error":"#NUM!"},{"$error":"#NUM!"},{"$error":"#NUM!"},{"$error":"#NUM!"},{"$error":"#NUM!"},{"$error":"#NUM!"},{"$error":"#NUM!"},{"$error":"#NUM!"},{"$error":"#NUM!"},{"$error":"#NUM!"},{"$error":"#NUM!"},{"$error":"#NUM!"},{"$error":"#NUM!"},{"$error":"#NUM!"},{"$error":"#NUM!"},{"$error":"#NUM!"},{"$error":"#NUM!"},{"$error":"#NUM!"},{"$error":"#NUM!"},{"$error":"#NUM!"},{"$error":"#NUM!"},{"$error":"#NUM!"},{"$error":"#NUM!"},{"$error":"#NUM!"},{"$error":"#NUM!"},{"$error":"#NUM!"},{"$error":"#NUM!"},{"$error":"#NUM!"},{"$error":"#NUM!"},{"$error":"#NUM!"},{"$error":"#NUM!"},{"$error":"#NUM!"},{"$error":"#NUM!"},{"$error":"#NUM!"},{"$error":"#NUM!"},{"$error":"#NUM!"},{"$error":"#NUM!"},{"$error":"#NUM!"},{"$error":"#NUM!"},{"$error":"#NUM!"},{"$error":"#NUM!"},{"$error":"#NUM!"},{"$error":"#NUM!"},{"$error":"#NUM!"},{"$error":"#NUM!"},{"$error":"#NUM!"},{"$error":"#NUM!"},{"$error":"#NUM!"},{"$error":"#NUM!"},{"$error":"#NUM!"},{"$error":"#NUM!"},{"$error":"#NUM!"},{"$error":"#NUM!"},{"$error":"#NUM!"},{"$error":"#NUM!"},{"$error":"#NUM!"},{"$error":"#NUM!"},{"$f":"RNQ10-RNR10","v":{"$error":"#NUM!"}},{"$error":"#NUM!"},{"$error":"#NUM!"},{"$error":"#NUM!"},{"$error":"#NUM!"},{"$error":"#NUM!"},{"$error":"#NUM!"},{"$error":"#NUM!"},{"$error":"#NUM!"},{"$error":"#NUM!"},{"$error":"#NUM!"},{"$error":"#NUM!"},{"$error":"#NUM!"},{"$error":"#NUM!"},{"$error":"#NUM!"},{"$error":"#NUM!"},{"$error":"#NUM!"},{"$error":"#NUM!"},{"$error":"#NUM!"},{"$error":"#NUM!"},{"$error":"#NUM!"},{"$error":"#NUM!"},{"$error":"#NUM!"},{"$error":"#NUM!"},{"$error":"#NUM!"},{"$error":"#NUM!"},{"$error":"#NUM!"},{"$error":"#NUM!"},{"$error":"#NUM!"},{"$error":"#NUM!"},{"$error":"#NUM!"},{"$error":"#NUM!"},{"$error":"#NUM!"},{"$error":"#NUM!"},{"$error":"#NUM!"},{"$error":"#NUM!"},{"$error":"#NUM!"},{"$error":"#NUM!"},{"$error":"#NUM!"},{"$error":"#NUM!"},{"$error":"#NUM!"},{"$error":"#NUM!"},{"$error":"#NUM!"},{"$error":"#NUM!"},{"$error":"#NUM!"},{"$error":"#NUM!"},{"$error":"#NUM!"},{"$error":"#NUM!"},{"$error":"#NUM!"},{"$error":"#NUM!"},{"$error":"#NUM!"},{"$error":"#NUM!"},{"$error":"#NUM!"},{"$error":"#NUM!"},{"$error":"#NUM!"},{"$error":"#NUM!"},{"$error":"#NUM!"},{"$error":"#NUM!"},{"$error":"#NUM!"},{"$error":"#NUM!"},{"$error":"#NUM!"},{"$error":"#NUM!"},{"$error":"#NUM!"},{"$error":"#NUM!"},{"$f":"RQC10-RQD10","v":{"$error":"#NUM!"}},{"$error":"#NUM!"},{"$error":"#NUM!"},{"$error":"#NUM!"},{"$error":"#NUM!"},{"$error":"#NUM!"},{"$error":"#NUM!"},{"$error":"#NUM!"},{"$error":"#NUM!"},{"$error":"#NUM!"},{"$error":"#NUM!"},{"$error":"#NUM!"},{"$error":"#NUM!"},{"$error":"#NUM!"},{"$error":"#NUM!"},{"$error":"#NUM!"},{"$error":"#NUM!"},{"$error":"#NUM!"},{"$error":"#NUM!"},{"$error":"#NUM!"},{"$error":"#NUM!"},{"$error":"#NUM!"},{"$error":"#NUM!"},{"$error":"#NUM!"},{"$error":"#NUM!"},{"$error":"#NUM!"},{"$error":"#NUM!"},{"$error":"#NUM!"},{"$error":"#NUM!"},{"$error":"#NUM!"},{"$error":"#NUM!"},{"$error":"#NUM!"},{"$error":"#NUM!"},{"$error":"#NUM!"},{"$error":"#NUM!"},{"$error":"#NUM!"},{"$error":"#NUM!"},{"$error":"#NUM!"},{"$error":"#NUM!"},{"$error":"#NUM!"},{"$error":"#NUM!"},{"$error":"#NUM!"},{"$error":"#NUM!"},{"$error":"#NUM!"},{"$error":"#NUM!"},{"$error":"#NUM!"},{"$error":"#NUM!"},{"$error":"#NUM!"},{"$error":"#NUM!"},{"$error":"#NUM!"},{"$error":"#NUM!"},{"$error":"#NUM!"},{"$error":"#NUM!"},{"$error":"#NUM!"},{"$error":"#NUM!"},{"$error":"#NUM!"},{"$error":"#NUM!"},{"$error":"#NUM!"},{"$error":"#NUM!"},{"$error":"#NUM!"},{"$error":"#NUM!"},{"$error":"#NUM!"},{"$error":"#NUM!"},{"$error":"#NUM!"},{"$f":"RSO10-RSP10","v":{"$error":"#NUM!"}},{"$error":"#NUM!"},{"$error":"#NUM!"},{"$error":"#NUM!"},{"$error":"#NUM!"},{"$error":"#NUM!"},{"$error":"#NUM!"},{"$error":"#NUM!"},{"$error":"#NUM!"},{"$error":"#NUM!"},{"$error":"#NUM!"},{"$error":"#NUM!"},{"$error":"#NUM!"},{"$error":"#NUM!"},{"$error":"#NUM!"},{"$error":"#NUM!"},{"$error":"#NUM!"},{"$error":"#NUM!"},{"$error":"#NUM!"},{"$error":"#NUM!"},{"$error":"#NUM!"},{"$error":"#NUM!"},{"$error":"#NUM!"},{"$error":"#NUM!"},{"$error":"#NUM!"},{"$error":"#NUM!"},{"$error":"#NUM!"},{"$error":"#NUM!"},{"$error":"#NUM!"},{"$error":"#NUM!"},{"$error":"#NUM!"},{"$error":"#NUM!"},{"$error":"#NUM!"},{"$error":"#NUM!"},{"$error":"#NUM!"},{"$error":"#NUM!"},{"$error":"#NUM!"},{"$error":"#NUM!"},{"$error":"#NUM!"},{"$error":"#NUM!"},{"$error":"#NUM!"},{"$error":"#NUM!"},{"$error":"#NUM!"},{"$error":"#NUM!"},{"$error":"#NUM!"},{"$error":"#NUM!"},{"$error":"#NUM!"},{"$error":"#NUM!"},{"$error":"#NUM!"},{"$error":"#NUM!"},{"$error":"#NUM!"},{"$error":"#NUM!"},{"$error":"#NUM!"},{"$error":"#NUM!"},{"$error":"#NUM!"},{"$error":"#NUM!"},{"$error":"#NUM!"},{"$error":"#NUM!"},{"$error":"#NUM!"},{"$error":"#NUM!"},{"$error":"#NUM!"},{"$error":"#NUM!"},{"$error":"#NUM!"},{"$error":"#NUM!"},{"$f":"RVA10-RVB10","v":{"$error":"#NUM!"}},{"$error":"#NUM!"},{"$error":"#NUM!"},{"$error":"#NUM!"},{"$error":"#NUM!"},{"$error":"#NUM!"},{"$error":"#NUM!"},{"$error":"#NUM!"},{"$error":"#NUM!"},{"$error":"#NUM!"},{"$error":"#NUM!"},{"$error":"#NUM!"},{"$error":"#NUM!"},{"$error":"#NUM!"},{"$error":"#NUM!"},{"$error":"#NUM!"},{"$error":"#NUM!"},{"$error":"#NUM!"},{"$error":"#NUM!"},{"$error":"#NUM!"},{"$error":"#NUM!"},{"$error":"#NUM!"},{"$error":"#NUM!"},{"$error":"#NUM!"},{"$error":"#NUM!"},{"$error":"#NUM!"},{"$error":"#NUM!"},{"$error":"#NUM!"},{"$error":"#NUM!"},{"$error":"#NUM!"},{"$error":"#NUM!"},{"$error":"#NUM!"},{"$error":"#NUM!"},{"$error":"#NUM!"},{"$error":"#NUM!"},{"$error":"#NUM!"},{"$error":"#NUM!"},{"$error":"#NUM!"},{"$error":"#NUM!"},{"$error":"#NUM!"},{"$error":"#NUM!"},{"$error":"#NUM!"},{"$error":"#NUM!"},{"$error":"#NUM!"},{"$error":"#NUM!"},{"$error":"#NUM!"},{"$error":"#NUM!"},{"$error":"#NUM!"},{"$error":"#NUM!"},{"$error":"#NUM!"},{"$error":"#NUM!"},{"$error":"#NUM!"},{"$error":"#NUM!"},{"$error":"#NUM!"},{"$error":"#NUM!"},{"$error":"#NUM!"},{"$error":"#NUM!"},{"$error":"#NUM!"},{"$error":"#NUM!"},{"$error":"#NUM!"},{"$error":"#NUM!"},{"$error":"#NUM!"},{"$error":"#NUM!"},{"$error":"#NUM!"},{"$f":"RXM10-RXN10","v":{"$error":"#NUM!"}},{"$error":"#NUM!"},{"$error":"#NUM!"},{"$error":"#NUM!"},{"$error":"#NUM!"},{"$error":"#NUM!"},{"$error":"#NUM!"},{"$error":"#NUM!"},{"$error":"#NUM!"},{"$error":"#NUM!"},{"$error":"#NUM!"},{"$error":"#NUM!"},{"$error":"#NUM!"},{"$error":"#NUM!"},{"$error":"#NUM!"},{"$error":"#NUM!"},{"$error":"#NUM!"},{"$error":"#NUM!"},{"$error":"#NUM!"},{"$error":"#NUM!"},{"$error":"#NUM!"},{"$error":"#NUM!"},{"$error":"#NUM!"},{"$error":"#NUM!"},{"$error":"#NUM!"},{"$error":"#NUM!"},{"$error":"#NUM!"},{"$error":"#NUM!"},{"$error":"#NUM!"},{"$error":"#NUM!"},{"$error":"#NUM!"},{"$error":"#NUM!"},{"$error":"#NUM!"},{"$error":"#NUM!"},{"$error":"#NUM!"},{"$error":"#NUM!"},{"$error":"#NUM!"},{"$error":"#NUM!"},{"$error":"#NUM!"},{"$error":"#NUM!"},{"$error":"#NUM!"},{"$error":"#NUM!"},{"$error":"#NUM!"},{"$error":"#NUM!"},{"$error":"#NUM!"},{"$error":"#NUM!"},{"$error":"#NUM!"},{"$error":"#NUM!"},{"$error":"#NUM!"},{"$error":"#NUM!"},{"$error":"#NUM!"},{"$error":"#NUM!"},{"$error":"#NUM!"},{"$error":"#NUM!"},{"$error":"#NUM!"},{"$error":"#NUM!"},{"$error":"#NUM!"},{"$error":"#NUM!"},{"$error":"#NUM!"},{"$error":"#NUM!"},{"$error":"#NUM!"},{"$error":"#NUM!"},{"$error":"#NUM!"},{"$error":"#NUM!"},{"$f":"RZY10-RZZ10","v":{"$error":"#NUM!"}},{"$error":"#NUM!"},{"$error":"#NUM!"},{"$error":"#NUM!"},{"$error":"#NUM!"},{"$error":"#NUM!"},{"$error":"#NUM!"},{"$error":"#NUM!"},{"$error":"#NUM!"},{"$error":"#NUM!"},{"$error":"#NUM!"},{"$error":"#NUM!"},{"$error":"#NUM!"},{"$error":"#NUM!"},{"$error":"#NUM!"},{"$error":"#NUM!"},{"$error":"#NUM!"},{"$error":"#NUM!"},{"$error":"#NUM!"},{"$error":"#NUM!"},{"$error":"#NUM!"},{"$error":"#NUM!"},{"$error":"#NUM!"},{"$error":"#NUM!"},{"$error":"#NUM!"},{"$error":"#NUM!"},{"$error":"#NUM!"},{"$error":"#NUM!"},{"$error":"#NUM!"},{"$error":"#NUM!"},{"$error":"#NUM!"},{"$error":"#NUM!"},{"$error":"#NUM!"},{"$error":"#NUM!"},{"$error":"#NUM!"},{"$error":"#NUM!"},{"$error":"#NUM!"},{"$error":"#NUM!"},{"$error":"#NUM!"},{"$error":"#NUM!"},{"$error":"#NUM!"},{"$error":"#NUM!"},{"$error":"#NUM!"},{"$error":"#NUM!"},{"$error":"#NUM!"},{"$error":"#NUM!"},{"$error":"#NUM!"},{"$error":"#NUM!"},{"$error":"#NUM!"},{"$error":"#NUM!"},{"$error":"#NUM!"},{"$error":"#NUM!"},{"$error":"#NUM!"},{"$error":"#NUM!"},{"$error":"#NUM!"},{"$error":"#NUM!"},{"$error":"#NUM!"},{"$error":"#NUM!"},{"$error":"#NUM!"},{"$error":"#NUM!"},{"$error":"#NUM!"},{"$error":"#NUM!"},{"$error":"#NUM!"},{"$error":"#NUM!"},{"$f":"SCK10-SCL10","v":{"$error":"#NUM!"}},{"$error":"#NUM!"},{"$error":"#NUM!"},{"$error":"#NUM!"},{"$error":"#NUM!"},{"$error":"#NUM!"},{"$error":"#NUM!"},{"$error":"#NUM!"},{"$error":"#NUM!"},{"$error":"#NUM!"},{"$error":"#NUM!"},{"$error":"#NUM!"},{"$error":"#NUM!"},{"$error":"#NUM!"},{"$error":"#NUM!"},{"$error":"#NUM!"},{"$error":"#NUM!"},{"$error":"#NUM!"},{"$error":"#NUM!"},{"$error":"#NUM!"},{"$error":"#NUM!"},{"$error":"#NUM!"},{"$error":"#NUM!"},{"$error":"#NUM!"},{"$error":"#NUM!"},{"$error":"#NUM!"},{"$error":"#NUM!"},{"$error":"#NUM!"},{"$error":"#NUM!"},{"$error":"#NUM!"},{"$error":"#NUM!"},{"$error":"#NUM!"},{"$error":"#NUM!"},{"$error":"#NUM!"},{"$error":"#NUM!"},{"$error":"#NUM!"},{"$error":"#NUM!"},{"$error":"#NUM!"},{"$error":"#NUM!"},{"$error":"#NUM!"},{"$error":"#NUM!"},{"$error":"#NUM!"},{"$error":"#NUM!"},{"$error":"#NUM!"},{"$error":"#NUM!"},{"$error":"#NUM!"},{"$error":"#NUM!"},{"$error":"#NUM!"},{"$error":"#NUM!"},{"$error":"#NUM!"},{"$error":"#NUM!"},{"$error":"#NUM!"},{"$error":"#NUM!"},{"$error":"#NUM!"},{"$error":"#NUM!"},{"$error":"#NUM!"},{"$error":"#NUM!"},{"$error":"#NUM!"},{"$error":"#NUM!"},{"$error":"#NUM!"},{"$error":"#NUM!"},{"$error":"#NUM!"},{"$error":"#NUM!"},{"$error":"#NUM!"},{"$f":"SEW10-SEX10","v":{"$error":"#NUM!"}},{"$error":"#NUM!"},{"$error":"#NUM!"},{"$error":"#NUM!"},{"$error":"#NUM!"},{"$error":"#NUM!"},{"$error":"#NUM!"},{"$error":"#NUM!"},{"$error":"#NUM!"},{"$error":"#NUM!"},{"$error":"#NUM!"},{"$error":"#NUM!"},{"$error":"#NUM!"},{"$error":"#NUM!"},{"$error":"#NUM!"},{"$error":"#NUM!"},{"$error":"#NUM!"},{"$error":"#NUM!"},{"$error":"#NUM!"},{"$error":"#NUM!"},{"$error":"#NUM!"},{"$error":"#NUM!"},{"$error":"#NUM!"},{"$error":"#NUM!"},{"$error":"#NUM!"},{"$error":"#NUM!"},{"$error":"#NUM!"},{"$error":"#NUM!"},{"$error":"#NUM!"},{"$error":"#NUM!"},{"$error":"#NUM!"},{"$error":"#NUM!"},{"$error":"#NUM!"},{"$error":"#NUM!"},{"$error":"#NUM!"},{"$error":"#NUM!"},{"$error":"#NUM!"},{"$error":"#NUM!"},{"$error":"#NUM!"},{"$error":"#NUM!"},{"$error":"#NUM!"},{"$error":"#NUM!"},{"$error":"#NUM!"},{"$error":"#NUM!"},{"$error":"#NUM!"},{"$error":"#NUM!"},{"$error":"#NUM!"},{"$error":"#NUM!"},{"$error":"#NUM!"},{"$error":"#NUM!"},{"$error":"#NUM!"},{"$error":"#NUM!"},{"$error":"#NUM!"},{"$error":"#NUM!"},{"$error":"#NUM!"},{"$error":"#NUM!"},{"$error":"#NUM!"},{"$error":"#NUM!"},{"$error":"#NUM!"},{"$error":"#NUM!"},{"$error":"#NUM!"},{"$error":"#NUM!"},{"$error":"#NUM!"},{"$error":"#NUM!"},{"$f":"SHI10-SHJ10","v":{"$error":"#NUM!"}},{"$error":"#NUM!"},{"$error":"#NUM!"},{"$error":"#NUM!"},{"$error":"#NUM!"},{"$error":"#NUM!"},{"$error":"#NUM!"},{"$error":"#NUM!"},{"$error":"#NUM!"},{"$error":"#NUM!"},{"$error":"#NUM!"},{"$error":"#NUM!"},{"$error":"#NUM!"},{"$error":"#NUM!"},{"$error":"#NUM!"},{"$error":"#NUM!"},{"$error":"#NUM!"},{"$error":"#NUM!"},{"$error":"#NUM!"},{"$error":"#NUM!"},{"$error":"#NUM!"},{"$error":"#NUM!"},{"$error":"#NUM!"},{"$error":"#NUM!"},{"$error":"#NUM!"},{"$error":"#NUM!"},{"$error":"#NUM!"},{"$error":"#NUM!"},{"$error":"#NUM!"},{"$error":"#NUM!"},{"$error":"#NUM!"},{"$error":"#NUM!"},{"$error":"#NUM!"},{"$error":"#NUM!"},{"$error":"#NUM!"},{"$error":"#NUM!"},{"$error":"#NUM!"},{"$error":"#NUM!"},{"$error":"#NUM!"},{"$error":"#NUM!"},{"$error":"#NUM!"},{"$error":"#NUM!"},{"$error":"#NUM!"},{"$error":"#NUM!"},{"$error":"#NUM!"},{"$error":"#NUM!"},{"$error":"#NUM!"},{"$error":"#NUM!"},{"$error":"#NUM!"},{"$error":"#NUM!"},{"$error":"#NUM!"},{"$error":"#NUM!"},{"$error":"#NUM!"},{"$error":"#NUM!"},{"$error":"#NUM!"},{"$error":"#NUM!"},{"$error":"#NUM!"},{"$error":"#NUM!"},{"$error":"#NUM!"},{"$error":"#NUM!"},{"$error":"#NUM!"},{"$error":"#NUM!"},{"$error":"#NUM!"},{"$error":"#NUM!"},{"$f":"SJU10-SJV10","v":{"$error":"#NUM!"}},{"$error":"#NUM!"},{"$error":"#NUM!"},{"$error":"#NUM!"},{"$error":"#NUM!"},{"$error":"#NUM!"},{"$error":"#NUM!"},{"$error":"#NUM!"},{"$error":"#NUM!"},{"$error":"#NUM!"},{"$error":"#NUM!"},{"$error":"#NUM!"},{"$error":"#NUM!"},{"$error":"#NUM!"},{"$error":"#NUM!"},{"$error":"#NUM!"},{"$error":"#NUM!"},{"$error":"#NUM!"},{"$error":"#NUM!"},{"$error":"#NUM!"},{"$error":"#NUM!"},{"$error":"#NUM!"},{"$error":"#NUM!"},{"$error":"#NUM!"},{"$error":"#NUM!"},{"$error":"#NUM!"},{"$error":"#NUM!"},{"$error":"#NUM!"},{"$error":"#NUM!"},{"$error":"#NUM!"},{"$error":"#NUM!"},{"$error":"#NUM!"},{"$error":"#NUM!"},{"$error":"#NUM!"},{"$error":"#NUM!"},{"$error":"#NUM!"},{"$error":"#NUM!"},{"$error":"#NUM!"},{"$error":"#NUM!"},{"$error":"#NUM!"},{"$error":"#NUM!"},{"$error":"#NUM!"},{"$error":"#NUM!"},{"$error":"#NUM!"},{"$error":"#NUM!"},{"$error":"#NUM!"},{"$error":"#NUM!"},{"$error":"#NUM!"},{"$error":"#NUM!"},{"$error":"#NUM!"},{"$error":"#NUM!"},{"$error":"#NUM!"},{"$error":"#NUM!"},{"$error":"#NUM!"},{"$error":"#NUM!"},{"$error":"#NUM!"},{"$error":"#NUM!"},{"$error":"#NUM!"},{"$error":"#NUM!"},{"$error":"#NUM!"},{"$error":"#NUM!"},{"$error":"#NUM!"},{"$error":"#NUM!"},{"$error":"#NUM!"},{"$f":"SMG10-SMH10","v":{"$error":"#NUM!"}},{"$error":"#NUM!"},{"$error":"#NUM!"},{"$error":"#NUM!"},{"$error":"#NUM!"},{"$error":"#NUM!"},{"$error":"#NUM!"},{"$error":"#NUM!"},{"$error":"#NUM!"},{"$error":"#NUM!"},{"$error":"#NUM!"},{"$error":"#NUM!"},{"$error":"#NUM!"},{"$error":"#NUM!"},{"$error":"#NUM!"},{"$error":"#NUM!"},{"$error":"#NUM!"},{"$error":"#NUM!"},{"$error":"#NUM!"},{"$error":"#NUM!"},{"$error":"#NUM!"},{"$error":"#NUM!"},{"$error":"#NUM!"},{"$error":"#NUM!"},{"$error":"#NUM!"},{"$error":"#NUM!"},{"$error":"#NUM!"},{"$error":"#NUM!"},{"$error":"#NUM!"},{"$error":"#NUM!"},{"$error":"#NUM!"},{"$error":"#NUM!"},{"$error":"#NUM!"},{"$error":"#NUM!"},{"$error":"#NUM!"},{"$error":"#NUM!"},{"$error":"#NUM!"},{"$error":"#NUM!"},{"$error":"#NUM!"},{"$error":"#NUM!"},{"$error":"#NUM!"},{"$error":"#NUM!"},{"$error":"#NUM!"},{"$error":"#NUM!"},{"$error":"#NUM!"},{"$error":"#NUM!"},{"$error":"#NUM!"},{"$error":"#NUM!"},{"$error":"#NUM!"},{"$error":"#NUM!"},{"$error":"#NUM!"},{"$error":"#NUM!"},{"$error":"#NUM!"},{"$error":"#NUM!"},{"$error":"#NUM!"},{"$error":"#NUM!"},{"$error":"#NUM!"},{"$error":"#NUM!"},{"$error":"#NUM!"},{"$error":"#NUM!"},{"$error":"#NUM!"},{"$error":"#NUM!"},{"$error":"#NUM!"},{"$error":"#NUM!"},{"$f":"SOS10-SOT10","v":{"$error":"#NUM!"}},{"$error":"#NUM!"},{"$error":"#NUM!"},{"$error":"#NUM!"},{"$error":"#NUM!"},{"$error":"#NUM!"},{"$error":"#NUM!"},{"$error":"#NUM!"},{"$error":"#NUM!"},{"$error":"#NUM!"},{"$error":"#NUM!"},{"$error":"#NUM!"},{"$error":"#NUM!"},{"$error":"#NUM!"},{"$error":"#NUM!"},{"$error":"#NUM!"},{"$error":"#NUM!"},{"$error":"#NUM!"},{"$error":"#NUM!"},{"$error":"#NUM!"},{"$error":"#NUM!"},{"$error":"#NUM!"},{"$error":"#NUM!"},{"$error":"#NUM!"},{"$error":"#NUM!"},{"$error":"#NUM!"},{"$error":"#NUM!"},{"$error":"#NUM!"},{"$error":"#NUM!"},{"$error":"#NUM!"},{"$error":"#NUM!"},{"$error":"#NUM!"},{"$error":"#NUM!"},{"$error":"#NUM!"},{"$error":"#NUM!"},{"$error":"#NUM!"},{"$error":"#NUM!"},{"$error":"#NUM!"},{"$error":"#NUM!"},{"$error":"#NUM!"},{"$error":"#NUM!"},{"$error":"#NUM!"},{"$error":"#NUM!"},{"$error":"#NUM!"},{"$error":"#NUM!"},{"$error":"#NUM!"},{"$error":"#NUM!"},{"$error":"#NUM!"},{"$error":"#NUM!"},{"$error":"#NUM!"},{"$error":"#NUM!"},{"$error":"#NUM!"},{"$error":"#NUM!"},{"$error":"#NUM!"},{"$error":"#NUM!"},{"$error":"#NUM!"},{"$error":"#NUM!"},{"$error":"#NUM!"},{"$error":"#NUM!"},{"$error":"#NUM!"},{"$error":"#NUM!"},{"$error":"#NUM!"},{"$error":"#NUM!"},{"$error":"#NUM!"},{"$f":"SRE10-SRF10","v":{"$error":"#NUM!"}},{"$error":"#NUM!"},{"$error":"#NUM!"},{"$error":"#NUM!"},{"$error":"#NUM!"},{"$error":"#NUM!"},{"$error":"#NUM!"},{"$error":"#NUM!"},{"$error":"#NUM!"},{"$error":"#NUM!"},{"$error":"#NUM!"},{"$error":"#NUM!"},{"$error":"#NUM!"},{"$error":"#NUM!"},{"$error":"#NUM!"},{"$error":"#NUM!"},{"$error":"#NUM!"},{"$error":"#NUM!"},{"$error":"#NUM!"},{"$error":"#NUM!"},{"$error":"#NUM!"},{"$error":"#NUM!"},{"$error":"#NUM!"},{"$error":"#NUM!"},{"$error":"#NUM!"},{"$error":"#NUM!"},{"$error":"#NUM!"},{"$error":"#NUM!"},{"$error":"#NUM!"},{"$error":"#NUM!"},{"$error":"#NUM!"},{"$error":"#NUM!"},{"$error":"#NUM!"},{"$error":"#NUM!"},{"$error":"#NUM!"},{"$error":"#NUM!"},{"$error":"#NUM!"},{"$error":"#NUM!"},{"$error":"#NUM!"},{"$error":"#NUM!"},{"$error":"#NUM!"},{"$error":"#NUM!"},{"$error":"#NUM!"},{"$error":"#NUM!"},{"$error":"#NUM!"},{"$error":"#NUM!"},{"$error":"#NUM!"},{"$error":"#NUM!"},{"$error":"#NUM!"},{"$error":"#NUM!"},{"$error":"#NUM!"},{"$error":"#NUM!"},{"$error":"#NUM!"},{"$error":"#NUM!"},{"$error":"#NUM!"},{"$error":"#NUM!"},{"$error":"#NUM!"},{"$error":"#NUM!"},{"$error":"#NUM!"},{"$error":"#NUM!"},{"$error":"#NUM!"},{"$error":"#NUM!"},{"$error":"#NUM!"},{"$error":"#NUM!"},{"$f":"STQ10-STR10","v":{"$error":"#NUM!"}},{"$error":"#NUM!"},{"$error":"#NUM!"},{"$error":"#NUM!"},{"$error":"#NUM!"},{"$error":"#NUM!"},{"$error":"#NUM!"},{"$error":"#NUM!"},{"$error":"#NUM!"},{"$error":"#NUM!"},{"$error":"#NUM!"},{"$error":"#NUM!"},{"$error":"#NUM!"},{"$error":"#NUM!"},{"$error":"#NUM!"},{"$error":"#NUM!"},{"$error":"#NUM!"},{"$error":"#NUM!"},{"$error":"#NUM!"},{"$error":"#NUM!"},{"$error":"#NUM!"},{"$error":"#NUM!"},{"$error":"#NUM!"},{"$error":"#NUM!"},{"$error":"#NUM!"},{"$error":"#NUM!"},{"$error":"#NUM!"},{"$error":"#NUM!"},{"$error":"#NUM!"},{"$error":"#NUM!"},{"$error":"#NUM!"},{"$error":"#NUM!"},{"$error":"#NUM!"},{"$error":"#NUM!"},{"$error":"#NUM!"},{"$error":"#NUM!"},{"$error":"#NUM!"},{"$error":"#NUM!"},{"$error":"#NUM!"},{"$error":"#NUM!"},{"$error":"#NUM!"},{"$error":"#NUM!"},{"$error":"#NUM!"},{"$error":"#NUM!"},{"$error":"#NUM!"},{"$error":"#NUM!"},{"$error":"#NUM!"},{"$error":"#NUM!"},{"$error":"#NUM!"},{"$error":"#NUM!"},{"$error":"#NUM!"},{"$error":"#NUM!"},{"$error":"#NUM!"},{"$error":"#NUM!"},{"$error":"#NUM!"},{"$error":"#NUM!"},{"$error":"#NUM!"},{"$error":"#NUM!"},{"$error":"#NUM!"},{"$error":"#NUM!"},{"$error":"#NUM!"},{"$error":"#NUM!"},{"$error":"#NUM!"},{"$error":"#NUM!"},{"$f":"SWC10-SWD10","v":{"$error":"#NUM!"}},{"$error":"#NUM!"},{"$error":"#NUM!"},{"$error":"#NUM!"},{"$error":"#NUM!"},{"$error":"#NUM!"},{"$error":"#NUM!"},{"$error":"#NUM!"},{"$error":"#NUM!"},{"$error":"#NUM!"},{"$error":"#NUM!"},{"$error":"#NUM!"},{"$error":"#NUM!"},{"$error":"#NUM!"},{"$error":"#NUM!"},{"$error":"#NUM!"},{"$error":"#NUM!"},{"$error":"#NUM!"},{"$error":"#NUM!"},{"$error":"#NUM!"},{"$error":"#NUM!"},{"$error":"#NUM!"},{"$error":"#NUM!"},{"$error":"#NUM!"},{"$error":"#NUM!"},{"$error":"#NUM!"},{"$error":"#NUM!"},{"$error":"#NUM!"},{"$error":"#NUM!"},{"$error":"#NUM!"},{"$error":"#NUM!"},{"$error":"#NUM!"},{"$error":"#NUM!"},{"$error":"#NUM!"},{"$error":"#NUM!"},{"$error":"#NUM!"},{"$error":"#NUM!"},{"$error":"#NUM!"},{"$error":"#NUM!"},{"$error":"#NUM!"},{"$error":"#NUM!"},{"$error":"#NUM!"},{"$error":"#NUM!"},{"$error":"#NUM!"},{"$error":"#NUM!"},{"$error":"#NUM!"},{"$error":"#NUM!"},{"$error":"#NUM!"},{"$error":"#NUM!"},{"$error":"#NUM!"},{"$error":"#NUM!"},{"$error":"#NUM!"},{"$error":"#NUM!"},{"$error":"#NUM!"},{"$error":"#NUM!"},{"$error":"#NUM!"},{"$error":"#NUM!"},{"$error":"#NUM!"},{"$error":"#NUM!"},{"$error":"#NUM!"},{"$error":"#NUM!"},{"$error":"#NUM!"},{"$error":"#NUM!"},{"$error":"#NUM!"},{"$f":"SYO10-SYP10","v":{"$error":"#NUM!"}},{"$error":"#NUM!"},{"$error":"#NUM!"},{"$error":"#NUM!"},{"$error":"#NUM!"},{"$error":"#NUM!"},{"$error":"#NUM!"},{"$error":"#NUM!"},{"$error":"#NUM!"},{"$error":"#NUM!"},{"$error":"#NUM!"},{"$error":"#NUM!"},{"$error":"#NUM!"},{"$error":"#NUM!"},{"$error":"#NUM!"},{"$error":"#NUM!"},{"$error":"#NUM!"},{"$error":"#NUM!"},{"$error":"#NUM!"},{"$error":"#NUM!"},{"$error":"#NUM!"},{"$error":"#NUM!"},{"$error":"#NUM!"},{"$error":"#NUM!"},{"$error":"#NUM!"},{"$error":"#NUM!"},{"$error":"#NUM!"},{"$error":"#NUM!"},{"$error":"#NUM!"},{"$error":"#NUM!"},{"$error":"#NUM!"},{"$error":"#NUM!"},{"$error":"#NUM!"},{"$error":"#NUM!"},{"$error":"#NUM!"},{"$error":"#NUM!"},{"$error":"#NUM!"},{"$error":"#NUM!"},{"$error":"#NUM!"},{"$error":"#NUM!"},{"$error":"#NUM!"},{"$error":"#NUM!"},{"$error":"#NUM!"},{"$error":"#NUM!"},{"$error":"#NUM!"},{"$error":"#NUM!"},{"$error":"#NUM!"},{"$error":"#NUM!"},{"$error":"#NUM!"},{"$error":"#NUM!"},{"$error":"#NUM!"},{"$error":"#NUM!"},{"$error":"#NUM!"},{"$error":"#NUM!"},{"$error":"#NUM!"},{"$error":"#NUM!"},{"$error":"#NUM!"},{"$error":"#NUM!"},{"$error":"#NUM!"},{"$error":"#NUM!"},{"$error":"#NUM!"},{"$error":"#NUM!"},{"$error":"#NUM!"},{"$error":"#NUM!"},{"$f":"TBA10-TBB10","v":{"$error":"#NUM!"}},{"$error":"#NUM!"},{"$error":"#NUM!"},{"$error":"#NUM!"},{"$error":"#NUM!"},{"$error":"#NUM!"},{"$error":"#NUM!"},{"$error":"#NUM!"},{"$error":"#NUM!"},{"$error":"#NUM!"},{"$error":"#NUM!"},{"$error":"#NUM!"},{"$error":"#NUM!"},{"$error":"#NUM!"},{"$error":"#NUM!"},{"$error":"#NUM!"},{"$error":"#NUM!"},{"$error":"#NUM!"},{"$error":"#NUM!"},{"$error":"#NUM!"},{"$error":"#NUM!"},{"$error":"#NUM!"},{"$error":"#NUM!"},{"$error":"#NUM!"},{"$error":"#NUM!"},{"$error":"#NUM!"},{"$error":"#NUM!"},{"$error":"#NUM!"},{"$error":"#NUM!"},{"$error":"#NUM!"},{"$error":"#NUM!"},{"$error":"#NUM!"},{"$error":"#NUM!"},{"$error":"#NUM!"},{"$error":"#NUM!"},{"$error":"#NUM!"},{"$error":"#NUM!"},{"$error":"#NUM!"},{"$error":"#NUM!"},{"$error":"#NUM!"},{"$error":"#NUM!"},{"$error":"#NUM!"},{"$error":"#NUM!"},{"$error":"#NUM!"},{"$error":"#NUM!"},{"$error":"#NUM!"},{"$error":"#NUM!"},{"$error":"#NUM!"},{"$error":"#NUM!"},{"$error":"#NUM!"},{"$error":"#NUM!"},{"$error":"#NUM!"},{"$error":"#NUM!"},{"$error":"#NUM!"},{"$error":"#NUM!"},{"$error":"#NUM!"},{"$error":"#NUM!"},{"$error":"#NUM!"},{"$error":"#NUM!"},{"$error":"#NUM!"},{"$error":"#NUM!"},{"$error":"#NUM!"},{"$error":"#NUM!"},{"$error":"#NUM!"},{"$f":"TDM10-TDN10","v":{"$error":"#NUM!"}},{"$error":"#NUM!"},{"$error":"#NUM!"},{"$error":"#NUM!"},{"$error":"#NUM!"},{"$error":"#NUM!"},{"$error":"#NUM!"},{"$error":"#NUM!"},{"$error":"#NUM!"},{"$error":"#NUM!"},{"$error":"#NUM!"},{"$error":"#NUM!"},{"$error":"#NUM!"},{"$error":"#NUM!"},{"$error":"#NUM!"},{"$error":"#NUM!"},{"$error":"#NUM!"},{"$error":"#NUM!"},{"$error":"#NUM!"},{"$error":"#NUM!"},{"$error":"#NUM!"},{"$error":"#NUM!"},{"$error":"#NUM!"},{"$error":"#NUM!"},{"$error":"#NUM!"},{"$error":"#NUM!"},{"$error":"#NUM!"},{"$error":"#NUM!"},{"$error":"#NUM!"},{"$error":"#NUM!"},{"$error":"#NUM!"},{"$error":"#NUM!"},{"$error":"#NUM!"},{"$error":"#NUM!"},{"$error":"#NUM!"},{"$error":"#NUM!"},{"$error":"#NUM!"},{"$error":"#NUM!"},{"$error":"#NUM!"},{"$error":"#NUM!"},{"$error":"#NUM!"},{"$error":"#NUM!"},{"$error":"#NUM!"},{"$error":"#NUM!"},{"$error":"#NUM!"},{"$error":"#NUM!"},{"$error":"#NUM!"},{"$error":"#NUM!"},{"$error":"#NUM!"},{"$error":"#NUM!"},{"$error":"#NUM!"},{"$error":"#NUM!"},{"$error":"#NUM!"},{"$error":"#NUM!"},{"$error":"#NUM!"},{"$error":"#NUM!"},{"$error":"#NUM!"},{"$error":"#NUM!"},{"$error":"#NUM!"},{"$error":"#NUM!"},{"$error":"#NUM!"},{"$error":"#NUM!"},{"$error":"#NUM!"},{"$error":"#NUM!"},{"$f":"TFY10-TFZ10","v":{"$error":"#NUM!"}},{"$error":"#NUM!"},{"$error":"#NUM!"},{"$error":"#NUM!"},{"$error":"#NUM!"},{"$error":"#NUM!"},{"$error":"#NUM!"},{"$error":"#NUM!"},{"$error":"#NUM!"},{"$error":"#NUM!"},{"$error":"#NUM!"},{"$error":"#NUM!"},{"$error":"#NUM!"},{"$error":"#NUM!"},{"$error":"#NUM!"},{"$error":"#NUM!"},{"$error":"#NUM!"},{"$error":"#NUM!"},{"$error":"#NUM!"},{"$error":"#NUM!"},{"$error":"#NUM!"},{"$error":"#NUM!"},{"$error":"#NUM!"},{"$error":"#NUM!"},{"$error":"#NUM!"},{"$error":"#NUM!"},{"$error":"#NUM!"},{"$error":"#NUM!"},{"$error":"#NUM!"},{"$error":"#NUM!"},{"$error":"#NUM!"},{"$error":"#NUM!"},{"$error":"#NUM!"},{"$error":"#NUM!"},{"$error":"#NUM!"},{"$error":"#NUM!"},{"$error":"#NUM!"},{"$error":"#NUM!"},{"$error":"#NUM!"},{"$error":"#NUM!"},{"$error":"#NUM!"},{"$error":"#NUM!"},{"$error":"#NUM!"},{"$error":"#NUM!"},{"$error":"#NUM!"},{"$error":"#NUM!"},{"$error":"#NUM!"},{"$error":"#NUM!"},{"$error":"#NUM!"},{"$error":"#NUM!"},{"$error":"#NUM!"},{"$error":"#NUM!"},{"$error":"#NUM!"},{"$error":"#NUM!"},{"$error":"#NUM!"},{"$error":"#NUM!"},{"$error":"#NUM!"},{"$error":"#NUM!"},{"$error":"#NUM!"},{"$error":"#NUM!"},{"$error":"#NUM!"},{"$error":"#NUM!"},{"$error":"#NUM!"},{"$error":"#NUM!"},{"$f":"TIK10-TIL10","v":{"$error":"#NUM!"}},{"$error":"#NUM!"},{"$error":"#NUM!"},{"$error":"#NUM!"},{"$error":"#NUM!"},{"$error":"#NUM!"},{"$error":"#NUM!"},{"$error":"#NUM!"},{"$error":"#NUM!"},{"$error":"#NUM!"},{"$error":"#NUM!"},{"$error":"#NUM!"},{"$error":"#NUM!"},{"$error":"#NUM!"},{"$error":"#NUM!"},{"$error":"#NUM!"},{"$error":"#NUM!"},{"$error":"#NUM!"},{"$error":"#NUM!"},{"$error":"#NUM!"},{"$error":"#NUM!"},{"$error":"#NUM!"},{"$error":"#NUM!"},{"$error":"#NUM!"},{"$error":"#NUM!"},{"$error":"#NUM!"},{"$error":"#NUM!"},{"$error":"#NUM!"},{"$error":"#NUM!"},{"$error":"#NUM!"},{"$error":"#NUM!"},{"$error":"#NUM!"},{"$error":"#NUM!"},{"$error":"#NUM!"},{"$error":"#NUM!"},{"$error":"#NUM!"},{"$error":"#NUM!"},{"$error":"#NUM!"},{"$error":"#NUM!"},{"$error":"#NUM!"},{"$error":"#NUM!"},{"$error":"#NUM!"},{"$error":"#NUM!"},{"$error":"#NUM!"},{"$error":"#NUM!"},{"$error":"#NUM!"},{"$error":"#NUM!"},{"$error":"#NUM!"},{"$error":"#NUM!"},{"$error":"#NUM!"},{"$error":"#NUM!"},{"$error":"#NUM!"},{"$error":"#NUM!"},{"$error":"#NUM!"},{"$error":"#NUM!"},{"$error":"#NUM!"},{"$error":"#NUM!"},{"$error":"#NUM!"},{"$error":"#NUM!"},{"$error":"#NUM!"},{"$error":"#NUM!"},{"$error":"#NUM!"},{"$error":"#NUM!"},{"$error":"#NUM!"},{"$f":"TKW10-TKX10","v":{"$error":"#NUM!"}},{"$error":"#NUM!"},{"$error":"#NUM!"},{"$error":"#NUM!"},{"$error":"#NUM!"},{"$error":"#NUM!"},{"$error":"#NUM!"},{"$error":"#NUM!"},{"$error":"#NUM!"},{"$error":"#NUM!"},{"$error":"#NUM!"},{"$error":"#NUM!"},{"$error":"#NUM!"},{"$error":"#NUM!"},{"$error":"#NUM!"},{"$error":"#NUM!"},{"$error":"#NUM!"},{"$error":"#NUM!"},{"$error":"#NUM!"},{"$error":"#NUM!"},{"$error":"#NUM!"},{"$error":"#NUM!"},{"$error":"#NUM!"},{"$error":"#NUM!"},{"$error":"#NUM!"},{"$error":"#NUM!"},{"$error":"#NUM!"},{"$error":"#NUM!"},{"$error":"#NUM!"},{"$error":"#NUM!"},{"$error":"#NUM!"},{"$error":"#NUM!"},{"$error":"#NUM!"},{"$error":"#NUM!"},{"$error":"#NUM!"},{"$error":"#NUM!"},{"$error":"#NUM!"},{"$error":"#NUM!"},{"$error":"#NUM!"},{"$error":"#NUM!"},{"$error":"#NUM!"},{"$error":"#NUM!"},{"$error":"#NUM!"},{"$error":"#NUM!"},{"$error":"#NUM!"},{"$error":"#NUM!"},{"$error":"#NUM!"},{"$error":"#NUM!"},{"$error":"#NUM!"},{"$error":"#NUM!"},{"$error":"#NUM!"},{"$error":"#NUM!"},{"$error":"#NUM!"},{"$error":"#NUM!"},{"$error":"#NUM!"},{"$error":"#NUM!"},{"$error":"#NUM!"},{"$error":"#NUM!"},{"$error":"#NUM!"},{"$error":"#NUM!"},{"$error":"#NUM!"},{"$error":"#NUM!"},{"$error":"#NUM!"},{"$error":"#NUM!"},{"$f":"TNI10-TNJ10","v":{"$error":"#NUM!"}},{"$error":"#NUM!"},{"$error":"#NUM!"},{"$error":"#NUM!"},{"$error":"#NUM!"},{"$error":"#NUM!"},{"$error":"#NUM!"},{"$error":"#NUM!"},{"$error":"#NUM!"},{"$error":"#NUM!"},{"$error":"#NUM!"},{"$error":"#NUM!"},{"$error":"#NUM!"},{"$error":"#NUM!"},{"$error":"#NUM!"},{"$error":"#NUM!"},{"$error":"#NUM!"},{"$error":"#NUM!"},{"$error":"#NUM!"},{"$error":"#NUM!"},{"$error":"#NUM!"},{"$error":"#NUM!"},{"$error":"#NUM!"},{"$error":"#NUM!"},{"$error":"#NUM!"},{"$error":"#NUM!"},{"$error":"#NUM!"},{"$error":"#NUM!"},{"$error":"#NUM!"},{"$error":"#NUM!"},{"$error":"#NUM!"},{"$error":"#NUM!"},{"$error":"#NUM!"},{"$error":"#NUM!"},{"$error":"#NUM!"},{"$error":"#NUM!"},{"$error":"#NUM!"},{"$error":"#NUM!"},{"$error":"#NUM!"},{"$error":"#NUM!"},{"$error":"#NUM!"},{"$error":"#NUM!"},{"$error":"#NUM!"},{"$error":"#NUM!"},{"$error":"#NUM!"},{"$error":"#NUM!"},{"$error":"#NUM!"},{"$error":"#NUM!"},{"$error":"#NUM!"},{"$error":"#NUM!"},{"$error":"#NUM!"},{"$error":"#NUM!"},{"$error":"#NUM!"},{"$error":"#NUM!"},{"$error":"#NUM!"},{"$error":"#NUM!"},{"$error":"#NUM!"},{"$error":"#NUM!"},{"$error":"#NUM!"},{"$error":"#NUM!"},{"$error":"#NUM!"},{"$error":"#NUM!"},{"$error":"#NUM!"},{"$error":"#NUM!"},{"$f":"TPU10-TPV10","v":{"$error":"#NUM!"}},{"$error":"#NUM!"},{"$error":"#NUM!"},{"$error":"#NUM!"},{"$error":"#NUM!"},{"$error":"#NUM!"},{"$error":"#NUM!"},{"$error":"#NUM!"},{"$error":"#NUM!"},{"$error":"#NUM!"},{"$error":"#NUM!"},{"$error":"#NUM!"},{"$error":"#NUM!"},{"$error":"#NUM!"},{"$error":"#NUM!"},{"$error":"#NUM!"},{"$error":"#NUM!"},{"$error":"#NUM!"},{"$error":"#NUM!"},{"$error":"#NUM!"},{"$error":"#NUM!"},{"$error":"#NUM!"},{"$error":"#NUM!"},{"$error":"#NUM!"},{"$error":"#NUM!"},{"$error":"#NUM!"},{"$error":"#NUM!"},{"$error":"#NUM!"},{"$error":"#NUM!"},{"$error":"#NUM!"},{"$error":"#NUM!"},{"$error":"#NUM!"},{"$error":"#NUM!"},{"$error":"#NUM!"},{"$error":"#NUM!"},{"$error":"#NUM!"},{"$error":"#NUM!"},{"$error":"#NUM!"},{"$error":"#NUM!"},{"$error":"#NUM!"},{"$error":"#NUM!"},{"$error":"#NUM!"},{"$error":"#NUM!"},{"$error":"#NUM!"},{"$error":"#NUM!"},{"$error":"#NUM!"},{"$error":"#NUM!"},{"$error":"#NUM!"},{"$error":"#NUM!"},{"$error":"#NUM!"},{"$error":"#NUM!"},{"$error":"#NUM!"},{"$error":"#NUM!"},{"$error":"#NUM!"},{"$error":"#NUM!"},{"$error":"#NUM!"},{"$error":"#NUM!"},{"$error":"#NUM!"},{"$error":"#NUM!"},{"$error":"#NUM!"},{"$error":"#NUM!"},{"$error":"#NUM!"},{"$error":"#NUM!"},{"$error":"#NUM!"},{"$f":"TSG10-TSH10","v":{"$error":"#NUM!"}},{"$error":"#NUM!"},{"$error":"#NUM!"},{"$error":"#NUM!"},{"$error":"#NUM!"},{"$error":"#NUM!"},{"$error":"#NUM!"},{"$error":"#NUM!"},{"$error":"#NUM!"},{"$error":"#NUM!"},{"$error":"#NUM!"},{"$error":"#NUM!"},{"$error":"#NUM!"},{"$error":"#NUM!"},{"$error":"#NUM!"},{"$error":"#NUM!"},{"$error":"#NUM!"},{"$error":"#NUM!"},{"$error":"#NUM!"},{"$error":"#NUM!"},{"$error":"#NUM!"},{"$error":"#NUM!"},{"$error":"#NUM!"},{"$error":"#NUM!"},{"$error":"#NUM!"},{"$error":"#NUM!"},{"$error":"#NUM!"},{"$error":"#NUM!"},{"$error":"#NUM!"},{"$error":"#NUM!"},{"$error":"#NUM!"},{"$error":"#NUM!"},{"$error":"#NUM!"},{"$error":"#NUM!"},{"$error":"#NUM!"},{"$error":"#NUM!"},{"$error":"#NUM!"},{"$error":"#NUM!"},{"$error":"#NUM!"},{"$error":"#NUM!"},{"$error":"#NUM!"},{"$error":"#NUM!"},{"$error":"#NUM!"},{"$error":"#NUM!"},{"$error":"#NUM!"},{"$error":"#NUM!"},{"$error":"#NUM!"},{"$error":"#NUM!"},{"$error":"#NUM!"},{"$error":"#NUM!"},{"$error":"#NUM!"},{"$error":"#NUM!"},{"$error":"#NUM!"},{"$error":"#NUM!"},{"$error":"#NUM!"},{"$error":"#NUM!"},{"$error":"#NUM!"},{"$error":"#NUM!"},{"$error":"#NUM!"},{"$error":"#NUM!"},{"$error":"#NUM!"},{"$error":"#NUM!"},{"$error":"#NUM!"},{"$error":"#NUM!"},{"$f":"TUS10-TUT10","v":{"$error":"#NUM!"}},{"$error":"#NUM!"},{"$error":"#NUM!"},{"$error":"#NUM!"},{"$error":"#NUM!"},{"$error":"#NUM!"},{"$error":"#NUM!"},{"$error":"#NUM!"},{"$error":"#NUM!"},{"$error":"#NUM!"},{"$error":"#NUM!"},{"$error":"#NUM!"},{"$error":"#NUM!"},{"$error":"#NUM!"},{"$error":"#NUM!"},{"$error":"#NUM!"},{"$error":"#NUM!"},{"$error":"#NUM!"},{"$error":"#NUM!"},{"$error":"#NUM!"},{"$error":"#NUM!"},{"$error":"#NUM!"},{"$error":"#NUM!"},{"$error":"#NUM!"},{"$error":"#NUM!"},{"$error":"#NUM!"},{"$error":"#NUM!"},{"$error":"#NUM!"},{"$error":"#NUM!"},{"$error":"#NUM!"},{"$error":"#NUM!"},{"$error":"#NUM!"},{"$error":"#NUM!"},{"$error":"#NUM!"},{"$error":"#NUM!"},{"$error":"#NUM!"},{"$error":"#NUM!"},{"$error":"#NUM!"},{"$error":"#NUM!"},{"$error":"#NUM!"},{"$error":"#NUM!"},{"$error":"#NUM!"},{"$error":"#NUM!"},{"$error":"#NUM!"},{"$error":"#NUM!"},{"$error":"#NUM!"},{"$error":"#NUM!"},{"$error":"#NUM!"},{"$error":"#NUM!"},{"$error":"#NUM!"},{"$error":"#NUM!"},{"$error":"#NUM!"},{"$error":"#NUM!"},{"$error":"#NUM!"},{"$error":"#NUM!"},{"$error":"#NUM!"},{"$error":"#NUM!"},{"$error":"#NUM!"},{"$error":"#NUM!"},{"$error":"#NUM!"},{"$error":"#NUM!"},{"$error":"#NUM!"},{"$error":"#NUM!"},{"$error":"#NUM!"},{"$f":"TXE10-TXF10","v":{"$error":"#NUM!"}},{"$error":"#NUM!"},{"$error":"#NUM!"},{"$error":"#NUM!"},{"$error":"#NUM!"},{"$error":"#NUM!"},{"$error":"#NUM!"},{"$error":"#NUM!"},{"$error":"#NUM!"},{"$error":"#NUM!"},{"$error":"#NUM!"},{"$error":"#NUM!"},{"$error":"#NUM!"},{"$error":"#NUM!"},{"$error":"#NUM!"},{"$error":"#NUM!"},{"$error":"#NUM!"},{"$error":"#NUM!"},{"$error":"#NUM!"},{"$error":"#NUM!"},{"$error":"#NUM!"},{"$error":"#NUM!"},{"$error":"#NUM!"},{"$error":"#NUM!"},{"$error":"#NUM!"},{"$error":"#NUM!"},{"$error":"#NUM!"},{"$error":"#NUM!"},{"$error":"#NUM!"},{"$error":"#NUM!"},{"$error":"#NUM!"},{"$error":"#NUM!"},{"$error":"#NUM!"},{"$error":"#NUM!"},{"$error":"#NUM!"},{"$error":"#NUM!"},{"$error":"#NUM!"},{"$error":"#NUM!"},{"$error":"#NUM!"},{"$error":"#NUM!"},{"$error":"#NUM!"},{"$error":"#NUM!"},{"$error":"#NUM!"},{"$error":"#NUM!"},{"$error":"#NUM!"},{"$error":"#NUM!"},{"$error":"#NUM!"},{"$error":"#NUM!"},{"$error":"#NUM!"},{"$error":"#NUM!"},{"$error":"#NUM!"},{"$error":"#NUM!"},{"$error":"#NUM!"},{"$error":"#NUM!"},{"$error":"#NUM!"},{"$error":"#NUM!"},{"$error":"#NUM!"},{"$error":"#NUM!"},{"$error":"#NUM!"},{"$error":"#NUM!"},{"$error":"#NUM!"},{"$error":"#NUM!"},{"$error":"#NUM!"},{"$error":"#NUM!"},{"$f":"TZQ10-TZR10","v":{"$error":"#NUM!"}},{"$error":"#NUM!"},{"$error":"#NUM!"},{"$error":"#NUM!"},{"$error":"#NUM!"},{"$error":"#NUM!"},{"$error":"#NUM!"},{"$error":"#NUM!"},{"$error":"#NUM!"},{"$error":"#NUM!"},{"$error":"#NUM!"},{"$error":"#NUM!"},{"$error":"#NUM!"},{"$error":"#NUM!"},{"$error":"#NUM!"},{"$error":"#NUM!"},{"$error":"#NUM!"},{"$error":"#NUM!"},{"$error":"#NUM!"},{"$error":"#NUM!"},{"$error":"#NUM!"},{"$error":"#NUM!"},{"$error":"#NUM!"},{"$error":"#NUM!"},{"$error":"#NUM!"},{"$error":"#NUM!"},{"$error":"#NUM!"},{"$error":"#NUM!"},{"$error":"#NUM!"},{"$error":"#NUM!"},{"$error":"#NUM!"},{"$error":"#NUM!"},{"$error":"#NUM!"},{"$error":"#NUM!"},{"$error":"#NUM!"},{"$error":"#NUM!"},{"$error":"#NUM!"},{"$error":"#NUM!"},{"$error":"#NUM!"},{"$error":"#NUM!"},{"$error":"#NUM!"},{"$error":"#NUM!"},{"$error":"#NUM!"},{"$error":"#NUM!"},{"$error":"#NUM!"},{"$error":"#NUM!"},{"$error":"#NUM!"},{"$error":"#NUM!"},{"$error":"#NUM!"},{"$error":"#NUM!"},{"$error":"#NUM!"},{"$error":"#NUM!"},{"$error":"#NUM!"},{"$error":"#NUM!"},{"$error":"#NUM!"},{"$error":"#NUM!"},{"$error":"#NUM!"},{"$error":"#NUM!"},{"$error":"#NUM!"},{"$error":"#NUM!"},{"$error":"#NUM!"},{"$error":"#NUM!"},{"$error":"#NUM!"},{"$error":"#NUM!"},{"$f":"UCC10-UCD10","v":{"$error":"#NUM!"}},{"$error":"#NUM!"},{"$error":"#NUM!"},{"$error":"#NUM!"},{"$error":"#NUM!"},{"$error":"#NUM!"},{"$error":"#NUM!"},{"$error":"#NUM!"},{"$error":"#NUM!"},{"$error":"#NUM!"},{"$error":"#NUM!"},{"$error":"#NUM!"},{"$error":"#NUM!"},{"$error":"#NUM!"},{"$error":"#NUM!"},{"$error":"#NUM!"},{"$error":"#NUM!"},{"$error":"#NUM!"},{"$error":"#NUM!"},{"$error":"#NUM!"},{"$error":"#NUM!"},{"$error":"#NUM!"},{"$error":"#NUM!"},{"$error":"#NUM!"},{"$error":"#NUM!"},{"$error":"#NUM!"},{"$error":"#NUM!"},{"$error":"#NUM!"},{"$error":"#NUM!"},{"$error":"#NUM!"},{"$error":"#NUM!"},{"$error":"#NUM!"},{"$error":"#NUM!"},{"$error":"#NUM!"},{"$error":"#NUM!"},{"$error":"#NUM!"},{"$error":"#NUM!"},{"$error":"#NUM!"},{"$error":"#NUM!"},{"$error":"#NUM!"},{"$error":"#NUM!"},{"$error":"#NUM!"},{"$error":"#NUM!"},{"$error":"#NUM!"},{"$error":"#NUM!"},{"$error":"#NUM!"},{"$error":"#NUM!"},{"$error":"#NUM!"},{"$error":"#NUM!"},{"$error":"#NUM!"},{"$error":"#NUM!"},{"$error":"#NUM!"},{"$error":"#NUM!"},{"$error":"#NUM!"},{"$error":"#NUM!"},{"$error":"#NUM!"},{"$error":"#NUM!"},{"$error":"#NUM!"},{"$error":"#NUM!"},{"$error":"#NUM!"},{"$error":"#NUM!"},{"$error":"#NUM!"},{"$error":"#NUM!"},{"$error":"#NUM!"},{"$f":"UEO10-UEP10","v":{"$error":"#NUM!"}},{"$error":"#NUM!"},{"$error":"#NUM!"},{"$error":"#NUM!"},{"$error":"#NUM!"},{"$error":"#NUM!"},{"$error":"#NUM!"},{"$error":"#NUM!"},{"$error":"#NUM!"},{"$error":"#NUM!"},{"$error":"#NUM!"},{"$error":"#NUM!"},{"$error":"#NUM!"},{"$error":"#NUM!"},{"$error":"#NUM!"},{"$error":"#NUM!"},{"$error":"#NUM!"},{"$error":"#NUM!"},{"$error":"#NUM!"},{"$error":"#NUM!"},{"$error":"#NUM!"},{"$error":"#NUM!"},{"$error":"#NUM!"},{"$error":"#NUM!"},{"$error":"#NUM!"},{"$error":"#NUM!"},{"$error":"#NUM!"},{"$error":"#NUM!"},{"$error":"#NUM!"},{"$error":"#NUM!"},{"$error":"#NUM!"},{"$error":"#NUM!"},{"$error":"#NUM!"},{"$error":"#NUM!"},{"$error":"#NUM!"},{"$error":"#NUM!"},{"$error":"#NUM!"},{"$error":"#NUM!"},{"$error":"#NUM!"},{"$error":"#NUM!"},{"$error":"#NUM!"},{"$error":"#NUM!"},{"$error":"#NUM!"},{"$error":"#NUM!"},{"$error":"#NUM!"},{"$error":"#NUM!"},{"$error":"#NUM!"},{"$error":"#NUM!"},{"$error":"#NUM!"},{"$error":"#NUM!"},{"$error":"#NUM!"},{"$error":"#NUM!"},{"$error":"#NUM!"},{"$error":"#NUM!"},{"$error":"#NUM!"},{"$error":"#NUM!"},{"$error":"#NUM!"},{"$error":"#NUM!"},{"$error":"#NUM!"},{"$error":"#NUM!"},{"$error":"#NUM!"},{"$error":"#NUM!"},{"$error":"#NUM!"},{"$error":"#NUM!"},{"$f":"UHA10-UHB10","v":{"$error":"#NUM!"}},{"$error":"#NUM!"},{"$error":"#NUM!"},{"$error":"#NUM!"},{"$error":"#NUM!"},{"$error":"#NUM!"},{"$error":"#NUM!"},{"$error":"#NUM!"},{"$error":"#NUM!"},{"$error":"#NUM!"},{"$error":"#NUM!"},{"$error":"#NUM!"},{"$error":"#NUM!"},{"$error":"#NUM!"},{"$error":"#NUM!"},{"$error":"#NUM!"},{"$error":"#NUM!"},{"$error":"#NUM!"},{"$error":"#NUM!"},{"$error":"#NUM!"},{"$error":"#NUM!"},{"$error":"#NUM!"},{"$error":"#NUM!"},{"$error":"#NUM!"},{"$error":"#NUM!"},{"$error":"#NUM!"},{"$error":"#NUM!"},{"$error":"#NUM!"},{"$error":"#NUM!"},{"$error":"#NUM!"},{"$error":"#NUM!"},{"$error":"#NUM!"},{"$error":"#NUM!"},{"$error":"#NUM!"},{"$error":"#NUM!"},{"$error":"#NUM!"},{"$error":"#NUM!"},{"$error":"#NUM!"},{"$error":"#NUM!"},{"$error":"#NUM!"},{"$error":"#NUM!"},{"$error":"#NUM!"},{"$error":"#NUM!"},{"$error":"#NUM!"},{"$error":"#NUM!"},{"$error":"#NUM!"},{"$error":"#NUM!"},{"$error":"#NUM!"},{"$error":"#NUM!"},{"$error":"#NUM!"},{"$error":"#NUM!"},{"$error":"#NUM!"},{"$error":"#NUM!"},{"$error":"#NUM!"},{"$error":"#NUM!"},{"$error":"#NUM!"},{"$error":"#NUM!"},{"$error":"#NUM!"},{"$error":"#NUM!"},{"$error":"#NUM!"},{"$error":"#NUM!"},{"$error":"#NUM!"},{"$error":"#NUM!"},{"$error":"#NUM!"},{"$f":"UJM10-UJN10","v":{"$error":"#NUM!"}},{"$error":"#NUM!"},{"$error":"#NUM!"},{"$error":"#NUM!"},{"$error":"#NUM!"},{"$error":"#NUM!"},{"$error":"#NUM!"},{"$error":"#NUM!"},{"$error":"#NUM!"},{"$error":"#NUM!"},{"$error":"#NUM!"},{"$error":"#NUM!"},{"$error":"#NUM!"},{"$error":"#NUM!"},{"$error":"#NUM!"},{"$error":"#NUM!"},{"$error":"#NUM!"},{"$error":"#NUM!"},{"$error":"#NUM!"},{"$error":"#NUM!"},{"$error":"#NUM!"},{"$error":"#NUM!"},{"$error":"#NUM!"},{"$error":"#NUM!"},{"$error":"#NUM!"},{"$error":"#NUM!"},{"$error":"#NUM!"},{"$error":"#NUM!"},{"$error":"#NUM!"},{"$error":"#NUM!"},{"$error":"#NUM!"},{"$error":"#NUM!"},{"$error":"#NUM!"},{"$error":"#NUM!"},{"$error":"#NUM!"},{"$error":"#NUM!"},{"$error":"#NUM!"},{"$error":"#NUM!"},{"$error":"#NUM!"},{"$error":"#NUM!"},{"$error":"#NUM!"},{"$error":"#NUM!"},{"$error":"#NUM!"},{"$error":"#NUM!"},{"$error":"#NUM!"},{"$error":"#NUM!"},{"$error":"#NUM!"},{"$error":"#NUM!"},{"$error":"#NUM!"},{"$error":"#NUM!"},{"$error":"#NUM!"},{"$error":"#NUM!"},{"$error":"#NUM!"},{"$error":"#NUM!"},{"$error":"#NUM!"},{"$error":"#NUM!"},{"$error":"#NUM!"},{"$error":"#NUM!"},{"$error":"#NUM!"},{"$error":"#NUM!"},{"$error":"#NUM!"},{"$error":"#NUM!"},{"$error":"#NUM!"},{"$error":"#NUM!"},{"$f":"ULY10-ULZ10","v":{"$error":"#NUM!"}},{"$error":"#NUM!"},{"$error":"#NUM!"},{"$error":"#NUM!"},{"$error":"#NUM!"},{"$error":"#NUM!"},{"$error":"#NUM!"},{"$error":"#NUM!"},{"$error":"#NUM!"},{"$error":"#NUM!"},{"$error":"#NUM!"},{"$error":"#NUM!"},{"$error":"#NUM!"},{"$error":"#NUM!"},{"$error":"#NUM!"},{"$error":"#NUM!"},{"$error":"#NUM!"},{"$error":"#NUM!"},{"$error":"#NUM!"},{"$error":"#NUM!"},{"$error":"#NUM!"},{"$error":"#NUM!"},{"$error":"#NUM!"},{"$error":"#NUM!"},{"$error":"#NUM!"},{"$error":"#NUM!"},{"$error":"#NUM!"},{"$error":"#NUM!"},{"$error":"#NUM!"},{"$error":"#NUM!"},{"$error":"#NUM!"},{"$error":"#NUM!"},{"$error":"#NUM!"},{"$error":"#NUM!"},{"$error":"#NUM!"},{"$error":"#NUM!"},{"$error":"#NUM!"},{"$error":"#NUM!"},{"$error":"#NUM!"},{"$error":"#NUM!"},{"$error":"#NUM!"},{"$error":"#NUM!"},{"$error":"#NUM!"},{"$error":"#NUM!"},{"$error":"#NUM!"},{"$error":"#NUM!"},{"$error":"#NUM!"},{"$error":"#NUM!"},{"$error":"#NUM!"},{"$error":"#NUM!"},{"$error":"#NUM!"},{"$error":"#NUM!"},{"$error":"#NUM!"},{"$error":"#NUM!"},{"$error":"#NUM!"},{"$error":"#NUM!"},{"$error":"#NUM!"},{"$error":"#NUM!"},{"$error":"#NUM!"},{"$error":"#NUM!"},{"$error":"#NUM!"},{"$error":"#NUM!"},{"$error":"#NUM!"},{"$error":"#NUM!"},{"$f":"UOK10-UOL10","v":{"$error":"#NUM!"}},{"$error":"#NUM!"},{"$error":"#NUM!"},{"$error":"#NUM!"},{"$error":"#NUM!"},{"$error":"#NUM!"},{"$error":"#NUM!"},{"$error":"#NUM!"},{"$error":"#NUM!"},{"$error":"#NUM!"},{"$error":"#NUM!"},{"$error":"#NUM!"},{"$error":"#NUM!"},{"$error":"#NUM!"},{"$error":"#NUM!"},{"$error":"#NUM!"},{"$error":"#NUM!"},{"$error":"#NUM!"},{"$error":"#NUM!"},{"$error":"#NUM!"},{"$error":"#NUM!"},{"$error":"#NUM!"},{"$error":"#NUM!"},{"$error":"#NUM!"},{"$error":"#NUM!"},{"$error":"#NUM!"},{"$error":"#NUM!"},{"$error":"#NUM!"},{"$error":"#NUM!"},{"$error":"#NUM!"},{"$error":"#NUM!"},{"$error":"#NUM!"},{"$error":"#NUM!"},{"$error":"#NUM!"},{"$error":"#NUM!"},{"$error":"#NUM!"},{"$error":"#NUM!"},{"$error":"#NUM!"},{"$error":"#NUM!"},{"$error":"#NUM!"},{"$error":"#NUM!"},{"$error":"#NUM!"},{"$error":"#NUM!"},{"$error":"#NUM!"},{"$error":"#NUM!"},{"$error":"#NUM!"},{"$error":"#NUM!"},{"$error":"#NUM!"},{"$error":"#NUM!"},{"$error":"#NUM!"},{"$error":"#NUM!"},{"$error":"#NUM!"},{"$error":"#NUM!"},{"$error":"#NUM!"},{"$error":"#NUM!"},{"$error":"#NUM!"},{"$error":"#NUM!"},{"$error":"#NUM!"},{"$error":"#NUM!"},{"$error":"#NUM!"},{"$error":"#NUM!"},{"$error":"#NUM!"},{"$error":"#NUM!"},{"$error":"#NUM!"},{"$f":"UQW10-UQX10","v":{"$error":"#NUM!"}},{"$error":"#NUM!"},{"$error":"#NUM!"},{"$error":"#NUM!"},{"$error":"#NUM!"},{"$error":"#NUM!"},{"$error":"#NUM!"},{"$error":"#NUM!"},{"$error":"#NUM!"},{"$error":"#NUM!"},{"$error":"#NUM!"},{"$error":"#NUM!"},{"$error":"#NUM!"},{"$error":"#NUM!"},{"$error":"#NUM!"},{"$error":"#NUM!"},{"$error":"#NUM!"},{"$error":"#NUM!"},{"$error":"#NUM!"},{"$error":"#NUM!"},{"$error":"#NUM!"},{"$error":"#NUM!"},{"$error":"#NUM!"},{"$error":"#NUM!"},{"$error":"#NUM!"},{"$error":"#NUM!"},{"$error":"#NUM!"},{"$error":"#NUM!"},{"$error":"#NUM!"},{"$error":"#NUM!"},{"$error":"#NUM!"},{"$error":"#NUM!"},{"$error":"#NUM!"},{"$error":"#NUM!"},{"$error":"#NUM!"},{"$error":"#NUM!"},{"$error":"#NUM!"},{"$error":"#NUM!"},{"$error":"#NUM!"},{"$error":"#NUM!"},{"$error":"#NUM!"},{"$error":"#NUM!"},{"$error":"#NUM!"},{"$error":"#NUM!"},{"$error":"#NUM!"},{"$error":"#NUM!"},{"$error":"#NUM!"},{"$error":"#NUM!"},{"$error":"#NUM!"},{"$error":"#NUM!"},{"$error":"#NUM!"},{"$error":"#NUM!"},{"$error":"#NUM!"},{"$error":"#NUM!"},{"$error":"#NUM!"},{"$error":"#NUM!"},{"$error":"#NUM!"},{"$error":"#NUM!"},{"$error":"#NUM!"},{"$error":"#NUM!"},{"$error":"#NUM!"},{"$error":"#NUM!"},{"$error":"#NUM!"},{"$error":"#NUM!"},{"$f":"UTI10-UTJ10","v":{"$error":"#NUM!"}},{"$error":"#NUM!"},{"$error":"#NUM!"},{"$error":"#NUM!"},{"$error":"#NUM!"},{"$error":"#NUM!"},{"$error":"#NUM!"},{"$error":"#NUM!"},{"$error":"#NUM!"},{"$error":"#NUM!"},{"$error":"#NUM!"},{"$error":"#NUM!"},{"$error":"#NUM!"},{"$error":"#NUM!"},{"$error":"#NUM!"},{"$error":"#NUM!"},{"$error":"#NUM!"},{"$error":"#NUM!"},{"$error":"#NUM!"},{"$error":"#NUM!"},{"$error":"#NUM!"},{"$error":"#NUM!"},{"$error":"#NUM!"},{"$error":"#NUM!"},{"$error":"#NUM!"},{"$error":"#NUM!"},{"$error":"#NUM!"},{"$error":"#NUM!"},{"$error":"#NUM!"},{"$error":"#NUM!"},{"$error":"#NUM!"},{"$error":"#NUM!"},{"$error":"#NUM!"},{"$error":"#NUM!"},{"$error":"#NUM!"},{"$error":"#NUM!"},{"$error":"#NUM!"},{"$error":"#NUM!"},{"$error":"#NUM!"},{"$error":"#NUM!"},{"$error":"#NUM!"},{"$error":"#NUM!"},{"$error":"#NUM!"},{"$error":"#NUM!"},{"$error":"#NUM!"},{"$error":"#NUM!"},{"$error":"#NUM!"},{"$error":"#NUM!"},{"$error":"#NUM!"},{"$error":"#NUM!"},{"$error":"#NUM!"},{"$error":"#NUM!"},{"$error":"#NUM!"},{"$error":"#NUM!"},{"$error":"#NUM!"},{"$error":"#NUM!"},{"$error":"#NUM!"},{"$error":"#NUM!"},{"$error":"#NUM!"},{"$error":"#NUM!"},{"$error":"#NUM!"},{"$error":"#NUM!"},{"$error":"#NUM!"},{"$error":"#NUM!"},{"$f":"UVU10-UVV10","v":{"$error":"#NUM!"}},{"$error":"#NUM!"},{"$error":"#NUM!"},{"$error":"#NUM!"},{"$error":"#NUM!"},{"$error":"#NUM!"},{"$error":"#NUM!"},{"$error":"#NUM!"},{"$error":"#NUM!"},{"$error":"#NUM!"},{"$error":"#NUM!"},{"$error":"#NUM!"},{"$error":"#NUM!"},{"$error":"#NUM!"},{"$error":"#NUM!"},{"$error":"#NUM!"},{"$error":"#NUM!"},{"$error":"#NUM!"},{"$error":"#NUM!"},{"$error":"#NUM!"},{"$error":"#NUM!"},{"$error":"#NUM!"},{"$error":"#NUM!"},{"$error":"#NUM!"},{"$error":"#NUM!"},{"$error":"#NUM!"},{"$error":"#NUM!"},{"$error":"#NUM!"},{"$error":"#NUM!"},{"$error":"#NUM!"},{"$error":"#NUM!"},{"$error":"#NUM!"},{"$error":"#NUM!"},{"$error":"#NUM!"},{"$error":"#NUM!"},{"$error":"#NUM!"},{"$error":"#NUM!"},{"$error":"#NUM!"},{"$error":"#NUM!"},{"$error":"#NUM!"},{"$error":"#NUM!"},{"$error":"#NUM!"},{"$error":"#NUM!"},{"$error":"#NUM!"},{"$error":"#NUM!"},{"$error":"#NUM!"},{"$error":"#NUM!"},{"$error":"#NUM!"},{"$error":"#NUM!"},{"$error":"#NUM!"},{"$error":"#NUM!"},{"$error":"#NUM!"},{"$error":"#NUM!"},{"$error":"#NUM!"},{"$error":"#NUM!"},{"$error":"#NUM!"},{"$error":"#NUM!"},{"$error":"#NUM!"},{"$error":"#NUM!"},{"$error":"#NUM!"},{"$error":"#NUM!"},{"$error":"#NUM!"},{"$error":"#NUM!"},{"$error":"#NUM!"},{"$f":"UYG10-UYH10","v":{"$error":"#NUM!"}},{"$error":"#NUM!"},{"$error":"#NUM!"},{"$error":"#NUM!"},{"$error":"#NUM!"},{"$error":"#NUM!"},{"$error":"#NUM!"},{"$error":"#NUM!"},{"$error":"#NUM!"},{"$error":"#NUM!"},{"$error":"#NUM!"},{"$error":"#NUM!"},{"$error":"#NUM!"},{"$error":"#NUM!"},{"$error":"#NUM!"},{"$error":"#NUM!"},{"$error":"#NUM!"},{"$error":"#NUM!"},{"$error":"#NUM!"},{"$error":"#NUM!"},{"$error":"#NUM!"},{"$error":"#NUM!"},{"$error":"#NUM!"},{"$error":"#NUM!"},{"$error":"#NUM!"},{"$error":"#NUM!"},{"$error":"#NUM!"},{"$error":"#NUM!"},{"$error":"#NUM!"},{"$error":"#NUM!"},{"$error":"#NUM!"},{"$error":"#NUM!"},{"$error":"#NUM!"},{"$error":"#NUM!"},{"$error":"#NUM!"},{"$error":"#NUM!"},{"$error":"#NUM!"},{"$error":"#NUM!"},{"$error":"#NUM!"},{"$error":"#NUM!"},{"$error":"#NUM!"},{"$error":"#NUM!"},{"$error":"#NUM!"},{"$error":"#NUM!"},{"$error":"#NUM!"},{"$error":"#NUM!"},{"$error":"#NUM!"},{"$error":"#NUM!"},{"$error":"#NUM!"},{"$error":"#NUM!"},{"$error":"#NUM!"},{"$error":"#NUM!"},{"$error":"#NUM!"},{"$error":"#NUM!"},{"$error":"#NUM!"},{"$error":"#NUM!"},{"$error":"#NUM!"},{"$error":"#NUM!"},{"$error":"#NUM!"},{"$error":"#NUM!"},{"$error":"#NUM!"},{"$error":"#NUM!"},{"$error":"#NUM!"},{"$error":"#NUM!"},{"$f":"VAS10-VAT10","v":{"$error":"#NUM!"}},{"$error":"#NUM!"},{"$error":"#NUM!"},{"$error":"#NUM!"},{"$error":"#NUM!"},{"$error":"#NUM!"},{"$error":"#NUM!"},{"$error":"#NUM!"},{"$error":"#NUM!"},{"$error":"#NUM!"},{"$error":"#NUM!"},{"$error":"#NUM!"},{"$error":"#NUM!"},{"$error":"#NUM!"},{"$error":"#NUM!"},{"$error":"#NUM!"},{"$error":"#NUM!"},{"$error":"#NUM!"},{"$error":"#NUM!"},{"$error":"#NUM!"},{"$error":"#NUM!"},{"$error":"#NUM!"},{"$error":"#NUM!"},{"$error":"#NUM!"},{"$error":"#NUM!"},{"$error":"#NUM!"},{"$error":"#NUM!"},{"$error":"#NUM!"},{"$error":"#NUM!"},{"$error":"#NUM!"},{"$error":"#NUM!"},{"$error":"#NUM!"},{"$error":"#NUM!"},{"$error":"#NUM!"},{"$error":"#NUM!"},{"$error":"#NUM!"},{"$error":"#NUM!"},{"$error":"#NUM!"},{"$error":"#NUM!"},{"$error":"#NUM!"},{"$error":"#NUM!"},{"$error":"#NUM!"},{"$error":"#NUM!"},{"$error":"#NUM!"},{"$error":"#NUM!"},{"$error":"#NUM!"},{"$error":"#NUM!"},{"$error":"#NUM!"},{"$error":"#NUM!"},{"$error":"#NUM!"},{"$error":"#NUM!"},{"$error":"#NUM!"},{"$error":"#NUM!"},{"$error":"#NUM!"},{"$error":"#NUM!"},{"$error":"#NUM!"},{"$error":"#NUM!"},{"$error":"#NUM!"},{"$error":"#NUM!"},{"$error":"#NUM!"},{"$error":"#NUM!"},{"$error":"#NUM!"},{"$error":"#NUM!"},{"$error":"#NUM!"},{"$f":"VDE10-VDF10","v":{"$error":"#NUM!"}},{"$error":"#NUM!"},{"$error":"#NUM!"},{"$error":"#NUM!"},{"$error":"#NUM!"},{"$error":"#NUM!"},{"$error":"#NUM!"},{"$error":"#NUM!"},{"$error":"#NUM!"},{"$error":"#NUM!"},{"$error":"#NUM!"},{"$error":"#NUM!"},{"$error":"#NUM!"},{"$error":"#NUM!"},{"$error":"#NUM!"},{"$error":"#NUM!"},{"$error":"#NUM!"},{"$error":"#NUM!"},{"$error":"#NUM!"},{"$error":"#NUM!"},{"$error":"#NUM!"},{"$error":"#NUM!"},{"$error":"#NUM!"},{"$error":"#NUM!"},{"$error":"#NUM!"},{"$error":"#NUM!"},{"$error":"#NUM!"},{"$error":"#NUM!"},{"$error":"#NUM!"},{"$error":"#NUM!"},{"$error":"#NUM!"},{"$error":"#NUM!"},{"$error":"#NUM!"},{"$error":"#NUM!"},{"$error":"#NUM!"},{"$error":"#NUM!"},{"$error":"#NUM!"},{"$error":"#NUM!"},{"$error":"#NUM!"},{"$error":"#NUM!"},{"$error":"#NUM!"},{"$error":"#NUM!"},{"$error":"#NUM!"},{"$error":"#NUM!"},{"$error":"#NUM!"},{"$error":"#NUM!"},{"$error":"#NUM!"},{"$error":"#NUM!"},{"$error":"#NUM!"},{"$error":"#NUM!"},{"$error":"#NUM!"},{"$error":"#NUM!"},{"$error":"#NUM!"},{"$error":"#NUM!"},{"$error":"#NUM!"},{"$error":"#NUM!"},{"$error":"#NUM!"},{"$error":"#NUM!"},{"$error":"#NUM!"},{"$error":"#NUM!"},{"$error":"#NUM!"},{"$error":"#NUM!"},{"$error":"#NUM!"},{"$error":"#NUM!"},{"$f":"VFQ10-VFR10","v":{"$error":"#NUM!"}},{"$error":"#NUM!"},{"$error":"#NUM!"},{"$error":"#NUM!"},{"$error":"#NUM!"},{"$error":"#NUM!"},{"$error":"#NUM!"},{"$error":"#NUM!"},{"$error":"#NUM!"},{"$error":"#NUM!"},{"$error":"#NUM!"},{"$error":"#NUM!"},{"$error":"#NUM!"},{"$error":"#NUM!"},{"$error":"#NUM!"},{"$error":"#NUM!"},{"$error":"#NUM!"},{"$error":"#NUM!"},{"$error":"#NUM!"},{"$error":"#NUM!"},{"$error":"#NUM!"},{"$error":"#NUM!"},{"$error":"#NUM!"},{"$error":"#NUM!"},{"$error":"#NUM!"},{"$error":"#NUM!"},{"$error":"#NUM!"},{"$error":"#NUM!"},{"$error":"#NUM!"},{"$error":"#NUM!"},{"$error":"#NUM!"},{"$error":"#NUM!"},{"$error":"#NUM!"},{"$error":"#NUM!"},{"$error":"#NUM!"},{"$error":"#NUM!"},{"$error":"#NUM!"},{"$error":"#NUM!"},{"$error":"#NUM!"},{"$error":"#NUM!"},{"$error":"#NUM!"},{"$error":"#NUM!"},{"$error":"#NUM!"},{"$error":"#NUM!"},{"$error":"#NUM!"},{"$error":"#NUM!"},{"$error":"#NUM!"},{"$error":"#NUM!"},{"$error":"#NUM!"},{"$error":"#NUM!"},{"$error":"#NUM!"},{"$error":"#NUM!"},{"$error":"#NUM!"},{"$error":"#NUM!"},{"$error":"#NUM!"},{"$error":"#NUM!"},{"$error":"#NUM!"},{"$error":"#NUM!"},{"$error":"#NUM!"},{"$error":"#NUM!"},{"$error":"#NUM!"},{"$error":"#NUM!"},{"$error":"#NUM!"},{"$error":"#NUM!"},{"$f":"VIC10-VID10","v":{"$error":"#NUM!"}},{"$error":"#NUM!"},{"$error":"#NUM!"},{"$error":"#NUM!"},{"$error":"#NUM!"},{"$error":"#NUM!"},{"$error":"#NUM!"},{"$error":"#NUM!"},{"$error":"#NUM!"},{"$error":"#NUM!"},{"$error":"#NUM!"},{"$error":"#NUM!"},{"$error":"#NUM!"},{"$error":"#NUM!"},{"$error":"#NUM!"},{"$error":"#NUM!"},{"$error":"#NUM!"},{"$error":"#NUM!"},{"$error":"#NUM!"},{"$error":"#NUM!"},{"$error":"#NUM!"},{"$error":"#NUM!"},{"$error":"#NUM!"},{"$error":"#NUM!"},{"$error":"#NUM!"},{"$error":"#NUM!"},{"$error":"#NUM!"},{"$error":"#NUM!"},{"$error":"#NUM!"},{"$error":"#NUM!"},{"$error":"#NUM!"},{"$error":"#NUM!"},{"$error":"#NUM!"},{"$error":"#NUM!"},{"$error":"#NUM!"},{"$error":"#NUM!"},{"$error":"#NUM!"},{"$error":"#NUM!"},{"$error":"#NUM!"},{"$error":"#NUM!"},{"$error":"#NUM!"},{"$error":"#NUM!"},{"$error":"#NUM!"},{"$error":"#NUM!"},{"$error":"#NUM!"},{"$error":"#NUM!"},{"$error":"#NUM!"},{"$error":"#NUM!"},{"$error":"#NUM!"},{"$error":"#NUM!"},{"$error":"#NUM!"},{"$error":"#NUM!"},{"$error":"#NUM!"},{"$error":"#NUM!"},{"$error":"#NUM!"},{"$error":"#NUM!"},{"$error":"#NUM!"},{"$error":"#NUM!"},{"$error":"#NUM!"},{"$error":"#NUM!"},{"$error":"#NUM!"},{"$error":"#NUM!"},{"$error":"#NUM!"},{"$error":"#NUM!"},{"$f":"VKO10-VKP10","v":{"$error":"#NUM!"}},{"$error":"#NUM!"},{"$error":"#NUM!"},{"$error":"#NUM!"},{"$error":"#NUM!"},{"$error":"#NUM!"},{"$error":"#NUM!"},{"$error":"#NUM!"},{"$error":"#NUM!"},{"$error":"#NUM!"},{"$error":"#NUM!"},{"$error":"#NUM!"},{"$error":"#NUM!"},{"$error":"#NUM!"},{"$error":"#NUM!"},{"$error":"#NUM!"},{"$error":"#NUM!"},{"$error":"#NUM!"},{"$error":"#NUM!"},{"$error":"#NUM!"},{"$error":"#NUM!"},{"$error":"#NUM!"},{"$error":"#NUM!"},{"$error":"#NUM!"},{"$error":"#NUM!"},{"$error":"#NUM!"},{"$error":"#NUM!"},{"$error":"#NUM!"},{"$error":"#NUM!"},{"$error":"#NUM!"},{"$error":"#NUM!"},{"$error":"#NUM!"},{"$error":"#NUM!"},{"$error":"#NUM!"},{"$error":"#NUM!"},{"$error":"#NUM!"},{"$error":"#NUM!"},{"$error":"#NUM!"},{"$error":"#NUM!"},{"$error":"#NUM!"},{"$error":"#NUM!"},{"$error":"#NUM!"},{"$error":"#NUM!"},{"$error":"#NUM!"},{"$error":"#NUM!"},{"$error":"#NUM!"},{"$error":"#NUM!"},{"$error":"#NUM!"},{"$error":"#NUM!"},{"$error":"#NUM!"},{"$error":"#NUM!"},{"$error":"#NUM!"},{"$error":"#NUM!"},{"$error":"#NUM!"},{"$error":"#NUM!"},{"$error":"#NUM!"},{"$error":"#NUM!"},{"$error":"#NUM!"},{"$error":"#NUM!"},{"$error":"#NUM!"},{"$error":"#NUM!"},{"$error":"#NUM!"},{"$error":"#NUM!"},{"$error":"#NUM!"},{"$f":"VNA10-VNB10","v":{"$error":"#NUM!"}},{"$error":"#NUM!"},{"$error":"#NUM!"},{"$error":"#NUM!"},{"$error":"#NUM!"},{"$error":"#NUM!"},{"$error":"#NUM!"},{"$error":"#NUM!"},{"$error":"#NUM!"},{"$error":"#NUM!"},{"$error":"#NUM!"},{"$error":"#NUM!"},{"$error":"#NUM!"},{"$error":"#NUM!"},{"$error":"#NUM!"},{"$error":"#NUM!"},{"$error":"#NUM!"},{"$error":"#NUM!"},{"$error":"#NUM!"},{"$error":"#NUM!"},{"$error":"#NUM!"},{"$error":"#NUM!"},{"$error":"#NUM!"},{"$error":"#NUM!"},{"$error":"#NUM!"},{"$error":"#NUM!"},{"$error":"#NUM!"},{"$error":"#NUM!"},{"$error":"#NUM!"},{"$error":"#NUM!"},{"$error":"#NUM!"},{"$error":"#NUM!"},{"$error":"#NUM!"},{"$error":"#NUM!"},{"$error":"#NUM!"},{"$error":"#NUM!"},{"$error":"#NUM!"},{"$error":"#NUM!"},{"$error":"#NUM!"},{"$error":"#NUM!"},{"$error":"#NUM!"},{"$error":"#NUM!"},{"$error":"#NUM!"},{"$error":"#NUM!"},{"$error":"#NUM!"},{"$error":"#NUM!"},{"$error":"#NUM!"},{"$error":"#NUM!"},{"$error":"#NUM!"},{"$error":"#NUM!"},{"$error":"#NUM!"},{"$error":"#NUM!"},{"$error":"#NUM!"},{"$error":"#NUM!"},{"$error":"#NUM!"},{"$error":"#NUM!"},{"$error":"#NUM!"},{"$error":"#NUM!"},{"$error":"#NUM!"},{"$error":"#NUM!"},{"$error":"#NUM!"},{"$error":"#NUM!"},{"$error":"#NUM!"},{"$error":"#NUM!"},{"$f":"VPM10-VPN10","v":{"$error":"#NUM!"}},{"$error":"#NUM!"},{"$error":"#NUM!"},{"$error":"#NUM!"},{"$error":"#NUM!"},{"$error":"#NUM!"},{"$error":"#NUM!"},{"$error":"#NUM!"},{"$error":"#NUM!"},{"$error":"#NUM!"},{"$error":"#NUM!"},{"$error":"#NUM!"},{"$error":"#NUM!"},{"$error":"#NUM!"},{"$error":"#NUM!"},{"$error":"#NUM!"},{"$error":"#NUM!"},{"$error":"#NUM!"},{"$error":"#NUM!"},{"$error":"#NUM!"},{"$error":"#NUM!"},{"$error":"#NUM!"},{"$error":"#NUM!"},{"$error":"#NUM!"},{"$error":"#NUM!"},{"$error":"#NUM!"},{"$error":"#NUM!"},{"$error":"#NUM!"},{"$error":"#NUM!"},{"$error":"#NUM!"},{"$error":"#NUM!"},{"$error":"#NUM!"},{"$error":"#NUM!"},{"$error":"#NUM!"},{"$error":"#NUM!"},{"$error":"#NUM!"},{"$error":"#NUM!"},{"$error":"#NUM!"},{"$error":"#NUM!"},{"$error":"#NUM!"},{"$error":"#NUM!"},{"$error":"#NUM!"},{"$error":"#NUM!"},{"$error":"#NUM!"},{"$error":"#NUM!"},{"$error":"#NUM!"},{"$error":"#NUM!"},{"$error":"#NUM!"},{"$error":"#NUM!"},{"$error":"#NUM!"},{"$error":"#NUM!"},{"$error":"#NUM!"},{"$error":"#NUM!"},{"$error":"#NUM!"},{"$error":"#NUM!"},{"$error":"#NUM!"},{"$error":"#NUM!"},{"$error":"#NUM!"},{"$error":"#NUM!"},{"$error":"#NUM!"},{"$error":"#NUM!"},{"$error":"#NUM!"},{"$error":"#NUM!"},{"$error":"#NUM!"},{"$f":"VRY10-VRZ10","v":{"$error":"#NUM!"}},{"$error":"#NUM!"},{"$error":"#NUM!"},{"$error":"#NUM!"},{"$error":"#NUM!"},{"$error":"#NUM!"},{"$error":"#NUM!"},{"$error":"#NUM!"},{"$error":"#NUM!"},{"$error":"#NUM!"},{"$error":"#NUM!"},{"$error":"#NUM!"},{"$error":"#NUM!"},{"$error":"#NUM!"},{"$error":"#NUM!"},{"$error":"#NUM!"},{"$error":"#NUM!"},{"$error":"#NUM!"},{"$error":"#NUM!"},{"$error":"#NUM!"},{"$error":"#NUM!"},{"$error":"#NUM!"},{"$error":"#NUM!"},{"$error":"#NUM!"},{"$error":"#NUM!"},{"$error":"#NUM!"},{"$error":"#NUM!"},{"$error":"#NUM!"},{"$error":"#NUM!"},{"$error":"#NUM!"},{"$error":"#NUM!"},{"$error":"#NUM!"},{"$error":"#NUM!"},{"$error":"#NUM!"},{"$error":"#NUM!"},{"$error":"#NUM!"},{"$error":"#NUM!"},{"$error":"#NUM!"},{"$error":"#NUM!"},{"$error":"#NUM!"},{"$error":"#NUM!"},{"$error":"#NUM!"},{"$error":"#NUM!"},{"$error":"#NUM!"},{"$error":"#NUM!"},{"$error":"#NUM!"},{"$error":"#NUM!"},{"$error":"#NUM!"},{"$error":"#NUM!"},{"$error":"#NUM!"},{"$error":"#NUM!"},{"$error":"#NUM!"},{"$error":"#NUM!"},{"$error":"#NUM!"},{"$error":"#NUM!"},{"$error":"#NUM!"},{"$error":"#NUM!"},{"$error":"#NUM!"},{"$error":"#NUM!"},{"$error":"#NUM!"},{"$error":"#NUM!"},{"$error":"#NUM!"},{"$error":"#NUM!"},{"$error":"#NUM!"},{"$f":"VUK10-VUL10","v":{"$error":"#NUM!"}},{"$error":"#NUM!"},{"$error":"#NUM!"},{"$error":"#NUM!"},{"$error":"#NUM!"},{"$error":"#NUM!"},{"$error":"#NUM!"},{"$error":"#NUM!"},{"$error":"#NUM!"},{"$error":"#NUM!"},{"$error":"#NUM!"},{"$error":"#NUM!"},{"$error":"#NUM!"},{"$error":"#NUM!"},{"$error":"#NUM!"},{"$error":"#NUM!"},{"$error":"#NUM!"},{"$error":"#NUM!"},{"$error":"#NUM!"},{"$error":"#NUM!"},{"$error":"#NUM!"},{"$error":"#NUM!"},{"$error":"#NUM!"},{"$error":"#NUM!"},{"$error":"#NUM!"},{"$error":"#NUM!"},{"$error":"#NUM!"},{"$error":"#NUM!"},{"$error":"#NUM!"},{"$error":"#NUM!"},{"$error":"#NUM!"},{"$error":"#NUM!"},{"$error":"#NUM!"},{"$error":"#NUM!"},{"$error":"#NUM!"},{"$error":"#NUM!"},{"$error":"#NUM!"},{"$error":"#NUM!"},{"$error":"#NUM!"},{"$error":"#NUM!"},{"$error":"#NUM!"},{"$error":"#NUM!"},{"$error":"#NUM!"},{"$error":"#NUM!"},{"$error":"#NUM!"},{"$error":"#NUM!"},{"$error":"#NUM!"},{"$error":"#NUM!"},{"$error":"#NUM!"},{"$error":"#NUM!"},{"$error":"#NUM!"},{"$error":"#NUM!"},{"$error":"#NUM!"},{"$error":"#NUM!"},{"$error":"#NUM!"},{"$error":"#NUM!"},{"$error":"#NUM!"},{"$error":"#NUM!"},{"$error":"#NUM!"},{"$error":"#NUM!"},{"$error":"#NUM!"},{"$error":"#NUM!"},{"$error":"#NUM!"},{"$error":"#NUM!"},{"$f":"VWW10-VWX10","v":{"$error":"#NUM!"}},{"$error":"#NUM!"},{"$error":"#NUM!"},{"$error":"#NUM!"},{"$error":"#NUM!"},{"$error":"#NUM!"},{"$error":"#NUM!"},{"$error":"#NUM!"},{"$error":"#NUM!"},{"$error":"#NUM!"},{"$error":"#NUM!"},{"$error":"#NUM!"},{"$error":"#NUM!"},{"$error":"#NUM!"},{"$error":"#NUM!"},{"$error":"#NUM!"},{"$error":"#NUM!"},{"$error":"#NUM!"},{"$error":"#NUM!"},{"$error":"#NUM!"},{"$error":"#NUM!"},{"$error":"#NUM!"},{"$error":"#NUM!"},{"$error":"#NUM!"},{"$error":"#NUM!"},{"$error":"#NUM!"},{"$error":"#NUM!"},{"$error":"#NUM!"},{"$error":"#NUM!"},{"$error":"#NUM!"},{"$error":"#NUM!"},{"$error":"#NUM!"},{"$error":"#NUM!"},{"$error":"#NUM!"},{"$error":"#NUM!"},{"$error":"#NUM!"},{"$error":"#NUM!"},{"$error":"#NUM!"},{"$error":"#NUM!"},{"$error":"#NUM!"},{"$error":"#NUM!"},{"$error":"#NUM!"},{"$error":"#NUM!"},{"$error":"#NUM!"},{"$error":"#NUM!"},{"$error":"#NUM!"},{"$error":"#NUM!"},{"$error":"#NUM!"},{"$error":"#NUM!"},{"$error":"#NUM!"},{"$error":"#NUM!"},{"$error":"#NUM!"},{"$error":"#NUM!"},{"$error":"#NUM!"},{"$error":"#NUM!"},{"$error":"#NUM!"},{"$error":"#NUM!"},{"$error":"#NUM!"},{"$error":"#NUM!"},{"$error":"#NUM!"},{"$error":"#NUM!"},{"$error":"#NUM!"},{"$error":"#NUM!"},{"$error":"#NUM!"},{"$f":"VZI10-VZJ10","v":{"$error":"#NUM!"}},{"$error":"#NUM!"},{"$error":"#NUM!"},{"$error":"#NUM!"},{"$error":"#NUM!"},{"$error":"#NUM!"},{"$error":"#NUM!"},{"$error":"#NUM!"},{"$error":"#NUM!"},{"$error":"#NUM!"},{"$error":"#NUM!"},{"$error":"#NUM!"},{"$error":"#NUM!"},{"$error":"#NUM!"},{"$error":"#NUM!"},{"$error":"#NUM!"},{"$error":"#NUM!"},{"$error":"#NUM!"},{"$error":"#NUM!"},{"$error":"#NUM!"},{"$error":"#NUM!"},{"$error":"#NUM!"},{"$error":"#NUM!"},{"$error":"#NUM!"},{"$error":"#NUM!"},{"$error":"#NUM!"},{"$error":"#NUM!"},{"$error":"#NUM!"},{"$error":"#NUM!"},{"$error":"#NUM!"},{"$error":"#NUM!"},{"$error":"#NUM!"},{"$error":"#NUM!"},{"$error":"#NUM!"},{"$error":"#NUM!"},{"$error":"#NUM!"},{"$error":"#NUM!"},{"$error":"#NUM!"},{"$error":"#NUM!"},{"$error":"#NUM!"},{"$error":"#NUM!"},{"$error":"#NUM!"},{"$error":"#NUM!"},{"$error":"#NUM!"},{"$error":"#NUM!"},{"$error":"#NUM!"},{"$error":"#NUM!"},{"$error":"#NUM!"},{"$error":"#NUM!"},{"$error":"#NUM!"},{"$error":"#NUM!"},{"$error":"#NUM!"},{"$error":"#NUM!"},{"$error":"#NUM!"},{"$error":"#NUM!"},{"$error":"#NUM!"},{"$error":"#NUM!"},{"$error":"#NUM!"},{"$error":"#NUM!"},{"$error":"#NUM!"},{"$error":"#NUM!"},{"$error":"#NUM!"},{"$error":"#NUM!"},{"$error":"#NUM!"},{"$f":"WBU10-WBV10","v":{"$error":"#NUM!"}},{"$error":"#NUM!"},{"$error":"#NUM!"},{"$error":"#NUM!"},{"$error":"#NUM!"},{"$error":"#NUM!"},{"$error":"#NUM!"},{"$error":"#NUM!"},{"$error":"#NUM!"},{"$error":"#NUM!"},{"$error":"#NUM!"},{"$error":"#NUM!"},{"$error":"#NUM!"},{"$error":"#NUM!"},{"$error":"#NUM!"},{"$error":"#NUM!"},{"$error":"#NUM!"},{"$error":"#NUM!"},{"$error":"#NUM!"},{"$error":"#NUM!"},{"$error":"#NUM!"},{"$error":"#NUM!"},{"$error":"#NUM!"},{"$error":"#NUM!"},{"$error":"#NUM!"},{"$error":"#NUM!"},{"$error":"#NUM!"},{"$error":"#NUM!"},{"$error":"#NUM!"},{"$error":"#NUM!"},{"$error":"#NUM!"},{"$error":"#NUM!"},{"$error":"#NUM!"},{"$error":"#NUM!"},{"$error":"#NUM!"},{"$error":"#NUM!"},{"$error":"#NUM!"},{"$error":"#NUM!"},{"$error":"#NUM!"},{"$error":"#NUM!"},{"$error":"#NUM!"},{"$error":"#NUM!"},{"$error":"#NUM!"},{"$error":"#NUM!"},{"$error":"#NUM!"},{"$error":"#NUM!"},{"$error":"#NUM!"},{"$error":"#NUM!"},{"$error":"#NUM!"},{"$error":"#NUM!"},{"$error":"#NUM!"},{"$error":"#NUM!"},{"$error":"#NUM!"},{"$error":"#NUM!"},{"$error":"#NUM!"},{"$error":"#NUM!"},{"$error":"#NUM!"},{"$error":"#NUM!"},{"$error":"#NUM!"},{"$error":"#NUM!"},{"$error":"#NUM!"},{"$error":"#NUM!"},{"$error":"#NUM!"},{"$error":"#NUM!"},{"$f":"WEG10-WEH10","v":{"$error":"#NUM!"}},{"$error":"#NUM!"},{"$error":"#NUM!"},{"$error":"#NUM!"},{"$error":"#NUM!"},{"$error":"#NUM!"},{"$error":"#NUM!"},{"$error":"#NUM!"},{"$error":"#NUM!"},{"$error":"#NUM!"},{"$error":"#NUM!"},{"$error":"#NUM!"},{"$error":"#NUM!"},{"$error":"#NUM!"},{"$error":"#NUM!"},{"$error":"#NUM!"},{"$error":"#NUM!"},{"$error":"#NUM!"},{"$error":"#NUM!"},{"$error":"#NUM!"},{"$error":"#NUM!"},{"$error":"#NUM!"},{"$error":"#NUM!"},{"$error":"#NUM!"},{"$error":"#NUM!"},{"$error":"#NUM!"},{"$error":"#NUM!"},{"$error":"#NUM!"},{"$error":"#NUM!"},{"$error":"#NUM!"},{"$error":"#NUM!"},{"$error":"#NUM!"},{"$error":"#NUM!"},{"$error":"#NUM!"},{"$error":"#NUM!"},{"$error":"#NUM!"},{"$error":"#NUM!"},{"$error":"#NUM!"},{"$error":"#NUM!"},{"$error":"#NUM!"},{"$error":"#NUM!"},{"$error":"#NUM!"},{"$error":"#NUM!"},{"$error":"#NUM!"},{"$error":"#NUM!"},{"$error":"#NUM!"},{"$error":"#NUM!"},{"$error":"#NUM!"},{"$error":"#NUM!"},{"$error":"#NUM!"},{"$error":"#NUM!"},{"$error":"#NUM!"},{"$error":"#NUM!"},{"$error":"#NUM!"},{"$error":"#NUM!"},{"$error":"#NUM!"},{"$error":"#NUM!"},{"$error":"#NUM!"},{"$error":"#NUM!"},{"$error":"#NUM!"},{"$error":"#NUM!"},{"$error":"#NUM!"},{"$error":"#NUM!"},{"$error":"#NUM!"},{"$f":"WGS10-WGT10","v":{"$error":"#NUM!"}},{"$error":"#NUM!"},{"$error":"#NUM!"},{"$error":"#NUM!"},{"$error":"#NUM!"},{"$error":"#NUM!"},{"$error":"#NUM!"},{"$error":"#NUM!"},{"$error":"#NUM!"},{"$error":"#NUM!"},{"$error":"#NUM!"},{"$error":"#NUM!"},{"$error":"#NUM!"},{"$error":"#NUM!"},{"$error":"#NUM!"},{"$error":"#NUM!"},{"$error":"#NUM!"},{"$error":"#NUM!"},{"$error":"#NUM!"},{"$error":"#NUM!"},{"$error":"#NUM!"},{"$error":"#NUM!"},{"$error":"#NUM!"},{"$error":"#NUM!"},{"$error":"#NUM!"},{"$error":"#NUM!"},{"$error":"#NUM!"},{"$error":"#NUM!"},{"$error":"#NUM!"},{"$error":"#NUM!"},{"$error":"#NUM!"},{"$error":"#NUM!"},{"$error":"#NUM!"},{"$error":"#NUM!"},{"$error":"#NUM!"},{"$error":"#NUM!"},{"$error":"#NUM!"},{"$error":"#NUM!"},{"$error":"#NUM!"},{"$error":"#NUM!"},{"$error":"#NUM!"},{"$error":"#NUM!"},{"$error":"#NUM!"},{"$error":"#NUM!"},{"$error":"#NUM!"},{"$error":"#NUM!"},{"$error":"#NUM!"},{"$error":"#NUM!"},{"$error":"#NUM!"},{"$error":"#NUM!"},{"$error":"#NUM!"},{"$error":"#NUM!"},{"$error":"#NUM!"},{"$error":"#NUM!"},{"$error":"#NUM!"},{"$error":"#NUM!"},{"$error":"#NUM!"},{"$error":"#NUM!"},{"$error":"#NUM!"},{"$error":"#NUM!"},{"$error":"#NUM!"},{"$error":"#NUM!"},{"$error":"#NUM!"},{"$error":"#NUM!"},{"$f":"WJE10-WJF10","v":{"$error":"#NUM!"}},{"$error":"#NUM!"},{"$error":"#NUM!"},{"$error":"#NUM!"},{"$error":"#NUM!"},{"$error":"#NUM!"},{"$error":"#NUM!"},{"$error":"#NUM!"},{"$error":"#NUM!"},{"$error":"#NUM!"},{"$error":"#NUM!"},{"$error":"#NUM!"},{"$error":"#NUM!"},{"$error":"#NUM!"},{"$error":"#NUM!"},{"$error":"#NUM!"},{"$error":"#NUM!"},{"$error":"#NUM!"},{"$error":"#NUM!"},{"$error":"#NUM!"},{"$error":"#NUM!"},{"$error":"#NUM!"},{"$error":"#NUM!"},{"$error":"#NUM!"},{"$error":"#NUM!"},{"$error":"#NUM!"},{"$error":"#NUM!"},{"$error":"#NUM!"},{"$error":"#NUM!"},{"$error":"#NUM!"},{"$error":"#NUM!"},{"$error":"#NUM!"},{"$error":"#NUM!"},{"$error":"#NUM!"},{"$error":"#NUM!"},{"$error":"#NUM!"},{"$error":"#NUM!"},{"$error":"#NUM!"},{"$error":"#NUM!"},{"$error":"#NUM!"},{"$error":"#NUM!"},{"$error":"#NUM!"},{"$error":"#NUM!"},{"$error":"#NUM!"},{"$error":"#NUM!"},{"$error":"#NUM!"},{"$error":"#NUM!"},{"$error":"#NUM!"},{"$error":"#NUM!"},{"$error":"#NUM!"},{"$error":"#NUM!"},{"$error":"#NUM!"},{"$error":"#NUM!"},{"$error":"#NUM!"},{"$error":"#NUM!"},{"$error":"#NUM!"},{"$error":"#NUM!"},{"$error":"#NUM!"},{"$error":"#NUM!"},{"$error":"#NUM!"},{"$error":"#NUM!"},{"$error":"#NUM!"},{"$error":"#NUM!"},{"$error":"#NUM!"},{"$f":"WLQ10-WLR10","v":{"$error":"#NUM!"}},{"$error":"#NUM!"},{"$error":"#NUM!"},{"$error":"#NUM!"},{"$error":"#NUM!"},{"$error":"#NUM!"},{"$error":"#NUM!"},{"$error":"#NUM!"},{"$error":"#NUM!"},{"$error":"#NUM!"},{"$error":"#NUM!"},{"$error":"#NUM!"},{"$error":"#NUM!"},{"$error":"#NUM!"},{"$error":"#NUM!"},{"$error":"#NUM!"},{"$error":"#NUM!"},{"$error":"#NUM!"},{"$error":"#NUM!"},{"$error":"#NUM!"},{"$error":"#NUM!"},{"$error":"#NUM!"},{"$error":"#NUM!"},{"$error":"#NUM!"},{"$error":"#NUM!"},{"$error":"#NUM!"},{"$error":"#NUM!"},{"$error":"#NUM!"},{"$error":"#NUM!"},{"$error":"#NUM!"},{"$error":"#NUM!"},{"$error":"#NUM!"},{"$error":"#NUM!"},{"$error":"#NUM!"},{"$error":"#NUM!"},{"$error":"#NUM!"},{"$error":"#NUM!"},{"$error":"#NUM!"},{"$error":"#NUM!"},{"$error":"#NUM!"},{"$error":"#NUM!"},{"$error":"#NUM!"},{"$error":"#NUM!"},{"$error":"#NUM!"},{"$error":"#NUM!"},{"$error":"#NUM!"},{"$error":"#NUM!"},{"$error":"#NUM!"},{"$error":"#NUM!"},{"$error":"#NUM!"},{"$error":"#NUM!"},{"$error":"#NUM!"},{"$error":"#NUM!"},{"$error":"#NUM!"},{"$error":"#NUM!"},{"$error":"#NUM!"},{"$error":"#NUM!"},{"$error":"#NUM!"},{"$error":"#NUM!"},{"$error":"#NUM!"},{"$error":"#NUM!"},{"$error":"#NUM!"},{"$error":"#NUM!"},{"$error":"#NUM!"},{"$f":"WOC10-WOD10","v":{"$error":"#NUM!"}},{"$error":"#NUM!"},{"$error":"#NUM!"},{"$error":"#NUM!"},{"$error":"#NUM!"},{"$error":"#NUM!"},{"$error":"#NUM!"},{"$error":"#NUM!"},{"$error":"#NUM!"},{"$error":"#NUM!"},{"$error":"#NUM!"},{"$error":"#NUM!"},{"$error":"#NUM!"},{"$error":"#NUM!"},{"$error":"#NUM!"},{"$error":"#NUM!"},{"$error":"#NUM!"},{"$error":"#NUM!"},{"$error":"#NUM!"},{"$error":"#NUM!"},{"$error":"#NUM!"},{"$error":"#NUM!"},{"$error":"#NUM!"},{"$error":"#NUM!"},{"$error":"#NUM!"},{"$error":"#NUM!"},{"$error":"#NUM!"},{"$error":"#NUM!"},{"$error":"#NUM!"},{"$error":"#NUM!"},{"$error":"#NUM!"},{"$error":"#NUM!"},{"$error":"#NUM!"},{"$error":"#NUM!"},{"$error":"#NUM!"},{"$error":"#NUM!"},{"$error":"#NUM!"},{"$error":"#NUM!"},{"$error":"#NUM!"},{"$error":"#NUM!"},{"$error":"#NUM!"},{"$error":"#NUM!"},{"$error":"#NUM!"},{"$error":"#NUM!"},{"$error":"#NUM!"},{"$error":"#NUM!"},{"$error":"#NUM!"},{"$error":"#NUM!"},{"$error":"#NUM!"},{"$error":"#NUM!"},{"$error":"#NUM!"},{"$error":"#NUM!"},{"$error":"#NUM!"},{"$error":"#NUM!"},{"$error":"#NUM!"},{"$error":"#NUM!"},{"$error":"#NUM!"},{"$error":"#NUM!"},{"$error":"#NUM!"},{"$error":"#NUM!"},{"$error":"#NUM!"},{"$error":"#NUM!"},{"$error":"#NUM!"},{"$error":"#NUM!"},{"$f":"WQO10-WQP10","v":{"$error":"#NUM!"}},{"$error":"#NUM!"},{"$error":"#NUM!"},{"$error":"#NUM!"},{"$error":"#NUM!"},{"$error":"#NUM!"},{"$error":"#NUM!"},{"$error":"#NUM!"},{"$error":"#NUM!"},{"$error":"#NUM!"},{"$error":"#NUM!"},{"$error":"#NUM!"},{"$error":"#NUM!"},{"$error":"#NUM!"},{"$error":"#NUM!"},{"$error":"#NUM!"},{"$error":"#NUM!"},{"$error":"#NUM!"},{"$error":"#NUM!"},{"$error":"#NUM!"},{"$error":"#NUM!"},{"$error":"#NUM!"},{"$error":"#NUM!"},{"$error":"#NUM!"},{"$error":"#NUM!"},{"$error":"#NUM!"},{"$error":"#NUM!"},{"$error":"#NUM!"},{"$error":"#NUM!"},{"$error":"#NUM!"},{"$error":"#NUM!"},{"$error":"#NUM!"},{"$error":"#NUM!"},{"$error":"#NUM!"},{"$error":"#NUM!"},{"$error":"#NUM!"},{"$error":"#NUM!"},{"$error":"#NUM!"},{"$error":"#NUM!"},{"$error":"#NUM!"},{"$error":"#NUM!"},{"$error":"#NUM!"},{"$error":"#NUM!"},{"$error":"#NUM!"},{"$error":"#NUM!"},{"$error":"#NUM!"},{"$error":"#NUM!"},{"$error":"#NUM!"},{"$error":"#NUM!"},{"$error":"#NUM!"},{"$error":"#NUM!"},{"$error":"#NUM!"},{"$error":"#NUM!"},{"$error":"#NUM!"},{"$error":"#NUM!"},{"$error":"#NUM!"},{"$error":"#NUM!"},{"$error":"#NUM!"},{"$error":"#NUM!"},{"$error":"#NUM!"},{"$error":"#NUM!"},{"$error":"#NUM!"},{"$error":"#NUM!"},{"$error":"#NUM!"},{"$f":"WTA10-WTB10","v":{"$error":"#NUM!"}},{"$error":"#NUM!"},{"$error":"#NUM!"},{"$error":"#NUM!"},{"$error":"#NUM!"},{"$error":"#NUM!"},{"$error":"#NUM!"},{"$error":"#NUM!"},{"$error":"#NUM!"},{"$error":"#NUM!"},{"$error":"#NUM!"},{"$error":"#NUM!"},{"$error":"#NUM!"},{"$error":"#NUM!"},{"$error":"#NUM!"},{"$error":"#NUM!"},{"$error":"#NUM!"},{"$error":"#NUM!"},{"$error":"#NUM!"},{"$error":"#NUM!"},{"$error":"#NUM!"},{"$error":"#NUM!"},{"$error":"#NUM!"},{"$error":"#NUM!"},{"$error":"#NUM!"},{"$error":"#NUM!"},{"$error":"#NUM!"},{"$error":"#NUM!"},{"$error":"#NUM!"},{"$error":"#NUM!"},{"$error":"#NUM!"},{"$error":"#NUM!"},{"$error":"#NUM!"},{"$error":"#NUM!"},{"$error":"#NUM!"},{"$error":"#NUM!"},{"$error":"#NUM!"},{"$error":"#NUM!"},{"$error":"#NUM!"},{"$error":"#NUM!"},{"$error":"#NUM!"},{"$error":"#NUM!"},{"$error":"#NUM!"},{"$error":"#NUM!"},{"$error":"#NUM!"},{"$error":"#NUM!"},{"$error":"#NUM!"},{"$error":"#NUM!"},{"$error":"#NUM!"},{"$error":"#NUM!"},{"$error":"#NUM!"},{"$error":"#NUM!"},{"$error":"#NUM!"},{"$error":"#NUM!"},{"$error":"#NUM!"},{"$error":"#NUM!"},{"$error":"#NUM!"},{"$error":"#NUM!"},{"$error":"#NUM!"},{"$error":"#NUM!"},{"$error":"#NUM!"},{"$error":"#NUM!"},{"$error":"#NUM!"},{"$error":"#NUM!"},{"$f":"WVM10-WVN10","v":{"$error":"#NUM!"}},{"$error":"#NUM!"},{"$error":"#NUM!"},{"$error":"#NUM!"},{"$error":"#NUM!"},{"$error":"#NUM!"},{"$error":"#NUM!"},{"$error":"#NUM!"},{"$error":"#NUM!"},{"$error":"#NUM!"},{"$error":"#NUM!"},{"$error":"#NUM!"},{"$error":"#NUM!"},{"$error":"#NUM!"},{"$error":"#NUM!"},{"$error":"#NUM!"},{"$error":"#NUM!"},{"$error":"#NUM!"},{"$error":"#NUM!"},{"$error":"#NUM!"},{"$error":"#NUM!"},{"$error":"#NUM!"},{"$error":"#NUM!"},{"$error":"#NUM!"},{"$error":"#NUM!"},{"$error":"#NUM!"},{"$error":"#NUM!"},{"$error":"#NUM!"},{"$error":"#NUM!"},{"$error":"#NUM!"},{"$error":"#NUM!"},{"$error":"#NUM!"},{"$error":"#NUM!"},{"$error":"#NUM!"},{"$error":"#NUM!"},{"$error":"#NUM!"},{"$error":"#NUM!"},{"$error":"#NUM!"},{"$error":"#NUM!"},{"$error":"#NUM!"},{"$error":"#NUM!"},{"$error":"#NUM!"},{"$error":"#NUM!"},{"$error":"#NUM!"},{"$error":"#NUM!"},{"$error":"#NUM!"},{"$error":"#NUM!"},{"$error":"#NUM!"},{"$error":"#NUM!"},{"$error":"#NUM!"},{"$error":"#NUM!"},{"$error":"#NUM!"},{"$error":"#NUM!"},{"$error":"#NUM!"},{"$error":"#NUM!"},{"$error":"#NUM!"},{"$error":"#NUM!"},{"$error":"#NUM!"},{"$error":"#NUM!"},{"$error":"#NUM!"},{"$error":"#NUM!"},{"$error":"#NUM!"},{"$error":"#NUM!"},{"$error":"#NUM!"},{"$f":"WXY10-WXZ10","v":{"$error":"#NUM!"}},{"$error":"#NUM!"},{"$error":"#NUM!"},{"$error":"#NUM!"},{"$error":"#NUM!"},{"$error":"#NUM!"},{"$error":"#NUM!"},{"$error":"#NUM!"},{"$error":"#NUM!"},{"$error":"#NUM!"},{"$error":"#NUM!"},{"$error":"#NUM!"},{"$error":"#NUM!"},{"$error":"#NUM!"},{"$error":"#NUM!"},{"$error":"#NUM!"},{"$error":"#NUM!"},{"$error":"#NUM!"},{"$error":"#NUM!"},{"$error":"#NUM!"},{"$error":"#NUM!"},{"$error":"#NUM!"},{"$error":"#NUM!"},{"$error":"#NUM!"},{"$error":"#NUM!"},{"$error":"#NUM!"},{"$error":"#NUM!"},{"$error":"#NUM!"},{"$error":"#NUM!"},{"$error":"#NUM!"},{"$error":"#NUM!"},{"$error":"#NUM!"},{"$error":"#NUM!"},{"$error":"#NUM!"},{"$error":"#NUM!"},{"$error":"#NUM!"},{"$error":"#NUM!"},{"$error":"#NUM!"},{"$error":"#NUM!"},{"$error":"#NUM!"},{"$error":"#NUM!"},{"$error":"#NUM!"},{"$error":"#NUM!"},{"$error":"#NUM!"},{"$error":"#NUM!"},{"$error":"#NUM!"},{"$error":"#NUM!"},{"$error":"#NUM!"},{"$error":"#NUM!"},{"$error":"#NUM!"},{"$error":"#NUM!"},{"$error":"#NUM!"},{"$error":"#NUM!"},{"$error":"#NUM!"},{"$error":"#NUM!"},{"$error":"#NUM!"},{"$error":"#NUM!"},{"$error":"#NUM!"},{"$error":"#NUM!"},{"$error":"#NUM!"},{"$error":"#NUM!"},{"$error":"#NUM!"},{"$error":"#NUM!"},{"$error":"#NUM!"},{"$f":"XAK10-XAL10","v":{"$error":"#NUM!"}},{"$error":"#NUM!"},{"$error":"#NUM!"},{"$error":"#NUM!"},{"$error":"#NUM!"},{"$error":"#NUM!"},{"$error":"#NUM!"},{"$error":"#NUM!"},{"$error":"#NUM!"},{"$error":"#NUM!"},{"$error":"#NUM!"},{"$error":"#NUM!"},{"$error":"#NUM!"},{"$error":"#NUM!"},{"$error":"#NUM!"},{"$error":"#NUM!"},{"$error":"#NUM!"},{"$error":"#NUM!"},{"$error":"#NUM!"},{"$error":"#NUM!"},{"$error":"#NUM!"},{"$error":"#NUM!"},{"$error":"#NUM!"},{"$error":"#NUM!"},{"$error":"#NUM!"},{"$error":"#NUM!"},{"$error":"#NUM!"},{"$error":"#NUM!"},{"$error":"#NUM!"},{"$error":"#NUM!"},{"$error":"#NUM!"},{"$error":"#NUM!"},{"$error":"#NUM!"},{"$error":"#NUM!"},{"$error":"#NUM!"},{"$error":"#NUM!"},{"$error":"#NUM!"},{"$error":"#NUM!"},{"$error":"#NUM!"},{"$error":"#NUM!"},{"$error":"#NUM!"},{"$error":"#NUM!"},{"$error":"#NUM!"},{"$error":"#NUM!"},{"$error":"#NUM!"},{"$error":"#NUM!"},{"$error":"#NUM!"},{"$error":"#NUM!"},{"$error":"#NUM!"},{"$error":"#NUM!"},{"$error":"#NUM!"},{"$error":"#NUM!"},{"$error":"#NUM!"},{"$error":"#NUM!"},{"$error":"#NUM!"},{"$error":"#NUM!"},{"$error":"#NUM!"},{"$error":"#NUM!"},{"$error":"#NUM!"},{"$error":"#NUM!"},{"$error":"#NUM!"},{"$error":"#NUM!"},{"$error":"#NUM!"},{"$error":"#NUM!"},{"$f":"XCW10-XCX10","v":{"$error":"#NUM!"}},{"$error":"#NUM!"},{"$error":"#NUM!"},{"$error":"#NUM!"},{"$error":"#NUM!"},{"$error":"#NUM!"},{"$error":"#NUM!"},{"$error":"#NUM!"},{"$error":"#NUM!"},{"$error":"#NUM!"},{"$error":"#NUM!"},{"$error":"#NUM!"},{"$error":"#NUM!"},{"$error":"#NUM!"},{"$error":"#NUM!"},{"$error":"#NUM!"},{"$error":"#NUM!"},{"$error":"#NUM!"},{"$error":"#NUM!"},{"$error":"#NUM!"},{"$error":"#NUM!"},{"$error":"#NUM!"},{"$error":"#NUM!"},{"$error":"#NUM!"},{"$error":"#NUM!"},{"$error":"#NUM!"},{"$error":"#NUM!"},{"$error":"#NUM!"},{"$error":"#NUM!"},{"$error":"#NUM!"},{"$error":"#NUM!"},{"$error":"#NUM!"},{"$error":"#NUM!"},{"$error":"#NUM!"},{"$error":"#NUM!"},{"$error":"#NUM!"},{"$error":"#NUM!"},{"$error":"#NUM!"},{"$error":"#NUM!"},{"$error":"#NUM!"},{"$error":"#NUM!"},{"$error":"#NUM!"},{"$error":"#NUM!"},{"$error":"#NUM!"},{"$error":"#NUM!"},{"$error":"#NUM!"},{"$error":"#NUM!"},{"$error":"#NUM!"},{"$error":"#NUM!"},{"$error":"#NUM!"},{"$error":"#NUM!"},{"$error":"#NUM!"},{"$error":"#NUM!"},{"$error":"#NUM!"},{"$error":"#NUM!"},{"$error":"#NUM!"},{"$error":"#NUM!"}]
[3112,null,-393973.02,-393973.02,null,null,{"$f":"D11-E11","v":-393973.02}]
["C. Dependencia o Unidad Administrativa 3",null,null,null,null,null,0]
["D. Dependencia o Unidad Administrativa 4",null,null,null,null,null,0]
["E. Dependencia o Unidad Administrativa 5",null,null,null,null,null,0]
["F. Dependencia o Unidad Administrativa 6",null,null,null,null,null,0]
["G. Dependencia o Unidad Administrativa 7",null,null,null,null,null,0]
["H. Dependencia o Unidad Administrativa xx",null,null,null,null,null,0]
["*"]
["II. Gasto Etiquetado (II=A+B+C+D+E+F+G+H)",{"$f":"SUM(B20:GASTO_E_FIN_01)","v":0},{"$f":"SUM(C20:GASTO_E_FIN_02)","v":0},{"$f":"SUM(D20:GASTO_E_FIN_03)","v":0},{"$f":"SUM(E20:GASTO_E_FIN_04)","v":0},{"$f":"SUM(F20:GASTO_E_FIN_05)","v":0},{"$f":"SUM(G20:GASTO_E_FIN_06)","v":0}]
["A. Dependencia o Unidad Administrativa 1",null,null,null,null,null,{"$f":"D20-E20","v":0}]
["B. Dependencia o Unidad Administrativa 2",null,null,null,null,null,{"$f":"D21-E21","v":0}]
["C. Dependencia o Unidad Administrativa 3",null,null,null,null,null,0]
["D. Dependencia o Unidad Administrativa 4",null,null,null,null,null,0]
["E. Dependencia o Unidad Administrativa 5",null,null,null,null,null,0]
["F. Dependencia o Unidad Administrativa 6",null,null,null,null,null,0]
["G. Dependencia o Unidad Administrativa 7",null,null,null,null,null,0]
["H. Dependencia o Unidad Administrativa xx",null,null,null,null,null,0]
["*"]
["III. Total de Egresos (III = I + II)",{"$f":"GASTO_NE_T1+GASTO_E_T1","v":5770900},{"$f":"GASTO_NE_T2+GASTO_E_T2","v":-393973.02},{"$f":"GASTO_NE_T3+GASTO_E_T3","v":5376926.9800000004},{"$f":"GASTO_NE_T4+GASTO_E_T4","v":5172255.03},{"$f":"GASTO_NE_T5+GASTO_E_T5","v":5158488.03},{"$f":"GASTO_NE_T6+GASTO_E_T6","v":204671.94999999972}]

{"sheet":"F06b","index":16,"n_rows":4,"n_cols":21,"rows_kept":4,"cut":false,"hidden":true,"merged":[]}
["CLAVE","N1","N2","N3","N4","N5","N6","N7","C  O  N  C  E  P  T  O  S",null,null,null,null,null,null,"APROBADO","AMPLIACIONES","MODIFICADO","DEVENGADO","PAGADO","SUBEJERCICIO"]
[{"$f":"IF(LEN(CLEAN(B2))=0,\"0\",B2)&\",\"&IF(LEN(CLEAN(C2))=0,\"0\",C2)&\",\"&IF(LEN(CLEAN(D2))=0,\"0\",D2)&\",\"&IF(LEN(CLEAN(E2))=0,\"0\",E2)&\",\"&IF(LEN(CLEAN(F2))=0,\"0\",F2)&\",\"&IF(LEN(CLEAN(G2))=0,\"0\",G2)&\",\"&IF(LEN(CLEAN(H2))=0,\"0\",H2)","v":"6,2,1,0,0,0,0"},6,2,1,null,null,null,null,"Gasto No Etiquetado",null,null,null,null,null,null,{"$f":"GASTO_NE_T1","v":5770900},{"$f":"GASTO_NE_T2","v":-393973.02},{"$f":"GASTO_NE_T3","v":5376926.9800000004},{"$f":"GASTO_NE_T4","v":5172255.03},{"$f":"GASTO_NE_T5","v":5158488.03},{"$f":"GASTO_NE_T6","v":204671.94999999972}]
[{"$f":"IF(LEN(CLEAN(B3))=0,\"0\",B3)&\",\"&IF(LEN(CLEAN(C3))=0,\"0\",C3)&\",\"&IF(LEN(CLEAN(D3))=0,\"0\",D3)&\",\"&IF(LEN(CLEAN(E3))=0,\"0\",E3)&\",\"&IF(LEN(CLEAN(F3))=0,\"0\",F3)&\",\"&IF(LEN(CLEAN(G3))=0,\"0\",G3)&\",\"&IF(LEN(CLEAN(H3))=0,\"0\",H3)","v":"6,2,2,0,0,0,0"},6,2,2,null,null,null,null,"Gasto Etiquetado",null,null,null,null,null,null,{"$f":"GASTO_E_T1","v":0},{"$f":"GASTO_E_T2","v":0},{"$f":"GASTO_E_T3","v":0},{"$f":"GASTO_E_T4","v":0},{"$f":"GASTO_E_T5","v":0},{"$f":"GASTO_E_T6","v":0}]
["6,2,3,0,0,0,0",6,2,3,null,null,null,null,"Total de Egresos",null,null,null,null,null,null,{"$f":"TOTAL_E_T1","v":5770900},{"$f":"TOTAL_E_T2","v":-393973.02},{"$f":"TOTAL_E_T3","v":5376926.9800000004},{"$f":"TOTAL_E_T4","v":5172255.03},{"$f":"TOTAL_E_T5","v":5158488.03},{"$f":"TOTAL_E_T6","v":204671.94999999972}]

{"sheet":"Formato 6 c)","index":17,"n_rows":77,"n_cols":7,"rows_kept":77,"cut":false,"hidden":false,"merged":[[6,1,6,5],[6,6,7,6],[6,0,7,0],[0,0,0,6],[1,0,1,6],[2,0,2,6],[3,0,3,6],[4,0,4,6],[5,0,5,6]]}
["Formato 6 c) Estado Analítico del Ejercicio del Presupuesto de Egresos Detallado -LDF \n                       (Claisificación Funcional)"]
[{"$f":"ENTE_PUBLICO_A","v":"INSTITUTO SALMANTINO PARA LAS PERSONAS CON DISCAPACIDAD, Gobierno del Estado de Guanajuato (a)"}]
["Estado Analítico del Ejercicio del Presupueso de Egresos Detallado - LDF"]
["Clasificación Funcional (Finalidad y Función)"]
[{"$f":"TRIMESTRE","v":"Del 1 de enero al 31 de diciembre de 2020 (b)"}]
["(PESOS)"]
["Concepto (c)","Egresos",null,null,null,null,"Subejercicio  (e)"]
[null,"Aprobado (d)","Ampliaciones / (Reducciones)","Modificado ","Devengado","Pagado"]
["I. Gasto No Etiquetado (I=A+B+C+D)",{"$f":"SUM(B10,B19,B27,B37)","v":5770900},{"$f":"SUM(C10,C19,C27,C37)","v":-393973.02},5376926.9800000004,5172255.03,5158488.03,204671.95]
["A. Gobierno (A=a1+a2+a3+a4+a5+a6+a7+a8)",{"$f":"SUM(B11:B18)","v":0},{"$f":"SUM(C11:C18)","v":0},0,0,0,{"$f":"SUM(G11:G18)","v":0}]
["a1) Legislación",null,null,null,null,null,{"$f":"D11-E11","v":0}]
["a2) Justicia",null,null,null,null,null,{"$f":"D12-E12","v":0}]
["a3) Coordinación de la Política de Gobierno",null,null,null,null,null,0]
["a4) Relaciones Exteriores",null,null,null,null,null,0]
["a5) Asuntos Financieros y Hacendarios",null,null,null,null,null,0]
["a6) Seguridad Nacional",null,null,null,null,null,0]
["a7) Asuntos de Orden Público y de Seguridad Interior",null,null,null,null,null,0]
["a8) Otros Servicios Generales",null,null,null,null,null,0]
["B. Desarrollo Social (B=b1+b2+b3+b4+b5+b6+b7)",{"$f":"SUM(B20:B26)","v":5770900},-393973.02,5376926.9800000004,5172255.03,5158488.03,204671.95]
["b1) Protección Ambiental ",null,null,null,null,null,{"$f":"D20-E20","v":0}]
["b2) Vivienda y Servicios a la Comunidad",null,null,null,null,null,{"$f":"D21-E21","v":0}]
["b3) Salud",null,null,null,null,null,0]
["b4) Recreación, Cultura y Otras Manifestaciones Sociales",null,null,null,null,null,0]
["b5) Educación ",null,null,null,null,null,0]
["b6) Protección Social",5770900,-393973.02,5376926.9800000004,5172255.03,5158488.03,204671.95000000019]
["b7) Otros Asuntos Sociales",null,null,null,null,null,0]
["C. Desarrollo Económico (C=c1+c2+c3+c4+c5+c6+c7+c8+c9)",{"$f":"SUM(B28:B36)","v":0},{"$f":"SUM(C28:C36)","v":0},0,0,0,{"$f":"SUM(G28:G36)","v":0}]
["c1) Asuntos Económicos, Comerciales y Laborales en General",null,null,null,null,null,{"$f":"D28-E28","v":0}]
["c2) Agropecuaria, Silvicultura, Pesca y Caza",null,null,null,null,null,{"$f":"D29-E29","v":0}]
["c3) Combustibles y Energía ",null,null,null,null,null,0]
["c4) Minería, Manufacturas y Construcción",null,null,null,null,null,0]
["c5) Transporte",null,null,null,null,null,0]
["c6) Comunicaciones",null,null,null,null,null,0]
["c7) Turismo",null,null,null,null,null,0]
["c8) Ciencia, Tecnología e Innovación",null,null,null,null,null,0]
["c9) Otras Industrias y Otros Asuntos Económicos",null,null,null,null,null,0]
["D. Otras No Clasificadas en Funciones Anteriores\n(D=d1+d2+d3+d4)",{"$f":"SUM(B38:B41)","v":0},{"$f":"SUM(C38:C41)","v":0},0,0,0,{"$f":"SUM(G38:G41)","v":0}]
["d1) Transacciones de la Deuda Pública / Costo Financiero de la Deuda",null,null,null,null,null,{"$f":"D38-E38","v":0}]
["d2) Transferencias, Participaciones y Aportaciones Entre Diferentes Niveles y Órdenes de Gobierno",null,null,null,null,null,{"$f":"D39-E39","v":0}]
["d3) Saneamiento del Sistema Financiero",null,null,null,null,null,0]
["d4) Adeudos de Ejercicios Fiscales Anteriores",null,null,null,null,null,0]
[]
["II: Gasto Etiquetado (II=A+B+C+D)",{"$f":"SUM(B44,B53,B61,B71)","v":0},{"$f":"SUM(C44,C53,C61,C71)","v":0},0,0,0,0]
["A. Gobierno (A=a1+a2+a3+a4+a5+a6+a7a+a8)",{"$f":"SUM(B45:B52)","v":0},{"$f":"SUM(C45:C52)","v":0},0,0,0,0]
["a1) Legislación",null,null,null,null,null,{"$f":"D45-E45","v":0}]
["a2) Justicia",null,null,null,null,null,{"$f":"D46-E46","v":0}]
["a3) Coordinación de la Política de Gobierno",null,null,null,null,null,0]
["a4) Relaciones Exteriores",null,null,null,null,null,0]
["a5) Asuntos Financieros y Hacendarios",null,null,null,null,null,0]
["a6) Seguridad Nacional",null,null,null,null,null,0]
["a7) Asuntos de Orden Público y de Seguridad Interior",null,null,null,null,null,0]
["a8) Otros Servicios Generales",null,null,null,null,null,0]
["B. Desarrollo Social (B=b1+b2+b3+b4+b5+b6+b7)",{"$f":"SUM(B54:B60)","v":0},{"$f":"SUM(C54:C60)","v":0},0,0,0,0]
["b1) Protección Ambiental ",null,null,null,null,null,{"$f":"D54-E54","v":0}]
["b2) Vivienda y Servicios a la Comunidad",null,null,null,null,null,{"$f":"D55-E55","v":0}]
["b3) Salud",null,null,null,null,null,0]
["b4) Recreación, Cultura y Otras Manifestaciones Sociales",null,null,null,null,null,0]
["b5) Educación ",null,null,null,null,null,0]
["b6) Protección Social",null,null,null,null,null,0]
["b7) Otros Asuntos Sociales",null,null,null,null,null,0]
["C. Desarrollo Económico (C=c1+c2+c3+c4+c5+c6+c7+c8+c9)",{"$f":"SUM(B62:B70)","v":0},{"$f":"SUM(C62:C70)","v":0},0,0,0,0]
["c1) Asuntos Económicos, Comerciales y Laborales en General",null,null,null,null,null,{"$f":"D62-E62","v":0}]
["c2) Agropecuaria, Silvicultura, Pesca y Caza",null,null,null,null,null,{"$f":"D63-E63","v":0}]
["c3) Combustibles y Energía ",null,null,null,null,null,0]
["c4) Minería, Manufacturas y Construcción",null,null,null,null,null,0]
["c5) Transporte",null,null,null,null,null,0]
["c6) Comunicaciones",null,null,null,null,null,0]
["c7) Turismo",null,null,null,null,null,0]
["c8) Ciencia, Tecnología e Innovación",null,null,null,null,null,0]
["c9) Otras Industrias y Otros Asuntos Económicos",null,null,null,null,null,0]
["D. Otras No Clasificadas en Funciones Anteriores (D=d1+d2+d3+d4)",{"$f":"SUM(B72:B75)","v":0},{"$f":"SUM(C72:C75)","v":0},0,0,0,{"$f":"SUM(G72:G75)","v":0}]
["d1) Transacciones de la Deuda Pública / Costo Financiero de la Deuda",null,null,null,null,null,{"$f":"D72-E72","v":0}]
["d2) Transferencias, Participaciones y Aportaciones Entre Diferentes Niveles y Órdenes de Gobierno",null,null,null,null,null,{"$f":"D73-E73","v":0}]
["d3) Saneamiento del Sistema Financiero",null,null,null,null,null,0]
["d4) Adeudos de Ejercicios Fiscales Anteriores",null,null,null,null,null,0]
[]
["III. Total de Egresos (III = I + II)",{"$f":"B43+B9","v":5770900},{"$f":"C43+C9","v":-393973.02},5376926.9800000004,5172255.03,5158488.03,{"$f":"G43+G9","v":204671.95}]

{"sheet":"F06c","index":18,"n_rows":68,"n_cols":21,"rows_kept":68,"cut":false,"hidden":true,"merged":[]}
["CLAVE","N1","N2","N3","N4","N5","N6","N7","C  O  N  C  E  P  T  O  S",null,null,null,null,null,null,"APROBADO","AMPLIACIONES","MODIFICADO","DEVENGADO","PAGADO","SUBEJERCICIO"]
[{"$f":"IF(LEN(CLEAN(B2))=0,\"0\",B2)&\",\"&IF(LEN(CLEAN(C2))=0,\"0\",C2)&\",\"&IF(LEN(CLEAN(D2))=0,\"0\",D2)&\",\"&IF(LEN(CLEAN(E2))=0,\"0\",E2)&\",\"&IF(LEN(CLEAN(F2))=0,\"0\",F2)&\",\"&IF(LEN(CLEAN(G2))=0,\"0\",G2)&\",\"&IF(LEN(CLEAN(H2))=0,\"0\",H2)","v":"6,3,1,0,0,0,0"},6,3,1,null,null,null,null,"Gasto No Etiquetado",null,null,null,null,null,null,{"$f":"'Formato 6 c)'!B9","v":5770900},{"$f":"'Formato 6 c)'!C9","v":-393973.02},{"$f":"'Formato 6 c)'!D9","v":5376926.9800000004},{"$f":"'Formato 6 c)'!E9","v":5172255.03},{"$f":"'Formato 6 c)'!F9","v":5158488.03},{"$f":"'Formato 6 c)'!G9","v":204671.95}]
[{"$f":"IF(LEN(CLEAN(B3))=0,\"0\",B3)&\",\"&IF(LEN(CLEAN(C3))=0,\"0\",C3)&\",\"&IF(LEN(CLEAN(D3))=0,\"0\",D3)&\",\"&IF(LEN(CLEAN(E3))=0,\"0\",E3)&\",\"&IF(LEN(CLEAN(F3))=0,\"0\",F3)&\",\"&IF(LEN(CLEAN(G3))=0,\"0\",G3)&\",\"&IF(LEN(CLEAN(H3))=0,\"0\",H3)","v":"6,3,1,1,0,0,0"},6,3,1,1,null,null,null,null,"Gobierno",null,null,null,null,null,{"$f":"'Formato 6 c)'!B10","v":0},{"$f":"'Formato 6 c)'!C10","v":0},{"$f":"'Formato 6 c)'!D10","v":0},{"$f":"'Formato 6 c)'!E10","v":0},{"$f":"'Formato 6 c)'!F10","v":0},{"$f":"'Formato 6 c)'!G10","v":0}]
["6,3,1,1,1,0,0",6,3,1,1,1,null,null,null,null,"Legislación",null,null,null,null,{"$f":"'Formato 6 c)'!B11","v":0},{"$f":"'Formato 6 c)'!C11","v":0},{"$f":"'Formato 6 c)'!D11","v":0},{"$f":"'Formato 6 c)'!E11","v":0},{"$f":"'Formato 6 c)'!F11","v":0},{"$f":"'Formato 6 c)'!G11","v":0}]
["6,3,1,1,2,0,0",6,3,1,1,2,null,null,null,null,"Justicia",null,null,null,null,{"$f":"'Formato 6 c)'!B12","v":0},{"$f":"'Formato 6 c)'!C12","v":0},{"$f":"'Formato 6 c)'!D12","v":0},{"$f":"'Formato 6 c)'!E12","v":0},{"$f":"'Formato 6 c)'!F12","v":0},{"$f":"'Formato 6 c)'!G12","v":0}]
["6,3,1,1,3,0,0",6,3,1,1,3,null,null,null,null,"Coordinación de la Política de Gobierno",null,null,null,null,{"$f":"'Formato 6 c)'!B13","v":0},{"$f":"'Formato 6 c)'!C13","v":0},{"$f":"'Formato 6 c)'!D13","v":0},{"$f":"'Formato 6 c)'!E13","v":0},{"$f":"'Formato 6 c)'!F13","v":0},{"$f":"'Formato 6 c)'!G13","v":0}]
["6,3,1,1,4,0,0",6,3,1,1,4,null,null,null,null,"Relaciones Exteriores",null,null,null,null,{"$f":"'Formato 6 c)'!B14","v":0},{"$f":"'Formato 6 c)'!C14","v":0},{"$f":"'Formato 6 c)'!D14","v":0},{"$f":"'Formato 6 c)'!E14","v":0},{"$f":"'Formato 6 c)'!F14","v":0},{"$f":"'Formato 6 c)'!G14","v":0}]
["6,3,1,1,5,0,0",6,3,1,1,5,null,null,null,null,"Asuntos Financieros y Hacendarios",null,null,null,null,{"$f":"'Formato 6 c)'!B15","v":0},{"$f":"'Formato 6 c)'!C15","v":0},{"$f":"'Formato 6 c)'!D15","v":0},{"$f":"'Formato 6 c)'!E15","v":0},{"$f":"'Formato 6 c)'!F15","v":0},{"$f":"'Formato 6 c)'!G15","v":0}]
["6,3,1,1,6,0,0",6,3,1,1,6,null,null,null,null,"Seguridad Nacional",null,null,null,null,{"$f":"'Formato 6 c)'!B16","v":0},{"$f":"'Formato 6 c)'!C16","v":0},{"$f":"'Formato 6 c)'!D16","v":0},{"$f":"'Formato 6 c)'!E16","v":0},{"$f":"'Formato 6 c)'!F16","v":0},{"$f":"'Formato 6 c)'!G16","v":0}]
["6,3,1,1,7,0,0",6,3,1,1,7,null,null,null,null,"Asuntos de Orden Público y de Seguridad Interior",null,null,null,null,{"$f":"'Formato 6 c)'!B17","v":0},{"$f":"'Formato 6 c)'!C17","v":0},{"$f":"'Formato 6 c)'!D17","v":0},{"$f":"'Formato 6 c)'!E17","v":0},{"$f":"'Formato 6 c)'!F17","v":0},{"$f":"'Formato 6 c)'!G17","v":0}]
["6,3,1,1,8,0,0",6,3,1,1,8,null,null,null,null,"Otros Servicios Generales",null,null,null,null,{"$f":"'Formato 6 c)'!B18","v":0},{"$f":"'Formato 6 c)'!C18","v":0},{"$f":"'Formato 6 c)'!D18","v":0},{"$f":"'Formato 6 c)'!E18","v":0},{"$f":"'Formato 6 c)'!F18","v":0},{"$f":"'Formato 6 c)'!G18","v":0}]
["6,3,1,2,0,0,0",6,3,1,2,null,null,null,null,"Desarrollo Social",null,null,null,null,null,{"$f":"'Formato 6 c)'!B19","v":5770900},{"$f":"'Formato 6 c)'!C19","v":-393973.02},{"$f":"'Formato 6 c)'!D19","v":5376926.9800000004},{"$f":"'Formato 6 c)'!E19","v":5172255.03},{"$f":"'Formato 6 c)'!F19","v":5158488.03},{"$f":"'Formato 6 c)'!G19","v":204671.95}]
["6,3,1,2,1,0,0",6,3,1,2,1,null,null,null,null,"Protección Ambiental ",null,null,null,null,{"$f":"'Formato 6 c)'!B20","v":0},{"$f":"'Formato 6 c)'!C20","v":0},{"$f":"'Formato 6 c)'!D20","v":0},{"$f":"'Formato 6 c)'!E20","v":0},{"$f":"'Formato 6 c)'!F20","v":0},{"$f":"'Formato 6 c)'!G20","v":0}]
["6,3,1,2,2,0,0",6,3,1,2,2,null,null,null,null,"Vivienda y Servicios a la Comunidad",null,null,null,null,{"$f":"'Formato 6 c)'!B21","v":0},{"$f":"'Formato 6 c)'!C21","v":0},{"$f":"'Formato 6 c)'!D21","v":0},{"$f":"'Formato 6 c)'!E21","v":0},{"$f":"'Formato 6 c)'!F21","v":0},{"$f":"'Formato 6 c)'!G21","v":0}]
["6,3,1,2,3,0,0",6,3,1,2,3,null,null,null,null,"Salud",null,null,null,null,{"$f":"'Formato 6 c)'!B22","v":0},{"$f":"'Formato 6 c)'!C22","v":0},{"$f":"'Formato 6 c)'!D22","v":0},{"$f":"'Formato 6 c)'!E22","v":0},{"$f":"'Formato 6 c)'!F22","v":0},{"$f":"'Formato 6 c)'!G22","v":0}]
["6,3,1,2,4,0,0",6,3,1,2,4,null,null,null,null,"Recreación, Cultura y Otras Manifestaciones Sociales",null,null,null,null,{"$f":"'Formato 6 c)'!B23","v":0},{"$f":"'Formato 6 c)'!C23","v":0},{"$f":"'Formato 6 c)'!D23","v":0},{"$f":"'Formato 6 c)'!E23","v":0},{"$f":"'Formato 6 c)'!F23","v":0},{"$f":"'Formato 6 c)'!G23","v":0}]
["6,3,1,2,5,0,0",6,3,1,2,5,null,null,null,null,"Educación ",null,null,null,null,{"$f":"'Formato 6 c)'!B24","v":0},{"$f":"'Formato 6 c)'!C24","v":0},{"$f":"'Formato 6 c)'!D24","v":0},{"$f":"'Formato 6 c)'!E24","v":0},{"$f":"'Formato 6 c)'!F24","v":0},{"$f":"'Formato 6 c)'!G24","v":0}]
["6,3,1,2,6,0,0",6,3,1,2,6,null,null,null,null,"Protección Social",null,null,null,null,{"$f":"'Formato 6 c)'!B25","v":5770900},{"$f":"'Formato 6 c)'!C25","v":-393973.02},{"$f":"'Formato 6 c)'!D25","v":5376926.9800000004},{"$f":"'Formato 6 c)'!E25","v":5172255.03},{"$f":"'Formato 6 c)'!F25","v":5158488.03},{"$f":"'Formato 6 c)'!G25","v":204671.95000000019}]
["6,3,1,2,7,0,0",6,3,1,2,7,null,null,null,null,"Otros Asuntos Sociales",null,null,null,null,{"$f":"'Formato 6 c)'!B26","v":0},{"$f":"'Formato 6 c)'!C26","v":0},{"$f":"'Formato 6 c)'!D26","v":0},{"$f":"'Formato 6 c)'!E26","v":0},{"$f":"'Formato 6 c)'!F26","v":0},{"$f":"'Formato 6 c)'!G26","v":0}]
["6,3,1,3,0,0,0",6,3,1,3,null,null,null,null,"Desarrollo Económico",null,null,null,null,null,{"$f":"'Formato 6 c)'!B27","v":0},{"$f":"'Formato 6 c)'!C27","v":0},{"$f":"'Formato 6 c)'!D27","v":0},{"$f":"'Formato 6 c)'!E27","v":0},{"$f":"'Formato 6 c)'!F27","v":0},{"$f":"'Formato 6 c)'!G27","v":0}]
["6,3,1,3,1,0,0",6,3,1,3,1,null,null,null,null,"Asuntos Económicos, Comerciales y Laborales en General",null,null,null,null,{"$f":"'Formato 6 c)'!B28","v":0},{"$f":"'Formato 6 c)'!C28","v":0},{"$f":"'Formato 6 c)'!D28","v":0},{"$f":"'Formato 6 c)'!E28","v":0},{"$f":"'Formato 6 c)'!F28","v":0},{"$f":"'Formato 6 c)'!G28","v":0}]
["6,3,1,3,2,0,0",6,3,1,3,2,null,null,null,null,"Agropecuaria, Silvicultura, Pesca y Caza",null,null,null,null,{"$f":"'Formato 6 c)'!B29","v":0},{"$f":"'Formato 6 c)'!C29","v":0},{"$f":"'Formato 6 c)'!D29","v":0},{"$f":"'Formato 6 c)'!E29","v":0},{"$f":"'Formato 6 c)'!F29","v":0},{"$f":"'Formato 6 c)'!G29","v":0}]
["6,3,1,3,3,0,0",6,3,1,3,3,null,null,null,null,"Combustibles y Energía ",null,null,null,null,{"$f":"'Formato 6 c)'!B30","v":0},{"$f":"'Formato 6 c)'!C30","v":0},{"$f":"'Formato 6 c)'!D30","v":0},{"$f":"'Formato 6 c)'!E30","v":0},{"$f":"'Formato 6 c)'!F30","v":0},{"$f":"'Formato 6 c)'!G30","v":0}]
["6,3,1,3,4,0,0",6,3,1,3,4,null,null,null,null,"Minería, Manufacturas y Construcción",null,null,null,null,{"$f":"'Formato 6 c)'!B31","v":0},{"$f":"'Formato 6 c)'!C31","v":0},{"$f":"'Formato 6 c)'!D31","v":0},{"$f":"'Formato 6 c)'!E31","v":0},{"$f":"'Formato 6 c)'!F31","v":0},{"$f":"'Formato 6 c)'!G31","v":0}]
["6,3,1,3,5,0,0",6,3,1,3,5,null,null,null,null,"Transporte",null,null,null,null,{"$f":"'Formato 6 c)'!B32","v":0},{"$f":"'Formato 6 c)'!C32","v":0},{"$f":"'Formato 6 c)'!D32","v":0},{"$f":"'Formato 6 c)'!E32","v":0},{"$f":"'Formato 6 c)'!F32","v":0},{"$f":"'Formato 6 c)'!G32","v":0}]
["6,3,1,3,6,0,0",6,3,1,3,6,null,null,null,null,"Comunicaciones",null,null,null,null,{"$f":"'Formato 6 c)'!B33","v":0},{"$f":"'Formato 6 c)'!C33","v":0},{"$f":"'Formato 6 c)'!D33","v":0},{"$f":"'Formato 6 c)'!E33","v":0},{"$f":"'Formato 6 c)'!F33","v":0},{"$f":"'Formato 6 c)'!G33","v":0}]
["6,3,1,3,7,0,0",6,3,1,3,7,null,null,null,null,"Turismo",null,null,null,null,{"$f":"'Formato 6 c)'!B34","v":0},{"$f":"'Formato 6 c)'!C34","v":0},{"$f":"'Formato 6 c)'!D34","v":0},{"$f":"'Formato 6 c)'!E34","v":0},{"$f":"'Formato 6 c)'!F34","v":0},{"$f":"'Formato 6 c)'!G34","v":0}]
["6,3,1,3,8,0,0",6,3,1,3,8,null,null,null,null,"Ciencia, Tecnología e Innovación",null,null,null,null,{"$f":"'Formato 6 c)'!B35","v":0},{"$f":"'Formato 6 c)'!C35","v":0},{"$f":"'Formato 6 c)'!D35","v":0},{"$f":"'Formato 6 c)'!E35","v":0},{"$f":"'Formato 6 c)'!F35","v":0},{"$f":"'Formato 6 c)'!G35","v":0}]
["6,3,1,3,9,0,0",6,3,1,3,9,null,null,null,null,"Otras Industrias y Otros Asuntos Económicos",null,null,null,null,{"$f":"'Formato 6 c)'!B36","v":0},{"$f":"'Formato 6 c)'!C36","v":0},{"$f":"'Formato 6 c)'!D36","v":0},{"$f":"'Formato 6 c)'!E36","v":0},{"$f":"'Formato 6 c)'!F36","v":0},{"$f":"'Formato 6 c)'!G36","v":0}]
["6,3,1,4,0,0,0",6,3,1,4,null,null,null,null,"Otras Nno Clasificadas en Funciones Anteriores",null,null,null,null,null,{"$f":"'Formato 6 c)'!B37","v":0},{"$f":"'Formato 6 c)'!C37","v":0},{"$f":"'Formato 6 c)'!D37","v":0},{"$f":"'Formato 6 c)'!E37","v":0},{"$f":"'Formato 6 c)'!F37","v":0},{"$f":"'Formato 6 c)'!G37","v":0}]
["6,3,1,4,1,0,0",6,3,1,4,1,null,null,null,null,"Transacciones de la Deuda Pública / Costo Financiero de la Deuda",null,null,null,null,{"$f":"'Formato 6 c)'!B38","v":0},{"$f":"'Formato 6 c)'!C38","v":0},{"$f":"'Formato 6 c)'!D38","v":0},{"$f":"'Formato 6 c)'!E38","v":0},{"$f":"'Formato 6 c)'!F38","v":0},{"$f":"'Formato 6 c)'!G38","v":0}]
["6,3,1,4,2,0,0",6,3,1,4,2,null,null,null,null,"Transferencias, Participaciones y Aportaciones Entre Diferentes Niveles y Órdenes de Gobierno",null,null,null,null,{"$f":"'Formato 6 c)'!B39","v":0},{"$f":"'Formato 6 c)'!C39","v":0},{"$f":"'Formato 6 c)'!D39","v":0},{"$f":"'Formato 6 c)'!E39","v":0},{"$f":"'Formato 6 c)'!F39","v":0},{"$f":"'Formato 6 c)'!G39","v":0}]
["6,3,1,4,3,0,0",6,3,1,4,3,null,null,null,null,"Saneamiento del Sistema Financiero",null,null,null,null,{"$f":"'Formato 6 c)'!B40","v":0},{"$f":"'Formato 6 c)'!C40","v":0},{"$f":"'Formato 6 c)'!D40","v":0},{"$f":"'Formato 6 c)'!E40","v":0},{"$f":"'Formato 6 c)'!F40","v":0},{"$f":"'Formato 6 c)'!G40","v":0}]
["6,3,1,4,4,0,0",6,3,1,4,4,null,null,null,null,"Adeudos de Ejercicios Fiscales Anteriores",null,null,null,null,{"$f":"'Formato 6 c)'!B41","v":0},{"$f":"'Formato 6 c)'!C41","v":0},{"$f":"'Formato 6 c)'!D41","v":0},{"$f":"'Formato 6 c)'!E41","v":0},{"$f":"'Formato 6 c)'!F41","v":0},{"$f":"'Formato 6 c)'!G41","v":0}]
["6,3,2,0,0,0,0",6,3,2,null,null,null,null,"Gasto Etiquetado",null,null,null,null,null,null,{"$f":"'Formato 6 c)'!B43","v":0},{"$f":"'Formato 6 c)'!C43","v":0},{"$f":"'Formato 6 c)'!D43","v":0},{"$f":"'Formato 6 c)'!E43","v":0},{"$f":"'Formato 6 c)'!F43","v":0},{"$f":"'Formato 6 c)'!G43","v":0}]
["6,3,2,1,0,0,0",6,3,2,1,null,null,null,null,"Gobierno",null,null,null,null,null,{"$f":"'Formato 6 c)'!B44","v":0},{"$f":"'Formato 6 c)'!C44","v":0},{"$f":"'Formato 6 c)'!D44","v":0},{"$f":"'Formato 6 c)'!E44","v":0},{"$f":"'Formato 6 c)'!F44","v":0},{"$f":"'Formato 6 c)'!G44","v":0}]
["6,3,2,1,1,0,0",6,3,2,1,1,null,null,null,null,"Legislación",null,null,null,null,{"$f":"'Formato 6 c)'!B45","v":0},{"$f":"'Formato 6 c)'!C45","v":0},{"$f":"'Formato 6 c)'!D45","v":0},{"$f":"'Formato 6 c)'!E45","v":0},{"$f":"'Formato 6 c)'!F45","v":0},{"$f":"'Formato 6 c)'!G45","v":0}]
["6,3,2,1,2,0,0",6,3,2,1,2,null,null,null,null,"Justicia",null,null,null,null,{"$f":"'Formato 6 c)'!B46","v":0},{"$f":"'Formato 6 c)'!C46","v":0},{"$f":"'Formato 6 c)'!D46","v":0},{"$f":"'Formato 6 c)'!E46","v":0},{"$f":"'Formato 6 c)'!F46","v":0},{"$f":"'Formato 6 c)'!G46","v":0}]
["6,3,2,1,3,0,0",6,3,2,1,3,null,null,null,null,"Coordinación de la Política de Gobierno",null,null,null,null,{"$f":"'Formato 6 c)'!B47","v":0},{"$f":"'Formato 6 c)'!C47","v":0},{"$f":"'Formato 6 c)'!D47","v":0},{"$f":"'Formato 6 c)'!E47","v":0},{"$f":"'Formato 6 c)'!F47","v":0},{"$f":"'Formato 6 c)'!G47","v":0}]
["6,3,2,1,4,0,0",6,3,2,1,4,null,null,null,null,"Relaciones Exteriores",null,null,null,null,{"$f":"'Formato 6 c)'!B48","v":0},{"$f":"'Formato 6 c)'!C48","v":0},{"$f":"'Formato 6 c)'!D48","v":0},{"$f":"'Formato 6 c)'!E48","v":0},{"$f":"'Formato 6 c)'!F48","v":0},{"$f":"'Formato 6 c)'!G48","v":0}]
["6,3,2,1,5,0,0",6,3,2,1,5,null,null,null,null,"Asuntos Financieros y Hacendarios",null,null,null,null,{"$f":"'Formato 6 c)'!B49","v":0},{"$f":"'Formato 6 c)'!C49","v":0},{"$f":"'Formato 6 c)'!D49","v":0},{"$f":"'Formato 6 c)'!E49","v":0},{"$f":"'Formato 6 c)'!F49","v":0},{"$f":"'Formato 6 c)'!G49","v":0}]
["6,3,2,1,6,0,0",6,3,2,1,6,null,null,null,null,"Seguridad Nacional",null,null,null,null,{"$f":"'Formato 6 c)'!B50","v":0},{"$f":"'Formato 6 c)'!C50","v":0},{"$f":"'Formato 6 c)'!D50","v":0},{"$f":"'Formato 6 c)'!E50","v":0},{"$f":"'Formato 6 c)'!F50","v":0},{"$f":"'Formato 6 c)'!G50","v":0}]
["6,3,2,1,7,0,0",6,3,2,1,7,null,null,null,null,"Asuntos de Orden Público y de Seguridad Interior",null,null,null,null,{"$f":"'Formato 6 c)'!B51","v":0},{"$f":"'Formato 6 c)'!C51","v":0},{"$f":"'Formato 6 c)'!D51","v":0},{"$f":"'Formato 6 c)'!E51","v":0},{"$f":"'Formato 6 c)'!F51","v":0},{"$f":"'Formato 6 c)'!G51","v":0}]
["6,3,2,1,8,0,0",6,3,2,1,8,null,null,null,null,"Otros Servicios Generales",null,null,null,null,{"$f":"'Formato 6 c)'!B52","v":0},{"$f":"'Formato 6 c)'!C52","v":0},{"$f":"'Formato 6 c)'!D52","v":0},{"$f":"'Formato 6 c)'!E52","v":0},{"$f":"'Formato 6 c)'!F52","v":0},{"$f":"'Formato 6 c)'!G52","v":0}]
["6,3,2,2,0,0,0",6,3,2,2,null,null,null,null,"Desarrollo Social",null,null,null,null,null,{"$f":"'Formato 6 c)'!B53","v":0},{"$f":"'Formato 6 c)'!C53","v":0},{"$f":"'Formato 6 c)'!D53","v":0},{"$f":"'Formato 6 c)'!E53","v":0},{"$f":"'Formato 6 c)'!F53","v":0},{"$f":"'Formato 6 c)'!G53","v":0}]
["6,3,2,2,1,0,0",6,3,2,2,1,null,null,null,null,"Protección Ambiental ",null,null,null,null,{"$f":"'Formato 6 c)'!B54","v":0},{"$f":"'Formato 6 c)'!C54","v":0},{"$f":"'Formato 6 c)'!D54","v":0},{"$f":"'Formato 6 c)'!E54","v":0},{"$f":"'Formato 6 c)'!F54","v":0},{"$f":"'Formato 6 c)'!G54","v":0}]
["6,3,2,2,2,0,0",6,3,2,2,2,null,null,null,null,"Vivienda y Servicios a la Comunidad",null,null,null,null,{"$f":"'Formato 6 c)'!B55","v":0},{"$f":"'Formato 6 c)'!C55","v":0},{"$f":"'Formato 6 c)'!D55","v":0},{"$f":"'Formato 6 c)'!E55","v":0},{"$f":"'Formato 6 c)'!F55","v":0},{"$f":"'Formato 6 c)'!G55","v":0}]
["6,3,2,2,3,0,0",6,3,2,2,3,null,null,null,null,"Salud",null,null,null,null,{"$f":"'Formato 6 c)'!B56","v":0},{"$f":"'Formato 6 c)'!C56","v":0},{"$f":"'Formato 6 c)'!D56","v":0},{"$f":"'Formato 6 c)'!E56","v":0},{"$f":"'Formato 6 c)'!F56","v":0},{"$f":"'Formato 6 c)'!G56","v":0}]
["6,3,2,2,4,0,0",6,3,2,2,4,null,null,null,null,"Recreación, Cultura y Otras Manifestaciones Sociales",null,null,null,null,{"$f":"'Formato 6 c)'!B57","v":0},{"$f":"'Formato 6 c)'!C57","v":0},{"$f":"'Formato 6 c)'!D57","v":0},{"$f":"'Formato 6 c)'!E57","v":0},{"$f":"'Formato 6 c)'!F57","v":0},{"$f":"'Formato 6 c)'!G57","v":0}]
["6,3,2,2,5,0,0",6,3,2,2,5,null,null,null,null,"Educación ",null,null,null,null,{"$f":"'Formato 6 c)'!B58","v":0},{"$f":"'Formato 6 c)'!C58","v":0},{"$f":"'Formato 6 c)'!D58","v":0},{"$f":"'Formato 6 c)'!E58","v":0},{"$f":"'Formato 6 c)'!F58","v":0},{"$f":"'Formato 6 c)'!G58","v":0}]
["6,3,2,2,6,0,0",6,3,2,2,6,null,null,null,null,"Protección Social",null,null,null,null,{"$f":"'Formato 6 c)'!B59","v":0},{"$f":"'Formato 6 c)'!C59","v":0},{"$f":"'Formato 6 c)'!D59","v":0},{"$f":"'Formato 6 c)'!E59","v":0},{"$f":"'Formato 6 c)'!F59","v":0},{"$f":"'Formato 6 c)'!G59","v":0}]
["6,3,2,2,7,0,0",6,3,2,2,7,null,null,null,null,"Otros Asuntos Sociales",null,null,null,null,{"$f":"'Formato 6 c)'!B60","v":0},{"$f":"'Formato 6 c)'!C60","v":0},{"$f":"'Formato 6 c)'!D60","v":0},{"$f":"'Formato 6 c)'!E60","v":0},{"$f":"'Formato 6 c)'!F60","v":0},{"$f":"'Formato 6 c)'!G60","v":0}]
["6,3,2,3,0,0,0",6,3,2,3,null,null,null,null,"Desarrollo Económico",null,null,null,null,null,{"$f":"'Formato 6 c)'!B61","v":0},{"$f":"'Formato 6 c)'!C61","v":0},{"$f":"'Formato 6 c)'!D61","v":0},{"$f":"'Formato 6 c)'!E61","v":0},{"$f":"'Formato 6 c)'!F61","v":0},{"$f":"'Formato 6 c)'!G61","v":0}]
["6,3,2,3,1,0,0",6,3,2,3,1,null,null,null,null,"Asuntos Económicos, Comerciales y Laborales en General",null,null,null,null,{"$f":"'Formato 6 c)'!B62","v":0},{"$f":"'Formato 6 c)'!C62","v":0},{"$f":"'Formato 6 c)'!D62","v":0},{"$f":"'Formato 6 c)'!E62","v":0},{"$f":"'Formato 6 c)'!F62","v":0},{"$f":"'Formato 6 c)'!G62","v":0}]
["6,3,2,3,2,0,0",6,3,2,3,2,null,null,null,null,"Agropecuaria, Silvicultura, Pesca y Caza",null,null,null,null,{"$f":"'Formato 6 c)'!B63","v":0},{"$f":"'Formato 6 c)'!C63","v":0},{"$f":"'Formato 6 c)'!D63","v":0},{"$f":"'Formato 6 c)'!E63","v":0},{"$f":"'Formato 6 c)'!F63","v":0},{"$f":"'Formato 6 c)'!G63","v":0}]
["6,3,2,3,3,0,0",6,3,2,3,3,null,null,null,null,"Combustibles y Energía ",null,null,null,null,{"$f":"'Formato 6 c)'!B64","v":0},{"$f":"'Formato 6 c)'!C64","v":0},{"$f":"'Formato 6 c)'!D64","v":0},{"$f":"'Formato 6 c)'!E64","v":0},{"$f":"'Formato 6 c)'!F64","v":0},{"$f":"'Formato 6 c)'!G64","v":0}]
["6,3,2,3,4,0,0",6,3,2,3,4,null,null,null,null,"Minería, Manufacturas y Construcción",null,null,null,null,{"$f":"'Formato 6 c)'!B65","v":0},{"$f":"'Formato 6 c)'!C65","v":0},{"$f":"'Formato 6 c)'!D65","v":0},{"$f":"'Formato 6 c)'!E65","v":0},{"$f":"'Formato 6 c)'!F65","v":0},{"$f":"'Formato 6 c)'!G65","v":0}]
["6,3,2,3,5,0,0",6,3,2,3,5,null,null,null,null,"Transporte",null,null,null,null,{"$f":"'Formato 6 c)'!B66","v":0},{"$f":"'Formato 6 c)'!C66","v":0},{"$f":"'Formato 6 c)'!D66","v":0},{"$f":"'Formato 6 c)'!E66","v":0},{"$f":"'Formato 6 c)'!F66","v":0},{"$f":"'Formato 6 c)'!G66","v":0}]
["6,3,2,3,6,0,0",6,3,2,3,6,null,null,null,null,"Comunicaciones",null,null,null,null,{"$f":"'Formato 6 c)'!B67","v":0},{"$f":"'Formato 6 c)'!C67","v":0},{"$f":"'Formato 6 c)'!D67","v":0},{"$f":"'Formato 6 c)'!E67","v":0},{"$f":"'Formato 6 c)'!F67","v":0},{"$f":"'Formato 6 c)'!G67","v":0}]
["6,3,2,3,7,0,0",6,3,2,3,7,null,null,null,null,"Turismo",null,null,null,null,{"$f":"'Formato 6 c)'!B68","v":0},{"$f":"'Formato 6 c)'!C68","v":0},{"$f":"'Formato 6 c)'!D68","v":0},{"$f":"'Formato 6 c)'!E68","v":0},{"$f":"'Formato 6 c)'!F68","v":0},{"$f":"'Formato 6 c)'!G68","v":0}]
["6,3,2,3,8,0,0",6,3,2,3,8,null,null,null,null,"Ciencia, Tecnología e Innovación",null,null,null,null,{"$f":"'Formato 6 c)'!B69","v":0},{"$f":"'Formato 6 c)'!C69","v":0},{"$f":"'Formato 6 c)'!D69","v":0},{"$f":"'Formato 6 c)'!E69","v":0},{"$f":"'Formato 6 c)'!F69","v":0},{"$f":"'Formato 6 c)'!G69","v":0}]
["6,3,2,3,9,0,0",6,3,2,3,9,null,null,null,null,"Otras Industrias y Otros Asuntos Económicos",null,null,null,null,{"$f":"'Formato 6 c)'!B70","v":0},{"$f":"'Formato 6 c)'!C70","v":0},{"$f":"'Formato 6 c)'!D70","v":0},{"$f":"'Formato 6 c)'!E70","v":0},{"$f":"'Formato 6 c)'!F70","v":0},{"$f":"'Formato 6 c)'!G70","v":0}]
["6,3,2,4,0,0,0",6,3,2,4,null,null,null,null,"Otras No Clasificadas en Funciones Anteriores",null,null,null,null,null,{"$f":"'Formato 6 c)'!B71","v":0},{"$f":"'Formato 6 c)'!C71","v":0},{"$f":"'Formato 6 c)'!D71","v":0},{"$f":"'Formato 6 c)'!E71","v":0},{"$f":"'Formato 6 c)'!F71","v":0},{"$f":"'Formato 6 c)'!G71","v":0}]
["6,3,2,4,1,0,0",6,3,2,4,1,null,null,null,null,"Transacciones de la Deuda Pública / Costo Financiero de la Deuda",null,null,null,null,{"$f":"'Formato 6 c)'!B72","v":0},{"$f":"'Formato 6 c)'!C72","v":0},{"$f":"'Formato 6 c)'!D72","v":0},{"$f":"'Formato 6 c)'!E72","v":0},{"$f":"'Formato 6 c)'!F72","v":0},{"$f":"'Formato 6 c)'!G72","v":0}]
["6,3,2,4,2,0,0",6,3,2,4,2,null,null,null,null,"Transferencias, Participaciones y Aportaciones Entre Diferentes Niveles y Órdenes de Gobierno",null,null,null,null,{"$f":"'Formato 6 c)'!B73","v":0},{"$f":"'Formato 6 c)'!C73","v":0},{"$f":"'Formato 6 c)'!D73","v":0},{"$f":"'Formato 6 c)'!E73","v":0},{"$f":"'Formato 6 c)'!F73","v":0},{"$f":"'Formato 6 c)'!G73","v":0}]
["6,3,2,4,3,0,0",6,3,2,4,3,null,null,null,null,"Saneamiento del Sistema Financiero",null,null,null,null,{"$f":"'Formato 6 c)'!B74","v":0},{"$f":"'Formato 6 c)'!C74","v":0},{"$f":"'Formato 6 c)'!D74","v":0},{"$f":"'Formato 6 c)'!E74","v":0},{"$f":"'Formato 6 c)'!F74","v":0},{"$f":"'Formato 6 c)'!G74","v":0}]
[{"$f":"IF(LEN(CLEAN(B67))=0,\"0\",B67)&\",\"&IF(LEN(CLEAN(C67))=0,\"0\",C67)&\",\"&IF(LEN(CLEAN(D67))=0,\"0\",D67)&\",\"&IF(LEN(CLEAN(E67))=0,\"0\",E67)&\",\"&IF(LEN(CLEAN(F67))=0,\"0\",F67)&\",\"&IF(LEN(CLEAN(G67))=0,\"0\",G67)&\",\"&IF(LEN(CLEAN(H67))=0,\"0\",H67)","v":"6,3,2,4,4,0,0"},6,3,2,4,4,null,null,null,null,"Adeudos de Ejercicios Fiscales Anteriores",null,null,null,null,{"$f":"'Formato 6 c)'!B75","v":0},{"$f":"'Formato 6 c)'!C75","v":0},{"$f":"'Formato 6 c)'!D75","v":0},{"$f":"'Formato 6 c)'!E75","v":0},{"$f":"'Formato 6 c)'!F75","v":0},{"$f":"'Formato 6 c)'!G75","v":0}]
["6,3,3,0,0,0,0",6,3,3,null,null,null,null,"Total de Egresos",null,null,null,null,null,null,{"$f":"'Formato 6 c)'!B77","v":5770900},{"$f":"'Formato 6 c)'!C77","v":-393973.02},{"$f":"'Formato 6 c)'!D77","v":5376926.9800000004},{"$f":"'Formato 6 c)'!E77","v":5172255.03},{"$f":"'Formato 6 c)'!F77","v":5158488.03},{"$f":"'Formato 6 c)'!G77","v":204671.95}]

{"sheet":"Formato 6 d)","index":19,"n_rows":33,"n_cols":7,"rows_kept":33,"cut":false,"hidden":false,"merged":[[6,0,7,0],[6,1,6,5],[6,6,7,6],[0,0,0,6],[1,0,1,6],[2,0,2,6],[3,0,3,6],[4,0,4,6],[5,0,5,6]]}
["Formato 6 d) Estado Analítico del Ejercicio del Presupuesto de Egresos Detallado  - LDF\n                        (Clasificación de Servicios Personales por Categoría)"]
[{"$f":"ENTE_PUBLICO_A","v":"INSTITUTO SALMANTINO PARA LAS PERSONAS CON DISCAPACIDAD, Gobierno del Estado de Guanajuato (a)"}]
["Estado Analítico del Ejercicio del Presupuesto de Egresos Detallado - LDF"]
["Clasificación de Servicios Personales por Categoría"]
[{"$f":"TRIMESTRE","v":"Del 1 de enero al 31 de diciembre de 2020 (b)"}]
["(PESOS)"]
["Concepto ( c )","Egresos",null,null,null,null,"Subejercicio (e)"]
[null,"Aprobado (d)","Ampliaciones / (Reducciones)","Modificado","Devengado","Pagado"]
["I. Gasto No Etiquetado (I=A+B+C+D+E+F)",{"$f":"SUM(B10,B11,B12,B15,B16,B19)","v":4760870},{"$f":"SUM(C10,C11,C12,C15,C16,C19)","v":-34732},4726138,4526091.8499999996,4526091.8499999996,{"$f":"SUM(G10,G11,G12,G15,G16,G19)","v":200046.15000000037}]
["A. Personal Administrativo",4760870,-34732,4726138,4526091.8499999996,4526091.8499999996,{"$f":"D10-E10","v":200046.15000000037}]
["B. Magisterio",null,null,null,null,null,{"$f":"D11-E11","v":0}]
["C. Servicios de Salud (C=c1+c2)",{"$f":"B13+B14","v":0},{"$f":"C13+C14","v":0},0,0,0,{"$f":"G13+G14","v":0}]
["c1) Personal Administrativo",0,null,null,null,null,{"$f":"D13-E13","v":0}]
["c2) Personal Médico, paramédico y afín",null,null,null,null,null,{"$f":"D14-E14","v":0}]
["D. Seguridad Pública",null,null,null,null,null,0]
["E. Gastos asociados a la implementación de nuevas leyes federales o reformas a las mismas (E=e1+e2)",{"$f":"B17+B18","v":0},{"$f":"C17+C18","v":0},0,0,0,0]
["e1) Nombre del Programa o Ley 1",null,null,null,null,null,{"$f":"D17-E17","v":0}]
["e2) Nombre del Programa o Ley 2",null,null,null,null,null,{"$f":"D18-E18","v":0}]
["F. Sentencias laborales definitivas",null,null,null,null,null,{"$f":"D19-E19","v":0}]
[]
["II. Gasto  Etiquetado (I=A+B+C+D+E+F)",{"$f":"SUM(B22,B23,B24,B27,B28,B31)","v":0},{"$f":"SUM(C22,C23,C24,C27,C28,C31)","v":0},0,0,0,{"$f":"SUM(G22,G23,G24,G27,G28,G31)","v":0}]
["A. Personal Administrativo",null,null,null,null,null,{"$f":"D22-E22","v":0}]
["B. Magisterio",null,null,null,null,null,{"$f":"D23-E23","v":0}]
["C. Servicios de Salud (C=c1+c2)",{"$f":"B25+B26","v":0},{"$f":"C25+C26","v":0},0,0,0,0]
["c1) Personal Administrativo",null,null,null,null,null,{"$f":"D25-E25","v":0}]
["c2) Personal Médico, paramédico y afín",null,null,null,null,null,{"$f":"D26-E26","v":0}]
["D. Seguridad Pública",null,null,null,null,null,0]
["E. Gastos asociados a la implementación de nuevas leyes federales o reformas a las mismas (E=e1+e2)",{"$f":"B29+B30","v":0},{"$f":"C29+C30","v":0},0,0,0,0]
["e1) Nombre del Programa o Ley 1",null,null,null,null,null,{"$f":"D29-E29","v":0}]
["e2) Nombre del Programa o Ley 2",null,null,null,null,null,{"$f":"D30-E30","v":0}]
["F. Sentencias laborales definitivas",null,null,null,null,null,0]
[]
["III. Total de Gasto en Servicios Personales (III = I + II)",{"$f":"B21+B9","v":4760870},{"$f":"C21+C9","v":-34732},4726138,4526091.8499999996,4526091.8499999996,200046.15000000037]

{"sheet":"F06d","index":20,"n_rows":24,"n_cols":21,"rows_kept":24,"cut":false,"hidden":true,"merged":[]}
["CLAVE","N1","N2","N3","N4","N5","N6","N7","C  O  N  C  E  P  T  O  S",null,null,null,null,null,null,"APROBADO","AMPLIACIONES","MODIFICADO","DEVENGADO","PAGADO","SUBEJERCICIO"]
[{"$f":"IF(LEN(CLEAN(B2))=0,\"0\",B2)&\",\"&IF(LEN(CLEAN(C2))=0,\"0\",C2)&\",\"&IF(LEN(CLEAN(D2))=0,\"0\",D2)&\",\"&IF(LEN(CLEAN(E2))=0,\"0\",E2)&\",\"&IF(LEN(CLEAN(F2))=0,\"0\",F2)&\",\"&IF(LEN(CLEAN(G2))=0,\"0\",G2)&\",\"&IF(LEN(CLEAN(H2))=0,\"0\",H2)","v":"6,4,1,0,0,0,0"},6,4,1,null,null,null,null,"Gasto No Etiquetado",null,null,null,null,null,null,{"$f":"'Formato 6 d)'!B9","v":4760870},{"$f":"'Formato 6 d)'!C9","v":-34732},{"$f":"'Formato 6 d)'!D9","v":4726138},{"$f":"'Formato 6 d)'!E9","v":4526091.8499999996},{"$f":"'Formato 6 d)'!F9","v":4526091.8499999996},{"$f":"'Formato 6 d)'!G9","v":200046.15000000037}]
[{"$f":"IF(LEN(CLEAN(B3))=0,\"0\",B3)&\",\"&IF(LEN(CLEAN(C3))=0,\"0\",C3)&\",\"&IF(LEN(CLEAN(D3))=0,\"0\",D3)&\",\"&IF(LEN(CLEAN(E3))=0,\"0\",E3)&\",\"&IF(LEN(CLEAN(F3))=0,\"0\",F3)&\",\"&IF(LEN(CLEAN(G3))=0,\"0\",G3)&\",\"&IF(LEN(CLEAN(H3))=0,\"0\",H3)","v":"6,4,1,1,0,0,0"},6,4,1,1,null,null,null,null,"Personal Administrativo",null,null,null,null,null,{"$f":"'Formato 6 d)'!B10","v":4760870},{"$f":"'Formato 6 d)'!C10","v":-34732},{"$f":"'Formato 6 d)'!D10","v":4726138},{"$f":"'Formato 6 d)'!E10","v":4526091.8499999996},{"$f":"'Formato 6 d)'!F10","v":4526091.8499999996},{"$f":"'Formato 6 d)'!G10","v":200046.15000000037}]
["6,4,1,2,0,0,0",6,4,1,2,null,null,null,null,"Magisterio",null,null,null,null,null,{"$f":"'Formato 6 d)'!B11","v":0},{"$f":"'Formato 6 d)'!C11","v":0},{"$f":"'Formato 6 d)'!D11","v":0},{"$f":"'Formato 6 d)'!E11","v":0},{"$f":"'Formato 6 d)'!F11","v":0},{"$f":"'Formato 6 d)'!G11","v":0}]
["6,4,1,3,0,0,0",6,4,1,3,null,null,null,null,"Servicios de Salud",null,null,null,null,null,{"$f":"'Formato 6 d)'!B12","v":0},{"$f":"'Formato 6 d)'!C12","v":0},{"$f":"'Formato 6 d)'!D12","v":0},{"$f":"'Formato 6 d)'!E12","v":0},{"$f":"'Formato 6 d)'!F12","v":0},{"$f":"'Formato 6 d)'!G12","v":0}]
["6,4,1,3,1,0,0",6,4,1,3,1,null,null,null,null,"Personal Administrativo",null,null,null,null,{"$f":"'Formato 6 d)'!B13","v":0},{"$f":"'Formato 6 d)'!C13","v":0},{"$f":"'Formato 6 d)'!D13","v":0},{"$f":"'Formato 6 d)'!E13","v":0},{"$f":"'Formato 6 d)'!F13","v":0},{"$f":"'Formato 6 d)'!G13","v":0}]
[{"$f":"IF(LEN(CLEAN(B7))=0,\"0\",B7)&\",\"&IF(LEN(CLEAN(C7))=0,\"0\",C7)&\",\"&IF(LEN(CLEAN(D7))=0,\"0\",D7)&\",\"&IF(LEN(CLEAN(E7))=0,\"0\",E7)&\",\"&IF(LEN(CLEAN(F7))=0,\"0\",F7)&\",\"&IF(LEN(CLEAN(G7))=0,\"0\",G7)&\",\"&IF(LEN(CLEAN(H7))=0,\"0\",H7)","v":"6,4,1,3,2,0,0"},6,4,1,3,2,null,null,null,null,"Personal Médico, paramédico y afín",null,null,null,null,{"$f":"'Formato 6 d)'!B14","v":0},{"$f":"'Formato 6 d)'!C14","v":0},{"$f":"'Formato 6 d)'!D14","v":0},{"$f":"'Formato 6 d)'!E14","v":0},{"$f":"'Formato 6 d)'!F14","v":0},{"$f":"'Formato 6 d)'!G14","v":0}]
["6,4,1,4,0,0,0",6,4,1,4,null,null,null,null,"Seguridad Pública",null,null,null,null,null,{"$f":"'Formato 6 d)'!B15","v":0},{"$f":"'Formato 6 d)'!C15","v":0},{"$f":"'Formato 6 d)'!D15","v":0},{"$f":"'Formato 6 d)'!E15","v":0},{"$f":"'Formato 6 d)'!F15","v":0},{"$f":"'Formato 6 d)'!G15","v":0}]
["6,4,1,5,0,0,0",6,4,1,5,null,null,null,null,"Gastos asociados a la implementación de nuevas leyes federales o reformas a las mismas",null,null,null,null,null,{"$f":"'Formato 6 d)'!B16","v":0},{"$f":"'Formato 6 d)'!C16","v":0},{"$f":"'Formato 6 d)'!D16","v":0},{"$f":"'Formato 6 d)'!E16","v":0},{"$f":"'Formato 6 d)'!F16","v":0},{"$f":"'Formato 6 d)'!G16","v":0}]
["6,4,1,5,1,0,0",6,4,1,5,1,null,null,null,null,"Nombre del Programa o Ley 1",null,null,null,null,{"$f":"'Formato 6 d)'!B17","v":0},{"$f":"'Formato 6 d)'!C17","v":0},{"$f":"'Formato 6 d)'!D17","v":0},{"$f":"'Formato 6 d)'!E17","v":0},{"$f":"'Formato 6 d)'!F17","v":0},{"$f":"'Formato 6 d)'!G17","v":0}]
["6,4,1,5,2,0,0",6,4,1,5,2,null,null,null,null,"Nombre del Programa o Ley 2",null,null,null,null,{"$f":"'Formato 6 d)'!B18","v":0},{"$f":"'Formato 6 d)'!C18","v":0},{"$f":"'Formato 6 d)'!D18","v":0},{"$f":"'Formato 6 d)'!E18","v":0},{"$f":"'Formato 6 d)'!F18","v":0},{"$f":"'Formato 6 d)'!G18","v":0}]
["6,4,1,6,0,0,0",6,4,1,6,null,null,null,null,"Sentencias laborales definitivas",null,null,null,null,null,{"$f":"'Formato 6 d)'!B19","v":0},{"$f":"'Formato 6 d)'!C19","v":0},{"$f":"'Formato 6 d)'!D19","v":0},{"$f":"'Formato 6 d)'!E19","v":0},{"$f":"'Formato 6 d)'!F19","v":0},{"$f":"'Formato 6 d)'!G19","v":0}]
["6,4,2,0,0,0,0",6,4,2,null,null,null,null,"Gasto  Etiquetado",null,null,null,null,null,null,{"$f":"'Formato 6 d)'!B21","v":0},{"$f":"'Formato 6 d)'!C21","v":0},{"$f":"'Formato 6 d)'!D21","v":0},{"$f":"'Formato 6 d)'!E21","v":0},{"$f":"'Formato 6 d)'!F21","v":0},{"$f":"'Formato 6 d)'!G21","v":0}]
["6,4,2,1,0,0,0",6,4,2,1,null,null,null,null,"Personal Administrativo",null,null,null,null,null,{"$f":"'Formato 6 d)'!B22","v":0},{"$f":"'Formato 6 d)'!C22","v":0},{"$f":"'Formato 6 d)'!D22","v":0},{"$f":"'Formato 6 d)'!E22","v":0},{"$f":"'Formato 6 d)'!F22","v":0},{"$f":"'Formato 6 d)'!G22","v":0}]
["6,4,2,2,0,0,0",6,4,2,2,null,null,null,null,"Magisterio",null,null,null,null,null,{"$f":"'Formato 6 d)'!B23","v":0},{"$f":"'Formato 6 d)'!C23","v":0},{"$f":"'Formato 6 d)'!D23","v":0},{"$f":"'Formato 6 d)'!E23","v":0},{"$f":"'Formato 6 d)'!F23","v":0},{"$f":"'Formato 6 d)'!G23","v":0}]
["6,4,2,3,0,0,0",6,4,2,3,null,null,null,null,"Servicios de Salud",null,null,null,null,null,{"$f":"'Formato 6 d)'!B24","v":0},{"$f":"'Formato 6 d)'!C24","v":0},{"$f":"'Formato 6 d)'!D24","v":0},{"$f":"'Formato 6 d)'!E24","v":0},{"$f":"'Formato 6 d)'!F24","v":0},{"$f":"'Formato 6 d)'!G24","v":0}]
["6,4,2,3,1,0,0",6,4,2,3,1,null,null,null,null,"Personal Administrativo",null,null,null,null,{"$f":"'Formato 6 d)'!B25","v":0},{"$f":"'Formato 6 d)'!C25","v":0},{"$f":"'Formato 6 d)'!D25","v":0},{"$f":"'Formato 6 d)'!E25","v":0},{"$f":"'Formato 6 d)'!F25","v":0},{"$f":"'Formato 6 d)'!G25","v":0}]
["6,4,2,3,2,0,0",6,4,2,3,2,null,null,null,null,"Personal Médico, paramédico y afín",null,null,null,null,{"$f":"'Formato 6 d)'!B26","v":0},{"$f":"'Formato 6 d)'!C26","v":0},{"$f":"'Formato 6 d)'!D26","v":0},{"$f":"'Formato 6 d)'!E26","v":0},{"$f":"'Formato 6 d)'!F26","v":0},{"$f":"'Formato 6 d)'!G26","v":0}]
["6,4,2,4,0,0,0",6,4,2,4,null,null,null,null,"Seguridad Pública",null,null,null,null,null,{"$f":"'Formato 6 d)'!B27","v":0},{"$f":"'Formato 6 d)'!C27","v":0},{"$f":"'Formato 6 d)'!D27","v":0},{"$f":"'Formato 6 d)'!E27","v":0},{"$f":"'Formato 6 d)'!F27","v":0},{"$f":"'Formato 6 d)'!G27","v":0}]
["6,4,2,5,0,0,0",6,4,2,5,null,null,null,null,"Gastos asociados a la implementación de nuevas leyes federales o reformas a las mismas",null,null,null,null,null,{"$f":"'Formato 6 d)'!B28","v":0},{"$f":"'Formato 6 d)'!C28","v":0},{"$f":"'Formato 6 d)'!D28","v":0},{"$f":"'Formato 6 d)'!E28","v":0},{"$f":"'Formato 6 d)'!F28","v":0},{"$f":"'Formato 6 d)'!G28","v":0}]
["6,4,2,5,1,0,0",6,4,2,5,1,null,null,null,null,"Nombre del Programa o Ley 1",null,null,null,null,{"$f":"'Formato 6 d)'!B29","v":0},{"$f":"'Formato 6 d)'!C29","v":0},{"$f":"'Formato 6 d)'!D29","v":0},{"$f":"'Formato 6 d)'!E29","v":0},{"$f":"'Formato 6 d)'!F29","v":0},{"$f":"'Formato 6 d)'!G29","v":0}]
["6,4,2,5,2,0,0",6,4,2,5,2,null,null,null,null,"Nombre del Programa o Ley 2",null,null,null,null,{"$f":"'Formato 6 d)'!B30","v":0},{"$f":"'Formato 6 d)'!C30","v":0},{"$f":"'Formato 6 d)'!D30","v":0},{"$f":"'Formato 6 d)'!E30","v":0},{"$f":"'Formato 6 d)'!F30","v":0},{"$f":"'Formato 6 d)'!G30","v":0}]
["6,4,2,6,0,0,0",6,4,2,6,null,null,null,null,"Sentencias laborales definitivas",null,null,null,null,null,{"$f":"'Formato 6 d)'!B31","v":0},{"$f":"'Formato 6 d)'!C31","v":0},{"$f":"'Formato 6 d)'!D31","v":0},{"$f":"'Formato 6 d)'!E31","v":0},{"$f":"'Formato 6 d)'!F31","v":0},{"$f":"'Formato 6 d)'!G31","v":0}]
["6,4,3,0,0,0,0",6,4,3,null,null,null,null,"Total de Gasto en Servicios Personales",null,null,null,null,null,null,{"$f":"'Formato 6 d)'!B33","v":4760870},{"$f":"'Formato 6 d)'!C33","v":-34732},{"$f":"'Formato 6 d)'!D33","v":4726138},{"$f":"'Formato 6 d)'!E33","v":4526091.8499999996},{"$f":"'Formato 6 d)'!F33","v":4526091.8499999996},{"$f":"'Formato 6 d)'!G33","v":200046.15000000037}]

{"sheet":"Formato 7 a)","index":21,"n_rows":37,"n_cols":7,"rows_kept":37,"cut":false,"hidden":false,"merged":[[5,6,6,6],[0,0,0,6],[1,0,1,6],[2,0,2,6],[3,0,3,6],[4,0,4,6],[5,0,6,0],[5,2,6,2],[5,3,6,3],[5,4,6,4],[5,5,6,5]]}
["Formato 7 a) Proyecciones de Ingresos - LDF"]
[{"$f":"ENTIDAD","v":"Municipio de Salamanca, Gobierno del Estado de Guanajuato"}]
["Proyecciones de Ingresos - LDF"]
["(PESOS)"]
["(CIFRAS NOMINALES)"]
["Concepto (b)",{"$f":"ANIO1P","v":2021},{"$f":"ANIO2P","v":"2022 (d)"},{"$f":"ANIO3P","v":"2023 (d)"},{"$f":"ANIO4P","v":"2024 (d)"},{"$f":"ANIO5P","v":"2025 (d)"},{"$f":"ANIO6P","v":"2026 (d)"}]
[null,"Año en Cuestión\n(de proyecto de presupuesto) (c)"]
["1. Ingresos de Libre Disposición (1=A+B+C+D+E+F+G+H+I+J+K+L)",{"$f":"SUM(B9:B20)","v":5609400},{"$f":"SUM(C9:C20)","v":0},0,0,0,0]
["A. Impuestos"]
["B. Cuotas y Aportaciones de Seguridad Social"]
["C. Contribuciones de Mejoras"]
["D. Derechos "]
["E. Productos"]
["F. Aprovechamientos"]
["G. Ingresos por ventas de Bienes y Servicios",788500]
["H. Participaciones"]
["I. Incentivos Derivados de la Colaboración Fiscal"]
["J. Transferencias",4820900]
["K. Convenios"]
["L. Otros Ingresos de Libre Disposición"]
[]
["2. Transferencias Federales Etiquetadas (2=A+B+C+D+E)",{"$f":"SUM(B23:B27)","v":0},{"$f":"SUM(C23:C27)","v":0},0,0,0,0]
["A. Aportaciones"]
["B. Convenios"]
["C. Fondos Distintos de Aportaciones"]
["D. Transferencias, Subsidios y Subvenciones, y Pensiones y Jubilaciones"]
["E. Otras Transferencias Federales Etiquetadas"]
[]
["3. Ingresos Derivados de Financiamientos (3=A)",{"$f":"B30","v":0},{"$f":"C30","v":0},0,0,0,0]
["A. Ingresos Derivados de Financiamientos"]
[]
["4. Total de Ingresos Proyectados (4=1+2+3)",{"$f":"B29+B22+B8","v":5609400},{"$f":"C29+C22+C8","v":0},0,0,0,{"$f":"G29+G22+G8","v":0}]
[]
["Datos Informativos"]
["1. Ingresos Derivados de Financiamientos con Fuente de Pago de Recursos de Libre Disposición"]
["2. Ingresos Derivados de Financiamientos con Fuente de Pago de Transferencias Federales Etiquetadas"]
["3. Ingresos Derivados de Financiamientos (3= 1 + 2)",{"$f":"B36+B35","v":0},{"$f":"C36+C35","v":0},0,0,0,{"$f":"G36+G35","v":0}]

{"sheet":"F07a","index":22,"n_rows":27,"n_cols":21,"rows_kept":27,"cut":false,"hidden":true,"merged":[]}
["CLAVE","N1","N2","N3","N4","N5","N6","N7","C  O  N  C  E  P  T  O  S",null,null,null,null,null,null,"AÑO_CUESTION_1","AÑO_CUESTION_2","AÑO_CUESTION_3","AÑO_CUESTION_4","AÑO_CUESTION_5","AÑO_CUESTION_6"]
[{"$f":"IF(LEN(CLEAN(B2))=0,\"0\",B2)&\",\"&IF(LEN(CLEAN(C2))=0,\"0\",C2)&\",\"&IF(LEN(CLEAN(D2))=0,\"0\",D2)&\",\"&IF(LEN(CLEAN(E2))=0,\"0\",E2)&\",\"&IF(LEN(CLEAN(F2))=0,\"0\",F2)&\",\"&IF(LEN(CLEAN(G2))=0,\"0\",G2)&\",\"&IF(LEN(CLEAN(H2))=0,\"0\",H2)","v":"7,1,1,0,0,0,0"},7,1,1,null,null,null,null,"Ingresos de Libre Disposición",null,null,null,null,null,null,{"$f":"'Formato 7 a)'!B8","v":5609400},{"$f":"'Formato 7 a)'!C8","v":0},{"$f":"'Formato 7 a)'!D8","v":0},{"$f":"'Formato 7 a)'!E8","v":0},{"$f":"'Formato 7 a)'!F8","v":0},{"$f":"'Formato 7 a)'!G8","v":0}]
[{"$f":"IF(LEN(CLEAN(B3))=0,\"0\",B3)&\",\"&IF(LEN(CLEAN(C3))=0,\"0\",C3)&\",\"&IF(LEN(CLEAN(D3))=0,\"0\",D3)&\",\"&IF(LEN(CLEAN(E3))=0,\"0\",E3)&\",\"&IF(LEN(CLEAN(F3))=0,\"0\",F3)&\",\"&IF(LEN(CLEAN(G3))=0,\"0\",G3)&\",\"&IF(LEN(CLEAN(H3))=0,\"0\",H3)","v":"7,1,1,1,0,0,0"},7,1,1,1,null,null,null,null,"Impuestos",null,null,null,null,null,{"$f":"'Formato 7 a)'!B9","v":0},{"$f":"'Formato 7 a)'!C9","v":0},{"$f":"'Formato 7 a)'!D9","v":0},{"$f":"'Formato 7 a)'!E9","v":0},{"$f":"'Formato 7 a)'!F9","v":0},{"$f":"'Formato 7 a)'!G9","v":0}]
["7,1,1,2,0,0,0",7,1,1,2,null,null,null,null,"Cuotas y Aportaciones de Seguridad Social",null,null,null,null,null,{"$f":"'Formato 7 a)'!B10","v":0},{"$f":"'Formato 7 a)'!C10","v":0},{"$f":"'Formato 7 a)'!D10","v":0},{"$f":"'Formato 7 a)'!E10","v":0},{"$f":"'Formato 7 a)'!F10","v":0},{"$f":"'Formato 7 a)'!G10","v":0}]
["7,1,1,3,0,0,0",7,1,1,3,null,null,null,null,"Contribuciones de Mejoras",null,null,null,null,null,{"$f":"'Formato 7 a)'!B11","v":0},{"$f":"'Formato 7 a)'!C11","v":0},{"$f":"'Formato 7 a)'!D11","v":0},{"$f":"'Formato 7 a)'!E11","v":0},{"$f":"'Formato 7 a)'!F11","v":0},{"$f":"'Formato 7 a)'!G11","v":0}]
["7,1,1,4,0,0,0",7,1,1,4,null,null,null,null,"Derechos ",null,null,null,null,null,{"$f":"'Formato 7 a)'!B12","v":0},{"$f":"'Formato 7 a)'!C12","v":0},{"$f":"'Formato 7 a)'!D12","v":0},{"$f":"'Formato 7 a)'!E12","v":0},{"$f":"'Formato 7 a)'!F12","v":0},{"$f":"'Formato 7 a)'!G12","v":0}]
["7,1,1,5,0,0,0",7,1,1,5,null,null,null,null,"Productos",null,null,null,null,null,{"$f":"'Formato 7 a)'!B13","v":0},{"$f":"'Formato 7 a)'!C13","v":0},{"$f":"'Formato 7 a)'!D13","v":0},{"$f":"'Formato 7 a)'!E13","v":0},{"$f":"'Formato 7 a)'!F13","v":0},{"$f":"'Formato 7 a)'!G13","v":0}]
["7,1,1,6,0,0,0",7,1,1,6,null,null,null,null,"Aprovechamientos",null,null,null,null,null,{"$f":"'Formato 7 a)'!B14","v":0},{"$f":"'Formato 7 a)'!C14","v":0},{"$f":"'Formato 7 a)'!D14","v":0},{"$f":"'Formato 7 a)'!E14","v":0},{"$f":"'Formato 7 a)'!F14","v":0},{"$f":"'Formato 7 a)'!G14","v":0}]
["7,1,1,7,0,0,0",7,1,1,7,null,null,null,null,"Ingresos por ventas de Bienes y Servicios",null,null,null,null,null,{"$f":"'Formato 7 a)'!B15","v":788500},{"$f":"'Formato 7 a)'!C15","v":0},{"$f":"'Formato 7 a)'!D15","v":0},{"$f":"'Formato 7 a)'!E15","v":0},{"$f":"'Formato 7 a)'!F15","v":0},{"$f":"'Formato 7 a)'!G15","v":0}]
["7,1,1,8,0,0,0",7,1,1,8,null,null,null,null,"Participaciones",null,null,null,null,null,{"$f":"'Formato 7 a)'!B16","v":0},{"$f":"'Formato 7 a)'!C16","v":0},{"$f":"'Formato 7 a)'!D16","v":0},{"$f":"'Formato 7 a)'!E16","v":0},{"$f":"'Formato 7 a)'!F16","v":0},{"$f":"'Formato 7 a)'!G16","v":0}]
["7,1,1,9,0,0,0",7,1,1,9,null,null,null,null,"Incentivos Derivados de la Colaboración Fiscal",null,null,null,null,null,{"$f":"'Formato 7 a)'!B17","v":0},{"$f":"'Formato 7 a)'!C17","v":0},{"$f":"'Formato 7 a)'!D17","v":0},{"$f":"'Formato 7 a)'!E17","v":0},{"$f":"'Formato 7 a)'!F17","v":0},{"$f":"'Formato 7 a)'!G17","v":0}]
["7,1,1,10,0,0,0",7,1,1,10,null,null,null,null,"Transferencias",null,null,null,null,null,{"$f":"'Formato 7 a)'!B18","v":4820900},{"$f":"'Formato 7 a)'!C18","v":0},{"$f":"'Formato 7 a)'!D18","v":0},{"$f":"'Formato 7 a)'!E18","v":0},{"$f":"'Formato 7 a)'!F18","v":0},{"$f":"'Formato 7 a)'!G18","v":0}]
["7,1,1,11,0,0,0",7,1,1,11,null,null,null,null,"Convenios",null,null,null,null,null,{"$f":"'Formato 7 a)'!B19","v":0},{"$f":"'Formato 7 a)'!C19","v":0},{"$f":"'Formato 7 a)'!D19","v":0},{"$f":"'Formato 7 a)'!E19","v":0},{"$f":"'Formato 7 a)'!F19","v":0},{"$f":"'Formato 7 a)'!G19","v":0}]
["7,1,1,12,0,0,0",7,1,1,12,null,null,null,null,"Otros Ingresos de Libre Disposición",null,null,null,null,null,{"$f":"'Formato 7 a)'!B20","v":0},{"$f":"'Formato 7 a)'!C20","v":0},{"$f":"'Formato 7 a)'!D20","v":0},{"$f":"'Formato 7 a)'!E20","v":0},{"$f":"'Formato 7 a)'!F20","v":0},{"$f":"'Formato 7 a)'!G20","v":0}]
["7,1,2,0,0,0,0",7,1,2,null,null,null,null,"Transferencias Federales Etiquetadas",null,null,null,null,null,null,{"$f":"'Formato 7 a)'!B22","v":0},{"$f":"'Formato 7 a)'!C22","v":0},{"$f":"'Formato 7 a)'!D22","v":0},{"$f":"'Formato 7 a)'!E22","v":0},{"$f":"'Formato 7 a)'!F22","v":0},{"$f":"'Formato 7 a)'!G22","v":0}]
["7,1,2,1,0,0,0",7,1,2,1,null,null,null,null,"Aportaciones",null,null,null,null,null,{"$f":"'Formato 7 a)'!B23","v":0},{"$f":"'Formato 7 a)'!C23","v":0},{"$f":"'Formato 7 a)'!D23","v":0},{"$f":"'Formato 7 a)'!E23","v":0},{"$f":"'Formato 7 a)'!F23","v":0},{"$f":"'Formato 7 a)'!G23","v":0}]
["7,1,2,2,0,0,0",7,1,2,2,null,null,null,null,"Convenios",null,null,null,null,null,{"$f":"'Formato 7 a)'!B24","v":0},{"$f":"'Formato 7 a)'!C24","v":0},{"$f":"'Formato 7 a)'!D24","v":0},{"$f":"'Formato 7 a)'!E24","v":0},{"$f":"'Formato 7 a)'!F24","v":0},{"$f":"'Formato 7 a)'!G24","v":0}]
["7,1,2,3,0,0,0",7,1,2,3,null,null,null,null,"Fondos Distintos de Aportaciones",null,null,null,null,null,{"$f":"'Formato 7 a)'!B25","v":0},{"$f":"'Formato 7 a)'!C25","v":0},{"$f":"'Formato 7 a)'!D25","v":0},{"$f":"'Formato 7 a)'!E25","v":0},{"$f":"'Formato 7 a)'!F25","v":0},{"$f":"'Formato 7 a)'!G25","v":0}]
["7,1,2,4,0,0,0",7,1,2,4,null,null,null,null,"Transferencias, Subsidios y Subvenciones, y Pensiones y Jubilaciones",null,null,null,null,null,{"$f":"'Formato 7 a)'!B26","v":0},{"$f":"'Formato 7 a)'!C26","v":0},{"$f":"'Formato 7 a)'!D26","v":0},{"$f":"'Formato 7 a)'!E26","v":0},{"$f":"'Formato 7 a)'!F26","v":0},{"$f":"'Formato 7 a)'!G26","v":0}]
["7,1,2,5,0,0,0",7,1,2,5,null,null,null,null,"Otras Transferencias Federales Etiquetadas",null,null,null,null,null,{"$f":"'Formato 7 a)'!B27","v":0},{"$f":"'Formato 7 a)'!C27","v":0},{"$f":"'Formato 7 a)'!D27","v":0},{"$f":"'Formato 7 a)'!E27","v":0},{"$f":"'Formato 7 a)'!F27","v":0},{"$f":"'Formato 7 a)'!G27","v":0}]
["7,1,3,0,0,0,0",7,1,3,null,null,null,null,"Ingresos Derivados de Financiamientos",null,null,null,null,null,null,{"$f":"'Formato 7 a)'!B29","v":0},{"$f":"'Formato 7 a)'!C29","v":0},{"$f":"'Formato 7 a)'!D29","v":0},{"$f":"'Formato 7 a)'!E29","v":0},{"$f":"'Formato 7 a)'!F29","v":0},{"$f":"'Formato 7 a)'!G29","v":0}]
["7,1,3,1,0,0,0",7,1,3,1,null,null,null,null,"Ingresos Derivados de Financiamientos",null,null,null,null,null,{"$f":"'Formato 7 a)'!B30","v":0},{"$f":"'Formato 7 a)'!C30","v":0},{"$f":"'Formato 7 a)'!D30","v":0},{"$f":"'Formato 7 a)'!E30","v":0},{"$f":"'Formato 7 a)'!F30","v":0},{"$f":"'Formato 7 a)'!G30","v":0}]
["7,1,4,0,0,0,0",7,1,4,null,null,null,null,"Total de Ingresos Proyectados",null,null,null,null,null,null,{"$f":"'Formato 7 a)'!B32","v":5609400},{"$f":"'Formato 7 a)'!C32","v":0},{"$f":"'Formato 7 a)'!D32","v":0},{"$f":"'Formato 7 a)'!E32","v":0},{"$f":"'Formato 7 a)'!F32","v":0},{"$f":"'Formato 7 a)'!G32","v":0}]
["7,1,5,0,0,0,0",7,1,5,null,null,null,null,"Datos Informativos"]
["7,1,0,1,0,0,0",7,1,null,1,null,null,null,null,"Ingresos Derivados de Financiamientos con Fuente de Pago de Recursos de Libre Disposición",null,null,null,null,null,{"$f":"'Formato 7 a)'!B35","v":0},{"$f":"'Formato 7 a)'!C35","v":0},{"$f":"'Formato 7 a)'!D35","v":0},{"$f":"'Formato 7 a)'!E35","v":0},{"$f":"'Formato 7 a)'!F35","v":0},{"$f":"'Formato 7 a)'!G35","v":0}]
["7,1,0,2,0,0,0",7,1,null,2,null,null,null,null,"Ingresos Derivados de Financiamientos con Fuente de Pago de Transferencias Federales Etiquetadas",null,null,null,null,null,{"$f":"'Formato 7 a)'!B36","v":0},{"$f":"'Formato 7 a)'!C36","v":0},{"$f":"'Formato 7 a)'!D36","v":0},{"$f":"'Formato 7 a)'!E36","v":0},{"$f":"'Formato 7 a)'!F36","v":0},{"$f":"'Formato 7 a)'!G36","v":0}]
["7,1,0,3,0,0,0",7,1,null,3,null,null,null,null,"Ingresos Derivados de Financiamientos",null,null,null,null,null,{"$f":"'Formato 7 a)'!B37","v":0},{"$f":"'Formato 7 a)'!C37","v":0},{"$f":"'Formato 7 a)'!D37","v":0},{"$f":"'Formato 7 a)'!E37","v":0},{"$f":"'Formato 7 a)'!F37","v":0},{"$f":"'Formato 7 a)'!G37","v":0}]

{"sheet":"Formato 7 b)","index":23,"n_rows":30,"n_cols":7,"rows_kept":30,"cut":false,"hidden":false,"merged":[[0,0,0,6],[1,0,1,6],[2,0,2,6],[3,0,3,6],[4,0,4,6],[5,6,6,6],[5,0,6,0],[5,2,6,2],[5,3,6,3],[5,4,6,4],[5,5,6,5]]}
["Formato 7 b) Proyecciones de Egresos - LDF"]
[{"$f":"ENTIDAD","v":"Municipio de Salamanca, Gobierno del Estado de Guanajuato"}]
["Proyecciones de Egresos - LDF"]
["(PESOS)"]
["(CIFRAS NOMINALES)"]
["        Concepto (b)",{"$f":"ANIO1P","v":2021},{"$f":"ANIO2P","v":"2022 (d)"},{"$f":"ANIO3P","v":"2023 (d)"},{"$f":"ANIO4P","v":"2024 (d)"},{"$f":"ANIO5P","v":"2025 (d)"},{"$f":"ANIO6P","v":"2026 (d)"}]
[null,"Año en Cuestión\n(de proyecto de presupuesto) (c)"]
["1.  Gasto No Etiquetado (1=A+B+C+D+E+F+G+H+I)",{"$f":"SUM(B9:B17)","v":5609400},{"$f":"SUM(C9:C17)","v":0},0,0,0,0]
["A.     Servicios Personales",4820900]
["B.     Materiales y Suministros",340300]
["C.    Servicios Generales",368200]
["D.    Transferencias, Asignaciones, Subsidios y Otras Ayudas",0]
["E.     Bienes Muebles, Inmuebles e Intangibles",80000]
["F.     Inversión Pública"]
["G.    Inversiones Financieras y Otras Provisiones"]
["H.    Participaciones y Aportaciones "]
["I.      Deuda Pública"]
[]
["1.  Gasto Etiquetado (2=A+B+C+D+E+F+G+H+I)",{"$f":"SUM(B20:B28)","v":0},{"$f":"SUM(C20:C28)","v":0},0,0,0,0]
["A.     Servicios Personales"]
["B.     Materiales y Suministros"]
["C.    Servicios Generales"]
["D.    Transferencias, Asignaciones, Subsidios y Otras Ayudas"]
["E.     Bienes Muebles, Inmuebles e Intangibles"]
["F.     Inversión Pública"]
["G.    Inversiones Financieras y Otras Provisiones"]
["H.    Participaciones y Aportaciones"]
["I.      Deuda Pública"]
[]
["2.  Total de Egresos Proyectados (3 = 1 + 2)",{"$f":"B8+B19","v":5609400},{"$f":"C8+C19","v":0},0,0,0,0]

{"sheet":"F07b","index":24,"n_rows":22,"n_cols":21,"rows_kept":22,"cut":false,"hidden":true,"merged":[]}
["CLAVE","N1","N2","N3","N4","N5","N6","N7","C  O  N  C  E  P  T  O  S",null,null,null,null,null,null,"AÑO_CUESTION_1","AÑO_CUESTION_2","AÑO_CUESTION_3","AÑO_CUESTION_4","AÑO_CUESTION_5","AÑO_CUESTION_6"]
[{"$f":"IF(LEN(CLEAN(B2))=0,\"0\",B2)&\",\"&IF(LEN(CLEAN(C2))=0,\"0\",C2)&\",\"&IF(LEN(CLEAN(D2))=0,\"0\",D2)&\",\"&IF(LEN(CLEAN(E2))=0,\"0\",E2)&\",\"&IF(LEN(CLEAN(F2))=0,\"0\",F2)&\",\"&IF(LEN(CLEAN(G2))=0,\"0\",G2)&\",\"&IF(LEN(CLEAN(H2))=0,\"0\",H2)","v":"7,2,1,0,0,0,0"},7,2,1,null,null,null,null,"Gasto No Etiquetado",null,null,null,null,null,null,{"$f":"'Formato 7 b)'!B8","v":5609400},{"$f":"'Formato 7 b)'!C8","v":0},{"$f":"'Formato 7 b)'!D8","v":0},{"$f":"'Formato 7 b)'!E8","v":0},{"$f":"'Formato 7 b)'!F8","v":0},{"$f":"'Formato 7 b)'!G8","v":0}]
[{"$f":"IF(LEN(CLEAN(B3))=0,\"0\",B3)&\",\"&IF(LEN(CLEAN(C3))=0,\"0\",C3)&\",\"&IF(LEN(CLEAN(D3))=0,\"0\",D3)&\",\"&IF(LEN(CLEAN(E3))=0,\"0\",E3)&\",\"&IF(LEN(CLEAN(F3))=0,\"0\",F3)&\",\"&IF(LEN(CLEAN(G3))=0,\"0\",G3)&\",\"&IF(LEN(CLEAN(H3))=0,\"0\",H3)","v":"7,2,1,1,0,0,0"},7,2,1,1,null,null,null,null,"Servicios Personales",null,null,null,null,null,{"$f":"'Formato 7 b)'!B9","v":4820900},{"$f":"'Formato 7 b)'!C9","v":0},{"$f":"'Formato 7 b)'!D9","v":0},{"$f":"'Formato 7 b)'!E9","v":0},{"$f":"'Formato 7 b)'!F9","v":0},{"$f":"'Formato 7 b)'!G9","v":0}]
["7,2,1,2,0,0,0",7,2,1,2,null,null,null,null,"Materiales y Suministros",null,null,null,null,null,{"$f":"'Formato 7 b)'!B10","v":340300},{"$f":"'Formato 7 b)'!C10","v":0},{"$f":"'Formato 7 b)'!D10","v":0},{"$f":"'Formato 7 b)'!E10","v":0},{"$f":"'Formato 7 b)'!F10","v":0},{"$f":"'Formato 7 b)'!G10","v":0}]
["7,2,1,3,0,0,0",7,2,1,3,null,null,null,null,"Servicios Generales",null,null,null,null,null,{"$f":"'Formato 7 b)'!B11","v":368200},{"$f":"'Formato 7 b)'!C11","v":0},{"$f":"'Formato 7 b)'!D11","v":0},{"$f":"'Formato 7 b)'!E11","v":0},{"$f":"'Formato 7 b)'!F11","v":0},{"$f":"'Formato 7 b)'!G11","v":0}]
["7,2,1,4,0,0,0",7,2,1,4,null,null,null,null,"Transferencias, Asignaciones, Subsidios y Otras Ayudas",null,null,null,null,null,{"$f":"'Formato 7 b)'!B12","v":0},{"$f":"'Formato 7 b)'!C12","v":0},{"$f":"'Formato 7 b)'!D12","v":0},{"$f":"'Formato 7 b)'!E12","v":0},{"$f":"'Formato 7 b)'!F12","v":0},{"$f":"'Formato 7 b)'!G12","v":0}]
["7,2,1,5,0,0,0",7,2,1,5,null,null,null,null,"Bienes Muebles, Inmuebles e Intangibles",null,null,null,null,null,{"$f":"'Formato 7 b)'!B13","v":80000},{"$f":"'Formato 7 b)'!C13","v":0},{"$f":"'Formato 7 b)'!D13","v":0},{"$f":"'Formato 7 b)'!E13","v":0},{"$f":"'Formato 7 b)'!F13","v":0},{"$f":"'Formato 7 b)'!G13","v":0}]
["7,2,1,6,0,0,0",7,2,1,6,null,null,null,null,"Inversión Pública",null,null,null,null,null,{"$f":"'Formato 7 b)'!B14","v":0},{"$f":"'Formato 7 b)'!C14","v":0},{"$f":"'Formato 7 b)'!D14","v":0},{"$f":"'Formato 7 b)'!E14","v":0},{"$f":"'Formato 7 b)'!F14","v":0},{"$f":"'Formato 7 b)'!G14","v":0}]
["7,2,1,7,0,0,0",7,2,1,7,null,null,null,null,"Inversiones Financieras y Otras Provisiones",null,null,null,null,null,{"$f":"'Formato 7 b)'!B15","v":0},{"$f":"'Formato 7 b)'!C15","v":0},{"$f":"'Formato 7 b)'!D15","v":0},{"$f":"'Formato 7 b)'!E15","v":0},{"$f":"'Formato 7 b)'!F15","v":0},{"$f":"'Formato 7 b)'!G15","v":0}]
["7,2,1,8,0,0,0",7,2,1,8,null,null,null,null,"Participaciones y Aportaciones ",null,null,null,null,null,{"$f":"'Formato 7 b)'!B16","v":0},{"$f":"'Formato 7 b)'!C16","v":0},{"$f":"'Formato 7 b)'!D16","v":0},{"$f":"'Formato 7 b)'!E16","v":0},{"$f":"'Formato 7 b)'!F16","v":0},{"$f":"'Formato 7 b)'!G16","v":0}]
["7,2,1,9,0,0,0",7,2,1,9,null,null,null,null,"Deuda Pública",null,null,null,null,null,{"$f":"'Formato 7 b)'!B17","v":0},{"$f":"'Formato 7 b)'!C17","v":0},{"$f":"'Formato 7 b)'!D17","v":0},{"$f":"'Formato 7 b)'!E17","v":0},{"$f":"'Formato 7 b)'!F17","v":0},{"$f":"'Formato 7 b)'!G17","v":0}]
["7,2,2,0,0,0,0",7,2,2,null,null,null,null,"Gasto Etiquetado",null,null,null,null,null,null,{"$f":"'Formato 7 b)'!B19","v":0},{"$f":"'Formato 7 b)'!C19","v":0},{"$f":"'Formato 7 b)'!D19","v":0},{"$f":"'Formato 7 b)'!E19","v":0},{"$f":"'Formato 7 b)'!F19","v":0},{"$f":"'Formato 7 b)'!G19","v":0}]
["7,2,2,1,0,0,0",7,2,2,1,null,null,null,null,"Servicios Personales",null,null,null,null,null,{"$f":"'Formato 7 b)'!B20","v":0},{"$f":"'Formato 7 b)'!C20","v":0},{"$f":"'Formato 7 b)'!D20","v":0},{"$f":"'Formato 7 b)'!E20","v":0},{"$f":"'Formato 7 b)'!F20","v":0},{"$f":"'Formato 7 b)'!G20","v":0}]
["7,2,2,2,0,0,0",7,2,2,2,null,null,null,null,"Materiales y Suministros",null,null,null,null,null,{"$f":"'Formato 7 b)'!B21","v":0},{"$f":"'Formato 7 b)'!C21","v":0},{"$f":"'Formato 7 b)'!D21","v":0},{"$f":"'Formato 7 b)'!E21","v":0},{"$f":"'Formato 7 b)'!F21","v":0},{"$f":"'Formato 7 b)'!G21","v":0}]
["7,2,2,3,0,0,0",7,2,2,3,null,null,null,null,"Servicios Generales",null,null,null,null,null,{"$f":"'Formato 7 b)'!B22","v":0},{"$f":"'Formato 7 b)'!C22","v":0},{"$f":"'Formato 7 b)'!D22","v":0},{"$f":"'Formato 7 b)'!E22","v":0},{"$f":"'Formato 7 b)'!F22","v":0},{"$f":"'Formato 7 b)'!G22","v":0}]
["7,2,2,4,0,0,0",7,2,2,4,null,null,null,null,"Transferencias, Asignaciones, Subsidios y Otras Ayudas",null,null,null,null,null,{"$f":"'Formato 7 b)'!B23","v":0},{"$f":"'Formato 7 b)'!C23","v":0},{"$f":"'Formato 7 b)'!D23","v":0},{"$f":"'Formato 7 b)'!E23","v":0},{"$f":"'Formato 7 b)'!F23","v":0},{"$f":"'Formato 7 b)'!G23","v":0}]
["7,2,2,5,0,0,0",7,2,2,5,null,null,null,null,"Bienes Muebles, Inmuebles e Intangibles",null,null,null,null,null,{"$f":"'Formato 7 b)'!B24","v":0},{"$f":"'Formato 7 b)'!C24","v":0},{"$f":"'Formato 7 b)'!D24","v":0},{"$f":"'Formato 7 b)'!E24","v":0},{"$f":"'Formato 7 b)'!F24","v":0},{"$f":"'Formato 7 b)'!G24","v":0}]
["7,2,2,6,0,0,0",7,2,2,6,null,null,null,null,"Inversión Pública",null,null,null,null,null,{"$f":"'Formato 7 b)'!B25","v":0},{"$f":"'Formato 7 b)'!C25","v":0},{"$f":"'Formato 7 b)'!D25","v":0},{"$f":"'Formato 7 b)'!E25","v":0},{"$f":"'Formato 7 b)'!F25","v":0},{"$f":"'Formato 7 b)'!G25","v":0}]
["7,2,2,7,0,0,0",7,2,2,7,null,null,null,null,"Inversiones Financieras y Otras Provisiones",null,null,null,null,null,{"$f":"'Formato 7 b)'!B26","v":0},{"$f":"'Formato 7 b)'!C26","v":0},{"$f":"'Formato 7 b)'!D26","v":0},{"$f":"'Formato 7 b)'!E26","v":0},{"$f":"'Formato 7 b)'!F26","v":0},{"$f":"'Formato 7 b)'!G26","v":0}]
["7,2,2,8,0,0,0",7,2,2,8,null,null,null,null,"Participaciones y Aportaciones",null,null,null,null,null,{"$f":"'Formato 7 b)'!B27","v":0},{"$f":"'Formato 7 b)'!C27","v":0},{"$f":"'Formato 7 b)'!D27","v":0},{"$f":"'Formato 7 b)'!E27","v":0},{"$f":"'Formato 7 b)'!F27","v":0},{"$f":"'Formato 7 b)'!G27","v":0}]
["7,2,2,9,0,0,0",7,2,2,9,null,null,null,null,"Deuda Pública",null,null,null,null,null,{"$f":"'Formato 7 b)'!B28","v":0},{"$f":"'Formato 7 b)'!C28","v":0},{"$f":"'Formato 7 b)'!D28","v":0},{"$f":"'Formato 7 b)'!E28","v":0},{"$f":"'Formato 7 b)'!F28","v":0},{"$f":"'Formato 7 b)'!G28","v":0}]
["7,2,3,0,0,0,0",7,2,3,null,null,null,null,"Total de Egresos Proyectados",null,null,null,null,null,null,{"$f":"'Formato 7 b)'!B30","v":5609400},{"$f":"'Formato 7 b)'!C30","v":0},{"$f":"'Formato 7 b)'!D30","v":0},{"$f":"'Formato 7 b)'!E30","v":0},{"$f":"'Formato 7 b)'!F30","v":0},{"$f":"'Formato 7 b)'!G30","v":0}]

{"sheet":"Formato 7 c)","index":25,"n_rows":40,"n_cols":7,"rows_kept":40,"cut":false,"hidden":false,"merged":[[39,0,39,6],[0,0,0,6],[1,0,1,6],[2,0,2,6],[3,0,3,6],[38,0,38,6],[4,5,5,5],[4,4,5,4],[4,3,5,3],[4,2,5,2],[4,1,5,1],[4,0,5,0]]}
["Formato 7 c) Resultados de Ingresos - LDF"]
[{"$f":"ENTIDAD","v":"Municipio de Salamanca, Gobierno del Estado de Guanajuato"}]
["Resultados de Ingresos - LDF"]
["(PESOS)"]
["Concepto (b)",{"$f":"ANIO5R","v":"2015 ¹ (c)"},{"$f":"ANIO4R","v":"2016 ¹ (c)"},{"$f":"ANIO3R","v":"2017 ¹ (c)"},{"$f":"ANIO2R","v":"2018 ¹ (c)"},{"$f":"ANIO1R","v":"2019 ¹ (c)"},{"$f":"ANIO_INFORME","v":2020}]
[null,null,null,null,null,null,"Año del Ejercicio\nVigente 2 (d)"]
["1.  Ingresos de Libre Disposición (1=A+B+C+D+E+F+G+H+I+J+K+L)",{"$f":"SUM(B8:B19)","v":0},{"$f":"SUM(C8:C19)","v":0},0,3350000,4409200,5770900]
["A.    Impuestos"]
["B.    Cuotas y Aportaciones de Seguridad Social"]
["C.    Contribuciones de Mejoras"]
["D.    Derechos"]
["E.    Productos"]
["F.    Aprovechamientos"]
["G.    Ingresos por Ventas de Bienes y Servicios",null,null,null,350000,669200,950000]
["H.    Participaciones"]
["I.     Incentivos Derivados de la Colaboración Fiscal"]
["J.    Transferencias ",null,null,null,3000000,3740000,4820900]
["K.    Convenios"]
["L.     Otros Ingresos de Libre Disposición"]
[]
["2.  Transferencias Federales Etiquetadas (2=A+B+C+D+E)",{"$f":"SUM(B22:B26)","v":0},{"$f":"SUM(C22:C26)","v":0},0,0,0,0]
["A.    Aportaciones"]
["B.    Convenios"]
["C.    Fondos Distintos de Aportaciones"]
["D.    Transferencias, Subsidios y Subvenciones, y Pensiones y Jubilaciones"]
["E.    Otras Transferencias Federales Etiquetadas"]
[]
["3.  Ingresos Derivados de Financiamientos (3=A)",{"$f":"B29","v":0},{"$f":"C29","v":0},0,0,0,0]
["A. Ingresos Derivados de Financiamientos"]
[]
["4.  Total de Resultados de Ingresos (4=1+2+3)",{"$f":"B7+B21+B28","v":0},{"$f":"C7+C21+C28","v":0},0,3350000,4409200,5770900]
[]
["Datos Informativos"]
["1. Ingresos Derivados de Financiamientos con Fuente de Pago de Recursos de Libre Disposición"]
["2. Ingresos derivados de Financiamientos con Fuente de Pago de Transferencias Federales Etiquetadas"]
["3. Ingresos Derivados de Financiamiento (3 = 1 + 2)",{"$f":"B34+B35","v":0},{"$f":"C34+C35","v":0},0,0,0,0]
[]
[]
["1 Los importes corresponden al momento contable de los ingresos devengados."]
["2 Los importes corresponden a los ingresos devengados al cierre trimestral más reciente disponible y estimados para el resto del ejercicio."]

{"sheet":"F07c","index":26,"n_rows":27,"n_cols":21,"rows_kept":27,"cut":false,"hidden":true,"merged":[]}
["CLAVE","N1","N2","N3","N4","N5","N6","N7","C  O  N  C  E  P  T  O  S",null,null,null,null,null,null,"AÑO_CUESTION_5","AÑO_CUESTION_4","AÑO_CUESTION_3","AÑO_CUESTION_2","AÑO_CUESTION_1","AÑO_CUESTION"]
[{"$f":"IF(LEN(CLEAN(B2))=0,\"0\",B2)&\",\"&IF(LEN(CLEAN(C2))=0,\"0\",C2)&\",\"&IF(LEN(CLEAN(D2))=0,\"0\",D2)&\",\"&IF(LEN(CLEAN(E2))=0,\"0\",E2)&\",\"&IF(LEN(CLEAN(F2))=0,\"0\",F2)&\",\"&IF(LEN(CLEAN(G2))=0,\"0\",G2)&\",\"&IF(LEN(CLEAN(H2))=0,\"0\",H2)","v":"7,3,1,0,0,0,0"},7,3,1,null,null,null,null,"Ingresos de Libre Disposición",null,null,null,null,null,null,{"$f":"'Formato 7 c)'!B7","v":0},{"$f":"'Formato 7 c)'!C7","v":0},{"$f":"'Formato 7 c)'!D7","v":0},{"$f":"'Formato 7 c)'!E7","v":3350000},{"$f":"'Formato 7 c)'!F7","v":4409200},{"$f":"'Formato 7 c)'!G7","v":5770900}]
[{"$f":"IF(LEN(CLEAN(B3))=0,\"0\",B3)&\",\"&IF(LEN(CLEAN(C3))=0,\"0\",C3)&\",\"&IF(LEN(CLEAN(D3))=0,\"0\",D3)&\",\"&IF(LEN(CLEAN(E3))=0,\"0\",E3)&\",\"&IF(LEN(CLEAN(F3))=0,\"0\",F3)&\",\"&IF(LEN(CLEAN(G3))=0,\"0\",G3)&\",\"&IF(LEN(CLEAN(H3))=0,\"0\",H3)","v":"7,3,1,0,0,0,0"},7,3,1,null,null,null,null,null,"Impuestos",null,null,null,null,null,{"$f":"'Formato 7 c)'!B8","v":0},{"$f":"'Formato 7 c)'!C8","v":0},{"$f":"'Formato 7 c)'!D8","v":0},{"$f":"'Formato 7 c)'!E8","v":0},{"$f":"'Formato 7 c)'!F8","v":0},{"$f":"'Formato 7 c)'!G8","v":0}]
["7,3,1,0,0,0,0",7,3,1,null,null,null,null,null,"Cuotas y Aportaciones de Seguridad Social",null,null,null,null,null,{"$f":"'Formato 7 c)'!B9","v":0},{"$f":"'Formato 7 c)'!C9","v":0},{"$f":"'Formato 7 c)'!D9","v":0},{"$f":"'Formato 7 c)'!E9","v":0},{"$f":"'Formato 7 c)'!F9","v":0},{"$f":"'Formato 7 c)'!G9","v":0}]
["7,3,1,0,0,0,0",7,3,1,null,null,null,null,null,"Contribuciones de Mejoras",null,null,null,null,null,{"$f":"'Formato 7 c)'!B10","v":0},{"$f":"'Formato 7 c)'!C10","v":0},{"$f":"'Formato 7 c)'!D10","v":0},{"$f":"'Formato 7 c)'!E10","v":0},{"$f":"'Formato 7 c)'!F10","v":0},{"$f":"'Formato 7 c)'!G10","v":0}]
["7,3,1,0,0,0,0",7,3,1,null,null,null,null,null,"Derechos",null,null,null,null,null,{"$f":"'Formato 7 c)'!B11","v":0},{"$f":"'Formato 7 c)'!C11","v":0},{"$f":"'Formato 7 c)'!D11","v":0},{"$f":"'Formato 7 c)'!E11","v":0},{"$f":"'Formato 7 c)'!F11","v":0},{"$f":"'Formato 7 c)'!G11","v":0}]
["7,3,1,0,0,0,0",7,3,1,null,null,null,null,null,"Productos",null,null,null,null,null,{"$f":"'Formato 7 c)'!B12","v":0},{"$f":"'Formato 7 c)'!C12","v":0},{"$f":"'Formato 7 c)'!D12","v":0},{"$f":"'Formato 7 c)'!E12","v":0},{"$f":"'Formato 7 c)'!F12","v":0},{"$f":"'Formato 7 c)'!G12","v":0}]
["7,3,1,0,0,0,0",7,3,1,null,null,null,null,null,"Aprovechamientos",null,null,null,null,null,{"$f":"'Formato 7 c)'!B13","v":0},{"$f":"'Formato 7 c)'!C13","v":0},{"$f":"'Formato 7 c)'!D13","v":0},{"$f":"'Formato 7 c)'!E13","v":0},{"$f":"'Formato 7 c)'!F13","v":0},{"$f":"'Formato 7 c)'!G13","v":0}]
["7,3,1,0,0,0,0",7,3,1,null,null,null,null,null,"Ingresos por Ventas de Bienes y Servicios",null,null,null,null,null,{"$f":"'Formato 7 c)'!B14","v":0},{"$f":"'Formato 7 c)'!C14","v":0},{"$f":"'Formato 7 c)'!D14","v":0},{"$f":"'Formato 7 c)'!E14","v":350000},{"$f":"'Formato 7 c)'!F14","v":669200},{"$f":"'Formato 7 c)'!G14","v":950000}]
["7,3,1,0,0,0,0",7,3,1,null,null,null,null,null,"Participaciones",null,null,null,null,null,{"$f":"'Formato 7 c)'!B15","v":0},{"$f":"'Formato 7 c)'!C15","v":0},{"$f":"'Formato 7 c)'!D15","v":0},{"$f":"'Formato 7 c)'!E15","v":0},{"$f":"'Formato 7 c)'!F15","v":0},{"$f":"'Formato 7 c)'!G15","v":0}]
["7,3,1,0,0,0,0",7,3,1,null,null,null,null,null,"Incentivos Derivados de la Colaboración Fiscal",null,null,null,null,null,{"$f":"'Formato 7 c)'!B16","v":0},{"$f":"'Formato 7 c)'!C16","v":0},{"$f":"'Formato 7 c)'!D16","v":0},{"$f":"'Formato 7 c)'!E16","v":0},{"$f":"'Formato 7 c)'!F16","v":0},{"$f":"'Formato 7 c)'!G16","v":0}]
["7,3,1,0,0,0,0",7,3,1,null,null,null,null,null,"Transferencias ",null,null,null,null,null,{"$f":"'Formato 7 c)'!B17","v":0},{"$f":"'Formato 7 c)'!C17","v":0},{"$f":"'Formato 7 c)'!D17","v":0},{"$f":"'Formato 7 c)'!E17","v":3000000},{"$f":"'Formato 7 c)'!F17","v":3740000},{"$f":"'Formato 7 c)'!G17","v":4820900}]
["7,3,1,0,0,0,0",7,3,1,null,null,null,null,null,"Convenios",null,null,null,null,null,{"$f":"'Formato 7 c)'!B18","v":0},{"$f":"'Formato 7 c)'!C18","v":0},{"$f":"'Formato 7 c)'!D18","v":0},{"$f":"'Formato 7 c)'!E18","v":0},{"$f":"'Formato 7 c)'!F18","v":0},{"$f":"'Formato 7 c)'!G18","v":0}]
["7,3,1,0,0,0,0",7,3,1,null,null,null,null,null,"Otros Ingresos de Libre Disposición",null,null,null,null,null,{"$f":"'Formato 7 c)'!B19","v":0},{"$f":"'Formato 7 c)'!C19","v":0},{"$f":"'Formato 7 c)'!D19","v":0},{"$f":"'Formato 7 c)'!E19","v":0},{"$f":"'Formato 7 c)'!F19","v":0},{"$f":"'Formato 7 c)'!G19","v":0}]
["7,3,2,0,0,0,0",7,3,2,null,null,null,null,"Transferencias Federales Etiquetadas",null,null,null,null,null,null,{"$f":"'Formato 7 c)'!B21","v":0},{"$f":"'Formato 7 c)'!C21","v":0},{"$f":"'Formato 7 c)'!D21","v":0},{"$f":"'Formato 7 c)'!E21","v":0},{"$f":"'Formato 7 c)'!F21","v":0},{"$f":"'Formato 7 c)'!G21","v":0}]
["7,3,2,0,0,0,0",7,3,2,null,null,null,null,null,"Aportaciones",null,null,null,null,null,{"$f":"'Formato 7 c)'!B22","v":0},{"$f":"'Formato 7 c)'!C22","v":0},{"$f":"'Formato 7 c)'!D22","v":0},{"$f":"'Formato 7 c)'!E22","v":0},{"$f":"'Formato 7 c)'!F22","v":0},{"$f":"'Formato 7 c)'!G22","v":0}]
["7,3,2,0,0,0,0",7,3,2,null,null,null,null,null,"Convenios",null,null,null,null,null,{"$f":"'Formato 7 c)'!B23","v":0},{"$f":"'Formato 7 c)'!C23","v":0},{"$f":"'Formato 7 c)'!D23","v":0},{"$f":"'Formato 7 c)'!E23","v":0},{"$f":"'Formato 7 c)'!F23","v":0},{"$f":"'Formato 7 c)'!G23","v":0}]
["7,3,2,0,0,0,0",7,3,2,null,null,null,null,null,"Fondos Distintos de Aportaciones",null,null,null,null,null,{"$f":"'Formato 7 c)'!B24","v":0},{"$f":"'Formato 7 c)'!C24","v":0},{"$f":"'Formato 7 c)'!D24","v":0},{"$f":"'Formato 7 c)'!E24","v":0},{"$f":"'Formato 7 c)'!F24","v":0},{"$f":"'Formato 7 c)'!G24","v":0}]
["7,3,2,0,0,0,0",7,3,2,null,null,null,null,null,"Transferencias, Subsidios y Subvenciones, y Pensiones y Jubilaciones",null,null,null,null,null,{"$f":"'Formato 7 c)'!B25","v":0},{"$f":"'Formato 7 c)'!C25","v":0},{"$f":"'Formato 7 c)'!D25","v":0},{"$f":"'Formato 7 c)'!E25","v":0},{"$f":"'Formato 7 c)'!F25","v":0},{"$f":"'Formato 7 c)'!G25","v":0}]
["7,3,2,0,0,0,0",7,3,2,null,null,null,null,null,"Otras Transferencias Federales Etiquetadas",null,null,null,null,null,{"$f":"'Formato 7 c)'!B26","v":0},{"$f":"'Formato 7 c)'!C26","v":0},{"$f":"'Formato 7 c)'!D26","v":0},{"$f":"'Formato 7 c)'!E26","v":0},{"$f":"'Formato 7 c)'!F26","v":0},{"$f":"'Formato 7 c)'!G26","v":0}]
["7,3,3,0,0,0,0",7,3,3,null,null,null,null,"Ingresos Derivados de Financiamientos",null,null,null,null,null,null,{"$f":"'Formato 7 c)'!B28","v":0},{"$f":"'Formato 7 c)'!C28","v":0},{"$f":"'Formato 7 c)'!D28","v":0},{"$f":"'Formato 7 c)'!E28","v":0},{"$f":"'Formato 7 c)'!F28","v":0},{"$f":"'Formato 7 c)'!G28","v":0}]
["7,3,3,0,0,0,0",7,3,3,null,null,null,null,null,"Ingresos Derivados de Financiamientos",null,null,null,null,null,{"$f":"'Formato 7 c)'!B29","v":0},{"$f":"'Formato 7 c)'!C29","v":0},{"$f":"'Formato 7 c)'!D29","v":0},{"$f":"'Formato 7 c)'!E29","v":0},{"$f":"'Formato 7 c)'!F29","v":0},{"$f":"'Formato 7 c)'!G29","v":0}]
["7,3,4,0,0,0,0",7,3,4,null,null,null,null,"Total de Resultados de Ingresos",null,null,null,null,null,null,{"$f":"'Formato 7 c)'!B31","v":0},{"$f":"'Formato 7 c)'!C31","v":0},{"$f":"'Formato 7 c)'!D31","v":0},{"$f":"'Formato 7 c)'!E31","v":3350000},{"$f":"'Formato 7 c)'!F31","v":4409200},{"$f":"'Formato 7 c)'!G31","v":5770900}]
["7,3,5,0,0,0,0",7,3,5,null,null,null,null,"Datos Informativos",null,null,null,null,null,null,{"$f":"'Formato 7 c)'!B33","v":0},{"$f":"'Formato 7 c)'!C33","v":0},{"$f":"'Formato 7 c)'!D33","v":0},{"$f":"'Formato 7 c)'!E33","v":0},{"$f":"'Formato 7 c)'!F33","v":0},{"$f":"'Formato 7 c)'!G33","v":0}]
["7,3,5,0,0,0,0",7,3,5,null,null,null,null,null,"Ingresos Derivados de Financiamientos con Fuente de Pago de Recursos de Libre Disposición",null,null,null,null,null,{"$f":"'Formato 7 c)'!B34","v":0},{"$f":"'Formato 7 c)'!C34","v":0},{"$f":"'Formato 7 c)'!D34","v":0},{"$f":"'Formato 7 c)'!E34","v":0},{"$f":"'Formato 7 c)'!F34","v":0},{"$f":"'Formato 7 c)'!G34","v":0}]
["7,3,5,0,0,0,0",7,3,5,null,null,null,null,null,"Ingresos derivados de Financiamientos con Fuente de Pago de Transferencias Federales Etiquetadas",null,null,null,null,null,{"$f":"'Formato 7 c)'!B35","v":0},{"$f":"'Formato 7 c)'!C35","v":0},{"$f":"'Formato 7 c)'!D35","v":0},{"$f":"'Formato 7 c)'!E35","v":0},{"$f":"'Formato 7 c)'!F35","v":0},{"$f":"'Formato 7 c)'!G35","v":0}]
["7,3,5,0,0,0,0",7,3,5,null,null,null,null,null,"Ingresos Derivados de Financiamiento",null,null,null,null,null,{"$f":"'Formato 7 c)'!B36","v":0},{"$f":"'Formato 7 c)'!C36","v":0},{"$f":"'Formato 7 c)'!D36","v":0},{"$f":"'Formato 7 c)'!E36","v":0},{"$f":"'Formato 7 c)'!F36","v":0},{"$f":"'Formato 7 c)'!G36","v":0}]

{"sheet":"Formato 7 d)","index":27,"n_rows":33,"n_cols":7,"rows_kept":33,"cut":false,"hidden":false,"merged":[[32,0,32,6],[0,0,0,6],[1,0,1,6],[2,0,2,6],[3,0,3,6],[31,0,31,6],[4,0,5,0],[4,1,5,1],[4,2,5,2],[4,3,5,3],[4,4,5,4],[4,5,5,5]]}
["Formato 7 d) Resultados de Egresos - LDF"]
[{"$f":"ENTIDAD","v":"Municipio de Salamanca, Gobierno del Estado de Guanajuato"}]
["Resultados de Egresos - LDF"]
["(PESOS)"]
["        Concepto (b)",{"$f":"ANIO5R","v":"2015 ¹ (c)"},{"$f":"ANIO4R","v":"2016 ¹ (c)"},{"$f":"ANIO3R","v":"2017 ¹ (c)"},{"$f":"ANIO2R","v":"2018 ¹ (c)"},{"$f":"ANIO1R","v":"2019 ¹ (c)"},{"$f":"ANIO_INFORME","v":2020}]
[null,null,null,null,null,null,"Año del Ejercicio \nVigente 2 (d)"]
["1.  Gasto No Etiquetado (1=A+B+C+D+E+F+G+H+I)",{"$f":"SUM(B8:B16)","v":0},{"$f":"SUM(C8:C16)","v":0},0,3350000,4409200,5770900]
["A.     Servicios Personales",null,null,null,2810032.95,3682000,4760870]
["B.     Materiales y Suministros",null,null,null,251500,352500,402011]
["C.    Servicios Generales",null,null,null,238467.05,158100,471359]
["D.    Transferencias, Asignaciones, Subsidios y Otras Ayudas"]
["E.     Bienes Muebles, Inmuebles e Intangibles",null,null,null,50000,216600,136660]
["F.     Inversión Pública"]
["G.    Inversiones Financieras y Otras Provisiones"]
["H.    Participaciones y Aportaciones "]
["I.      Deuda Pública"]
[]
["2.  Gasto Etiquetado (2=A+B+C+D+E+F+G+H+I)",{"$f":"SUM(B19:B27)","v":0},{"$f":"SUM(C19:C27)","v":0},0,0,0,0]
["A.     Servicios Personales"]
["B.     Materiales y Suministros"]
["C.    Servicios Generales"]
["D.    Transferencias, Asignaciones, Subsidios y Otras Ayudas"]
["E.     Bienes Muebles, Inmuebles e Intangibles"]
["F.     Inversión Pública"]
["G.    Inversiones Financieras y Otras Provisiones"]
["H.    Participaciones y Aportaciones"]
["I.      Deuda Pública"]
[]
["3.  Total del Resultado de Egresos (3=1+2)",{"$f":"B7+B18","v":0},{"$f":"C7+C18","v":0},0,3350000,4409200,5770900]
[]
[]
["1 Los importes corresponden al momento contable de los ingresos devengados."]
["2 Los importes corresponden a los ingresos devengados al cierre trimestral más reciente disponible y estimados para el resto del ejercicio."]

{"sheet":"F07d","index":28,"n_rows":22,"n_cols":21,"rows_kept":22,"cut":false,"hidden":true,"merged":[]}
["CLAVE","N1","N2","N3","N4","N5","N6","N7","C  O  N  C  E  P  T  O  S",null,null,null,null,null,null,"AÑO_CUESTION_5","AÑO_CUESTION_4","AÑO_CUESTION_3","AÑO_CUESTION_2","AÑO_CUESTION_1","AÑO_CUESTION"]
[{"$f":"IF(LEN(CLEAN(B2))=0,\"0\",B2)&\",\"&IF(LEN(CLEAN(C2))=0,\"0\",C2)&\",\"&IF(LEN(CLEAN(D2))=0,\"0\",D2)&\",\"&IF(LEN(CLEAN(E2))=0,\"0\",E2)&\",\"&IF(LEN(CLEAN(F2))=0,\"0\",F2)&\",\"&IF(LEN(CLEAN(G2))=0,\"0\",G2)&\",\"&IF(LEN(CLEAN(H2))=0,\"0\",H2)","v":"7,4,1,0,0,0,0"},7,4,1,null,null,null,null,"Gasto No Etiquetado",null,null,null,null,null,null,{"$f":"'Formato 7 d)'!B7","v":0},{"$f":"'Formato 7 d)'!C7","v":0},{"$f":"'Formato 7 d)'!D7","v":0},{"$f":"'Formato 7 d)'!E7","v":3350000},{"$f":"'Formato 7 d)'!F7","v":4409200},{"$f":"'Formato 7 d)'!G7","v":5770900}]
[{"$f":"IF(LEN(CLEAN(B3))=0,\"0\",B3)&\",\"&IF(LEN(CLEAN(C3))=0,\"0\",C3)&\",\"&IF(LEN(CLEAN(D3))=0,\"0\",D3)&\",\"&IF(LEN(CLEAN(E3))=0,\"0\",E3)&\",\"&IF(LEN(CLEAN(F3))=0,\"0\",F3)&\",\"&IF(LEN(CLEAN(G3))=0,\"0\",G3)&\",\"&IF(LEN(CLEAN(H3))=0,\"0\",H3)","v":"7,4,1,1,0,0,0"},7,4,1,1,null,null,null,null,"Servicios Personales",null,null,null,null,null,{"$f":"'Formato 7 d)'!B8","v":0},{"$f":"'Formato 7 d)'!C8","v":0},{"$f":"'Formato 7 d)'!D8","v":0},{"$f":"'Formato 7 d)'!E8","v":2810032.95},{"$f":"'Formato 7 d)'!F8","v":3682000},{"$f":"'Formato 7 d)'!G8","v":4760870}]
["7,4,1,2,0,0,0",7,4,1,2,null,null,null,null,"Materiales y Suministros",null,null,null,null,null,{"$f":"'Formato 7 d)'!B9","v":0},{"$f":"'Formato 7 d)'!C9","v":0},{"$f":"'Formato 7 d)'!D9","v":0},{"$f":"'Formato 7 d)'!E9","v":251500},{"$f":"'Formato 7 d)'!F9","v":352500},{"$f":"'Formato 7 d)'!G9","v":402011}]
["7,4,1,3,0,0,0",7,4,1,3,null,null,null,null,"Servicios Generales",null,null,null,null,null,{"$f":"'Formato 7 d)'!B10","v":0},{"$f":"'Formato 7 d)'!C10","v":0},{"$f":"'Formato 7 d)'!D10","v":0},{"$f":"'Formato 7 d)'!E10","v":238467.05},{"$f":"'Formato 7 d)'!F10","v":158100},{"$f":"'Formato 7 d)'!G10","v":471359}]
["7,4,1,4,0,0,0",7,4,1,4,null,null,null,null,"Transferencias, Asignaciones, Subsidios y Otras Ayudas",null,null,null,null,null,{"$f":"'Formato 7 d)'!B11","v":0},{"$f":"'Formato 7 d)'!C11","v":0},{"$f":"'Formato 7 d)'!D11","v":0},{"$f":"'Formato 7 d)'!E11","v":0},{"$f":"'Formato 7 d)'!#REF!","v":{"$error":"#REF!"}},{"$f":"'Formato 7 d)'!G11","v":0}]
["7,4,1,5,0,0,0",7,4,1,5,null,null,null,null,"Bienes Muebles, Inmuebles e Intangibles",null,null,null,null,null,{"$f":"'Formato 7 d)'!B12","v":0},{"$f":"'Formato 7 d)'!C12","v":0},{"$f":"'Formato 7 d)'!D12","v":0},{"$f":"'Formato 7 d)'!E12","v":50000},{"$f":"'Formato 7 d)'!F11","v":0},{"$f":"'Formato 7 d)'!G12","v":136660}]
["7,4,1,6,0,0,0",7,4,1,6,null,null,null,null,"Inversión Pública",null,null,null,null,null,{"$f":"'Formato 7 d)'!B13","v":0},{"$f":"'Formato 7 d)'!C13","v":0},{"$f":"'Formato 7 d)'!D13","v":0},{"$f":"'Formato 7 d)'!E13","v":0},{"$f":"'Formato 7 d)'!F13","v":0},{"$f":"'Formato 7 d)'!G13","v":0}]
["7,4,1,7,0,0,0",7,4,1,7,null,null,null,null,"Inversiones Financieras y Otras Provisiones",null,null,null,null,null,{"$f":"'Formato 7 d)'!B14","v":0},{"$f":"'Formato 7 d)'!C14","v":0},{"$f":"'Formato 7 d)'!D14","v":0},{"$f":"'Formato 7 d)'!E14","v":0},{"$f":"'Formato 7 d)'!F14","v":0},{"$f":"'Formato 7 d)'!G14","v":0}]
["7,4,1,8,0,0,0",7,4,1,8,null,null,null,null,"Participaciones y Aportaciones ",null,null,null,null,null,{"$f":"'Formato 7 d)'!B15","v":0},{"$f":"'Formato 7 d)'!C15","v":0},{"$f":"'Formato 7 d)'!D15","v":0},{"$f":"'Formato 7 d)'!E15","v":0},{"$f":"'Formato 7 d)'!F15","v":0},{"$f":"'Formato 7 d)'!G15","v":0}]
["7,4,1,9,0,0,0",7,4,1,9,null,null,null,null,"Deuda Pública",null,null,null,null,null,{"$f":"'Formato 7 d)'!B16","v":0},{"$f":"'Formato 7 d)'!C16","v":0},{"$f":"'Formato 7 d)'!D16","v":0},{"$f":"'Formato 7 d)'!E16","v":0},{"$f":"'Formato 7 d)'!F16","v":0},{"$f":"'Formato 7 d)'!G16","v":0}]
[{"$f":"IF(LEN(CLEAN(B12))=0,\"0\",B12)&\",\"&IF(LEN(CLEAN(C12))=0,\"0\",C12)&\",\"&IF(LEN(CLEAN(D12))=0,\"0\",D12)&\",\"&IF(LEN(CLEAN(E12))=0,\"0\",E12)&\",\"&IF(LEN(CLEAN(F12))=0,\"0\",F12)&\",\"&IF(LEN(CLEAN(G12))=0,\"0\",G12)&\",\"&IF(LEN(CLEAN(H12))=0,\"0\",H12)","v":"7,4,2,0,0,0,0"},7,4,2,null,null,null,null,"Gasto Etiquetado",null,null,null,null,null,null,{"$f":"'Formato 7 d)'!B18","v":0},{"$f":"'Formato 7 d)'!C18","v":0},{"$f":"'Formato 7 d)'!D18","v":0},{"$f":"'Formato 7 d)'!E18","v":0},{"$f":"'Formato 7 d)'!F18","v":0},{"$f":"'Formato 7 d)'!G18","v":0}]
[{"$f":"IF(LEN(CLEAN(B13))=0,\"0\",B13)&\",\"&IF(LEN(CLEAN(C13))=0,\"0\",C13)&\",\"&IF(LEN(CLEAN(D13))=0,\"0\",D13)&\",\"&IF(LEN(CLEAN(E13))=0,\"0\",E13)&\",\"&IF(LEN(CLEAN(F13))=0,\"0\",F13)&\",\"&IF(LEN(CLEAN(G13))=0,\"0\",G13)&\",\"&IF(LEN(CLEAN(H13))=0,\"0\",H13)","v":"7,4,2,1,0,0,0"},7,4,2,1,null,null,null,null,"Servicios Personales",null,null,null,null,null,{"$f":"'Formato 7 d)'!B19","v":0},{"$f":"'Formato 7 d)'!C19","v":0},{"$f":"'Formato 7 d)'!D19","v":0},{"$f":"'Formato 7 d)'!E19","v":0},{"$f":"'Formato 7 d)'!F19","v":0},{"$f":"'Formato 7 d)'!G19","v":0}]
["7,4,2,2,0,0,0",7,4,2,2,null,null,null,null,"Materiales y Suministros",null,null,null,null,null,{"$f":"'Formato 7 d)'!B20","v":0},{"$f":"'Formato 7 d)'!C20","v":0},{"$f":"'Formato 7 d)'!D20","v":0},{"$f":"'Formato 7 d)'!E20","v":0},{"$f":"'Formato 7 d)'!F20","v":0},{"$f":"'Formato 7 d)'!G20","v":0}]
["7,4,2,3,0,0,0",7,4,2,3,null,null,null,null,"Servicios Generales",null,null,null,null,null,{"$f":"'Formato 7 d)'!B21","v":0},{"$f":"'Formato 7 d)'!C21","v":0},{"$f":"'Formato 7 d)'!D21","v":0},{"$f":"'Formato 7 d)'!E21","v":0},{"$f":"'Formato 7 d)'!F21","v":0},{"$f":"'Formato 7 d)'!G21","v":0}]
["7,4,2,4,0,0,0",7,4,2,4,null,null,null,null,"Transferencias, Asignaciones, Subsidios y Otras Ayudas",null,null,null,null,null,{"$f":"'Formato 7 d)'!B22","v":0},{"$f":"'Formato 7 d)'!C22","v":0},{"$f":"'Formato 7 d)'!D22","v":0},{"$f":"'Formato 7 d)'!E22","v":0},{"$f":"'Formato 7 d)'!F22","v":0},{"$f":"'Formato 7 d)'!G22","v":0}]
["7,4,2,5,0,0,0",7,4,2,5,null,null,null,null,"Bienes Muebles, Inmuebles e Intangibles",null,null,null,null,null,{"$f":"'Formato 7 d)'!B23","v":0},{"$f":"'Formato 7 d)'!C23","v":0},{"$f":"'Formato 7 d)'!D23","v":0},{"$f":"'Formato 7 d)'!E23","v":0},{"$f":"'Formato 7 d)'!F23","v":0},{"$f":"'Formato 7 d)'!G23","v":0}]
["7,4,2,6,0,0,0",7,4,2,6,null,null,null,null,"Inversión Pública",null,null,null,null,null,{"$f":"'Formato 7 d)'!B24","v":0},{"$f":"'Formato 7 d)'!C24","v":0},{"$f":"'Formato 7 d)'!D24","v":0},{"$f":"'Formato 7 d)'!E24","v":0},{"$f":"'Formato 7 d)'!F24","v":0},{"$f":"'Formato 7 d)'!G24","v":0}]
["7,4,2,7,0,0,0",7,4,2,7,null,null,null,null,"Inversiones Financieras y Otras Provisiones",null,null,null,null,null,{"$f":"'Formato 7 d)'!B25","v":0},{"$f":"'Formato 7 d)'!C25","v":0},{"$f":"'Formato 7 d)'!D25","v":0},{"$f":"'Formato 7 d)'!E25","v":0},{"$f":"'Formato 7 d)'!F25","v":0},{"$f":"'Formato 7 d)'!G25","v":0}]
["7,4,2,8,0,0,0",7,4,2,8,null,null,null,null,"Participaciones y Aportaciones ",null,null,null,null,null,{"$f":"'Formato 7 d)'!B26","v":0},{"$f":"'Formato 7 d)'!C26","v":0},{"$f":"'Formato 7 d)'!D26","v":0},{"$f":"'Formato 7 d)'!E26","v":0},{"$f":"'Formato 7 d)'!F26","v":0},{"$f":"'Formato 7 d)'!G26","v":0}]
["7,4,2,9,0,0,0",7,4,2,9,null,null,null,null,"Deuda Pública",null,null,null,null,null,{"$f":"'Formato 7 d)'!B27","v":0},{"$f":"'Formato 7 d)'!C27","v":0},{"$f":"'Formato 7 d)'!D27","v":0},{"$f":"'Formato 7 d)'!E27","v":0},{"$f":"'Formato 7 d)'!F27","v":0},{"$f":"'Formato 7 d)'!G27","v":0}]
["7,4,3,0,0,0,0",7,4,3,null,null,null,null,"3.  Total del Resultado de Egresos (3=1+2)",null,null,null,null,null,null,{"$f":"'Formato 7 d)'!B29","v":0},{"$f":"'Formato 7 d)'!C29","v":0},{"$f":"'Formato 7 d)'!D29","v":0},{"$f":"'Formato 7 d)'!E29","v":3350000},{"$f":"'Formato 7 d)'!F29","v":4409200},{"$f":"'Formato 7 d)'!G29","v":5770900}]

{"sheet":"Formato 8","index":29,"n_rows":66,"n_cols":6,"rows_kept":66,"cut":false,"hidden":false,"merged":[[1,0,1,5],[2,0,2,5],[0,0,0,5]]}
["Formato 8) Informe sobre Estudios Actuariales – LDF"]
[{"$f":"ENTE_PUBLICO","v":"INSTITUTO SALMANTINO PARA LAS PERSONAS CON DISCAPACIDAD, Gobierno del Estado de Guanajuato"}]
["Informe sobre Estudios Actuariales - LDF"]
[null,"Pensiones y jubilaciones","Salud","Riesgos de trabajo","Invalidez y vida","Otras prestaciones sociales"]
["Tipo de Sistema"]
["Prestación laboral o Fondo general para trabajadores del estado o municipio"]
["Beneficio definido, Contribución definida o Mixto"]
[]
["Población afiliada"]
["Activos"]
["Edad máxima"]
["Edad mínima"]
["Edad promedio"]
["Pensionados y Jubilados"]
["Edad máxima"]
["Edad mínima"]
["Edad promedio"]
["Beneficiarios"]
["Promedio de años de servicio (trabajadores activos)"]
["Aportación individual al plan de pensión como % del salario"]
["Aportación del ente público al plan de pensión como % del salario"]
["Crecimiento esperado de los pensionados y jubilados (como %)"]
["Crecimiento esperado de los activos (como %)"]
["Edad de Jubilación o Pensión"]
["Esperanza de vida"]
[]
["Ingresos del Fondo"]
["Ingresos Anuales al Fondo de Pensiones"]
[]
["Nómina anual"]
["Activos"]
["Pensionados y Jubilados"]
["Beneficiarios de Pensionados y Jubilados"]
[]
["Monto mensual por pensión"]
["Máximo"]
["Mínimo"]
["Promedio"]
[]
["Monto de la reserva"]
[]
["Valor presente de las obligaciones"]
["Pensiones y Jubilaciones en curso de pago"]
["Generación actual"]
["Generaciones futuras"]
[]
["Valor presente de las contribuciones asociadas a los sueldos futuros de cotización X%"]
["Generación actual"]
["Generaciones futuras"]
[]
["Valor presente de aportaciones futuras"]
["Generación actual"]
["Generaciones futuras"]
["Otros Ingresos"]
[]
["Déficit/superávit actuarial"]
["Generación actual"]
["Generaciones futuras"]
[]
["Periodo de suficiencia"]
["Año de descapitalización"]
["Tasa de rendimiento"]
[]
["Estudio actuarial"]
["Año de elaboración del estudio actuarial"]
["Empresa que elaboró el estudio actuarial"]

{"sheet":"F08","index":30,"n_rows":52,"n_cols":20,"rows_kept":52,"cut":false,"hidden":true,"merged":[]}
["CLAVE","N1","N2","N3","N4","N5","N6","N7","C  O  N  C  E  P  T  O  S",null,null,null,null,null,null,"PENSIONES","SALUD","RIESGOS","INVALIDEZ","OTRAS"]
[{"$f":"IF(LEN(CLEAN(B2))=0,\"0\",B2)&\",\"&IF(LEN(CLEAN(C2))=0,\"0\",C2)&\",\"&IF(LEN(CLEAN(D2))=0,\"0\",D2)&\",\"&IF(LEN(CLEAN(E2))=0,\"0\",E2)&\",\"&IF(LEN(CLEAN(F2))=0,\"0\",F2)&\",\"&IF(LEN(CLEAN(G2))=0,\"0\",G2)&\",\"&IF(LEN(CLEAN(H2))=0,\"0\",H2)","v":"8,1,0,0,0,0,0"},8,1,null,null,null,null,null,"Tipo de Sistema"]
[{"$f":"IF(LEN(CLEAN(B3))=0,\"0\",B3)&\",\"&IF(LEN(CLEAN(C3))=0,\"0\",C3)&\",\"&IF(LEN(CLEAN(D3))=0,\"0\",D3)&\",\"&IF(LEN(CLEAN(E3))=0,\"0\",E3)&\",\"&IF(LEN(CLEAN(F3))=0,\"0\",F3)&\",\"&IF(LEN(CLEAN(G3))=0,\"0\",G3)&\",\"&IF(LEN(CLEAN(H3))=0,\"0\",H3)","v":"8,1,1,0,0,0,0"},8,1,1,null,null,null,null,null,"Prestación laboral o Fondo general para trabajadores del estado o municipio",null,null,null,null,null,{"$f":"'Formato 8'!B6","v":0},{"$f":"'Formato 8'!C6","v":0},{"$f":"'Formato 8'!D6","v":0},{"$f":"'Formato 8'!E6","v":0},{"$f":"'Formato 8'!F6","v":0}]
["8,1,2,0,0,0,0",8,1,2,null,null,null,null,null,"Beneficio definido, Contribución definida o Mixto",null,null,null,null,null,{"$f":"'Formato 8'!B7","v":0},{"$f":"'Formato 8'!C7","v":0},{"$f":"'Formato 8'!D7","v":0},{"$f":"'Formato 8'!E7","v":0},{"$f":"'Formato 8'!F7","v":0}]
["8,2,0,0,0,0,0",8,2,null,null,null,null,null,"Población afiliada"]
["8,2,1,0,0,0,0",8,2,1,null,null,null,null,null,"Activos",null,null,null,null,null,{"$f":"'Formato 8'!B10","v":0},{"$f":"'Formato 8'!C10","v":0},{"$f":"'Formato 8'!D10","v":0},{"$f":"'Formato 8'!E10","v":0},{"$f":"'Formato 8'!F10","v":0}]
["8,2,1,1,0,0,0",8,2,1,1,null,null,null,null,null,"Edad máxima",null,null,null,null,{"$f":"'Formato 8'!B11","v":0},{"$f":"'Formato 8'!C11","v":0},{"$f":"'Formato 8'!D11","v":0},{"$f":"'Formato 8'!E11","v":0},{"$f":"'Formato 8'!F11","v":0}]
["8,2,1,2,0,0,0",8,2,1,2,null,null,null,null,null,"Edad mínima",null,null,null,null,{"$f":"'Formato 8'!B12","v":0},{"$f":"'Formato 8'!C12","v":0},{"$f":"'Formato 8'!D12","v":0},{"$f":"'Formato 8'!E12","v":0},{"$f":"'Formato 8'!F12","v":0}]
["8,2,1,3,0,0,0",8,2,1,3,null,null,null,null,null,"Edad promedio",null,null,null,null,{"$f":"'Formato 8'!B13","v":0},{"$f":"'Formato 8'!C13","v":0},{"$f":"'Formato 8'!D13","v":0},{"$f":"'Formato 8'!E13","v":0},{"$f":"'Formato 8'!F13","v":0}]
["8,2,2,0,0,0,0",8,2,2,null,null,null,null,null,"Pensionados y Jubilados",null,null,null,null,null,{"$f":"'Formato 8'!B14","v":0},{"$f":"'Formato 8'!C14","v":0},{"$f":"'Formato 8'!D14","v":0},{"$f":"'Formato 8'!E14","v":0},{"$f":"'Formato 8'!F14","v":0}]
["8,2,2,1,0,0,0",8,2,2,1,null,null,null,null,null,"Edad máxima",null,null,null,null,{"$f":"'Formato 8'!B15","v":0},{"$f":"'Formato 8'!C15","v":0},{"$f":"'Formato 8'!D15","v":0},{"$f":"'Formato 8'!E15","v":0},{"$f":"'Formato 8'!F15","v":0}]
["8,2,2,2,0,0,0",8,2,2,2,null,null,null,null,null,"Edad mínima",null,null,null,null,{"$f":"'Formato 8'!B16","v":0},{"$f":"'Formato 8'!C16","v":0},{"$f":"'Formato 8'!D16","v":0},{"$f":"'Formato 8'!E16","v":0},{"$f":"'Formato 8'!F16","v":0}]
["8,2,2,3,0,0,0",8,2,2,3,null,null,null,null,null,"Edad promedio",null,null,null,null,{"$f":"'Formato 8'!B17","v":0},{"$f":"'Formato 8'!C17","v":0},{"$f":"'Formato 8'!D17","v":0},{"$f":"'Formato 8'!E17","v":0},{"$f":"'Formato 8'!F17","v":0}]
["8,2,3,0,0,0,0",8,2,3,null,null,null,null,null,"Beneficiarios",null,null,null,null,null,{"$f":"'Formato 8'!B18","v":0},{"$f":"'Formato 8'!C18","v":0},{"$f":"'Formato 8'!D18","v":0},{"$f":"'Formato 8'!E18","v":0},{"$f":"'Formato 8'!F18","v":0}]
["8,2,4,0,0,0,0",8,2,4,null,null,null,null,null,"Promedio de años de servicio (trabajadores activos)",null,null,null,null,null,{"$f":"'Formato 8'!B19","v":0},{"$f":"'Formato 8'!C19","v":0},{"$f":"'Formato 8'!D19","v":0},{"$f":"'Formato 8'!E19","v":0},{"$f":"'Formato 8'!F19","v":0}]
["8,2,5,0,0,0,0",8,2,5,null,null,null,null,null,"Aportación individual al plan de pensión como % del salario",null,null,null,null,null,{"$f":"'Formato 8'!B20","v":0},{"$f":"'Formato 8'!C20","v":0},{"$f":"'Formato 8'!D20","v":0},{"$f":"'Formato 8'!E20","v":0},{"$f":"'Formato 8'!F20","v":0}]
["8,2,6,0,0,0,0",8,2,6,null,null,null,null,null,"Aportación del ente público al plan de pensión como % del salario",null,null,null,null,null,{"$f":"'Formato 8'!B21","v":0},{"$f":"'Formato 8'!C21","v":0},{"$f":"'Formato 8'!D21","v":0},{"$f":"'Formato 8'!E21","v":0},{"$f":"'Formato 8'!F21","v":0}]
["8,2,7,0,0,0,0",8,2,7,null,null,null,null,null,"Crecimiento esperado de los pensionados y jubilados (como %)",null,null,null,null,null,{"$f":"'Formato 8'!B22","v":0},{"$f":"'Formato 8'!C22","v":0},{"$f":"'Formato 8'!D22","v":0},{"$f":"'Formato 8'!E22","v":0},{"$f":"'Formato 8'!F22","v":0}]
["8,2,8,0,0,0,0",8,2,8,null,null,null,null,null,"Crecimiento esperado de los activos (como %)",null,null,null,null,null,{"$f":"'Formato 8'!B23","v":0},{"$f":"'Formato 8'!C23","v":0},{"$f":"'Formato 8'!D23","v":0},{"$f":"'Formato 8'!E23","v":0},{"$f":"'Formato 8'!F23","v":0}]
["8,2,9,0,0,0,0",8,2,9,null,null,null,null,null,"Edad de Jubilación o Pensión",null,null,null,null,null,{"$f":"'Formato 8'!B24","v":0},{"$f":"'Formato 8'!C24","v":0},{"$f":"'Formato 8'!D24","v":0},{"$f":"'Formato 8'!E24","v":0},{"$f":"'Formato 8'!F24","v":0}]
["8,2,10,0,0,0,0",8,2,10,null,null,null,null,null,"Esperanza de vida",null,null,null,null,null,{"$f":"'Formato 8'!B25","v":0},{"$f":"'Formato 8'!C25","v":0},{"$f":"'Formato 8'!D25","v":0},{"$f":"'Formato 8'!E25","v":0},{"$f":"'Formato 8'!F25","v":0}]
["8,3,0,0,0,0,0",8,3,null,null,null,null,null,"Ingresos del Fondo"]
["8,3,1,0,0,0,0",8,3,1,null,null,null,null,null,"Ingresos Anuales al Fondo de Pensiones",null,null,null,null,null,{"$f":"'Formato 8'!B28","v":0},{"$f":"'Formato 8'!C28","v":0},{"$f":"'Formato 8'!D28","v":0},{"$f":"'Formato 8'!E28","v":0},{"$f":"'Formato 8'!F28","v":0}]
["8,4,0,0,0,0,0",8,4,null,null,null,null,null,"Nómina anual"]
["8,4,1,0,0,0,0",8,4,1,null,null,null,null,null,"Activos",null,null,null,null,null,{"$f":"'Formato 8'!B31","v":0},{"$f":"'Formato 8'!C31","v":0},{"$f":"'Formato 8'!D31","v":0},{"$f":"'Formato 8'!E31","v":0},{"$f":"'Formato 8'!F31","v":0}]
["8,4,2,0,0,0,0",8,4,2,null,null,null,null,null,"Pensionados y Jubilados",null,null,null,null,null,{"$f":"'Formato 8'!B32","v":0},{"$f":"'Formato 8'!C32","v":0},{"$f":"'Formato 8'!D32","v":0},{"$f":"'Formato 8'!E32","v":0},{"$f":"'Formato 8'!F32","v":0}]
["8,4,3,0,0,0,0",8,4,3,null,null,null,null,null,"Beneficiarios de Pensionados y Jubilados",null,null,null,null,null,{"$f":"'Formato 8'!B33","v":0},{"$f":"'Formato 8'!C33","v":0},{"$f":"'Formato 8'!D33","v":0},{"$f":"'Formato 8'!E33","v":0},{"$f":"'Formato 8'!F33","v":0}]
["8,5,0,0,0,0,0",8,5,null,null,null,null,null,"Monto mensual por pensión"]
["8,5,1,0,0,0,0",8,5,1,null,null,null,null,null,"Máximo",null,null,null,null,null,{"$f":"'Formato 8'!B36","v":0},{"$f":"'Formato 8'!C36","v":0},{"$f":"'Formato 8'!D36","v":0},{"$f":"'Formato 8'!E36","v":0},{"$f":"'Formato 8'!F36","v":0}]
["8,5,2,0,0,0,0",8,5,2,null,null,null,null,null,"Mínimo",null,null,null,null,null,{"$f":"'Formato 8'!B37","v":0},{"$f":"'Formato 8'!C37","v":0},{"$f":"'Formato 8'!D37","v":0},{"$f":"'Formato 8'!E37","v":0},{"$f":"'Formato 8'!F37","v":0}]
["8,5,3,0,0,0,0",8,5,3,null,null,null,null,null,"Promedio",null,null,null,null,null,{"$f":"'Formato 8'!B38","v":0},{"$f":"'Formato 8'!C38","v":0},{"$f":"'Formato 8'!D38","v":0},{"$f":"'Formato 8'!E38","v":0},{"$f":"'Formato 8'!F38","v":0}]
["8,6,0,0,0,0,0",8,6,null,null,null,null,null,"Monto de la reserva",null,null,null,null,null,null,{"$f":"'Formato 8'!B40","v":0},{"$f":"'Formato 8'!C40","v":0},{"$f":"'Formato 8'!D40","v":0},{"$f":"'Formato 8'!E40","v":0},{"$f":"'Formato 8'!F40","v":0}]
["8,7,0,0,0,0,0",8,7,null,null,null,null,null,"Valor presente de las obligaciones"]
["8,7,1,0,0,0,0",8,7,1,null,null,null,null,null,"Pensiones y Jubilaciones en curso de pago",null,null,null,null,null,{"$f":"'Formato 8'!B43","v":0},{"$f":"'Formato 8'!C43","v":0},{"$f":"'Formato 8'!D43","v":0},{"$f":"'Formato 8'!E43","v":0},{"$f":"'Formato 8'!F43","v":0}]
["8,7,2,0,0,0,0",8,7,2,null,null,null,null,null,"Generación actual",null,null,null,null,null,{"$f":"'Formato 8'!B44","v":0},{"$f":"'Formato 8'!C44","v":0},{"$f":"'Formato 8'!D44","v":0},{"$f":"'Formato 8'!E44","v":0},{"$f":"'Formato 8'!F44","v":0}]
["8,7,3,0,0,0,0",8,7,3,null,null,null,null,null,"Generaciones futuras",null,null,null,null,null,{"$f":"'Formato 8'!B45","v":0},{"$f":"'Formato 8'!C45","v":0},{"$f":"'Formato 8'!D45","v":0},{"$f":"'Formato 8'!E45","v":0},{"$f":"'Formato 8'!F45","v":0}]
["8,8,0,0,0,0,0",8,8,null,null,null,null,null,"Valor presente de las contribuciones asociadas a los sueldos futuros de cotización X%"]
["8,8,1,0,0,0,0",8,8,1,null,null,null,null,null,"Generación actual",null,null,null,null,null,{"$f":"'Formato 8'!B48","v":0},{"$f":"'Formato 8'!C48","v":0},{"$f":"'Formato 8'!D48","v":0},{"$f":"'Formato 8'!E48","v":0},{"$f":"'Formato 8'!F48","v":0}]
["8,8,2,0,0,0,0",8,8,2,null,null,null,null,null,"Generaciones futuras",null,null,null,null,null,{"$f":"'Formato 8'!B49","v":0},{"$f":"'Formato 8'!C49","v":0},{"$f":"'Formato 8'!D49","v":0},{"$f":"'Formato 8'!E49","v":0},{"$f":"'Formato 8'!F49","v":0}]
["8,9,0,0,0,0,0",8,9,null,null,null,null,null,"Valor presente de aportaciones futuras"]
["8,9,1,0,0,0,0",8,9,1,null,null,null,null,null,"Generación actual",null,null,null,null,null,{"$f":"'Formato 8'!B52","v":0},{"$f":"'Formato 8'!C52","v":0},{"$f":"'Formato 8'!D52","v":0},{"$f":"'Formato 8'!E52","v":0},{"$f":"'Formato 8'!F52","v":0}]
["8,9,2,0,0,0,0",8,9,2,null,null,null,null,null,"Generaciones futuras",null,null,null,null,null,{"$f":"'Formato 8'!B53","v":0},{"$f":"'Formato 8'!C53","v":0},{"$f":"'Formato 8'!D53","v":0},{"$f":"'Formato 8'!E53","v":0},{"$f":"'Formato 8'!F53","v":0}]
["8,9,3,0,0,0,0",8,9,3,null,null,null,null,null,"Otros Ingresos",null,null,null,null,null,{"$f":"'Formato 8'!B54","v":0},{"$f":"'Formato 8'!C54","v":0},{"$f":"'Formato 8'!D54","v":0},{"$f":"'Formato 8'!E54","v":0},{"$f":"'Formato 8'!F54","v":0}]
["8,10,0,0,0,0,0",8,10,null,null,null,null,null,"Déficit/superávit actuarial"]
["8,10,1,0,0,0,0",8,10,1,null,null,null,null,null,"Generación actual",null,null,null,null,null,{"$f":"'Formato 8'!B57","v":0},{"$f":"'Formato 8'!C57","v":0},{"$f":"'Formato 8'!D57","v":0},{"$f":"'Formato 8'!E57","v":0},{"$f":"'Formato 8'!F57","v":0}]
["8,10,2,0,0,0,0",8,10,2,null,null,null,null,null,"Generaciones futuras",null,null,null,null,null,{"$f":"'Formato 8'!B58","v":0},{"$f":"'Formato 8'!C58","v":0},{"$f":"'Formato 8'!D58","v":0},{"$f":"'Formato 8'!E58","v":0},{"$f":"'Formato 8'!F58","v":0}]
["8,11,0,0,0,0,0",8,11,null,null,null,null,null,"Periodo de suficiencia"]
["8,11,1,0,0,0,0",8,11,1,null,null,null,null,null,"Año de descapitalización",null,null,null,null,null,{"$f":"'Formato 8'!B61","v":0},{"$f":"'Formato 8'!C61","v":0},{"$f":"'Formato 8'!D61","v":0},{"$f":"'Formato 8'!E61","v":0},{"$f":"'Formato 8'!F61","v":0}]
["8,11,2,0,0,0,0",8,11,2,null,null,null,null,null,"Tasa de rendimiento",null,null,null,null,null,{"$f":"'Formato 8'!B62","v":0},{"$f":"'Formato 8'!C62","v":0},{"$f":"'Formato 8'!D62","v":0},{"$f":"'Formato 8'!E62","v":0},{"$f":"'Formato 8'!F62","v":0}]
["8,12,0,0,0,0,0",8,12,null,null,null,null,null,"Estudio actuarial"]
["8,12,1,0,0,0,0",8,12,1,null,null,null,null,null,"Año de elaboración del estudio actuarial",null,null,null,null,null,{"$f":"'Formato 8'!B65","v":0},{"$f":"'Formato 8'!C65","v":0},{"$f":"'Formato 8'!D65","v":0},{"$f":"'Formato 8'!E65","v":0},{"$f":"'Formato 8'!F65","v":0}]
["8,12,2,0,0,0,0",8,12,2,null,null,null,null,null,"Empresa que elaboró el estudio actuarial",null,null,null,null,null,{"$f":"'Formato 8'!B66","v":0},{"$f":"'Formato 8'!C66","v":0},{"$f":"'Formato 8'!D66","v":0},{"$f":"'Formato 8'!E66","v":0},{"$f":"'Formato 8'!F66","v":0}]